{"text_format":"1","workbook":"xlsx","n_sheets":16,"sheets":["General Requirements","Eligible Measures & Incentives","Project Summary ","Legend - for data reports","Preliminary Calculations ","Equipment Information","Inputs","AEG Import","AEG Import Check","Tune-up","Tune-up incentives.","Incentives","Validation","Lookups"," Calculations","Version Tracking"],"not_rendered":{"charts":0,"images":3,"macros":1,"external_links":3,"defined_names":88,"comments":1,"pivot_tables":0},"unopened":[],"bounds":{"document_bytes":16777216,"sheet_cells":100000,"rows_first":2000,"rows_last":500,"rows_between":2000,"halvings":0,"cell_chars":16384,"cell_head_chars":4096},"cells_cut":0,"cells_raw":0,"read":"whole","date_system":"1900"}

{"sheet":"General Requirements","index":0,"n_rows":32,"n_cols":3,"rows_kept":32,"cut":false,"hidden":true,"merged":[[17,1,17,15],[4,1,4,15],[5,1,5,15],[7,1,7,15],[8,1,8,15],[9,1,9,15],[10,1,10,15],[11,1,11,15],[12,1,12,15],[13,1,13,15],[14,1,14,15],[16,1,16,15],[25,1,25,15],[26,1,26,15],[27,1,27,15],[31,1,32,15],[19,1,19,15],[20,1,20,15],[21,1,21,15],[22,1,22,15],[23,1,23,15],[24,1,24,15]]}
[]
[null,null,"Enhanced Unitary HVAC Maintenance Worksheet"]
[null,null,"Building Tune-Up Program"]
[null,null,{"$f":"'Version Tracking'!$B$2","v":"Version 6.2"}]
[null,"GENERAL INFORMATION"]
[null,"The Delmarva Building Tune-Up Program offers incentives to improve the operating efficiency of the unitary HVAC equipment and systems in commercial buildings, and reduce energy costs without adversely impacting facility or systems operations."]
[]
[null,"To take advantage of these incentives, you must meet the following eligibility requirements:"]
[null,"          1. Be a Delmarva customer and business in the Maryland territory."]
[null,"          2. Have an existing facility, as new construction is not eligible for this program."]
[null,"          3. Not be a temporary account or a vacant facility."]
[]
[null,"All projects require pre-approval."]
[]
[null,"You can also contact your installation contractor or equipment vendor to discuss energy efficiency equipment options. If you do not have a contractor or vendor in mind, please visit our website for a list of Service Providers."]
[]
[null,"HOW TO APPLY"]
[null,"All projects MUST receive pre-approval before purchasing equipment or beginning work. Please review the program process and eligibility. \nrequirements on the program website as well as the Terms and Conditions. Please contact the program office with any questions."]
[]
[null,"1. The application is completed and submitted via the online Application Center. Pre-approval is required before proceeding. The  supporting information listed below must be included with the application."]
[null,"          ☑ Completed and signed Terms and Conditions"]
[null,"2. The program reviews the submitted documentation and revises and/or requests additional documentation, as necessary. A site inspection may be required as part of the pre-approval process."]
[null,"3. The program emails the project pre-approval to the customer and Service Provider."]
[null,"4. The customer or Service Provider conducts the HVAC tune-up(s) and submits the documentation noted below to the program office within four (4) months of pre-approval. Any changes in the scope of work resulting in an incentive of 10% more than pre-approval must be submitted as a new project and obtain pre-approval. A post-installation inspection may be required to verify compliance with program rules, accuracy of program documentation and equipment operations."]
[null,"          ☑ Completed Enhanced Unitary HVAC Maintenance Worksheet with information regarding each unit"]
[null,"          ☑ Completed Incentive Calculation for applicable services performed"]
[null,"          ☑ All standard maintenance checklists and documentation of any service performed for each unit corresponding to incentives requested"]
[null,"          ☑ Customer signed invoices for labor and material"]
[null,"5. The program emails final approval notification to the customer and Service Provider."]
[null,"6. The program distributes the incentive check to the payee following final approval processing."]
[]
[null,"EmPOWER Maryland programs are funded by a charge on your energy bill. EmPOWER programs can help you reduce your energy consumption and save you money. To learn more about EmPOWER and how you can participate, go to https://delmarva.com/business."]

{"sheet":"Eligible Measures & Incentives","index":1,"n_rows":12,"n_cols":6,"rows_kept":12,"cut":false,"hidden":false,"merged":[[16,2,16,5],[6,2,6,3],[7,5,11,5],[7,2,11,3]]}
[]
[null,null,null,"HVAC Tune-up Eligible Measures and Incentives"]
[null,null,null,"Building Tune-Up Program"]
[null,null,null,{"$f":"'Equipment Information'!D7","v":"Version 6.2"}]
[]
[]
[null,null,"Measure",null,"Requirements","Per HVAC Unit Incentives"]
[null,null,"HVAC Tune-up",null,"☑ Units are eligible for Tune-up once every 3 years.","$140 for units 3 tons and over\n\n$30/ton for units less than 3 tons\n\n"]
[null,null,null,null,"☑ Units must be fully operational after Tune-up to be eligible for the incentive."]
[null,null,null,null,"☑ Units must be DX (direct expansion) AC or heat pump; chilled/hot water units are ineligible for incentives"]
[null,null,null,null,"Tune-up process and documentation\nThe tune-up process will require cleaning the evaporator and condenser coils at a minimum, using industry-approved cleaning methods and cleaners. The technician should also note any other issues observed that could affect the unit’s performance.\n"]
[null,null,null,null,"We will require the following information:\n1. Photo of the unit nameplate with the model number.\n2. Photo of the evaporator and condenser coils before cleaning.\n3. Photos of the evaporator and condenser coils after cleaning.\n4. Notes about any other issues that were addressed during the Tune-up."]

{"sheet":"Project Summary ","index":2,"n_rows":16,"n_cols":17,"rows_kept":16,"cut":false,"hidden":true,"merged":[[14,14,14,17],[12,8,12,11],[9,14,9,17],[10,14,10,17],[11,14,11,15],[12,14,12,17],[13,14,13,17],[8,8,8,11],[9,9,9,11],[7,2,7,17],[15,4,15,7],[14,4,14,7],[13,4,13,7],[9,4,9,7],[10,4,10,7],[12,4,12,7],[8,12,8,17],[13,8,15,8],[13,9,15,9],[11,4,11,5],[8,2,8,7],[13,10,15,10],[13,11,15,11]]}
[]
[]
[]
[null,null,null,"Enhanced Unitary HVAC Maintenance Worksheet"]
[null,null,null,"Building Tune-Up Program"]
[null,null,null,{"$f":"'Version Tracking'!$B$2","v":"Version 6.2"}]
[]
[null,null,"General Project Information and Summary"]
[null,null,"Customer Information",null,null,null,null,null,"Administrative Use",null,null,null,"Contractor Information"]
[null,null,"Customer Name",null,null,null,null,null,"Project ID",null,null,null,"Contractor Name"]
[null,null,"Street Address",null,null,null,null,null,null,null,null,null,"Street Address"]
[null,null,"City",null,null,null,"ZIP",null,null,null,null,null,"City",null,null,null,"ZIP"]
[null,null,"Customer Contact",null,null,null,null,null,"Summary Table",null,null,null,"Contractor Contact"]
[null,null,"Phone",null,null,null,null,null," Energy Savings (kWh)","Summer Coincident Peak (kW)","Summer PJM Peak (kW)","Total Incentive","Phone"]
[null,null,"Email",null,null,null,null,null,null,null,null,null,"Email"]
[null,null,"Building Type (select)",null,"Assembly"]

{"sheet":"Legend - for data reports","index":3,"n_rows":63,"n_cols":6,"rows_kept":63,"cut":false,"hidden":true,"merged":[[2,5,8,10]]}
[]
[null,"Legend"]
[null,"Sightline Name","Actual Variable Name",null,null,"Note: This legend is strictly used for data reporting. Please replace the data headers (Sightline Name) from the .csv output file to Actual Variable Name from the legend"]
[null,"Compressor_Type","Compressor Model Number"]
[null,"details","List Other Maintenance Done"]
[null,"economizer_present","Economizer Operational"]
[null,"Equip_Class","Expansion Device Type"]
[null,"Indoor_Unit_Model","Indoor Unit (if applicable)"]
[null,"number_bath_aerators","Voltage Pre Package / condensing Unit"]
[null,"number_bath_faucets","Current Pre Package / condensing Unit "]
[null,"number_fans_installed","Power Factor Pre Package / condensing Unit "]
[null,"number_fans_removed","Voltage Pre indoor Unit"]
[null,"number_fixed_showerheads","Current  Pre indoor Unit"]
[null,"number_handheld_showerheads","Power Factor Pre indoor Unit"]
[null,"number_inputs","Pre Entering Coil Temperature WB (F)"]
[null,"number_kitchen_aerators","Pre Entering Coil Temperature DB (F)"]
[null,"number_kitchen_faucets","Pre Entering Coil Relative Humidity %"]
[null,"TEMP_COOL","Pre Leaving Coil Temperature WB (F)"]
[null,"number_of_apts","Pre Leaving Coil Temperature DB (F)"]
[null,"number_of_ballasts","Pre Leaving Coil Relative Humidity %"]
[null,"number_of_decks","Condenser Entering Ambient Air Temperature DB (F)"]
[null,"number_of_doors","Condenser Entering Ambient Air Relative Humidity"]
[null,"number_of_events","Condenser Leaving Air Temperature DB (F)"]
[null,"number_of_fixtures","Condenser Leaving Air Relative Humidity"]
[null,"number_of_fixtures_pre","Pre Time of Measurement"]
[null,"number_of_lamps","Filters Replaced"]
[null,"number_of_occupants","Evaporator Fan and Motor Inspected"]
[null,"number_of_outlets","Condenser Coil Cleaned "]
[null,"Number_of_Panes","Condenser Fan Inspected "]
[null,"number_of_power_packs","Belt Replaced"]
[null,"number_of_racks","Evaporator Coil Cleaned"]
[null,"number_of_return_registers","Pre Suction Pressure (psi) "]
[null,"number_of_sensors","Pre Suction Temp. (◦F)"]
[null,"number_of_windows","Pre Discharge Pressure (psi) "]
[null,"number_of_years_enrolled","Pre Discharge Temp. (◦F)"]
[null,"number_pans","Post Suction Pressure (psi) "]
[null,"TEMPERATURE","Post Suction Temp. (◦F)"]
[null,"optimum_start_stop","Post Discharge Pressure (psi) "]
[null,"order_number","Post Discharge Temp. (◦F)"]
[null,"Outdoor_Unit_Model","Packaged/Condensing Unit"]
[null,"phase","phase"]
[null,"Sub-Number","Post Outdoor Unit Voltage"]
[null,"sub_component_1","Post Outdoor Unit  Current"]
[null,"Sub_Component_2","Post Outdoor Unit  Power Factor"]
[null,"Sub_Component_3","Post Indoor Unit Voltage"]
[null,"Sub_Component_4","Post Indoor Unit Current"]
[null,"Sub_Component_5","Post Indoor Unit  Power Factor"]
[null,"trade_ally_id_company","Post Conderser Entering Temperature DB (F)"]
[null,"trade_ally_ID_employee","Post Conderser Entering  Relative Humidity"]
[null,"TradeBrand_Name","Post Conderser Leaving Temperature DB (F)"]
[null,"TRANSACTION_ID","Post Conderser Leaving  Relative Humidity"]
[null,"transmission","Post Time of Measurement "]
[null,"Water","Post Enterning Coil Temperature WB (F)"]
[null,"Water_Consumption","Post Enterning Coil Temperature DB (F)"]
[null,"Water_Factor","Post Enterning Coil Relative Humidity %"]
[null,"water_gallons_per_minute_ton","Post Leaving Coil Temperature WB (F)"]
[null,"Water_MBH","Post Leaving Coil Temperature DB (F)"]
[null,"water_realization_rate","Post Leaving Coil Relative Humidity"]
[null,"Compressor_Type","Compressor Model Number"]
[null,"Equip_Class","Expansion Device Type"]
[null,"Outdoor_Unit_Model","Outdoor Unit Model number"]
[null,"Indoor_Unit_Model","Indoor Unit Model Number"]
[null,"phase","phase"]

{"sheet":"Preliminary Calculations ","index":4,"n_rows":74,"n_cols":59,"rows_kept":74,"cut":false,"hidden":true,"merged":[[1,50,1,58],[2,50,2,53],[2,54,2,57],[2,58,3,58],[3,23,3,24],[3,25,3,26],[3,28,3,29],[2,28,2,32],[2,34,2,36],[2,37,2,39],[1,34,1,39],[1,23,1,32],[2,23,2,27],[1,41,1,49],[3,30,3,31],[2,41,2,44],[1,13,1,22],[4,0,54,0],[2,1,2,11],[1,1,1,11],[3,13,3,14],[3,15,3,16],[2,13,2,17],[2,45,2,48],[2,49,3,49],[2,18,2,22],[3,18,3,19],[3,20,3,21]]}
[]
[null,"Wet Bulb Temperature to Enthalpy Converison Table",null,null,null,null,null,null,null,null,null,null,null,"Enthalpy lookUp - Pre tune up",null,null,null,null,null,null,null,null,null,"Enthalpy lookUp - Post tune up",null,null,null,null,null,null,null,null,null,null,"Capacity and Effeciency Calculations",null,null,null,null,null,null,"Pre tune up power calculations",null,null,null,null,null,null,null,null,"Post tune up power calculations"]
[null,"Tenths of a Degree Fahrenheit",null,null,null,null,null,null,null,null,null,null,null,"Entering",null,null,null,null,"Leaving",null,null,null,null,"Entering",null,null,null,null,"Leaving",null,null,null,null,null,"Pre tune up",null,null,"Post tune up",null,null,null,"Packaged Unit or Condensing Unit         ",null,null,null,"Indoor Unit (if applicable)    ",null,null,null,"Total Power","Packaged Unit or Condensing Unit         ",null,null,null,"Indoor Unit (if applicable)    ",null,null,null,"Total Power"]
[null,null,0,0.1,0.2,0.3,0.4,0.5,0.6,0.7,0.8,0.9,null,"WholeNum",null,"Decimal",null,"Enthalpy","WholeNum",null,"Decimal",null,"Enthalpy","WholeNum",null,"Decimal",null,"Enthalpy","WholeNum",null,"Decimal",null,"Enthalpy",null,"Rated  (Btuh)","Calculated  (Btuh)","Effeciency %","Rated  (Btuh)","Calculated  (Btuh)","Effeciency %",null,"Voltage","Current","Phase","Power","Voltage","Current","Phase","Power",null,"Voltage","Current","Phase","Power","Voltage","Current","Phase","Power"]
["Wet Bulb Termperature (F)",35,13.01,13.05,13.1,13.14,13.18,13.23,13.27,13.31,13.35,13.4,null,{"$f":"VALUE(O5)","v":{"$error":"#REF!"}},{"$f":"LEFT(#REF!,2)","v":{"$error":"#REF!"}},{"$f":"IF(VALUE(Q5)>1,0,VALUE(Q5))","v":{"$error":"#REF!"}},{"$f":"RIGHT(#REF!,2)","v":{"$error":"#REF!"}},{"$f":"INDEX($C$5:$L$55, MATCH(N5,$B$5:$B$55,0), MATCH(P5,$C$4:$L$4,0))","v":{"$error":"#REF!"}},{"$f":"VALUE(T5)","v":{"$error":"#REF!"}},{"$f":"LEFT(#REF!,2)","v":{"$error":"#REF!"}},{"$f":"IF(VALUE(V5)>1,0,VALUE(V5))","v":{"$error":"#REF!"}},{"$f":"RIGHT(#REF!,2)","v":{"$error":"#REF!"}},{"$f":"INDEX($C$5:$L$55, MATCH(S5,$B$5:$B$55,0), MATCH(U5,$C$4:$L$4,0))","v":{"$error":"#REF!"}},{"$f":"VALUE(Y5)","v":{"$error":"#REF!"}},{"$f":"LEFT(#REF!,2)","v":{"$error":"#REF!"}},{"$f":"IF(VALUE(AA5)>1,0,VALUE(AA5))","v":{"$error":"#REF!"}},{"$f":"RIGHT(#REF!,2)","v":{"$error":"#REF!"}},{"$f":"INDEX($C$5:$L$55, MATCH(X5,$B$5:$B$55,0), MATCH(Z5,$C$4:$L$4,0))","v":{"$error":"#REF!"}},{"$f":"VALUE(AD5)","v":{"$error":"#REF!"}},{"$f":"LEFT(#REF!,2)","v":{"$error":"#REF!"}},{"$f":"IF(VALUE(AF5)>1,0,VALUE(AF5))","v":{"$error":"#REF!"}},{"$f":"RIGHT(#REF!,2)","v":{"$error":"#REF!"}},{"$f":"INDEX($C$5:$L$55, MATCH(AC5,$B$5:$B$55,0), MATCH(AE5,$C$4:$L$4,0))","v":{"$error":"#REF!"}},null,{"$f":"#REF!*12000","v":{"$error":"#REF!"}},{"$f":"(#REF!*4.5*('Preliminary Calculations '!R5-'Preliminary Calculations '!W5))","v":{"$error":"#REF!"}},{"$f":"IFERROR(ROUND(AJ5/AI5,2),\"\")","v":""},{"$f":"#REF!*12000","v":{"$error":"#REF!"}},{"$f":"(#REF!*4.5*('Preliminary Calculations '!AB5-'Preliminary Calculations '!AG5))","v":{"$error":"#REF!"}},{"$f":"IFERROR(ROUND(AM5/AL5,2),\"\")","v":""},null,{"$f":"#REF!","v":{"$error":"#REF!"}},{"$f":"#REF!","v":{"$error":"#REF!"}},{"$f":"#REF!","v":{"$error":"#REF!"}},{"$f":"AP5*AQ5*(IF(AR5=1,#REF!,1.732*#REF!))","v":{"$error":"#REF!"}},{"$f":"#REF!","v":{"$error":"#REF!"}},{"$f":"#REF!","v":{"$error":"#REF!"}},{"$f":"AR5","v":{"$error":"#REF!"}},{"$f":"AT5*AU5*(IF(AV5=1,#REF!,1.732*#REF!))","v":{"$error":"#REF!"}},{"$f":"AS5+AW5","v":{"$error":"#REF!"}},{"$f":"#REF!","v":{"$error":"#REF!"}},{"$f":"#REF!","v":{"$error":"#REF!"}},{"$f":"AR5","v":{"$error":"#REF!"}},{"$f":"AY5*AZ5*(IF(BA5=1,#REF!,1.732*#REF!))","v":{"$error":"#REF!"}},{"$f":"#REF!","v":{"$error":"#REF!"}},{"$f":"#REF!","v":{"$error":"#REF!"}},{"$f":"AR5","v":{"$error":"#REF!"}},{"$f":"BC5*BD5*(IF(BE5=1,#REF!,1.732*#REF!))","v":{"$error":"#REF!"}},{"$f":"BB5+BF5","v":{"$error":"#REF!"}}]
[null,36,13.44,13.48,13.53,13.57,13.61,13.66,13.7,13.75,13.79,13.83,null,{"$f":"VALUE(O6)","v":{"$error":"#REF!"}},{"$f":"LEFT(#REF!,2)","v":{"$error":"#REF!"}},{"$f":"IF(VALUE(Q6)>1,0,VALUE(Q6))","v":{"$error":"#REF!"}},{"$f":"RIGHT(#REF!,2)","v":{"$error":"#REF!"}},{"$f":"INDEX($C$5:$L$55, MATCH(N6,$B$5:$B$55,0), MATCH(P6,$C$4:$L$4,0))","v":{"$error":"#REF!"}},{"$f":"VALUE(T6)","v":{"$error":"#REF!"}},{"$f":"LEFT(#REF!,2)","v":{"$error":"#REF!"}},{"$f":"IF(VALUE(V6)>1,0,VALUE(V6))","v":{"$error":"#REF!"}},{"$f":"RIGHT(#REF!,2)","v":{"$error":"#REF!"}},{"$f":"INDEX($C$5:$L$55, MATCH(S6,$B$5:$B$55,0), MATCH(U6,$C$4:$L$4,0))","v":{"$error":"#REF!"}},{"$f":"VALUE(Y6)","v":{"$error":"#REF!"}},{"$f":"LEFT(#REF!,2)","v":{"$error":"#REF!"}},{"$f":"IF(VALUE(AA6)>1,0,VALUE(AA6))","v":{"$error":"#REF!"}},{"$f":"RIGHT(#REF!,2)","v":{"$error":"#REF!"}},{"$f":"INDEX($C$5:$L$55, MATCH(X6,$B$5:$B$55,0), MATCH(Z6,$C$4:$L$4,0))","v":{"$error":"#REF!"}},{"$f":"VALUE(AD6)","v":{"$error":"#REF!"}},{"$f":"LEFT(#REF!,2)","v":{"$error":"#REF!"}},{"$f":"IF(VALUE(AF6)>1,0,VALUE(AF6))","v":{"$error":"#REF!"}},{"$f":"RIGHT(#REF!,2)","v":{"$error":"#REF!"}},{"$f":"INDEX($C$5:$L$55, MATCH(AC6,$B$5:$B$55,0), MATCH(AE6,$C$4:$L$4,0))","v":{"$error":"#REF!"}},null,{"$f":"#REF!*12000","v":{"$error":"#REF!"}},{"$f":"(#REF!*4.5*('Preliminary Calculations '!R6-'Preliminary Calculations '!W6))","v":{"$error":"#REF!"}},{"$f":"IFERROR(ROUND(AJ6/AI6,2),\"\")","v":""},{"$f":"#REF!*12000","v":{"$error":"#REF!"}},{"$f":"(#REF!*4.5*('Preliminary Calculations '!AB6-'Preliminary Calculations '!AG6))","v":{"$error":"#REF!"}},{"$f":"IFERROR(ROUND(AM6/AL6,2),\"\")","v":""},null,{"$f":"#REF!","v":{"$error":"#REF!"}},{"$f":"#REF!","v":{"$error":"#REF!"}},{"$f":"#REF!","v":{"$error":"#REF!"}},{"$f":"AP6*AQ6*(IF(AR6=1,#REF!,1.732*#REF!))","v":{"$error":"#REF!"}},{"$f":"#REF!","v":{"$error":"#REF!"}},{"$f":"#REF!","v":{"$error":"#REF!"}},{"$f":"AR6","v":{"$error":"#REF!"}},{"$f":"AT6*AU6*(IF(AV6=1,#REF!,1.732*#REF!))","v":{"$error":"#REF!"}},{"$f":"AS6+AW6","v":{"$error":"#REF!"}},{"$f":"#REF!","v":{"$error":"#REF!"}},{"$f":"#REF!","v":{"$error":"#REF!"}},{"$f":"AR6","v":{"$error":"#REF!"}},{"$f":"AY6*AZ6*(IF(BA6=1,#REF!,1.732*#REF!))","v":{"$error":"#REF!"}},{"$f":"#REF!","v":{"$error":"#REF!"}},{"$f":"#REF!","v":{"$error":"#REF!"}},{"$f":"AR6","v":{"$error":"#REF!"}},{"$f":"BC6*BD6*(IF(BE6=1,#REF!,1.732*#REF!))","v":{"$error":"#REF!"}},{"$f":"BB6+BF6","v":{"$error":"#REF!"}}]
[null,37,13.87,13.91,13.96,14,14.05,14.09,14.14,14.18,14.23,14.27,null,{"$error":"#REF!"},{"$f":"LEFT(#REF!,2)","v":{"$error":"#REF!"}},{"$error":"#REF!"},{"$f":"RIGHT(#REF!,2)","v":{"$error":"#REF!"}},{"$error":"#REF!"},{"$error":"#REF!"},{"$f":"LEFT(#REF!,2)","v":{"$error":"#REF!"}},{"$error":"#REF!"},{"$f":"RIGHT(#REF!,2)","v":{"$error":"#REF!"}},{"$error":"#REF!"},{"$error":"#REF!"},{"$f":"LEFT(#REF!,2)","v":{"$error":"#REF!"}},{"$error":"#REF!"},{"$f":"RIGHT(#REF!,2)","v":{"$error":"#REF!"}},{"$error":"#REF!"},{"$error":"#REF!"},{"$f":"LEFT(#REF!,2)","v":{"$error":"#REF!"}},{"$error":"#REF!"},{"$f":"RIGHT(#REF!,2)","v":{"$error":"#REF!"}},{"$error":"#REF!"},null,{"$f":"#REF!*12000","v":{"$error":"#REF!"}},{"$f":"(#REF!*4.5*('Preliminary Calculations '!R7-'Preliminary Calculations '!W7))","v":{"$error":"#REF!"}},"",{"$f":"#REF!*12000","v":{"$error":"#REF!"}},{"$f":"(#REF!*4.5*('Preliminary Calculations '!AB7-'Preliminary Calculations '!AG7))","v":{"$error":"#REF!"}},{"$f":"IFERROR(ROUND(AM7/AL7,2),\"\")","v":""},null,{"$f":"#REF!","v":{"$error":"#REF!"}},{"$f":"#REF!","v":{"$error":"#REF!"}},{"$f":"#REF!","v":{"$error":"#REF!"}},{"$f":"AP7*AQ7*(IF(AR7=1,#REF!,1.732*#REF!))","v":{"$error":"#REF!"}},{"$f":"#REF!","v":{"$error":"#REF!"}},{"$f":"#REF!","v":{"$error":"#REF!"}},{"$error":"#REF!"},{"$f":"AT7*AU7*(IF(AV7=1,#REF!,1.732*#REF!))","v":{"$error":"#REF!"}},{"$error":"#REF!"},{"$f":"#REF!","v":{"$error":"#REF!"}},{"$f":"#REF!","v":{"$error":"#REF!"}},{"$error":"#REF!"},{"$f":"AY7*AZ7*(IF(BA7=1,#REF!,1.732*#REF!))","v":{"$error":"#REF!"}},{"$f":"#REF!","v":{"$error":"#REF!"}},{"$f":"#REF!","v":{"$error":"#REF!"}},{"$error":"#REF!"},{"$f":"BC7*BD7*(IF(BE7=1,#REF!,1.732*#REF!))","v":{"$error":"#REF!"}},{"$error":"#REF!"}]
[null,38,14.32,14.37,14.41,14.46,14.5,14.55,14.59,14.64,14.68,14.73,null,{"$error":"#REF!"},{"$f":"LEFT(#REF!,2)","v":{"$error":"#REF!"}},{"$error":"#REF!"},{"$f":"RIGHT(#REF!,2)","v":{"$error":"#REF!"}},{"$error":"#REF!"},{"$error":"#REF!"},{"$f":"LEFT(#REF!,2)","v":{"$error":"#REF!"}},{"$error":"#REF!"},{"$f":"RIGHT(#REF!,2)","v":{"$error":"#REF!"}},{"$error":"#REF!"},{"$error":"#REF!"},{"$f":"LEFT(#REF!,2)","v":{"$error":"#REF!"}},{"$error":"#REF!"},{"$f":"RIGHT(#REF!,2)","v":{"$error":"#REF!"}},{"$error":"#REF!"},{"$error":"#REF!"},{"$f":"LEFT(#REF!,2)","v":{"$error":"#REF!"}},{"$error":"#REF!"},{"$f":"RIGHT(#REF!,2)","v":{"$error":"#REF!"}},{"$error":"#REF!"},null,{"$f":"#REF!*12000","v":{"$error":"#REF!"}},{"$f":"(#REF!*4.5*('Preliminary Calculations '!R8-'Preliminary Calculations '!W8))","v":{"$error":"#REF!"}},"",{"$f":"#REF!*12000","v":{"$error":"#REF!"}},{"$f":"(#REF!*4.5*('Preliminary Calculations '!AB8-'Preliminary Calculations '!AG8))","v":{"$error":"#REF!"}},"",null,{"$f":"#REF!","v":{"$error":"#REF!"}},{"$f":"#REF!","v":{"$error":"#REF!"}},{"$f":"#REF!","v":{"$error":"#REF!"}},{"$f":"AP8*AQ8*(IF(AR8=1,#REF!,1.732*#REF!))","v":{"$error":"#REF!"}},{"$f":"#REF!","v":{"$error":"#REF!"}},{"$f":"#REF!","v":{"$error":"#REF!"}},{"$error":"#REF!"},{"$f":"AT8*AU8*(IF(AV8=1,#REF!,1.732*#REF!))","v":{"$error":"#REF!"}},{"$error":"#REF!"},{"$f":"#REF!","v":{"$error":"#REF!"}},{"$f":"#REF!","v":{"$error":"#REF!"}},{"$error":"#REF!"},{"$f":"AY8*AZ8*(IF(BA8=1,#REF!,1.732*#REF!))","v":{"$error":"#REF!"}},{"$f":"#REF!","v":{"$error":"#REF!"}},{"$f":"#REF!","v":{"$error":"#REF!"}},{"$error":"#REF!"},{"$f":"BC8*BD8*(IF(BE8=1,#REF!,1.732*#REF!))","v":{"$error":"#REF!"}},{"$error":"#REF!"}]
[null,39,14.77,14.82,14.86,14.91,14.95,15,15.05,15.09,15.14,15.18,null,{"$error":"#REF!"},{"$f":"LEFT(#REF!,2)","v":{"$error":"#REF!"}},{"$error":"#REF!"},{"$f":"RIGHT(#REF!,2)","v":{"$error":"#REF!"}},{"$error":"#REF!"},{"$error":"#REF!"},{"$f":"LEFT(#REF!,2)","v":{"$error":"#REF!"}},{"$error":"#REF!"},{"$f":"RIGHT(#REF!,2)","v":{"$error":"#REF!"}},{"$error":"#REF!"},{"$error":"#REF!"},{"$f":"LEFT(#REF!,2)","v":{"$error":"#REF!"}},{"$error":"#REF!"},{"$f":"RIGHT(#REF!,2)","v":{"$error":"#REF!"}},{"$error":"#REF!"},{"$error":"#REF!"},{"$f":"LEFT(#REF!,2)","v":{"$error":"#REF!"}},{"$error":"#REF!"},{"$f":"RIGHT(#REF!,2)","v":{"$error":"#REF!"}},{"$error":"#REF!"},null,{"$f":"#REF!*12000","v":{"$error":"#REF!"}},{"$f":"(#REF!*4.5*('Preliminary Calculations '!R9-'Preliminary Calculations '!W9))","v":{"$error":"#REF!"}},"",{"$f":"#REF!*12000","v":{"$error":"#REF!"}},{"$f":"(#REF!*4.5*('Preliminary Calculations '!AB9-'Preliminary Calculations '!AG9))","v":{"$error":"#REF!"}},"",null,{"$f":"#REF!","v":{"$error":"#REF!"}},{"$f":"#REF!","v":{"$error":"#REF!"}},{"$f":"#REF!","v":{"$error":"#REF!"}},{"$f":"AP9*AQ9*(IF(AR9=1,#REF!,1.732*#REF!))","v":{"$error":"#REF!"}},{"$f":"#REF!","v":{"$error":"#REF!"}},{"$f":"#REF!","v":{"$error":"#REF!"}},{"$error":"#REF!"},{"$f":"AT9*AU9*(IF(AV9=1,#REF!,1.732*#REF!))","v":{"$error":"#REF!"}},{"$error":"#REF!"},{"$f":"#REF!","v":{"$error":"#REF!"}},{"$f":"#REF!","v":{"$error":"#REF!"}},{"$error":"#REF!"},{"$f":"AY9*AZ9*(IF(BA9=1,#REF!,1.732*#REF!))","v":{"$error":"#REF!"}},{"$f":"#REF!","v":{"$error":"#REF!"}},{"$f":"#REF!","v":{"$error":"#REF!"}},{"$error":"#REF!"},{"$f":"BC9*BD9*(IF(BE9=1,#REF!,1.732*#REF!))","v":{"$error":"#REF!"}},{"$error":"#REF!"}]
[null,40,15.23,15.28,15.32,15.37,15.42,15.47,15.51,15.56,15.61,15.65,null,{"$error":"#REF!"},{"$f":"LEFT(#REF!,2)","v":{"$error":"#REF!"}},{"$error":"#REF!"},{"$f":"RIGHT(#REF!,2)","v":{"$error":"#REF!"}},{"$error":"#REF!"},{"$error":"#REF!"},{"$f":"LEFT(#REF!,2)","v":{"$error":"#REF!"}},{"$error":"#REF!"},{"$f":"RIGHT(#REF!,2)","v":{"$error":"#REF!"}},{"$error":"#REF!"},{"$error":"#REF!"},{"$f":"LEFT(#REF!,2)","v":{"$error":"#REF!"}},{"$error":"#REF!"},{"$f":"RIGHT(#REF!,2)","v":{"$error":"#REF!"}},{"$error":"#REF!"},{"$error":"#REF!"},{"$f":"LEFT(#REF!,2)","v":{"$error":"#REF!"}},{"$error":"#REF!"},{"$f":"RIGHT(#REF!,2)","v":{"$error":"#REF!"}},{"$error":"#REF!"},null,{"$f":"#REF!*12000","v":{"$error":"#REF!"}},{"$f":"(#REF!*4.5*('Preliminary Calculations '!R10-'Preliminary Calculations '!W10))","v":{"$error":"#REF!"}},"",{"$f":"#REF!*12000","v":{"$error":"#REF!"}},{"$f":"(#REF!*4.5*('Preliminary Calculations '!AB10-'Preliminary Calculations '!AG10))","v":{"$error":"#REF!"}},"",null,{"$f":"#REF!","v":{"$error":"#REF!"}},{"$f":"#REF!","v":{"$error":"#REF!"}},{"$f":"#REF!","v":{"$error":"#REF!"}},{"$f":"AP10*AQ10*(IF(AR10=1,#REF!,1.732*#REF!))","v":{"$error":"#REF!"}},{"$f":"#REF!","v":{"$error":"#REF!"}},{"$f":"#REF!","v":{"$error":"#REF!"}},{"$error":"#REF!"},{"$f":"AT10*AU10*(IF(AV10=1,#REF!,1.732*#REF!))","v":{"$error":"#REF!"}},{"$error":"#REF!"},{"$f":"#REF!","v":{"$error":"#REF!"}},{"$f":"#REF!","v":{"$error":"#REF!"}},{"$error":"#REF!"},{"$f":"AY10*AZ10*(IF(BA10=1,#REF!,1.732*#REF!))","v":{"$error":"#REF!"}},{"$f":"#REF!","v":{"$error":"#REF!"}},{"$f":"#REF!","v":{"$error":"#REF!"}},{"$error":"#REF!"},{"$f":"BC10*BD10*(IF(BE10=1,#REF!,1.732*#REF!))","v":{"$error":"#REF!"}},{"$error":"#REF!"}]
[null,41,15.7,15.75,15.8,15.84,15.89,15.94,15.99,16.04,16.079999999999998,16.13,null,{"$error":"#REF!"},{"$f":"LEFT(#REF!,2)","v":{"$error":"#REF!"}},{"$error":"#REF!"},{"$f":"RIGHT(#REF!,2)","v":{"$error":"#REF!"}},{"$error":"#REF!"},{"$error":"#REF!"},{"$f":"LEFT(#REF!,2)","v":{"$error":"#REF!"}},{"$error":"#REF!"},{"$f":"RIGHT(#REF!,2)","v":{"$error":"#REF!"}},{"$error":"#REF!"},{"$error":"#REF!"},{"$f":"LEFT(#REF!,2)","v":{"$error":"#REF!"}},{"$error":"#REF!"},{"$f":"RIGHT(#REF!,2)","v":{"$error":"#REF!"}},{"$error":"#REF!"},{"$error":"#REF!"},{"$f":"LEFT(#REF!,2)","v":{"$error":"#REF!"}},{"$error":"#REF!"},{"$f":"RIGHT(#REF!,2)","v":{"$error":"#REF!"}},{"$error":"#REF!"},null,{"$f":"#REF!*12000","v":{"$error":"#REF!"}},{"$f":"(#REF!*4.5*('Preliminary Calculations '!R11-'Preliminary Calculations '!W11))","v":{"$error":"#REF!"}},"",{"$f":"#REF!*12000","v":{"$error":"#REF!"}},{"$f":"(#REF!*4.5*('Preliminary Calculations '!AB11-'Preliminary Calculations '!AG11))","v":{"$error":"#REF!"}},"",null,{"$f":"#REF!","v":{"$error":"#REF!"}},{"$f":"#REF!","v":{"$error":"#REF!"}},{"$f":"#REF!","v":{"$error":"#REF!"}},{"$f":"AP11*AQ11*(IF(AR11=1,#REF!,1.732*#REF!))","v":{"$error":"#REF!"}},{"$f":"#REF!","v":{"$error":"#REF!"}},{"$f":"#REF!","v":{"$error":"#REF!"}},{"$error":"#REF!"},{"$f":"AT11*AU11*(IF(AV11=1,#REF!,1.732*#REF!))","v":{"$error":"#REF!"}},{"$error":"#REF!"},{"$f":"#REF!","v":{"$error":"#REF!"}},{"$f":"#REF!","v":{"$error":"#REF!"}},{"$error":"#REF!"},{"$f":"AY11*AZ11*(IF(BA11=1,#REF!,1.732*#REF!))","v":{"$error":"#REF!"}},{"$f":"#REF!","v":{"$error":"#REF!"}},{"$f":"#REF!","v":{"$error":"#REF!"}},{"$error":"#REF!"},{"$f":"BC11*BD11*(IF(BE11=1,#REF!,1.732*#REF!))","v":{"$error":"#REF!"}},{"$error":"#REF!"}]
[null,42,16.170000000000002,16.22,16.27,16.32,16.37,16.420000000000002,16.46,16.510000000000002,16.559999999999999,16.61,null,{"$error":"#REF!"},{"$f":"LEFT(#REF!,2)","v":{"$error":"#REF!"}},{"$error":"#REF!"},{"$f":"RIGHT(#REF!,2)","v":{"$error":"#REF!"}},{"$error":"#REF!"},{"$error":"#REF!"},{"$f":"LEFT(#REF!,2)","v":{"$error":"#REF!"}},{"$error":"#REF!"},{"$f":"RIGHT(#REF!,2)","v":{"$error":"#REF!"}},{"$error":"#REF!"},{"$error":"#REF!"},{"$f":"LEFT(#REF!,2)","v":{"$error":"#REF!"}},{"$error":"#REF!"},{"$f":"RIGHT(#REF!,2)","v":{"$error":"#REF!"}},{"$error":"#REF!"},{"$error":"#REF!"},{"$f":"LEFT(#REF!,2)","v":{"$error":"#REF!"}},{"$error":"#REF!"},{"$f":"RIGHT(#REF!,2)","v":{"$error":"#REF!"}},{"$error":"#REF!"},null,{"$f":"#REF!*12000","v":{"$error":"#REF!"}},{"$f":"(#REF!*4.5*('Preliminary Calculations '!R12-'Preliminary Calculations '!W12))","v":{"$error":"#REF!"}},"",{"$f":"#REF!*12000","v":{"$error":"#REF!"}},{"$f":"(#REF!*4.5*('Preliminary Calculations '!AB12-'Preliminary Calculations '!AG12))","v":{"$error":"#REF!"}},"",null,{"$f":"#REF!","v":{"$error":"#REF!"}},{"$f":"#REF!","v":{"$error":"#REF!"}},{"$f":"#REF!","v":{"$error":"#REF!"}},{"$f":"AP12*AQ12*(IF(AR12=1,#REF!,1.732*#REF!))","v":{"$error":"#REF!"}},{"$f":"#REF!","v":{"$error":"#REF!"}},{"$f":"#REF!","v":{"$error":"#REF!"}},{"$error":"#REF!"},{"$f":"AT12*AU12*(IF(AV12=1,#REF!,1.732*#REF!))","v":{"$error":"#REF!"}},{"$error":"#REF!"},{"$f":"#REF!","v":{"$error":"#REF!"}},{"$f":"#REF!","v":{"$error":"#REF!"}},{"$error":"#REF!"},{"$f":"AY12*AZ12*(IF(BA12=1,#REF!,1.732*#REF!))","v":{"$error":"#REF!"}},{"$f":"#REF!","v":{"$error":"#REF!"}},{"$f":"#REF!","v":{"$error":"#REF!"}},{"$error":"#REF!"},{"$f":"BC12*BD12*(IF(BE12=1,#REF!,1.732*#REF!))","v":{"$error":"#REF!"}},{"$error":"#REF!"}]
[null,43,16.66,16.71,16.760000000000002,16.8,16.850000000000001,16.899999999999999,16.95,17,17.05,17.100000000000001,null,{"$error":"#REF!"},{"$f":"LEFT(#REF!,2)","v":{"$error":"#REF!"}},{"$error":"#REF!"},{"$f":"RIGHT(#REF!,2)","v":{"$error":"#REF!"}},{"$error":"#REF!"},{"$error":"#REF!"},{"$f":"LEFT(#REF!,2)","v":{"$error":"#REF!"}},{"$error":"#REF!"},{"$f":"RIGHT(#REF!,2)","v":{"$error":"#REF!"}},{"$error":"#REF!"},{"$error":"#REF!"},{"$f":"LEFT(#REF!,2)","v":{"$error":"#REF!"}},{"$error":"#REF!"},{"$f":"RIGHT(#REF!,2)","v":{"$error":"#REF!"}},{"$error":"#REF!"},{"$error":"#REF!"},{"$f":"LEFT(#REF!,2)","v":{"$error":"#REF!"}},{"$error":"#REF!"},{"$f":"RIGHT(#REF!,2)","v":{"$error":"#REF!"}},{"$error":"#REF!"},null,{"$f":"#REF!*12000","v":{"$error":"#REF!"}},{"$f":"(#REF!*4.5*('Preliminary Calculations '!R13-'Preliminary Calculations '!W13))","v":{"$error":"#REF!"}},"",{"$f":"#REF!*12000","v":{"$error":"#REF!"}},{"$f":"(#REF!*4.5*('Preliminary Calculations '!AB13-'Preliminary Calculations '!AG13))","v":{"$error":"#REF!"}},"",null,{"$f":"#REF!","v":{"$error":"#REF!"}},{"$f":"#REF!","v":{"$error":"#REF!"}},{"$f":"#REF!","v":{"$error":"#REF!"}},{"$f":"AP13*AQ13*(IF(AR13=1,#REF!,1.732*#REF!))","v":{"$error":"#REF!"}},{"$f":"#REF!","v":{"$error":"#REF!"}},{"$f":"#REF!","v":{"$error":"#REF!"}},{"$error":"#REF!"},{"$f":"AT13*AU13*(IF(AV13=1,#REF!,1.732*#REF!))","v":{"$error":"#REF!"}},{"$error":"#REF!"},{"$f":"#REF!","v":{"$error":"#REF!"}},{"$f":"#REF!","v":{"$error":"#REF!"}},{"$error":"#REF!"},{"$f":"AY13*AZ13*(IF(BA13=1,#REF!,1.732*#REF!))","v":{"$error":"#REF!"}},{"$f":"#REF!","v":{"$error":"#REF!"}},{"$f":"#REF!","v":{"$error":"#REF!"}},{"$error":"#REF!"},{"$f":"BC13*BD13*(IF(BE13=1,#REF!,1.732*#REF!))","v":{"$error":"#REF!"}},{"$error":"#REF!"}]
[null,44,17.149999999999999,17.2,17.25,17.3,17.350000000000001,17.399999999999999,17.45,17.5,17.55,17.600000000000001,null,{"$error":"#REF!"},{"$f":"LEFT(#REF!,2)","v":{"$error":"#REF!"}},{"$error":"#REF!"},{"$f":"RIGHT(#REF!,2)","v":{"$error":"#REF!"}},{"$error":"#REF!"},{"$error":"#REF!"},{"$f":"LEFT(#REF!,2)","v":{"$error":"#REF!"}},{"$error":"#REF!"},{"$f":"RIGHT(#REF!,2)","v":{"$error":"#REF!"}},{"$error":"#REF!"},{"$error":"#REF!"},{"$f":"LEFT(#REF!,2)","v":{"$error":"#REF!"}},{"$error":"#REF!"},{"$f":"RIGHT(#REF!,2)","v":{"$error":"#REF!"}},{"$error":"#REF!"},{"$error":"#REF!"},{"$f":"LEFT(#REF!,2)","v":{"$error":"#REF!"}},{"$error":"#REF!"},{"$f":"RIGHT(#REF!,2)","v":{"$error":"#REF!"}},{"$error":"#REF!"},null,{"$f":"#REF!*12000","v":{"$error":"#REF!"}},{"$f":"(#REF!*4.5*('Preliminary Calculations '!R14-'Preliminary Calculations '!W14))","v":{"$error":"#REF!"}},"",{"$f":"#REF!*12000","v":{"$error":"#REF!"}},{"$f":"(#REF!*4.5*('Preliminary Calculations '!AB14-'Preliminary Calculations '!AG14))","v":{"$error":"#REF!"}},"",null,{"$f":"#REF!","v":{"$error":"#REF!"}},{"$f":"#REF!","v":{"$error":"#REF!"}},{"$f":"#REF!","v":{"$error":"#REF!"}},{"$f":"AP14*AQ14*(IF(AR14=1,#REF!,1.732*#REF!))","v":{"$error":"#REF!"}},{"$f":"#REF!","v":{"$error":"#REF!"}},{"$f":"#REF!","v":{"$error":"#REF!"}},{"$error":"#REF!"},{"$f":"AT14*AU14*(IF(AV14=1,#REF!,1.732*#REF!))","v":{"$error":"#REF!"}},{"$error":"#REF!"},{"$f":"#REF!","v":{"$error":"#REF!"}},{"$f":"#REF!","v":{"$error":"#REF!"}},{"$error":"#REF!"},{"$f":"AY14*AZ14*(IF(BA14=1,#REF!,1.732*#REF!))","v":{"$error":"#REF!"}},{"$f":"#REF!","v":{"$error":"#REF!"}},{"$f":"#REF!","v":{"$error":"#REF!"}},{"$error":"#REF!"},{"$f":"BC14*BD14*(IF(BE14=1,#REF!,1.732*#REF!))","v":{"$error":"#REF!"}},{"$error":"#REF!"}]
[null,45,17.649999999999999,17.7,17.75,17.8,17.850000000000001,17.91,17.96,18.010000000000002,18.059999999999999,18.11,null,{"$error":"#REF!"},{"$f":"LEFT(#REF!,2)","v":{"$error":"#REF!"}},{"$error":"#REF!"},{"$f":"RIGHT(#REF!,2)","v":{"$error":"#REF!"}},{"$error":"#REF!"},{"$error":"#REF!"},{"$f":"LEFT(#REF!,2)","v":{"$error":"#REF!"}},{"$error":"#REF!"},{"$f":"RIGHT(#REF!,2)","v":{"$error":"#REF!"}},{"$error":"#REF!"},{"$error":"#REF!"},{"$f":"LEFT(#REF!,2)","v":{"$error":"#REF!"}},{"$error":"#REF!"},{"$f":"RIGHT(#REF!,2)","v":{"$error":"#REF!"}},{"$error":"#REF!"},{"$error":"#REF!"},{"$f":"LEFT(#REF!,2)","v":{"$error":"#REF!"}},{"$error":"#REF!"},{"$f":"RIGHT(#REF!,2)","v":{"$error":"#REF!"}},{"$error":"#REF!"},null,{"$f":"#REF!*12000","v":{"$error":"#REF!"}},{"$f":"(#REF!*4.5*('Preliminary Calculations '!R15-'Preliminary Calculations '!W15))","v":{"$error":"#REF!"}},"",{"$f":"#REF!*12000","v":{"$error":"#REF!"}},{"$f":"(#REF!*4.5*('Preliminary Calculations '!AB15-'Preliminary Calculations '!AG15))","v":{"$error":"#REF!"}},"",null,{"$f":"#REF!","v":{"$error":"#REF!"}},{"$f":"#REF!","v":{"$error":"#REF!"}},{"$f":"#REF!","v":{"$error":"#REF!"}},{"$f":"AP15*AQ15*(IF(AR15=1,#REF!,1.732*#REF!))","v":{"$error":"#REF!"}},{"$f":"#REF!","v":{"$error":"#REF!"}},{"$f":"#REF!","v":{"$error":"#REF!"}},{"$error":"#REF!"},{"$f":"AT15*AU15*(IF(AV15=1,#REF!,1.732*#REF!))","v":{"$error":"#REF!"}},{"$error":"#REF!"},{"$f":"#REF!","v":{"$error":"#REF!"}},{"$f":"#REF!","v":{"$error":"#REF!"}},{"$error":"#REF!"},{"$f":"AY15*AZ15*(IF(BA15=1,#REF!,1.732*#REF!))","v":{"$error":"#REF!"}},{"$f":"#REF!","v":{"$error":"#REF!"}},{"$f":"#REF!","v":{"$error":"#REF!"}},{"$error":"#REF!"},{"$f":"BC15*BD15*(IF(BE15=1,#REF!,1.732*#REF!))","v":{"$error":"#REF!"}},{"$error":"#REF!"}]
[null,46,18.16,18.21,18.260000000000002,18.32,18.37,18.420000000000002,18.47,18.52,18.579999999999998,18.63,null,{"$error":"#REF!"},{"$f":"LEFT(#REF!,2)","v":{"$error":"#REF!"}},{"$error":"#REF!"},{"$f":"RIGHT(#REF!,2)","v":{"$error":"#REF!"}},{"$error":"#REF!"},{"$error":"#REF!"},{"$f":"LEFT(#REF!,2)","v":{"$error":"#REF!"}},{"$error":"#REF!"},{"$f":"RIGHT(#REF!,2)","v":{"$error":"#REF!"}},{"$error":"#REF!"},{"$error":"#REF!"},{"$f":"LEFT(#REF!,2)","v":{"$error":"#REF!"}},{"$error":"#REF!"},{"$f":"RIGHT(#REF!,2)","v":{"$error":"#REF!"}},{"$error":"#REF!"},{"$error":"#REF!"},{"$f":"LEFT(#REF!,2)","v":{"$error":"#REF!"}},{"$error":"#REF!"},{"$f":"RIGHT(#REF!,2)","v":{"$error":"#REF!"}},{"$error":"#REF!"},null,{"$f":"#REF!*12000","v":{"$error":"#REF!"}},{"$f":"(#REF!*4.5*('Preliminary Calculations '!R16-'Preliminary Calculations '!W16))","v":{"$error":"#REF!"}},"",{"$f":"#REF!*12000","v":{"$error":"#REF!"}},{"$f":"(#REF!*4.5*('Preliminary Calculations '!AB16-'Preliminary Calculations '!AG16))","v":{"$error":"#REF!"}},"",null,{"$f":"#REF!","v":{"$error":"#REF!"}},{"$f":"#REF!","v":{"$error":"#REF!"}},{"$f":"#REF!","v":{"$error":"#REF!"}},{"$f":"AP16*AQ16*(IF(AR16=1,#REF!,1.732*#REF!))","v":{"$error":"#REF!"}},{"$f":"#REF!","v":{"$error":"#REF!"}},{"$f":"#REF!","v":{"$error":"#REF!"}},{"$error":"#REF!"},{"$f":"AT16*AU16*(IF(AV16=1,#REF!,1.732*#REF!))","v":{"$error":"#REF!"}},{"$error":"#REF!"},{"$f":"#REF!","v":{"$error":"#REF!"}},{"$f":"#REF!","v":{"$error":"#REF!"}},{"$error":"#REF!"},{"$f":"AY16*AZ16*(IF(BA16=1,#REF!,1.732*#REF!))","v":{"$error":"#REF!"}},{"$f":"#REF!","v":{"$error":"#REF!"}},{"$f":"#REF!","v":{"$error":"#REF!"}},{"$error":"#REF!"},{"$f":"BC16*BD16*(IF(BE16=1,#REF!,1.732*#REF!))","v":{"$error":"#REF!"}},{"$error":"#REF!"}]
[null,47,18.68,18.73,18.79,18.84,18.89,18.95,19,19.05,19.100000000000001,19.16,null,{"$error":"#REF!"},{"$f":"LEFT(#REF!,2)","v":{"$error":"#REF!"}},{"$error":"#REF!"},{"$f":"RIGHT(#REF!,2)","v":{"$error":"#REF!"}},{"$error":"#REF!"},{"$error":"#REF!"},{"$f":"LEFT(#REF!,2)","v":{"$error":"#REF!"}},{"$error":"#REF!"},{"$f":"RIGHT(#REF!,2)","v":{"$error":"#REF!"}},{"$error":"#REF!"},{"$error":"#REF!"},{"$f":"LEFT(#REF!,2)","v":{"$error":"#REF!"}},{"$error":"#REF!"},{"$f":"RIGHT(#REF!,2)","v":{"$error":"#REF!"}},{"$error":"#REF!"},{"$error":"#REF!"},{"$f":"LEFT(#REF!,2)","v":{"$error":"#REF!"}},{"$error":"#REF!"},{"$f":"RIGHT(#REF!,2)","v":{"$error":"#REF!"}},{"$error":"#REF!"},null,{"$f":"#REF!*12000","v":{"$error":"#REF!"}},{"$f":"(#REF!*4.5*('Preliminary Calculations '!R17-'Preliminary Calculations '!W17))","v":{"$error":"#REF!"}},"",{"$f":"#REF!*12000","v":{"$error":"#REF!"}},{"$f":"(#REF!*4.5*('Preliminary Calculations '!AB17-'Preliminary Calculations '!AG17))","v":{"$error":"#REF!"}},"",null,{"$f":"#REF!","v":{"$error":"#REF!"}},{"$f":"#REF!","v":{"$error":"#REF!"}},{"$f":"#REF!","v":{"$error":"#REF!"}},{"$f":"AP17*AQ17*(IF(AR17=1,#REF!,1.732*#REF!))","v":{"$error":"#REF!"}},{"$f":"#REF!","v":{"$error":"#REF!"}},{"$f":"#REF!","v":{"$error":"#REF!"}},{"$error":"#REF!"},{"$f":"AT17*AU17*(IF(AV17=1,#REF!,1.732*#REF!))","v":{"$error":"#REF!"}},{"$error":"#REF!"},{"$f":"#REF!","v":{"$error":"#REF!"}},{"$f":"#REF!","v":{"$error":"#REF!"}},{"$error":"#REF!"},{"$f":"AY17*AZ17*(IF(BA17=1,#REF!,1.732*#REF!))","v":{"$error":"#REF!"}},{"$f":"#REF!","v":{"$error":"#REF!"}},{"$f":"#REF!","v":{"$error":"#REF!"}},{"$error":"#REF!"},{"$f":"BC17*BD17*(IF(BE17=1,#REF!,1.732*#REF!))","v":{"$error":"#REF!"}},{"$error":"#REF!"}]
[null,48,19.21,19.260000000000002,19.32,19.37,19.43,19.48,19.53,19.59,19.64,19.7,null,{"$error":"#REF!"},{"$f":"LEFT(#REF!,2)","v":{"$error":"#REF!"}},{"$error":"#REF!"},{"$f":"RIGHT(#REF!,2)","v":{"$error":"#REF!"}},{"$error":"#REF!"},{"$error":"#REF!"},{"$f":"LEFT(#REF!,2)","v":{"$error":"#REF!"}},{"$error":"#REF!"},{"$f":"RIGHT(#REF!,2)","v":{"$error":"#REF!"}},{"$error":"#REF!"},{"$error":"#REF!"},{"$f":"LEFT(#REF!,2)","v":{"$error":"#REF!"}},{"$error":"#REF!"},{"$f":"RIGHT(#REF!,2)","v":{"$error":"#REF!"}},{"$error":"#REF!"},{"$error":"#REF!"},{"$f":"LEFT(#REF!,2)","v":{"$error":"#REF!"}},{"$error":"#REF!"},{"$f":"RIGHT(#REF!,2)","v":{"$error":"#REF!"}},{"$error":"#REF!"},null,{"$f":"#REF!*12000","v":{"$error":"#REF!"}},{"$f":"(#REF!*4.5*('Preliminary Calculations '!R18-'Preliminary Calculations '!W18))","v":{"$error":"#REF!"}},"",{"$f":"#REF!*12000","v":{"$error":"#REF!"}},{"$f":"(#REF!*4.5*('Preliminary Calculations '!AB18-'Preliminary Calculations '!AG18))","v":{"$error":"#REF!"}},"",null,{"$f":"#REF!","v":{"$error":"#REF!"}},{"$f":"#REF!","v":{"$error":"#REF!"}},{"$f":"#REF!","v":{"$error":"#REF!"}},{"$f":"AP18*AQ18*(IF(AR18=1,#REF!,1.732*#REF!))","v":{"$error":"#REF!"}},{"$f":"#REF!","v":{"$error":"#REF!"}},{"$f":"#REF!","v":{"$error":"#REF!"}},{"$error":"#REF!"},{"$f":"AT18*AU18*(IF(AV18=1,#REF!,1.732*#REF!))","v":{"$error":"#REF!"}},{"$error":"#REF!"},{"$f":"#REF!","v":{"$error":"#REF!"}},{"$f":"#REF!","v":{"$error":"#REF!"}},{"$error":"#REF!"},{"$f":"AY18*AZ18*(IF(BA18=1,#REF!,1.732*#REF!))","v":{"$error":"#REF!"}},{"$f":"#REF!","v":{"$error":"#REF!"}},{"$f":"#REF!","v":{"$error":"#REF!"}},{"$error":"#REF!"},{"$f":"BC18*BD18*(IF(BE18=1,#REF!,1.732*#REF!))","v":{"$error":"#REF!"}},{"$error":"#REF!"}]
[null,49,19.75,19.809999999999999,19.86,19.920000000000002,19.97,20.03,20.079999999999998,20.14,20.190000000000001,20.25,null,{"$error":"#REF!"},{"$f":"LEFT(#REF!,2)","v":{"$error":"#REF!"}},{"$error":"#REF!"},{"$f":"RIGHT(#REF!,2)","v":{"$error":"#REF!"}},{"$error":"#REF!"},{"$error":"#REF!"},{"$f":"LEFT(#REF!,2)","v":{"$error":"#REF!"}},{"$error":"#REF!"},{"$f":"RIGHT(#REF!,2)","v":{"$error":"#REF!"}},{"$error":"#REF!"},{"$error":"#REF!"},{"$f":"LEFT(#REF!,2)","v":{"$error":"#REF!"}},{"$error":"#REF!"},{"$f":"RIGHT(#REF!,2)","v":{"$error":"#REF!"}},{"$error":"#REF!"},{"$error":"#REF!"},{"$f":"LEFT(#REF!,2)","v":{"$error":"#REF!"}},{"$error":"#REF!"},{"$f":"RIGHT(#REF!,2)","v":{"$error":"#REF!"}},{"$error":"#REF!"},null,{"$f":"#REF!*12000","v":{"$error":"#REF!"}},{"$f":"(#REF!*4.5*('Preliminary Calculations '!R19-'Preliminary Calculations '!W19))","v":{"$error":"#REF!"}},"",{"$f":"#REF!*12000","v":{"$error":"#REF!"}},{"$f":"(#REF!*4.5*('Preliminary Calculations '!AB19-'Preliminary Calculations '!AG19))","v":{"$error":"#REF!"}},"",null,{"$f":"#REF!","v":{"$error":"#REF!"}},{"$f":"#REF!","v":{"$error":"#REF!"}},{"$f":"#REF!","v":{"$error":"#REF!"}},{"$f":"AP19*AQ19*(IF(AR19=1,#REF!,1.732*#REF!))","v":{"$error":"#REF!"}},{"$f":"#REF!","v":{"$error":"#REF!"}},{"$f":"#REF!","v":{"$error":"#REF!"}},{"$error":"#REF!"},{"$f":"AT19*AU19*(IF(AV19=1,#REF!,1.732*#REF!))","v":{"$error":"#REF!"}},{"$error":"#REF!"},{"$f":"#REF!","v":{"$error":"#REF!"}},{"$f":"#REF!","v":{"$error":"#REF!"}},{"$error":"#REF!"},{"$f":"AY19*AZ19*(IF(BA19=1,#REF!,1.732*#REF!))","v":{"$error":"#REF!"}},{"$f":"#REF!","v":{"$error":"#REF!"}},{"$f":"#REF!","v":{"$error":"#REF!"}},{"$error":"#REF!"},{"$f":"BC19*BD19*(IF(BE19=1,#REF!,1.732*#REF!))","v":{"$error":"#REF!"}},{"$error":"#REF!"}]
[null,50,20.3,20.36,20.41,20.47,20.53,20.58,20.64,20.69,20.75,20.81,null,{"$error":"#REF!"},{"$f":"LEFT(#REF!,2)","v":{"$error":"#REF!"}},{"$error":"#REF!"},{"$f":"RIGHT(#REF!,2)","v":{"$error":"#REF!"}},{"$error":"#REF!"},{"$error":"#REF!"},{"$f":"LEFT(#REF!,2)","v":{"$error":"#REF!"}},{"$error":"#REF!"},{"$f":"RIGHT(#REF!,2)","v":{"$error":"#REF!"}},{"$error":"#REF!"},{"$error":"#REF!"},{"$f":"LEFT(#REF!,2)","v":{"$error":"#REF!"}},{"$error":"#REF!"},{"$f":"RIGHT(#REF!,2)","v":{"$error":"#REF!"}},{"$error":"#REF!"},{"$error":"#REF!"},{"$f":"LEFT(#REF!,2)","v":{"$error":"#REF!"}},{"$error":"#REF!"},{"$f":"RIGHT(#REF!,2)","v":{"$error":"#REF!"}},{"$error":"#REF!"},null,{"$f":"#REF!*12000","v":{"$error":"#REF!"}},{"$f":"(#REF!*4.5*('Preliminary Calculations '!R20-'Preliminary Calculations '!W20))","v":{"$error":"#REF!"}},"",{"$f":"#REF!*12000","v":{"$error":"#REF!"}},{"$f":"(#REF!*4.5*('Preliminary Calculations '!AB20-'Preliminary Calculations '!AG20))","v":{"$error":"#REF!"}},"",null,{"$f":"#REF!","v":{"$error":"#REF!"}},{"$f":"#REF!","v":{"$error":"#REF!"}},{"$f":"#REF!","v":{"$error":"#REF!"}},{"$f":"AP20*AQ20*(IF(AR20=1,#REF!,1.732*#REF!))","v":{"$error":"#REF!"}},{"$f":"#REF!","v":{"$error":"#REF!"}},{"$f":"#REF!","v":{"$error":"#REF!"}},{"$error":"#REF!"},{"$f":"AT20*AU20*(IF(AV20=1,#REF!,1.732*#REF!))","v":{"$error":"#REF!"}},{"$error":"#REF!"},{"$f":"#REF!","v":{"$error":"#REF!"}},{"$f":"#REF!","v":{"$error":"#REF!"}},{"$error":"#REF!"},{"$f":"AY20*AZ20*(IF(BA20=1,#REF!,1.732*#REF!))","v":{"$error":"#REF!"}},{"$f":"#REF!","v":{"$error":"#REF!"}},{"$f":"#REF!","v":{"$error":"#REF!"}},{"$error":"#REF!"},{"$f":"BC20*BD20*(IF(BE20=1,#REF!,1.732*#REF!))","v":{"$error":"#REF!"}},{"$error":"#REF!"}]
[null,51,20.86,20.92,20.98,21.03,21.09,21.15,21.21,21.26,21.32,21.38,null,{"$error":"#REF!"},{"$f":"LEFT(#REF!,2)","v":{"$error":"#REF!"}},{"$error":"#REF!"},{"$f":"RIGHT(#REF!,2)","v":{"$error":"#REF!"}},{"$error":"#REF!"},{"$error":"#REF!"},{"$f":"LEFT(#REF!,2)","v":{"$error":"#REF!"}},{"$error":"#REF!"},{"$f":"RIGHT(#REF!,2)","v":{"$error":"#REF!"}},{"$error":"#REF!"},{"$error":"#REF!"},{"$f":"LEFT(#REF!,2)","v":{"$error":"#REF!"}},{"$error":"#REF!"},{"$f":"RIGHT(#REF!,2)","v":{"$error":"#REF!"}},{"$error":"#REF!"},{"$error":"#REF!"},{"$f":"LEFT(#REF!,2)","v":{"$error":"#REF!"}},{"$error":"#REF!"},{"$f":"RIGHT(#REF!,2)","v":{"$error":"#REF!"}},{"$error":"#REF!"},null,{"$f":"#REF!*12000","v":{"$error":"#REF!"}},{"$f":"(#REF!*4.5*('Preliminary Calculations '!R21-'Preliminary Calculations '!W21))","v":{"$error":"#REF!"}},"",{"$f":"#REF!*12000","v":{"$error":"#REF!"}},{"$f":"(#REF!*4.5*('Preliminary Calculations '!AB21-'Preliminary Calculations '!AG21))","v":{"$error":"#REF!"}},"",null,{"$f":"#REF!","v":{"$error":"#REF!"}},{"$f":"#REF!","v":{"$error":"#REF!"}},{"$f":"#REF!","v":{"$error":"#REF!"}},{"$f":"AP21*AQ21*(IF(AR21=1,#REF!,1.732*#REF!))","v":{"$error":"#REF!"}},{"$f":"#REF!","v":{"$error":"#REF!"}},{"$f":"#REF!","v":{"$error":"#REF!"}},{"$error":"#REF!"},{"$f":"AT21*AU21*(IF(AV21=1,#REF!,1.732*#REF!))","v":{"$error":"#REF!"}},{"$error":"#REF!"},{"$f":"#REF!","v":{"$error":"#REF!"}},{"$f":"#REF!","v":{"$error":"#REF!"}},{"$error":"#REF!"},{"$f":"AY21*AZ21*(IF(BA21=1,#REF!,1.732*#REF!))","v":{"$error":"#REF!"}},{"$f":"#REF!","v":{"$error":"#REF!"}},{"$f":"#REF!","v":{"$error":"#REF!"}},{"$error":"#REF!"},{"$f":"BC21*BD21*(IF(BE21=1,#REF!,1.732*#REF!))","v":{"$error":"#REF!"}},{"$error":"#REF!"}]
[null,52,21.44,21.49,21.55,21.61,21.67,21.73,21.78,21.84,21.9,21.96,null,{"$error":"#REF!"},{"$f":"LEFT(#REF!,2)","v":{"$error":"#REF!"}},{"$error":"#REF!"},{"$f":"RIGHT(#REF!,2)","v":{"$error":"#REF!"}},{"$error":"#REF!"},{"$error":"#REF!"},{"$f":"LEFT(#REF!,2)","v":{"$error":"#REF!"}},{"$error":"#REF!"},{"$f":"RIGHT(#REF!,2)","v":{"$error":"#REF!"}},{"$error":"#REF!"},{"$error":"#REF!"},{"$f":"LEFT(#REF!,2)","v":{"$error":"#REF!"}},{"$error":"#REF!"},{"$f":"RIGHT(#REF!,2)","v":{"$error":"#REF!"}},{"$error":"#REF!"},{"$error":"#REF!"},{"$f":"LEFT(#REF!,2)","v":{"$error":"#REF!"}},{"$error":"#REF!"},{"$f":"RIGHT(#REF!,2)","v":{"$error":"#REF!"}},{"$error":"#REF!"},null,{"$f":"#REF!*12000","v":{"$error":"#REF!"}},{"$f":"(#REF!*4.5*('Preliminary Calculations '!R22-'Preliminary Calculations '!W22))","v":{"$error":"#REF!"}},"",{"$f":"#REF!*12000","v":{"$error":"#REF!"}},{"$f":"(#REF!*4.5*('Preliminary Calculations '!AB22-'Preliminary Calculations '!AG22))","v":{"$error":"#REF!"}},"",null,{"$f":"#REF!","v":{"$error":"#REF!"}},{"$f":"#REF!","v":{"$error":"#REF!"}},{"$f":"#REF!","v":{"$error":"#REF!"}},{"$f":"AP22*AQ22*(IF(AR22=1,#REF!,1.732*#REF!))","v":{"$error":"#REF!"}},{"$f":"#REF!","v":{"$error":"#REF!"}},{"$f":"#REF!","v":{"$error":"#REF!"}},{"$error":"#REF!"},{"$f":"AT22*AU22*(IF(AV22=1,#REF!,1.732*#REF!))","v":{"$error":"#REF!"}},{"$error":"#REF!"},{"$f":"#REF!","v":{"$error":"#REF!"}},{"$f":"#REF!","v":{"$error":"#REF!"}},{"$error":"#REF!"},{"$f":"AY22*AZ22*(IF(BA22=1,#REF!,1.732*#REF!))","v":{"$error":"#REF!"}},{"$f":"#REF!","v":{"$error":"#REF!"}},{"$f":"#REF!","v":{"$error":"#REF!"}},{"$error":"#REF!"},{"$f":"BC22*BD22*(IF(BE22=1,#REF!,1.732*#REF!))","v":{"$error":"#REF!"}},{"$error":"#REF!"}]
[null,53,22.02,22.08,22.14,22.2,22.26,22.32,22.38,22.44,22.5,22.56,null,{"$error":"#REF!"},{"$f":"LEFT(#REF!,2)","v":{"$error":"#REF!"}},{"$error":"#REF!"},{"$f":"RIGHT(#REF!,2)","v":{"$error":"#REF!"}},{"$error":"#REF!"},{"$error":"#REF!"},{"$f":"LEFT(#REF!,2)","v":{"$error":"#REF!"}},{"$error":"#REF!"},{"$f":"RIGHT(#REF!,2)","v":{"$error":"#REF!"}},{"$error":"#REF!"},{"$error":"#REF!"},{"$f":"LEFT(#REF!,2)","v":{"$error":"#REF!"}},{"$error":"#REF!"},{"$f":"RIGHT(#REF!,2)","v":{"$error":"#REF!"}},{"$error":"#REF!"},{"$error":"#REF!"},{"$f":"LEFT(#REF!,2)","v":{"$error":"#REF!"}},{"$error":"#REF!"},{"$f":"RIGHT(#REF!,2)","v":{"$error":"#REF!"}},{"$error":"#REF!"},null,{"$f":"#REF!*12000","v":{"$error":"#REF!"}},{"$f":"(#REF!*4.5*('Preliminary Calculations '!R23-'Preliminary Calculations '!W23))","v":{"$error":"#REF!"}},"",{"$f":"#REF!*12000","v":{"$error":"#REF!"}},{"$f":"(#REF!*4.5*('Preliminary Calculations '!AB23-'Preliminary Calculations '!AG23))","v":{"$error":"#REF!"}},"",null,{"$f":"#REF!","v":{"$error":"#REF!"}},{"$f":"#REF!","v":{"$error":"#REF!"}},{"$f":"#REF!","v":{"$error":"#REF!"}},{"$f":"AP23*AQ23*(IF(AR23=1,#REF!,1.732*#REF!))","v":{"$error":"#REF!"}},{"$f":"#REF!","v":{"$error":"#REF!"}},{"$f":"#REF!","v":{"$error":"#REF!"}},{"$error":"#REF!"},{"$f":"AT23*AU23*(IF(AV23=1,#REF!,1.732*#REF!))","v":{"$error":"#REF!"}},{"$error":"#REF!"},{"$f":"#REF!","v":{"$error":"#REF!"}},{"$f":"#REF!","v":{"$error":"#REF!"}},{"$error":"#REF!"},{"$f":"AY23*AZ23*(IF(BA23=1,#REF!,1.732*#REF!))","v":{"$error":"#REF!"}},{"$f":"#REF!","v":{"$error":"#REF!"}},{"$f":"#REF!","v":{"$error":"#REF!"}},{"$error":"#REF!"},{"$f":"BC23*BD23*(IF(BE23=1,#REF!,1.732*#REF!))","v":{"$error":"#REF!"}},{"$error":"#REF!"}]
[null,54,22.62,22.68,22.74,22.8,22.86,22.92,22.98,23.04,23.1,23.16,null,{"$error":"#REF!"},{"$f":"LEFT(#REF!,2)","v":{"$error":"#REF!"}},{"$error":"#REF!"},{"$f":"RIGHT(#REF!,2)","v":{"$error":"#REF!"}},{"$error":"#REF!"},{"$error":"#REF!"},{"$f":"LEFT(#REF!,2)","v":{"$error":"#REF!"}},{"$error":"#REF!"},{"$f":"RIGHT(#REF!,2)","v":{"$error":"#REF!"}},{"$error":"#REF!"},{"$error":"#REF!"},{"$f":"LEFT(#REF!,2)","v":{"$error":"#REF!"}},{"$error":"#REF!"},{"$f":"RIGHT(#REF!,2)","v":{"$error":"#REF!"}},{"$error":"#REF!"},{"$error":"#REF!"},{"$f":"LEFT(#REF!,2)","v":{"$error":"#REF!"}},{"$error":"#REF!"},{"$f":"RIGHT(#REF!,2)","v":{"$error":"#REF!"}},{"$error":"#REF!"},null,{"$f":"#REF!*12000","v":{"$error":"#REF!"}},{"$f":"(#REF!*4.5*('Preliminary Calculations '!R24-'Preliminary Calculations '!W24))","v":{"$error":"#REF!"}},"",{"$f":"#REF!*12000","v":{"$error":"#REF!"}},{"$f":"(#REF!*4.5*('Preliminary Calculations '!AB24-'Preliminary Calculations '!AG24))","v":{"$error":"#REF!"}},"",null,{"$f":"#REF!","v":{"$error":"#REF!"}},{"$f":"#REF!","v":{"$error":"#REF!"}},{"$f":"#REF!","v":{"$error":"#REF!"}},{"$f":"AP24*AQ24*(IF(AR24=1,#REF!,1.732*#REF!))","v":{"$error":"#REF!"}},{"$f":"#REF!","v":{"$error":"#REF!"}},{"$f":"#REF!","v":{"$error":"#REF!"}},{"$error":"#REF!"},{"$f":"AT24*AU24*(IF(AV24=1,#REF!,1.732*#REF!))","v":{"$error":"#REF!"}},{"$error":"#REF!"},{"$f":"#REF!","v":{"$error":"#REF!"}},{"$f":"#REF!","v":{"$error":"#REF!"}},{"$error":"#REF!"},{"$f":"AY24*AZ24*(IF(BA24=1,#REF!,1.732*#REF!))","v":{"$error":"#REF!"}},{"$f":"#REF!","v":{"$error":"#REF!"}},{"$f":"#REF!","v":{"$error":"#REF!"}},{"$error":"#REF!"},{"$f":"BC24*BD24*(IF(BE24=1,#REF!,1.732*#REF!))","v":{"$error":"#REF!"}},{"$error":"#REF!"}]
[null,55,23.22,23.28,23.34,23.41,23.47,23.53,23.59,23.65,23.72,23.78,null,{"$error":"#REF!"},{"$f":"LEFT(#REF!,2)","v":{"$error":"#REF!"}},{"$error":"#REF!"},{"$f":"RIGHT(#REF!,2)","v":{"$error":"#REF!"}},{"$error":"#REF!"},{"$error":"#REF!"},{"$f":"LEFT(#REF!,2)","v":{"$error":"#REF!"}},{"$error":"#REF!"},{"$f":"RIGHT(#REF!,2)","v":{"$error":"#REF!"}},{"$error":"#REF!"},{"$error":"#REF!"},{"$f":"LEFT(#REF!,2)","v":{"$error":"#REF!"}},{"$error":"#REF!"},{"$f":"RIGHT(#REF!,2)","v":{"$error":"#REF!"}},{"$error":"#REF!"},{"$error":"#REF!"},{"$f":"LEFT(#REF!,2)","v":{"$error":"#REF!"}},{"$error":"#REF!"},{"$f":"RIGHT(#REF!,2)","v":{"$error":"#REF!"}},{"$error":"#REF!"},null,{"$f":"#REF!*12000","v":{"$error":"#REF!"}},{"$f":"(#REF!*4.5*('Preliminary Calculations '!R25-'Preliminary Calculations '!W25))","v":{"$error":"#REF!"}},"",{"$f":"#REF!*12000","v":{"$error":"#REF!"}},{"$f":"(#REF!*4.5*('Preliminary Calculations '!AB25-'Preliminary Calculations '!AG25))","v":{"$error":"#REF!"}},"",null,{"$f":"#REF!","v":{"$error":"#REF!"}},{"$f":"#REF!","v":{"$error":"#REF!"}},{"$f":"#REF!","v":{"$error":"#REF!"}},{"$f":"AP25*AQ25*(IF(AR25=1,#REF!,1.732*#REF!))","v":{"$error":"#REF!"}},{"$f":"#REF!","v":{"$error":"#REF!"}},{"$f":"#REF!","v":{"$error":"#REF!"}},{"$error":"#REF!"},{"$f":"AT25*AU25*(IF(AV25=1,#REF!,1.732*#REF!))","v":{"$error":"#REF!"}},{"$error":"#REF!"},{"$f":"#REF!","v":{"$error":"#REF!"}},{"$f":"#REF!","v":{"$error":"#REF!"}},{"$error":"#REF!"},{"$f":"AY25*AZ25*(IF(BA25=1,#REF!,1.732*#REF!))","v":{"$error":"#REF!"}},{"$f":"#REF!","v":{"$error":"#REF!"}},{"$f":"#REF!","v":{"$error":"#REF!"}},{"$error":"#REF!"},{"$f":"BC25*BD25*(IF(BE25=1,#REF!,1.732*#REF!))","v":{"$error":"#REF!"}},{"$error":"#REF!"}]
[null,56,23.84,23.9,23.97,24.03,24.1,24.16,24.22,24.29,24.35,24.42,null,{"$error":"#REF!"},{"$f":"LEFT(#REF!,2)","v":{"$error":"#REF!"}},{"$error":"#REF!"},{"$f":"RIGHT(#REF!,2)","v":{"$error":"#REF!"}},{"$error":"#REF!"},{"$error":"#REF!"},{"$f":"LEFT(#REF!,2)","v":{"$error":"#REF!"}},{"$error":"#REF!"},{"$f":"RIGHT(#REF!,2)","v":{"$error":"#REF!"}},{"$error":"#REF!"},{"$error":"#REF!"},{"$f":"LEFT(#REF!,2)","v":{"$error":"#REF!"}},{"$error":"#REF!"},{"$f":"RIGHT(#REF!,2)","v":{"$error":"#REF!"}},{"$error":"#REF!"},{"$error":"#REF!"},{"$f":"LEFT(#REF!,2)","v":{"$error":"#REF!"}},{"$error":"#REF!"},{"$f":"RIGHT(#REF!,2)","v":{"$error":"#REF!"}},{"$error":"#REF!"},null,{"$f":"#REF!*12000","v":{"$error":"#REF!"}},{"$f":"(#REF!*4.5*('Preliminary Calculations '!R26-'Preliminary Calculations '!W26))","v":{"$error":"#REF!"}},"",{"$f":"#REF!*12000","v":{"$error":"#REF!"}},{"$f":"(#REF!*4.5*('Preliminary Calculations '!AB26-'Preliminary Calculations '!AG26))","v":{"$error":"#REF!"}},"",null,{"$f":"#REF!","v":{"$error":"#REF!"}},{"$f":"#REF!","v":{"$error":"#REF!"}},{"$f":"#REF!","v":{"$error":"#REF!"}},{"$f":"AP26*AQ26*(IF(AR26=1,#REF!,1.732*#REF!))","v":{"$error":"#REF!"}},{"$f":"#REF!","v":{"$error":"#REF!"}},{"$f":"#REF!","v":{"$error":"#REF!"}},{"$error":"#REF!"},{"$f":"AT26*AU26*(IF(AV26=1,#REF!,1.732*#REF!))","v":{"$error":"#REF!"}},{"$error":"#REF!"},{"$f":"#REF!","v":{"$error":"#REF!"}},{"$f":"#REF!","v":{"$error":"#REF!"}},{"$error":"#REF!"},{"$f":"AY26*AZ26*(IF(BA26=1,#REF!,1.732*#REF!))","v":{"$error":"#REF!"}},{"$f":"#REF!","v":{"$error":"#REF!"}},{"$f":"#REF!","v":{"$error":"#REF!"}},{"$error":"#REF!"},{"$f":"BC26*BD26*(IF(BE26=1,#REF!,1.732*#REF!))","v":{"$error":"#REF!"}},{"$error":"#REF!"}]
[null,57,24.48,24.54,24.61,24.67,24.74,24.8,24.86,24.93,24.99,25.06,null,{"$error":"#REF!"},{"$f":"LEFT(#REF!,2)","v":{"$error":"#REF!"}},{"$error":"#REF!"},{"$f":"RIGHT(#REF!,2)","v":{"$error":"#REF!"}},{"$error":"#REF!"},{"$error":"#REF!"},{"$f":"LEFT(#REF!,2)","v":{"$error":"#REF!"}},{"$error":"#REF!"},{"$f":"RIGHT(#REF!,2)","v":{"$error":"#REF!"}},{"$error":"#REF!"},{"$error":"#REF!"},{"$f":"LEFT(#REF!,2)","v":{"$error":"#REF!"}},{"$error":"#REF!"},{"$f":"RIGHT(#REF!,2)","v":{"$error":"#REF!"}},{"$error":"#REF!"},{"$error":"#REF!"},{"$f":"LEFT(#REF!,2)","v":{"$error":"#REF!"}},{"$error":"#REF!"},{"$f":"RIGHT(#REF!,2)","v":{"$error":"#REF!"}},{"$error":"#REF!"},null,{"$f":"#REF!*12000","v":{"$error":"#REF!"}},{"$f":"(#REF!*4.5*('Preliminary Calculations '!R27-'Preliminary Calculations '!W27))","v":{"$error":"#REF!"}},"",{"$f":"#REF!*12000","v":{"$error":"#REF!"}},{"$f":"(#REF!*4.5*('Preliminary Calculations '!AB27-'Preliminary Calculations '!AG27))","v":{"$error":"#REF!"}},"",null,{"$f":"#REF!","v":{"$error":"#REF!"}},{"$f":"#REF!","v":{"$error":"#REF!"}},{"$f":"#REF!","v":{"$error":"#REF!"}},{"$f":"AP27*AQ27*(IF(AR27=1,#REF!,1.732*#REF!))","v":{"$error":"#REF!"}},{"$f":"#REF!","v":{"$error":"#REF!"}},{"$f":"#REF!","v":{"$error":"#REF!"}},{"$error":"#REF!"},{"$f":"AT27*AU27*(IF(AV27=1,#REF!,1.732*#REF!))","v":{"$error":"#REF!"}},{"$error":"#REF!"},{"$f":"#REF!","v":{"$error":"#REF!"}},{"$f":"#REF!","v":{"$error":"#REF!"}},{"$error":"#REF!"},{"$f":"AY27*AZ27*(IF(BA27=1,#REF!,1.732*#REF!))","v":{"$error":"#REF!"}},{"$f":"#REF!","v":{"$error":"#REF!"}},{"$f":"#REF!","v":{"$error":"#REF!"}},{"$error":"#REF!"},{"$f":"BC27*BD27*(IF(BE27=1,#REF!,1.732*#REF!))","v":{"$error":"#REF!"}},{"$error":"#REF!"}]
[null,58,25.12,25.19,25.25,25.32,25.38,25.45,25.52,25.58,25.65,25.71,null,{"$error":"#REF!"},{"$f":"LEFT(#REF!,2)","v":{"$error":"#REF!"}},{"$error":"#REF!"},{"$f":"RIGHT(#REF!,2)","v":{"$error":"#REF!"}},{"$error":"#REF!"},{"$error":"#REF!"},{"$f":"LEFT(#REF!,2)","v":{"$error":"#REF!"}},{"$error":"#REF!"},{"$f":"RIGHT(#REF!,2)","v":{"$error":"#REF!"}},{"$error":"#REF!"},{"$error":"#REF!"},{"$f":"LEFT(#REF!,2)","v":{"$error":"#REF!"}},{"$error":"#REF!"},{"$f":"RIGHT(#REF!,2)","v":{"$error":"#REF!"}},{"$error":"#REF!"},{"$error":"#REF!"},{"$f":"LEFT(#REF!,2)","v":{"$error":"#REF!"}},{"$error":"#REF!"},{"$f":"RIGHT(#REF!,2)","v":{"$error":"#REF!"}},{"$error":"#REF!"},null,{"$f":"#REF!*12000","v":{"$error":"#REF!"}},{"$f":"(#REF!*4.5*('Preliminary Calculations '!R28-'Preliminary Calculations '!W28))","v":{"$error":"#REF!"}},"",{"$f":"#REF!*12000","v":{"$error":"#REF!"}},{"$f":"(#REF!*4.5*('Preliminary Calculations '!AB28-'Preliminary Calculations '!AG28))","v":{"$error":"#REF!"}},"",null,{"$f":"#REF!","v":{"$error":"#REF!"}},{"$f":"#REF!","v":{"$error":"#REF!"}},{"$f":"#REF!","v":{"$error":"#REF!"}},{"$f":"AP28*AQ28*(IF(AR28=1,#REF!,1.732*#REF!))","v":{"$error":"#REF!"}},{"$f":"#REF!","v":{"$error":"#REF!"}},{"$f":"#REF!","v":{"$error":"#REF!"}},{"$error":"#REF!"},{"$f":"AT28*AU28*(IF(AV28=1,#REF!,1.732*#REF!))","v":{"$error":"#REF!"}},{"$error":"#REF!"},{"$f":"#REF!","v":{"$error":"#REF!"}},{"$f":"#REF!","v":{"$error":"#REF!"}},{"$error":"#REF!"},{"$f":"AY28*AZ28*(IF(BA28=1,#REF!,1.732*#REF!))","v":{"$error":"#REF!"}},{"$f":"#REF!","v":{"$error":"#REF!"}},{"$f":"#REF!","v":{"$error":"#REF!"}},{"$error":"#REF!"},{"$f":"BC28*BD28*(IF(BE28=1,#REF!,1.732*#REF!))","v":{"$error":"#REF!"}},{"$error":"#REF!"}]
[null,59,25.78,25.85,25.92,25.98,26.05,26.12,26.19,26.26,26.32,26.39,null,{"$error":"#REF!"},{"$f":"LEFT(#REF!,2)","v":{"$error":"#REF!"}},{"$error":"#REF!"},{"$f":"RIGHT(#REF!,2)","v":{"$error":"#REF!"}},{"$error":"#REF!"},{"$error":"#REF!"},{"$f":"LEFT(#REF!,2)","v":{"$error":"#REF!"}},{"$error":"#REF!"},{"$f":"RIGHT(#REF!,2)","v":{"$error":"#REF!"}},{"$error":"#REF!"},{"$error":"#REF!"},{"$f":"LEFT(#REF!,2)","v":{"$error":"#REF!"}},{"$error":"#REF!"},{"$f":"RIGHT(#REF!,2)","v":{"$error":"#REF!"}},{"$error":"#REF!"},{"$error":"#REF!"},{"$f":"LEFT(#REF!,2)","v":{"$error":"#REF!"}},{"$error":"#REF!"},{"$f":"RIGHT(#REF!,2)","v":{"$error":"#REF!"}},{"$error":"#REF!"},null,{"$f":"#REF!*12000","v":{"$error":"#REF!"}},{"$f":"(#REF!*4.5*('Preliminary Calculations '!R29-'Preliminary Calculations '!W29))","v":{"$error":"#REF!"}},"",{"$f":"#REF!*12000","v":{"$error":"#REF!"}},{"$f":"(#REF!*4.5*('Preliminary Calculations '!AB29-'Preliminary Calculations '!AG29))","v":{"$error":"#REF!"}},"",null,{"$f":"#REF!","v":{"$error":"#REF!"}},{"$f":"#REF!","v":{"$error":"#REF!"}},{"$f":"#REF!","v":{"$error":"#REF!"}},{"$f":"AP29*AQ29*(IF(AR29=1,#REF!,1.732*#REF!))","v":{"$error":"#REF!"}},{"$f":"#REF!","v":{"$error":"#REF!"}},{"$f":"#REF!","v":{"$error":"#REF!"}},{"$error":"#REF!"},{"$f":"AT29*AU29*(IF(AV29=1,#REF!,1.732*#REF!))","v":{"$error":"#REF!"}},{"$error":"#REF!"},{"$f":"#REF!","v":{"$error":"#REF!"}},{"$f":"#REF!","v":{"$error":"#REF!"}},{"$error":"#REF!"},{"$f":"AY29*AZ29*(IF(BA29=1,#REF!,1.732*#REF!))","v":{"$error":"#REF!"}},{"$f":"#REF!","v":{"$error":"#REF!"}},{"$f":"#REF!","v":{"$error":"#REF!"}},{"$error":"#REF!"},{"$f":"BC29*BD29*(IF(BE29=1,#REF!,1.732*#REF!))","v":{"$error":"#REF!"}},{"$error":"#REF!"}]
[null,60,26.46,26.53,26.6,26.67,26.74,26.81,26.87,26.94,37.01,27.08,null,{"$error":"#REF!"},{"$f":"LEFT(#REF!,2)","v":{"$error":"#REF!"}},{"$error":"#REF!"},{"$f":"RIGHT(#REF!,2)","v":{"$error":"#REF!"}},{"$error":"#REF!"},{"$error":"#REF!"},{"$f":"LEFT(#REF!,2)","v":{"$error":"#REF!"}},{"$error":"#REF!"},{"$f":"RIGHT(#REF!,2)","v":{"$error":"#REF!"}},{"$error":"#REF!"},{"$error":"#REF!"},{"$f":"LEFT(#REF!,2)","v":{"$error":"#REF!"}},{"$error":"#REF!"},{"$f":"RIGHT(#REF!,2)","v":{"$error":"#REF!"}},{"$error":"#REF!"},{"$error":"#REF!"},{"$f":"LEFT(#REF!,2)","v":{"$error":"#REF!"}},{"$error":"#REF!"},{"$f":"RIGHT(#REF!,2)","v":{"$error":"#REF!"}},{"$error":"#REF!"},null,{"$f":"#REF!*12000","v":{"$error":"#REF!"}},{"$f":"(#REF!*4.5*('Preliminary Calculations '!R30-'Preliminary Calculations '!W30))","v":{"$error":"#REF!"}},"",{"$f":"#REF!*12000","v":{"$error":"#REF!"}},{"$f":"(#REF!*4.5*('Preliminary Calculations '!AB30-'Preliminary Calculations '!AG30))","v":{"$error":"#REF!"}},"",null,{"$f":"#REF!","v":{"$error":"#REF!"}},{"$f":"#REF!","v":{"$error":"#REF!"}},{"$f":"#REF!","v":{"$error":"#REF!"}},{"$f":"AP30*AQ30*(IF(AR30=1,#REF!,1.732*#REF!))","v":{"$error":"#REF!"}},{"$f":"#REF!","v":{"$error":"#REF!"}},{"$f":"#REF!","v":{"$error":"#REF!"}},{"$error":"#REF!"},{"$f":"AT30*AU30*(IF(AV30=1,#REF!,1.732*#REF!))","v":{"$error":"#REF!"}},{"$error":"#REF!"},{"$f":"#REF!","v":{"$error":"#REF!"}},{"$f":"#REF!","v":{"$error":"#REF!"}},{"$error":"#REF!"},{"$f":"AY30*AZ30*(IF(BA30=1,#REF!,1.732*#REF!))","v":{"$error":"#REF!"}},{"$f":"#REF!","v":{"$error":"#REF!"}},{"$f":"#REF!","v":{"$error":"#REF!"}},{"$error":"#REF!"},{"$f":"BC30*BD30*(IF(BE30=1,#REF!,1.732*#REF!))","v":{"$error":"#REF!"}},{"$error":"#REF!"}]
[null,61,27.15,27.22,27.29,27.36,27.43,27.5,27.57,27.64,27.7,27.78,null,{"$error":"#REF!"},{"$f":"LEFT(#REF!,2)","v":{"$error":"#REF!"}},{"$error":"#REF!"},{"$f":"RIGHT(#REF!,2)","v":{"$error":"#REF!"}},{"$error":"#REF!"},{"$error":"#REF!"},{"$f":"LEFT(#REF!,2)","v":{"$error":"#REF!"}},{"$error":"#REF!"},{"$f":"RIGHT(#REF!,2)","v":{"$error":"#REF!"}},{"$error":"#REF!"},{"$error":"#REF!"},{"$f":"LEFT(#REF!,2)","v":{"$error":"#REF!"}},{"$error":"#REF!"},{"$f":"RIGHT(#REF!,2)","v":{"$error":"#REF!"}},{"$error":"#REF!"},{"$error":"#REF!"},{"$f":"LEFT(#REF!,2)","v":{"$error":"#REF!"}},{"$error":"#REF!"},{"$f":"RIGHT(#REF!,2)","v":{"$error":"#REF!"}},{"$error":"#REF!"},null,{"$f":"#REF!*12000","v":{"$error":"#REF!"}},{"$f":"(#REF!*4.5*('Preliminary Calculations '!R31-'Preliminary Calculations '!W31))","v":{"$error":"#REF!"}},"",{"$f":"#REF!*12000","v":{"$error":"#REF!"}},{"$f":"(#REF!*4.5*('Preliminary Calculations '!AB31-'Preliminary Calculations '!AG31))","v":{"$error":"#REF!"}},"",null,{"$f":"#REF!","v":{"$error":"#REF!"}},{"$f":"#REF!","v":{"$error":"#REF!"}},{"$f":"#REF!","v":{"$error":"#REF!"}},{"$f":"AP31*AQ31*(IF(AR31=1,#REF!,1.732*#REF!))","v":{"$error":"#REF!"}},{"$f":"#REF!","v":{"$error":"#REF!"}},{"$f":"#REF!","v":{"$error":"#REF!"}},{"$error":"#REF!"},{"$f":"AT31*AU31*(IF(AV31=1,#REF!,1.732*#REF!))","v":{"$error":"#REF!"}},{"$error":"#REF!"},{"$f":"#REF!","v":{"$error":"#REF!"}},{"$f":"#REF!","v":{"$error":"#REF!"}},{"$error":"#REF!"},{"$f":"AY31*AZ31*(IF(BA31=1,#REF!,1.732*#REF!))","v":{"$error":"#REF!"}},{"$f":"#REF!","v":{"$error":"#REF!"}},{"$f":"#REF!","v":{"$error":"#REF!"}},{"$error":"#REF!"},{"$f":"BC31*BD31*(IF(BE31=1,#REF!,1.732*#REF!))","v":{"$error":"#REF!"}},{"$error":"#REF!"}]
[null,62,27.85,27.92,27.99,28.07,28.14,28.21,28.28,28.35,28.43,28.5,null,{"$error":"#REF!"},{"$f":"LEFT(#REF!,2)","v":{"$error":"#REF!"}},{"$error":"#REF!"},{"$f":"RIGHT(#REF!,2)","v":{"$error":"#REF!"}},{"$error":"#REF!"},{"$error":"#REF!"},{"$f":"LEFT(#REF!,2)","v":{"$error":"#REF!"}},{"$error":"#REF!"},{"$f":"RIGHT(#REF!,2)","v":{"$error":"#REF!"}},{"$error":"#REF!"},{"$error":"#REF!"},{"$f":"LEFT(#REF!,2)","v":{"$error":"#REF!"}},{"$error":"#REF!"},{"$f":"RIGHT(#REF!,2)","v":{"$error":"#REF!"}},{"$error":"#REF!"},{"$error":"#REF!"},{"$f":"LEFT(#REF!,2)","v":{"$error":"#REF!"}},{"$error":"#REF!"},{"$f":"RIGHT(#REF!,2)","v":{"$error":"#REF!"}},{"$error":"#REF!"},null,{"$f":"#REF!*12000","v":{"$error":"#REF!"}},{"$f":"(#REF!*4.5*('Preliminary Calculations '!R32-'Preliminary Calculations '!W32))","v":{"$error":"#REF!"}},"",{"$f":"#REF!*12000","v":{"$error":"#REF!"}},{"$f":"(#REF!*4.5*('Preliminary Calculations '!AB32-'Preliminary Calculations '!AG32))","v":{"$error":"#REF!"}},"",null,{"$f":"#REF!","v":{"$error":"#REF!"}},{"$f":"#REF!","v":{"$error":"#REF!"}},{"$f":"#REF!","v":{"$error":"#REF!"}},{"$f":"AP32*AQ32*(IF(AR32=1,#REF!,1.732*#REF!))","v":{"$error":"#REF!"}},{"$f":"#REF!","v":{"$error":"#REF!"}},{"$f":"#REF!","v":{"$error":"#REF!"}},{"$error":"#REF!"},{"$f":"AT32*AU32*(IF(AV32=1,#REF!,1.732*#REF!))","v":{"$error":"#REF!"}},{"$error":"#REF!"},{"$f":"#REF!","v":{"$error":"#REF!"}},{"$f":"#REF!","v":{"$error":"#REF!"}},{"$error":"#REF!"},{"$f":"AY32*AZ32*(IF(BA32=1,#REF!,1.732*#REF!))","v":{"$error":"#REF!"}},{"$f":"#REF!","v":{"$error":"#REF!"}},{"$f":"#REF!","v":{"$error":"#REF!"}},{"$error":"#REF!"},{"$f":"BC32*BD32*(IF(BE32=1,#REF!,1.732*#REF!))","v":{"$error":"#REF!"}},{"$error":"#REF!"}]
[null,63,28.57,28.64,28.72,28.79,28.87,28.94,29.01,29.09,29.16,29.24,null,{"$error":"#REF!"},{"$f":"LEFT(#REF!,2)","v":{"$error":"#REF!"}},{"$error":"#REF!"},{"$f":"RIGHT(#REF!,2)","v":{"$error":"#REF!"}},{"$error":"#REF!"},{"$error":"#REF!"},{"$f":"LEFT(#REF!,2)","v":{"$error":"#REF!"}},{"$error":"#REF!"},{"$f":"RIGHT(#REF!,2)","v":{"$error":"#REF!"}},{"$error":"#REF!"},{"$error":"#REF!"},{"$f":"LEFT(#REF!,2)","v":{"$error":"#REF!"}},{"$error":"#REF!"},{"$f":"RIGHT(#REF!,2)","v":{"$error":"#REF!"}},{"$error":"#REF!"},{"$error":"#REF!"},{"$f":"LEFT(#REF!,2)","v":{"$error":"#REF!"}},{"$error":"#REF!"},{"$f":"RIGHT(#REF!,2)","v":{"$error":"#REF!"}},{"$error":"#REF!"},null,{"$f":"#REF!*12000","v":{"$error":"#REF!"}},{"$f":"(#REF!*4.5*('Preliminary Calculations '!R33-'Preliminary Calculations '!W33))","v":{"$error":"#REF!"}},"",{"$f":"#REF!*12000","v":{"$error":"#REF!"}},{"$f":"(#REF!*4.5*('Preliminary Calculations '!AB33-'Preliminary Calculations '!AG33))","v":{"$error":"#REF!"}},"",null,{"$f":"#REF!","v":{"$error":"#REF!"}},{"$f":"#REF!","v":{"$error":"#REF!"}},{"$f":"#REF!","v":{"$error":"#REF!"}},{"$f":"AP33*AQ33*(IF(AR33=1,#REF!,1.732*#REF!))","v":{"$error":"#REF!"}},{"$f":"#REF!","v":{"$error":"#REF!"}},{"$f":"#REF!","v":{"$error":"#REF!"}},{"$error":"#REF!"},{"$f":"AT33*AU33*(IF(AV33=1,#REF!,1.732*#REF!))","v":{"$error":"#REF!"}},{"$error":"#REF!"},{"$f":"#REF!","v":{"$error":"#REF!"}},{"$f":"#REF!","v":{"$error":"#REF!"}},{"$error":"#REF!"},{"$f":"AY33*AZ33*(IF(BA33=1,#REF!,1.732*#REF!))","v":{"$error":"#REF!"}},{"$f":"#REF!","v":{"$error":"#REF!"}},{"$f":"#REF!","v":{"$error":"#REF!"}},{"$error":"#REF!"},{"$f":"BC33*BD33*(IF(BE33=1,#REF!,1.732*#REF!))","v":{"$error":"#REF!"}},{"$error":"#REF!"}]
[null,64,29.31,29.39,29.46,29.54,29.61,29.62,29.76,29.83,29.91,29.98,null,{"$error":"#REF!"},{"$f":"LEFT(#REF!,2)","v":{"$error":"#REF!"}},{"$error":"#REF!"},{"$f":"RIGHT(#REF!,2)","v":{"$error":"#REF!"}},{"$error":"#REF!"},{"$error":"#REF!"},{"$f":"LEFT(#REF!,2)","v":{"$error":"#REF!"}},{"$error":"#REF!"},{"$f":"RIGHT(#REF!,2)","v":{"$error":"#REF!"}},{"$error":"#REF!"},{"$error":"#REF!"},{"$f":"LEFT(#REF!,2)","v":{"$error":"#REF!"}},{"$error":"#REF!"},{"$f":"RIGHT(#REF!,2)","v":{"$error":"#REF!"}},{"$error":"#REF!"},{"$error":"#REF!"},{"$f":"LEFT(#REF!,2)","v":{"$error":"#REF!"}},{"$error":"#REF!"},{"$f":"RIGHT(#REF!,2)","v":{"$error":"#REF!"}},{"$error":"#REF!"},null,{"$f":"#REF!*12000","v":{"$error":"#REF!"}},{"$f":"(#REF!*4.5*('Preliminary Calculations '!R34-'Preliminary Calculations '!W34))","v":{"$error":"#REF!"}},"",{"$f":"#REF!*12000","v":{"$error":"#REF!"}},{"$f":"(#REF!*4.5*('Preliminary Calculations '!AB34-'Preliminary Calculations '!AG34))","v":{"$error":"#REF!"}},"",null,{"$f":"#REF!","v":{"$error":"#REF!"}},{"$f":"#REF!","v":{"$error":"#REF!"}},{"$f":"#REF!","v":{"$error":"#REF!"}},{"$f":"AP34*AQ34*(IF(AR34=1,#REF!,1.732*#REF!))","v":{"$error":"#REF!"}},{"$f":"#REF!","v":{"$error":"#REF!"}},{"$f":"#REF!","v":{"$error":"#REF!"}},{"$error":"#REF!"},{"$f":"AT34*AU34*(IF(AV34=1,#REF!,1.732*#REF!))","v":{"$error":"#REF!"}},{"$error":"#REF!"},{"$f":"#REF!","v":{"$error":"#REF!"}},{"$f":"#REF!","v":{"$error":"#REF!"}},{"$error":"#REF!"},{"$f":"AY34*AZ34*(IF(BA34=1,#REF!,1.732*#REF!))","v":{"$error":"#REF!"}},{"$f":"#REF!","v":{"$error":"#REF!"}},{"$f":"#REF!","v":{"$error":"#REF!"}},{"$error":"#REF!"},{"$f":"BC34*BD34*(IF(BE34=1,#REF!,1.732*#REF!))","v":{"$error":"#REF!"}},{"$error":"#REF!"}]
[null,65,30.06,30.14,30.21,30.29,30.37,30.45,30.52,30.6,30.68,30.75,null,{"$error":"#REF!"},{"$f":"LEFT(#REF!,2)","v":{"$error":"#REF!"}},{"$error":"#REF!"},{"$f":"RIGHT(#REF!,2)","v":{"$error":"#REF!"}},{"$error":"#REF!"},{"$error":"#REF!"},{"$f":"LEFT(#REF!,2)","v":{"$error":"#REF!"}},{"$error":"#REF!"},{"$f":"RIGHT(#REF!,2)","v":{"$error":"#REF!"}},{"$error":"#REF!"},{"$error":"#REF!"},{"$f":"LEFT(#REF!,2)","v":{"$error":"#REF!"}},{"$error":"#REF!"},{"$f":"RIGHT(#REF!,2)","v":{"$error":"#REF!"}},{"$error":"#REF!"},{"$error":"#REF!"},{"$f":"LEFT(#REF!,2)","v":{"$error":"#REF!"}},{"$error":"#REF!"},{"$f":"RIGHT(#REF!,2)","v":{"$error":"#REF!"}},{"$error":"#REF!"},null,{"$f":"#REF!*12000","v":{"$error":"#REF!"}},{"$f":"(#REF!*4.5*('Preliminary Calculations '!R35-'Preliminary Calculations '!W35))","v":{"$error":"#REF!"}},"",{"$f":"#REF!*12000","v":{"$error":"#REF!"}},{"$f":"(#REF!*4.5*('Preliminary Calculations '!AB35-'Preliminary Calculations '!AG35))","v":{"$error":"#REF!"}},"",null,{"$f":"#REF!","v":{"$error":"#REF!"}},{"$f":"#REF!","v":{"$error":"#REF!"}},{"$f":"#REF!","v":{"$error":"#REF!"}},{"$f":"AP35*AQ35*(IF(AR35=1,#REF!,1.732*#REF!))","v":{"$error":"#REF!"}},{"$f":"#REF!","v":{"$error":"#REF!"}},{"$f":"#REF!","v":{"$error":"#REF!"}},{"$error":"#REF!"},{"$f":"AT35*AU35*(IF(AV35=1,#REF!,1.732*#REF!))","v":{"$error":"#REF!"}},{"$error":"#REF!"},{"$f":"#REF!","v":{"$error":"#REF!"}},{"$f":"#REF!","v":{"$error":"#REF!"}},{"$error":"#REF!"},{"$f":"AY35*AZ35*(IF(BA35=1,#REF!,1.732*#REF!))","v":{"$error":"#REF!"}},{"$f":"#REF!","v":{"$error":"#REF!"}},{"$f":"#REF!","v":{"$error":"#REF!"}},{"$error":"#REF!"},{"$f":"BC35*BD35*(IF(BE35=1,#REF!,1.732*#REF!))","v":{"$error":"#REF!"}},{"$error":"#REF!"}]
[null,66,30.83,30.91,30.99,31.07,31.15,31.23,31.3,31.38,31.46,31.54,null,{"$error":"#REF!"},{"$f":"LEFT(#REF!,2)","v":{"$error":"#REF!"}},{"$error":"#REF!"},{"$f":"RIGHT(#REF!,2)","v":{"$error":"#REF!"}},{"$error":"#REF!"},{"$error":"#REF!"},{"$f":"LEFT(#REF!,2)","v":{"$error":"#REF!"}},{"$error":"#REF!"},{"$f":"RIGHT(#REF!,2)","v":{"$error":"#REF!"}},{"$error":"#REF!"},{"$error":"#REF!"},{"$f":"LEFT(#REF!,2)","v":{"$error":"#REF!"}},{"$error":"#REF!"},{"$f":"RIGHT(#REF!,2)","v":{"$error":"#REF!"}},{"$error":"#REF!"},{"$error":"#REF!"},{"$f":"LEFT(#REF!,2)","v":{"$error":"#REF!"}},{"$error":"#REF!"},{"$f":"RIGHT(#REF!,2)","v":{"$error":"#REF!"}},{"$error":"#REF!"},null,{"$f":"#REF!*12000","v":{"$error":"#REF!"}},{"$f":"(#REF!*4.5*('Preliminary Calculations '!R36-'Preliminary Calculations '!W36))","v":{"$error":"#REF!"}},"",{"$f":"#REF!*12000","v":{"$error":"#REF!"}},{"$f":"(#REF!*4.5*('Preliminary Calculations '!AB36-'Preliminary Calculations '!AG36))","v":{"$error":"#REF!"}},"",null,{"$f":"#REF!","v":{"$error":"#REF!"}},{"$f":"#REF!","v":{"$error":"#REF!"}},{"$f":"#REF!","v":{"$error":"#REF!"}},{"$f":"AP36*AQ36*(IF(AR36=1,#REF!,1.732*#REF!))","v":{"$error":"#REF!"}},{"$f":"#REF!","v":{"$error":"#REF!"}},{"$f":"#REF!","v":{"$error":"#REF!"}},{"$error":"#REF!"},{"$f":"AT36*AU36*(IF(AV36=1,#REF!,1.732*#REF!))","v":{"$error":"#REF!"}},{"$error":"#REF!"},{"$f":"#REF!","v":{"$error":"#REF!"}},{"$f":"#REF!","v":{"$error":"#REF!"}},{"$error":"#REF!"},{"$f":"AY36*AZ36*(IF(BA36=1,#REF!,1.732*#REF!))","v":{"$error":"#REF!"}},{"$f":"#REF!","v":{"$error":"#REF!"}},{"$f":"#REF!","v":{"$error":"#REF!"}},{"$error":"#REF!"},{"$f":"BC36*BD36*(IF(BE36=1,#REF!,1.732*#REF!))","v":{"$error":"#REF!"}},{"$error":"#REF!"}]
[null,67,"31 .62",31.7,31.78,31.86,31.94,32.020000000000003,32.1,32.18,32.26,32.340000000000003,null,{"$error":"#REF!"},{"$f":"LEFT(#REF!,2)","v":{"$error":"#REF!"}},{"$error":"#REF!"},{"$f":"RIGHT(#REF!,2)","v":{"$error":"#REF!"}},{"$error":"#REF!"},{"$error":"#REF!"},{"$f":"LEFT(#REF!,2)","v":{"$error":"#REF!"}},{"$error":"#REF!"},{"$f":"RIGHT(#REF!,2)","v":{"$error":"#REF!"}},{"$error":"#REF!"},{"$error":"#REF!"},{"$f":"LEFT(#REF!,2)","v":{"$error":"#REF!"}},{"$error":"#REF!"},{"$f":"RIGHT(#REF!,2)","v":{"$error":"#REF!"}},{"$error":"#REF!"},{"$error":"#REF!"},{"$f":"LEFT(#REF!,2)","v":{"$error":"#REF!"}},{"$error":"#REF!"},{"$f":"RIGHT(#REF!,2)","v":{"$error":"#REF!"}},{"$error":"#REF!"},null,{"$f":"#REF!*12000","v":{"$error":"#REF!"}},{"$f":"(#REF!*4.5*('Preliminary Calculations '!R37-'Preliminary Calculations '!W37))","v":{"$error":"#REF!"}},"",{"$f":"#REF!*12000","v":{"$error":"#REF!"}},{"$f":"(#REF!*4.5*('Preliminary Calculations '!AB37-'Preliminary Calculations '!AG37))","v":{"$error":"#REF!"}},"",null,{"$f":"#REF!","v":{"$error":"#REF!"}},{"$f":"#REF!","v":{"$error":"#REF!"}},{"$f":"#REF!","v":{"$error":"#REF!"}},{"$f":"AP37*AQ37*(IF(AR37=1,#REF!,1.732*#REF!))","v":{"$error":"#REF!"}},{"$f":"#REF!","v":{"$error":"#REF!"}},{"$f":"#REF!","v":{"$error":"#REF!"}},{"$error":"#REF!"},{"$f":"AT37*AU37*(IF(AV37=1,#REF!,1.732*#REF!))","v":{"$error":"#REF!"}},{"$error":"#REF!"},{"$f":"#REF!","v":{"$error":"#REF!"}},{"$f":"#REF!","v":{"$error":"#REF!"}},{"$error":"#REF!"},{"$f":"AY37*AZ37*(IF(BA37=1,#REF!,1.732*#REF!))","v":{"$error":"#REF!"}},{"$f":"#REF!","v":{"$error":"#REF!"}},{"$f":"#REF!","v":{"$error":"#REF!"}},{"$error":"#REF!"},{"$f":"BC37*BD37*(IF(BE37=1,#REF!,1.732*#REF!))","v":{"$error":"#REF!"}},{"$error":"#REF!"}]
[null,68,32.42,32.5,32.590000000000003,32.67,32.75,32.840000000000003,32.92,33,33.08,33.17,null,{"$error":"#REF!"},{"$f":"LEFT(#REF!,2)","v":{"$error":"#REF!"}},{"$error":"#REF!"},{"$f":"RIGHT(#REF!,2)","v":{"$error":"#REF!"}},{"$error":"#REF!"},{"$error":"#REF!"},{"$f":"LEFT(#REF!,2)","v":{"$error":"#REF!"}},{"$error":"#REF!"},{"$f":"RIGHT(#REF!,2)","v":{"$error":"#REF!"}},{"$error":"#REF!"},{"$error":"#REF!"},{"$f":"LEFT(#REF!,2)","v":{"$error":"#REF!"}},{"$error":"#REF!"},{"$f":"RIGHT(#REF!,2)","v":{"$error":"#REF!"}},{"$error":"#REF!"},{"$error":"#REF!"},{"$f":"LEFT(#REF!,2)","v":{"$error":"#REF!"}},{"$error":"#REF!"},{"$f":"RIGHT(#REF!,2)","v":{"$error":"#REF!"}},{"$error":"#REF!"},null,{"$f":"#REF!*12000","v":{"$error":"#REF!"}},{"$f":"(#REF!*4.5*('Preliminary Calculations '!R38-'Preliminary Calculations '!W38))","v":{"$error":"#REF!"}},"",{"$f":"#REF!*12000","v":{"$error":"#REF!"}},{"$f":"(#REF!*4.5*('Preliminary Calculations '!AB38-'Preliminary Calculations '!AG38))","v":{"$error":"#REF!"}},"",null,{"$f":"#REF!","v":{"$error":"#REF!"}},{"$f":"#REF!","v":{"$error":"#REF!"}},{"$f":"#REF!","v":{"$error":"#REF!"}},{"$f":"AP38*AQ38*(IF(AR38=1,#REF!,1.732*#REF!))","v":{"$error":"#REF!"}},{"$f":"#REF!","v":{"$error":"#REF!"}},{"$f":"#REF!","v":{"$error":"#REF!"}},{"$error":"#REF!"},{"$f":"AT38*AU38*(IF(AV38=1,#REF!,1.732*#REF!))","v":{"$error":"#REF!"}},{"$error":"#REF!"},{"$f":"#REF!","v":{"$error":"#REF!"}},{"$f":"#REF!","v":{"$error":"#REF!"}},{"$error":"#REF!"},{"$f":"AY38*AZ38*(IF(BA38=1,#REF!,1.732*#REF!))","v":{"$error":"#REF!"}},{"$f":"#REF!","v":{"$error":"#REF!"}},{"$f":"#REF!","v":{"$error":"#REF!"}},{"$error":"#REF!"},{"$f":"BC38*BD38*(IF(BE38=1,#REF!,1.732*#REF!))","v":{"$error":"#REF!"}},{"$error":"#REF!"}]
[null,69,33.25,33.33,33.42,33.5,33.950000000000003,33.67,33.75,33.840000000000003,33.92,34.01,null,{"$error":"#REF!"},{"$f":"LEFT(#REF!,2)","v":{"$error":"#REF!"}},{"$error":"#REF!"},{"$f":"RIGHT(#REF!,2)","v":{"$error":"#REF!"}},{"$error":"#REF!"},{"$error":"#REF!"},{"$f":"LEFT(#REF!,2)","v":{"$error":"#REF!"}},{"$error":"#REF!"},{"$f":"RIGHT(#REF!,2)","v":{"$error":"#REF!"}},{"$error":"#REF!"},{"$error":"#REF!"},{"$f":"LEFT(#REF!,2)","v":{"$error":"#REF!"}},{"$error":"#REF!"},{"$f":"RIGHT(#REF!,2)","v":{"$error":"#REF!"}},{"$error":"#REF!"},{"$error":"#REF!"},{"$f":"LEFT(#REF!,2)","v":{"$error":"#REF!"}},{"$error":"#REF!"},{"$f":"RIGHT(#REF!,2)","v":{"$error":"#REF!"}},{"$error":"#REF!"},null,{"$f":"#REF!*12000","v":{"$error":"#REF!"}},{"$f":"(#REF!*4.5*('Preliminary Calculations '!R39-'Preliminary Calculations '!W39))","v":{"$error":"#REF!"}},"",{"$f":"#REF!*12000","v":{"$error":"#REF!"}},{"$f":"(#REF!*4.5*('Preliminary Calculations '!AB39-'Preliminary Calculations '!AG39))","v":{"$error":"#REF!"}},"",null,{"$f":"#REF!","v":{"$error":"#REF!"}},{"$f":"#REF!","v":{"$error":"#REF!"}},{"$f":"#REF!","v":{"$error":"#REF!"}},{"$f":"AP39*AQ39*(IF(AR39=1,#REF!,1.732*#REF!))","v":{"$error":"#REF!"}},{"$f":"#REF!","v":{"$error":"#REF!"}},{"$f":"#REF!","v":{"$error":"#REF!"}},{"$error":"#REF!"},{"$f":"AT39*AU39*(IF(AV39=1,#REF!,1.732*#REF!))","v":{"$error":"#REF!"}},{"$error":"#REF!"},{"$f":"#REF!","v":{"$error":"#REF!"}},{"$f":"#REF!","v":{"$error":"#REF!"}},{"$error":"#REF!"},{"$f":"AY39*AZ39*(IF(BA39=1,#REF!,1.732*#REF!))","v":{"$error":"#REF!"}},{"$f":"#REF!","v":{"$error":"#REF!"}},{"$f":"#REF!","v":{"$error":"#REF!"}},{"$error":"#REF!"},{"$f":"BC39*BD39*(IF(BE39=1,#REF!,1.732*#REF!))","v":{"$error":"#REF!"}},{"$error":"#REF!"}]
[null,70,34.090000000000003,34.18,34.26,34.35,34.43,34.520000000000003,34.61,34.69,34.78,34.86,null,{"$error":"#REF!"},{"$f":"LEFT(#REF!,2)","v":{"$error":"#REF!"}},{"$error":"#REF!"},{"$f":"RIGHT(#REF!,2)","v":{"$error":"#REF!"}},{"$error":"#REF!"},{"$error":"#REF!"},{"$f":"LEFT(#REF!,2)","v":{"$error":"#REF!"}},{"$error":"#REF!"},{"$f":"RIGHT(#REF!,2)","v":{"$error":"#REF!"}},{"$error":"#REF!"},{"$error":"#REF!"},{"$f":"LEFT(#REF!,2)","v":{"$error":"#REF!"}},{"$error":"#REF!"},{"$f":"RIGHT(#REF!,2)","v":{"$error":"#REF!"}},{"$error":"#REF!"},{"$error":"#REF!"},{"$f":"LEFT(#REF!,2)","v":{"$error":"#REF!"}},{"$error":"#REF!"},{"$f":"RIGHT(#REF!,2)","v":{"$error":"#REF!"}},{"$error":"#REF!"},null,{"$f":"#REF!*12000","v":{"$error":"#REF!"}},{"$f":"(#REF!*4.5*('Preliminary Calculations '!R40-'Preliminary Calculations '!W40))","v":{"$error":"#REF!"}},"",{"$f":"#REF!*12000","v":{"$error":"#REF!"}},{"$f":"(#REF!*4.5*('Preliminary Calculations '!AB40-'Preliminary Calculations '!AG40))","v":{"$error":"#REF!"}},"",null,{"$f":"#REF!","v":{"$error":"#REF!"}},{"$f":"#REF!","v":{"$error":"#REF!"}},{"$f":"#REF!","v":{"$error":"#REF!"}},{"$f":"AP40*AQ40*(IF(AR40=1,#REF!,1.732*#REF!))","v":{"$error":"#REF!"}},{"$f":"#REF!","v":{"$error":"#REF!"}},{"$f":"#REF!","v":{"$error":"#REF!"}},{"$error":"#REF!"},{"$f":"AT40*AU40*(IF(AV40=1,#REF!,1.732*#REF!))","v":{"$error":"#REF!"}},{"$error":"#REF!"},{"$f":"#REF!","v":{"$error":"#REF!"}},{"$f":"#REF!","v":{"$error":"#REF!"}},{"$error":"#REF!"},{"$f":"AY40*AZ40*(IF(BA40=1,#REF!,1.732*#REF!))","v":{"$error":"#REF!"}},{"$f":"#REF!","v":{"$error":"#REF!"}},{"$f":"#REF!","v":{"$error":"#REF!"}},{"$error":"#REF!"},{"$f":"BC40*BD40*(IF(BE40=1,#REF!,1.732*#REF!))","v":{"$error":"#REF!"}},{"$error":"#REF!"}]
[null,71,34.950000000000003,35.04,35.130000000000003,35.21,35.299999999999997,35.39,35.479999999999997,35.57,35.65,35.74,null,{"$error":"#REF!"},{"$f":"LEFT(#REF!,2)","v":{"$error":"#REF!"}},{"$error":"#REF!"},{"$f":"RIGHT(#REF!,2)","v":{"$error":"#REF!"}},{"$error":"#REF!"},{"$error":"#REF!"},{"$f":"LEFT(#REF!,2)","v":{"$error":"#REF!"}},{"$error":"#REF!"},{"$f":"RIGHT(#REF!,2)","v":{"$error":"#REF!"}},{"$error":"#REF!"},{"$error":"#REF!"},{"$f":"LEFT(#REF!,2)","v":{"$error":"#REF!"}},{"$error":"#REF!"},{"$f":"RIGHT(#REF!,2)","v":{"$error":"#REF!"}},{"$error":"#REF!"},{"$error":"#REF!"},{"$f":"LEFT(#REF!,2)","v":{"$error":"#REF!"}},{"$error":"#REF!"},{"$f":"RIGHT(#REF!,2)","v":{"$error":"#REF!"}},{"$error":"#REF!"},null,{"$f":"#REF!*12000","v":{"$error":"#REF!"}},{"$f":"(#REF!*4.5*('Preliminary Calculations '!R41-'Preliminary Calculations '!W41))","v":{"$error":"#REF!"}},"",{"$f":"#REF!*12000","v":{"$error":"#REF!"}},{"$f":"(#REF!*4.5*('Preliminary Calculations '!AB41-'Preliminary Calculations '!AG41))","v":{"$error":"#REF!"}},"",null,{"$f":"#REF!","v":{"$error":"#REF!"}},{"$f":"#REF!","v":{"$error":"#REF!"}},{"$f":"#REF!","v":{"$error":"#REF!"}},{"$f":"AP41*AQ41*(IF(AR41=1,#REF!,1.732*#REF!))","v":{"$error":"#REF!"}},{"$f":"#REF!","v":{"$error":"#REF!"}},{"$f":"#REF!","v":{"$error":"#REF!"}},{"$error":"#REF!"},{"$f":"AT41*AU41*(IF(AV41=1,#REF!,1.732*#REF!))","v":{"$error":"#REF!"}},{"$error":"#REF!"},{"$f":"#REF!","v":{"$error":"#REF!"}},{"$f":"#REF!","v":{"$error":"#REF!"}},{"$error":"#REF!"},{"$f":"AY41*AZ41*(IF(BA41=1,#REF!,1.732*#REF!))","v":{"$error":"#REF!"}},{"$f":"#REF!","v":{"$error":"#REF!"}},{"$f":"#REF!","v":{"$error":"#REF!"}},{"$error":"#REF!"},{"$f":"BC41*BD41*(IF(BE41=1,#REF!,1.732*#REF!))","v":{"$error":"#REF!"}},{"$error":"#REF!"}]
[null,72,35.83,35.92,36.01,36.1,36.19,36.28,36.380000000000003,36.47,36.56,36.65,null,{"$error":"#REF!"},{"$f":"LEFT(#REF!,2)","v":{"$error":"#REF!"}},{"$error":"#REF!"},{"$f":"RIGHT(#REF!,2)","v":{"$error":"#REF!"}},{"$error":"#REF!"},{"$error":"#REF!"},{"$f":"LEFT(#REF!,2)","v":{"$error":"#REF!"}},{"$error":"#REF!"},{"$f":"RIGHT(#REF!,2)","v":{"$error":"#REF!"}},{"$error":"#REF!"},{"$error":"#REF!"},{"$f":"LEFT(#REF!,2)","v":{"$error":"#REF!"}},{"$error":"#REF!"},{"$f":"RIGHT(#REF!,2)","v":{"$error":"#REF!"}},{"$error":"#REF!"},{"$error":"#REF!"},{"$f":"LEFT(#REF!,2)","v":{"$error":"#REF!"}},{"$error":"#REF!"},{"$f":"RIGHT(#REF!,2)","v":{"$error":"#REF!"}},{"$error":"#REF!"},null,{"$f":"#REF!*12000","v":{"$error":"#REF!"}},{"$f":"(#REF!*4.5*('Preliminary Calculations '!R42-'Preliminary Calculations '!W42))","v":{"$error":"#REF!"}},"",{"$f":"#REF!*12000","v":{"$error":"#REF!"}},{"$f":"(#REF!*4.5*('Preliminary Calculations '!AB42-'Preliminary Calculations '!AG42))","v":{"$error":"#REF!"}},"",null,{"$f":"#REF!","v":{"$error":"#REF!"}},{"$f":"#REF!","v":{"$error":"#REF!"}},{"$f":"#REF!","v":{"$error":"#REF!"}},{"$f":"AP42*AQ42*(IF(AR42=1,#REF!,1.732*#REF!))","v":{"$error":"#REF!"}},{"$f":"#REF!","v":{"$error":"#REF!"}},{"$f":"#REF!","v":{"$error":"#REF!"}},{"$error":"#REF!"},{"$f":"AT42*AU42*(IF(AV42=1,#REF!,1.732*#REF!))","v":{"$error":"#REF!"}},{"$error":"#REF!"},{"$f":"#REF!","v":{"$error":"#REF!"}},{"$f":"#REF!","v":{"$error":"#REF!"}},{"$error":"#REF!"},{"$f":"AY42*AZ42*(IF(BA42=1,#REF!,1.732*#REF!))","v":{"$error":"#REF!"}},{"$f":"#REF!","v":{"$error":"#REF!"}},{"$f":"#REF!","v":{"$error":"#REF!"}},{"$error":"#REF!"},{"$f":"BC42*BD42*(IF(BE42=1,#REF!,1.732*#REF!))","v":{"$error":"#REF!"}},{"$error":"#REF!"}]
[null,73,36.74,36.83,36.92,37.020000000000003,37.11,37.200000000000003,37.29,37.380000000000003,37.479999999999997,37.57,null,{"$error":"#REF!"},{"$f":"LEFT(#REF!,2)","v":{"$error":"#REF!"}},{"$error":"#REF!"},{"$f":"RIGHT(#REF!,2)","v":{"$error":"#REF!"}},{"$error":"#REF!"},{"$error":"#REF!"},{"$f":"LEFT(#REF!,2)","v":{"$error":"#REF!"}},{"$error":"#REF!"},{"$f":"RIGHT(#REF!,2)","v":{"$error":"#REF!"}},{"$error":"#REF!"},{"$error":"#REF!"},{"$f":"LEFT(#REF!,2)","v":{"$error":"#REF!"}},{"$error":"#REF!"},{"$f":"RIGHT(#REF!,2)","v":{"$error":"#REF!"}},{"$error":"#REF!"},{"$error":"#REF!"},{"$f":"LEFT(#REF!,2)","v":{"$error":"#REF!"}},{"$error":"#REF!"},{"$f":"RIGHT(#REF!,2)","v":{"$error":"#REF!"}},{"$error":"#REF!"},null,{"$f":"#REF!*12000","v":{"$error":"#REF!"}},{"$f":"(#REF!*4.5*('Preliminary Calculations '!R43-'Preliminary Calculations '!W43))","v":{"$error":"#REF!"}},"",{"$f":"#REF!*12000","v":{"$error":"#REF!"}},{"$f":"(#REF!*4.5*('Preliminary Calculations '!AB43-'Preliminary Calculations '!AG43))","v":{"$error":"#REF!"}},"",null,{"$f":"#REF!","v":{"$error":"#REF!"}},{"$f":"#REF!","v":{"$error":"#REF!"}},{"$f":"#REF!","v":{"$error":"#REF!"}},{"$f":"AP43*AQ43*(IF(AR43=1,#REF!,1.732*#REF!))","v":{"$error":"#REF!"}},{"$f":"#REF!","v":{"$error":"#REF!"}},{"$f":"#REF!","v":{"$error":"#REF!"}},{"$error":"#REF!"},{"$f":"AT43*AU43*(IF(AV43=1,#REF!,1.732*#REF!))","v":{"$error":"#REF!"}},{"$error":"#REF!"},{"$f":"#REF!","v":{"$error":"#REF!"}},{"$f":"#REF!","v":{"$error":"#REF!"}},{"$error":"#REF!"},{"$f":"AY43*AZ43*(IF(BA43=1,#REF!,1.732*#REF!))","v":{"$error":"#REF!"}},{"$f":"#REF!","v":{"$error":"#REF!"}},{"$f":"#REF!","v":{"$error":"#REF!"}},{"$error":"#REF!"},{"$f":"BC43*BD43*(IF(BE43=1,#REF!,1.732*#REF!))","v":{"$error":"#REF!"}},{"$error":"#REF!"}]
[null,74,37.659999999999997,37.76,37.85,37.950000000000003,38.04,38.14,38.229999999999997,38.33,38.42,38.51,null,{"$error":"#REF!"},{"$f":"LEFT(#REF!,2)","v":{"$error":"#REF!"}},{"$error":"#REF!"},{"$f":"RIGHT(#REF!,2)","v":{"$error":"#REF!"}},{"$error":"#REF!"},{"$error":"#REF!"},{"$f":"LEFT(#REF!,2)","v":{"$error":"#REF!"}},{"$error":"#REF!"},{"$f":"RIGHT(#REF!,2)","v":{"$error":"#REF!"}},{"$error":"#REF!"},{"$error":"#REF!"},{"$f":"LEFT(#REF!,2)","v":{"$error":"#REF!"}},{"$error":"#REF!"},{"$f":"RIGHT(#REF!,2)","v":{"$error":"#REF!"}},{"$error":"#REF!"},{"$error":"#REF!"},{"$f":"LEFT(#REF!,2)","v":{"$error":"#REF!"}},{"$error":"#REF!"},{"$f":"RIGHT(#REF!,2)","v":{"$error":"#REF!"}},{"$error":"#REF!"},null,{"$f":"#REF!*12000","v":{"$error":"#REF!"}},{"$f":"(#REF!*4.5*('Preliminary Calculations '!R44-'Preliminary Calculations '!W44))","v":{"$error":"#REF!"}},"",{"$f":"#REF!*12000","v":{"$error":"#REF!"}},{"$f":"(#REF!*4.5*('Preliminary Calculations '!AB44-'Preliminary Calculations '!AG44))","v":{"$error":"#REF!"}},"",null,{"$f":"#REF!","v":{"$error":"#REF!"}},{"$f":"#REF!","v":{"$error":"#REF!"}},{"$f":"#REF!","v":{"$error":"#REF!"}},{"$f":"AP44*AQ44*(IF(AR44=1,#REF!,1.732*#REF!))","v":{"$error":"#REF!"}},{"$f":"#REF!","v":{"$error":"#REF!"}},{"$f":"#REF!","v":{"$error":"#REF!"}},{"$error":"#REF!"},{"$f":"AT44*AU44*(IF(AV44=1,#REF!,1.732*#REF!))","v":{"$error":"#REF!"}},{"$error":"#REF!"},{"$f":"#REF!","v":{"$error":"#REF!"}},{"$f":"#REF!","v":{"$error":"#REF!"}},{"$error":"#REF!"},{"$f":"AY44*AZ44*(IF(BA44=1,#REF!,1.732*#REF!))","v":{"$error":"#REF!"}},{"$f":"#REF!","v":{"$error":"#REF!"}},{"$f":"#REF!","v":{"$error":"#REF!"}},{"$error":"#REF!"},{"$f":"BC44*BD44*(IF(BE44=1,#REF!,1.732*#REF!))","v":{"$error":"#REF!"}},{"$error":"#REF!"}]
[null,75,38.61,38.71,38.799999999999997,38.9,39,39.090000000000003,39.19,39.28,39.380000000000003,39.47,null,{"$error":"#REF!"},{"$f":"LEFT(#REF!,2)","v":{"$error":"#REF!"}},{"$error":"#REF!"},{"$f":"RIGHT(#REF!,2)","v":{"$error":"#REF!"}},{"$error":"#REF!"},{"$error":"#REF!"},{"$f":"LEFT(#REF!,2)","v":{"$error":"#REF!"}},{"$error":"#REF!"},{"$f":"RIGHT(#REF!,2)","v":{"$error":"#REF!"}},{"$error":"#REF!"},{"$error":"#REF!"},{"$f":"LEFT(#REF!,2)","v":{"$error":"#REF!"}},{"$error":"#REF!"},{"$f":"RIGHT(#REF!,2)","v":{"$error":"#REF!"}},{"$error":"#REF!"},{"$error":"#REF!"},{"$f":"LEFT(#REF!,2)","v":{"$error":"#REF!"}},{"$error":"#REF!"},{"$f":"RIGHT(#REF!,2)","v":{"$error":"#REF!"}},{"$error":"#REF!"},null,{"$f":"#REF!*12000","v":{"$error":"#REF!"}},{"$f":"(#REF!*4.5*('Preliminary Calculations '!R45-'Preliminary Calculations '!W45))","v":{"$error":"#REF!"}},"",{"$f":"#REF!*12000","v":{"$error":"#REF!"}},{"$f":"(#REF!*4.5*('Preliminary Calculations '!AB45-'Preliminary Calculations '!AG45))","v":{"$error":"#REF!"}},"",null,{"$f":"#REF!","v":{"$error":"#REF!"}},{"$f":"#REF!","v":{"$error":"#REF!"}},{"$f":"#REF!","v":{"$error":"#REF!"}},{"$f":"AP45*AQ45*(IF(AR45=1,#REF!,1.732*#REF!))","v":{"$error":"#REF!"}},{"$f":"#REF!","v":{"$error":"#REF!"}},{"$f":"#REF!","v":{"$error":"#REF!"}},{"$error":"#REF!"},{"$f":"AT45*AU45*(IF(AV45=1,#REF!,1.732*#REF!))","v":{"$error":"#REF!"}},{"$error":"#REF!"},{"$f":"#REF!","v":{"$error":"#REF!"}},{"$f":"#REF!","v":{"$error":"#REF!"}},{"$error":"#REF!"},{"$f":"AY45*AZ45*(IF(BA45=1,#REF!,1.732*#REF!))","v":{"$error":"#REF!"}},{"$f":"#REF!","v":{"$error":"#REF!"}},{"$f":"#REF!","v":{"$error":"#REF!"}},{"$error":"#REF!"},{"$f":"BC45*BD45*(IF(BE45=1,#REF!,1.732*#REF!))","v":{"$error":"#REF!"}},{"$error":"#REF!"}]
[null,76,39.57,39.67,39.770000000000003,39.869999999999997,39.97,40.07,40.14,40.270000000000003,40.369999999999997,40.47,null,{"$error":"#REF!"},{"$f":"LEFT(#REF!,2)","v":{"$error":"#REF!"}},{"$error":"#REF!"},{"$f":"RIGHT(#REF!,2)","v":{"$error":"#REF!"}},{"$error":"#REF!"},{"$error":"#REF!"},{"$f":"LEFT(#REF!,2)","v":{"$error":"#REF!"}},{"$error":"#REF!"},{"$f":"RIGHT(#REF!,2)","v":{"$error":"#REF!"}},{"$error":"#REF!"},{"$error":"#REF!"},{"$f":"LEFT(#REF!,2)","v":{"$error":"#REF!"}},{"$error":"#REF!"},{"$f":"RIGHT(#REF!,2)","v":{"$error":"#REF!"}},{"$error":"#REF!"},{"$error":"#REF!"},{"$f":"LEFT(#REF!,2)","v":{"$error":"#REF!"}},{"$error":"#REF!"},{"$f":"RIGHT(#REF!,2)","v":{"$error":"#REF!"}},{"$error":"#REF!"},null,{"$f":"#REF!*12000","v":{"$error":"#REF!"}},{"$f":"(#REF!*4.5*('Preliminary Calculations '!R46-'Preliminary Calculations '!W46))","v":{"$error":"#REF!"}},"",{"$f":"#REF!*12000","v":{"$error":"#REF!"}},{"$f":"(#REF!*4.5*('Preliminary Calculations '!AB46-'Preliminary Calculations '!AG46))","v":{"$error":"#REF!"}},"",null,{"$f":"#REF!","v":{"$error":"#REF!"}},{"$f":"#REF!","v":{"$error":"#REF!"}},{"$f":"#REF!","v":{"$error":"#REF!"}},{"$f":"AP46*AQ46*(IF(AR46=1,#REF!,1.732*#REF!))","v":{"$error":"#REF!"}},{"$f":"#REF!","v":{"$error":"#REF!"}},{"$f":"#REF!","v":{"$error":"#REF!"}},{"$error":"#REF!"},{"$f":"AT46*AU46*(IF(AV46=1,#REF!,1.732*#REF!))","v":{"$error":"#REF!"}},{"$error":"#REF!"},{"$f":"#REF!","v":{"$error":"#REF!"}},{"$f":"#REF!","v":{"$error":"#REF!"}},{"$error":"#REF!"},{"$f":"AY46*AZ46*(IF(BA46=1,#REF!,1.732*#REF!))","v":{"$error":"#REF!"}},{"$f":"#REF!","v":{"$error":"#REF!"}},{"$f":"#REF!","v":{"$error":"#REF!"}},{"$error":"#REF!"},{"$f":"BC46*BD46*(IF(BE46=1,#REF!,1.732*#REF!))","v":{"$error":"#REF!"}},{"$error":"#REF!"}]
[null,77,40.57,40.67,40.770000000000003,40.869999999999997,40.97,41.08,41.18,41.28,41.38,41.48,null,{"$error":"#REF!"},{"$f":"LEFT(#REF!,2)","v":{"$error":"#REF!"}},{"$error":"#REF!"},{"$f":"RIGHT(#REF!,2)","v":{"$error":"#REF!"}},{"$error":"#REF!"},{"$error":"#REF!"},{"$f":"LEFT(#REF!,2)","v":{"$error":"#REF!"}},{"$error":"#REF!"},{"$f":"RIGHT(#REF!,2)","v":{"$error":"#REF!"}},{"$error":"#REF!"},{"$error":"#REF!"},{"$f":"LEFT(#REF!,2)","v":{"$error":"#REF!"}},{"$error":"#REF!"},{"$f":"RIGHT(#REF!,2)","v":{"$error":"#REF!"}},{"$error":"#REF!"},{"$error":"#REF!"},{"$f":"LEFT(#REF!,2)","v":{"$error":"#REF!"}},{"$error":"#REF!"},{"$f":"RIGHT(#REF!,2)","v":{"$error":"#REF!"}},{"$error":"#REF!"},null,{"$f":"#REF!*12000","v":{"$error":"#REF!"}},{"$f":"(#REF!*4.5*('Preliminary Calculations '!R47-'Preliminary Calculations '!W47))","v":{"$error":"#REF!"}},"",{"$f":"#REF!*12000","v":{"$error":"#REF!"}},{"$f":"(#REF!*4.5*('Preliminary Calculations '!AB47-'Preliminary Calculations '!AG47))","v":{"$error":"#REF!"}},"",null,{"$f":"#REF!","v":{"$error":"#REF!"}},{"$f":"#REF!","v":{"$error":"#REF!"}},{"$f":"#REF!","v":{"$error":"#REF!"}},{"$f":"AP47*AQ47*(IF(AR47=1,#REF!,1.732*#REF!))","v":{"$error":"#REF!"}},{"$f":"#REF!","v":{"$error":"#REF!"}},{"$f":"#REF!","v":{"$error":"#REF!"}},{"$error":"#REF!"},{"$f":"AT47*AU47*(IF(AV47=1,#REF!,1.732*#REF!))","v":{"$error":"#REF!"}},{"$error":"#REF!"},{"$f":"#REF!","v":{"$error":"#REF!"}},{"$f":"#REF!","v":{"$error":"#REF!"}},{"$error":"#REF!"},{"$f":"AY47*AZ47*(IF(BA47=1,#REF!,1.732*#REF!))","v":{"$error":"#REF!"}},{"$f":"#REF!","v":{"$error":"#REF!"}},{"$f":"#REF!","v":{"$error":"#REF!"}},{"$error":"#REF!"},{"$f":"BC47*BD47*(IF(BE47=1,#REF!,1.732*#REF!))","v":{"$error":"#REF!"}},{"$error":"#REF!"}]
[null,78,41.58,41.68,41.79,41.89,42,42.1,42.2,42.31,42.41,42.52,null,{"$error":"#REF!"},{"$f":"LEFT(#REF!,2)","v":{"$error":"#REF!"}},{"$error":"#REF!"},{"$f":"RIGHT(#REF!,2)","v":{"$error":"#REF!"}},{"$error":"#REF!"},{"$error":"#REF!"},{"$f":"LEFT(#REF!,2)","v":{"$error":"#REF!"}},{"$error":"#REF!"},{"$f":"RIGHT(#REF!,2)","v":{"$error":"#REF!"}},{"$error":"#REF!"},{"$error":"#REF!"},{"$f":"LEFT(#REF!,2)","v":{"$error":"#REF!"}},{"$error":"#REF!"},{"$f":"RIGHT(#REF!,2)","v":{"$error":"#REF!"}},{"$error":"#REF!"},{"$error":"#REF!"},{"$f":"LEFT(#REF!,2)","v":{"$error":"#REF!"}},{"$error":"#REF!"},{"$f":"RIGHT(#REF!,2)","v":{"$error":"#REF!"}},{"$error":"#REF!"},null,{"$f":"#REF!*12000","v":{"$error":"#REF!"}},{"$f":"(#REF!*4.5*('Preliminary Calculations '!R48-'Preliminary Calculations '!W48))","v":{"$error":"#REF!"}},"",{"$f":"#REF!*12000","v":{"$error":"#REF!"}},{"$f":"(#REF!*4.5*('Preliminary Calculations '!AB48-'Preliminary Calculations '!AG48))","v":{"$error":"#REF!"}},"",null,{"$f":"#REF!","v":{"$error":"#REF!"}},{"$f":"#REF!","v":{"$error":"#REF!"}},{"$f":"#REF!","v":{"$error":"#REF!"}},{"$f":"AP48*AQ48*(IF(AR48=1,#REF!,1.732*#REF!))","v":{"$error":"#REF!"}},{"$f":"#REF!","v":{"$error":"#REF!"}},{"$f":"#REF!","v":{"$error":"#REF!"}},{"$error":"#REF!"},{"$f":"AT48*AU48*(IF(AV48=1,#REF!,1.732*#REF!))","v":{"$error":"#REF!"}},{"$error":"#REF!"},{"$f":"#REF!","v":{"$error":"#REF!"}},{"$f":"#REF!","v":{"$error":"#REF!"}},{"$error":"#REF!"},{"$f":"AY48*AZ48*(IF(BA48=1,#REF!,1.732*#REF!))","v":{"$error":"#REF!"}},{"$f":"#REF!","v":{"$error":"#REF!"}},{"$f":"#REF!","v":{"$error":"#REF!"}},{"$error":"#REF!"},{"$f":"BC48*BD48*(IF(BE48=1,#REF!,1.732*#REF!))","v":{"$error":"#REF!"}},{"$error":"#REF!"}]
[null,79,42.62,42.73,42.83,42.94,43.05,43.15,43.26,43.37,43.48,43.58,null,{"$error":"#REF!"},{"$f":"LEFT(#REF!,2)","v":{"$error":"#REF!"}},{"$error":"#REF!"},{"$f":"RIGHT(#REF!,2)","v":{"$error":"#REF!"}},{"$error":"#REF!"},{"$error":"#REF!"},{"$f":"LEFT(#REF!,2)","v":{"$error":"#REF!"}},{"$error":"#REF!"},{"$f":"RIGHT(#REF!,2)","v":{"$error":"#REF!"}},{"$error":"#REF!"},{"$error":"#REF!"},{"$f":"LEFT(#REF!,2)","v":{"$error":"#REF!"}},{"$error":"#REF!"},{"$f":"RIGHT(#REF!,2)","v":{"$error":"#REF!"}},{"$error":"#REF!"},{"$error":"#REF!"},{"$f":"LEFT(#REF!,2)","v":{"$error":"#REF!"}},{"$error":"#REF!"},{"$f":"RIGHT(#REF!,2)","v":{"$error":"#REF!"}},{"$error":"#REF!"},null,{"$f":"#REF!*12000","v":{"$error":"#REF!"}},{"$f":"(#REF!*4.5*('Preliminary Calculations '!R49-'Preliminary Calculations '!W49))","v":{"$error":"#REF!"}},"",{"$f":"#REF!*12000","v":{"$error":"#REF!"}},{"$f":"(#REF!*4.5*('Preliminary Calculations '!AB49-'Preliminary Calculations '!AG49))","v":{"$error":"#REF!"}},"",null,{"$f":"#REF!","v":{"$error":"#REF!"}},{"$f":"#REF!","v":{"$error":"#REF!"}},{"$f":"#REF!","v":{"$error":"#REF!"}},{"$f":"AP49*AQ49*(IF(AR49=1,#REF!,1.732*#REF!))","v":{"$error":"#REF!"}},{"$f":"#REF!","v":{"$error":"#REF!"}},{"$f":"#REF!","v":{"$error":"#REF!"}},{"$error":"#REF!"},{"$f":"AT49*AU49*(IF(AV49=1,#REF!,1.732*#REF!))","v":{"$error":"#REF!"}},{"$error":"#REF!"},{"$f":"#REF!","v":{"$error":"#REF!"}},{"$f":"#REF!","v":{"$error":"#REF!"}},{"$error":"#REF!"},{"$f":"AY49*AZ49*(IF(BA49=1,#REF!,1.732*#REF!))","v":{"$error":"#REF!"}},{"$f":"#REF!","v":{"$error":"#REF!"}},{"$f":"#REF!","v":{"$error":"#REF!"}},{"$error":"#REF!"},{"$f":"BC49*BD49*(IF(BE49=1,#REF!,1.732*#REF!))","v":{"$error":"#REF!"}},{"$error":"#REF!"}]
[null,80,43.69,43.8,43.91,44.02,44.13,44.24,44.34,44.45,44.56,44.67,null,{"$error":"#REF!"},{"$f":"LEFT(#REF!,2)","v":{"$error":"#REF!"}},{"$error":"#REF!"},{"$f":"RIGHT(#REF!,2)","v":{"$error":"#REF!"}},{"$error":"#REF!"},{"$error":"#REF!"},{"$f":"LEFT(#REF!,2)","v":{"$error":"#REF!"}},{"$error":"#REF!"},{"$f":"RIGHT(#REF!,2)","v":{"$error":"#REF!"}},{"$error":"#REF!"},{"$error":"#REF!"},{"$f":"LEFT(#REF!,2)","v":{"$error":"#REF!"}},{"$error":"#REF!"},{"$f":"RIGHT(#REF!,2)","v":{"$error":"#REF!"}},{"$error":"#REF!"},{"$error":"#REF!"},{"$f":"LEFT(#REF!,2)","v":{"$error":"#REF!"}},{"$error":"#REF!"},{"$f":"RIGHT(#REF!,2)","v":{"$error":"#REF!"}},{"$error":"#REF!"},null,{"$f":"#REF!*12000","v":{"$error":"#REF!"}},{"$f":"(#REF!*4.5*('Preliminary Calculations '!R50-'Preliminary Calculations '!W50))","v":{"$error":"#REF!"}},"",{"$f":"#REF!*12000","v":{"$error":"#REF!"}},{"$f":"(#REF!*4.5*('Preliminary Calculations '!AB50-'Preliminary Calculations '!AG50))","v":{"$error":"#REF!"}},"",null,{"$f":"#REF!","v":{"$error":"#REF!"}},{"$f":"#REF!","v":{"$error":"#REF!"}},{"$f":"#REF!","v":{"$error":"#REF!"}},{"$f":"AP50*AQ50*(IF(AR50=1,#REF!,1.732*#REF!))","v":{"$error":"#REF!"}},{"$f":"#REF!","v":{"$error":"#REF!"}},{"$f":"#REF!","v":{"$error":"#REF!"}},{"$error":"#REF!"},{"$f":"AT50*AU50*(IF(AV50=1,#REF!,1.732*#REF!))","v":{"$error":"#REF!"}},{"$error":"#REF!"},{"$f":"#REF!","v":{"$error":"#REF!"}},{"$f":"#REF!","v":{"$error":"#REF!"}},{"$error":"#REF!"},{"$f":"AY50*AZ50*(IF(BA50=1,#REF!,1.732*#REF!))","v":{"$error":"#REF!"}},{"$f":"#REF!","v":{"$error":"#REF!"}},{"$f":"#REF!","v":{"$error":"#REF!"}},{"$error":"#REF!"},{"$f":"BC50*BD50*(IF(BE50=1,#REF!,1.732*#REF!))","v":{"$error":"#REF!"}},{"$error":"#REF!"}]
[null,81,44.78,44.89,45,45.11,45.23,45.34,45.45,45.56,45.67,45.79,null,{"$error":"#REF!"},{"$f":"LEFT(#REF!,2)","v":{"$error":"#REF!"}},{"$error":"#REF!"},{"$f":"RIGHT(#REF!,2)","v":{"$error":"#REF!"}},{"$error":"#REF!"},{"$error":"#REF!"},{"$f":"LEFT(#REF!,2)","v":{"$error":"#REF!"}},{"$error":"#REF!"},{"$f":"RIGHT(#REF!,2)","v":{"$error":"#REF!"}},{"$error":"#REF!"},{"$error":"#REF!"},{"$f":"LEFT(#REF!,2)","v":{"$error":"#REF!"}},{"$error":"#REF!"},{"$f":"RIGHT(#REF!,2)","v":{"$error":"#REF!"}},{"$error":"#REF!"},{"$error":"#REF!"},{"$f":"LEFT(#REF!,2)","v":{"$error":"#REF!"}},{"$error":"#REF!"},{"$f":"RIGHT(#REF!,2)","v":{"$error":"#REF!"}},{"$error":"#REF!"},null,{"$f":"#REF!*12000","v":{"$error":"#REF!"}},{"$f":"(#REF!*4.5*('Preliminary Calculations '!R51-'Preliminary Calculations '!W51))","v":{"$error":"#REF!"}},"",{"$f":"#REF!*12000","v":{"$error":"#REF!"}},{"$f":"(#REF!*4.5*('Preliminary Calculations '!AB51-'Preliminary Calculations '!AG51))","v":{"$error":"#REF!"}},"",null,{"$f":"#REF!","v":{"$error":"#REF!"}},{"$f":"#REF!","v":{"$error":"#REF!"}},{"$f":"#REF!","v":{"$error":"#REF!"}},{"$f":"AP51*AQ51*(IF(AR51=1,#REF!,1.732*#REF!))","v":{"$error":"#REF!"}},{"$f":"#REF!","v":{"$error":"#REF!"}},{"$f":"#REF!","v":{"$error":"#REF!"}},{"$error":"#REF!"},{"$f":"AT51*AU51*(IF(AV51=1,#REF!,1.732*#REF!))","v":{"$error":"#REF!"}},{"$error":"#REF!"},{"$f":"#REF!","v":{"$error":"#REF!"}},{"$f":"#REF!","v":{"$error":"#REF!"}},{"$error":"#REF!"},{"$f":"AY51*AZ51*(IF(BA51=1,#REF!,1.732*#REF!))","v":{"$error":"#REF!"}},{"$f":"#REF!","v":{"$error":"#REF!"}},{"$f":"#REF!","v":{"$error":"#REF!"}},{"$error":"#REF!"},{"$f":"BC51*BD51*(IF(BE51=1,#REF!,1.732*#REF!))","v":{"$error":"#REF!"}},{"$error":"#REF!"}]
[null,82,45.9,46.01,46.13,46.24,46.36,46.48,46.59,46.7,46.81,46.93,null,{"$error":"#REF!"},{"$f":"LEFT(#REF!,2)","v":{"$error":"#REF!"}},{"$error":"#REF!"},{"$f":"RIGHT(#REF!,2)","v":{"$error":"#REF!"}},{"$error":"#REF!"},{"$error":"#REF!"},{"$f":"LEFT(#REF!,2)","v":{"$error":"#REF!"}},{"$error":"#REF!"},{"$f":"RIGHT(#REF!,2)","v":{"$error":"#REF!"}},{"$error":"#REF!"},{"$error":"#REF!"},{"$f":"LEFT(#REF!,2)","v":{"$error":"#REF!"}},{"$error":"#REF!"},{"$f":"RIGHT(#REF!,2)","v":{"$error":"#REF!"}},{"$error":"#REF!"},{"$error":"#REF!"},{"$f":"LEFT(#REF!,2)","v":{"$error":"#REF!"}},{"$error":"#REF!"},{"$f":"RIGHT(#REF!,2)","v":{"$error":"#REF!"}},{"$error":"#REF!"},null,{"$f":"#REF!*12000","v":{"$error":"#REF!"}},{"$f":"(#REF!*4.5*('Preliminary Calculations '!R52-'Preliminary Calculations '!W52))","v":{"$error":"#REF!"}},"",{"$f":"#REF!*12000","v":{"$error":"#REF!"}},{"$f":"(#REF!*4.5*('Preliminary Calculations '!AB52-'Preliminary Calculations '!AG52))","v":{"$error":"#REF!"}},"",null,{"$f":"#REF!","v":{"$error":"#REF!"}},{"$f":"#REF!","v":{"$error":"#REF!"}},{"$f":"#REF!","v":{"$error":"#REF!"}},{"$f":"AP52*AQ52*(IF(AR52=1,#REF!,1.732*#REF!))","v":{"$error":"#REF!"}},{"$f":"#REF!","v":{"$error":"#REF!"}},{"$f":"#REF!","v":{"$error":"#REF!"}},{"$error":"#REF!"},{"$f":"AT52*AU52*(IF(AV52=1,#REF!,1.732*#REF!))","v":{"$error":"#REF!"}},{"$error":"#REF!"},{"$f":"#REF!","v":{"$error":"#REF!"}},{"$f":"#REF!","v":{"$error":"#REF!"}},{"$error":"#REF!"},{"$f":"AY52*AZ52*(IF(BA52=1,#REF!,1.732*#REF!))","v":{"$error":"#REF!"}},{"$f":"#REF!","v":{"$error":"#REF!"}},{"$f":"#REF!","v":{"$error":"#REF!"}},{"$error":"#REF!"},{"$f":"BC52*BD52*(IF(BE52=1,#REF!,1.732*#REF!))","v":{"$error":"#REF!"}},{"$error":"#REF!"}]
[null,83,47.04,47.16,47.28,47.39,47.51,47.63,47.75,47.87,47.98,48.1,null,{"$error":"#REF!"},{"$f":"LEFT(#REF!,2)","v":{"$error":"#REF!"}},{"$error":"#REF!"},{"$f":"RIGHT(#REF!,2)","v":{"$error":"#REF!"}},{"$error":"#REF!"},{"$error":"#REF!"},{"$f":"LEFT(#REF!,2)","v":{"$error":"#REF!"}},{"$error":"#REF!"},{"$f":"RIGHT(#REF!,2)","v":{"$error":"#REF!"}},{"$error":"#REF!"},{"$error":"#REF!"},{"$f":"LEFT(#REF!,2)","v":{"$error":"#REF!"}},{"$error":"#REF!"},{"$f":"RIGHT(#REF!,2)","v":{"$error":"#REF!"}},{"$error":"#REF!"},{"$error":"#REF!"},{"$f":"LEFT(#REF!,2)","v":{"$error":"#REF!"}},{"$error":"#REF!"},{"$f":"RIGHT(#REF!,2)","v":{"$error":"#REF!"}},{"$error":"#REF!"},null,{"$f":"#REF!*12000","v":{"$error":"#REF!"}},{"$f":"(#REF!*4.5*('Preliminary Calculations '!R53-'Preliminary Calculations '!W53))","v":{"$error":"#REF!"}},"",{"$f":"#REF!*12000","v":{"$error":"#REF!"}},{"$f":"(#REF!*4.5*('Preliminary Calculations '!AB53-'Preliminary Calculations '!AG53))","v":{"$error":"#REF!"}},"",null,{"$f":"#REF!","v":{"$error":"#REF!"}},{"$f":"#REF!","v":{"$error":"#REF!"}},{"$f":"#REF!","v":{"$error":"#REF!"}},{"$f":"AP53*AQ53*(IF(AR53=1,#REF!,1.732*#REF!))","v":{"$error":"#REF!"}},{"$f":"#REF!","v":{"$error":"#REF!"}},{"$f":"#REF!","v":{"$error":"#REF!"}},{"$error":"#REF!"},{"$f":"AT53*AU53*(IF(AV53=1,#REF!,1.732*#REF!))","v":{"$error":"#REF!"}},{"$error":"#REF!"},{"$f":"#REF!","v":{"$error":"#REF!"}},{"$f":"#REF!","v":{"$error":"#REF!"}},{"$error":"#REF!"},{"$f":"AY53*AZ53*(IF(BA53=1,#REF!,1.732*#REF!))","v":{"$error":"#REF!"}},{"$f":"#REF!","v":{"$error":"#REF!"}},{"$f":"#REF!","v":{"$error":"#REF!"}},{"$error":"#REF!"},{"$f":"BC53*BD53*(IF(BE53=1,#REF!,1.732*#REF!))","v":{"$error":"#REF!"}},{"$error":"#REF!"}]
[null,84,48.22,48.34,48.46,48.58,48.7,48.82,48.95,48.07,49.19,49.31,null,{"$error":"#REF!"},{"$f":"LEFT(#REF!,2)","v":{"$error":"#REF!"}},{"$error":"#REF!"},{"$f":"RIGHT(#REF!,2)","v":{"$error":"#REF!"}},{"$error":"#REF!"},{"$error":"#REF!"},{"$f":"LEFT(#REF!,2)","v":{"$error":"#REF!"}},{"$error":"#REF!"},{"$f":"RIGHT(#REF!,2)","v":{"$error":"#REF!"}},{"$error":"#REF!"},{"$error":"#REF!"},{"$f":"LEFT(#REF!,2)","v":{"$error":"#REF!"}},{"$error":"#REF!"},{"$f":"RIGHT(#REF!,2)","v":{"$error":"#REF!"}},{"$error":"#REF!"},{"$error":"#REF!"},{"$f":"LEFT(#REF!,2)","v":{"$error":"#REF!"}},{"$error":"#REF!"},{"$f":"RIGHT(#REF!,2)","v":{"$error":"#REF!"}},{"$error":"#REF!"},null,{"$f":"#REF!*12000","v":{"$error":"#REF!"}},{"$f":"(#REF!*4.5*('Preliminary Calculations '!R54-'Preliminary Calculations '!W54))","v":{"$error":"#REF!"}},"",{"$f":"#REF!*12000","v":{"$error":"#REF!"}},{"$f":"(#REF!*4.5*('Preliminary Calculations '!AB54-'Preliminary Calculations '!AG54))","v":{"$error":"#REF!"}},"",null,{"$f":"#REF!","v":{"$error":"#REF!"}},{"$f":"#REF!","v":{"$error":"#REF!"}},{"$f":"#REF!","v":{"$error":"#REF!"}},{"$f":"AP54*AQ54*(IF(AR54=1,#REF!,1.732*#REF!))","v":{"$error":"#REF!"}},{"$f":"#REF!","v":{"$error":"#REF!"}},{"$f":"#REF!","v":{"$error":"#REF!"}},{"$error":"#REF!"},{"$f":"AT54*AU54*(IF(AV54=1,#REF!,1.732*#REF!))","v":{"$error":"#REF!"}},{"$error":"#REF!"},{"$f":"#REF!","v":{"$error":"#REF!"}},{"$f":"#REF!","v":{"$error":"#REF!"}},{"$error":"#REF!"},{"$f":"AY54*AZ54*(IF(BA54=1,#REF!,1.732*#REF!))","v":{"$error":"#REF!"}},{"$f":"#REF!","v":{"$error":"#REF!"}},{"$f":"#REF!","v":{"$error":"#REF!"}},{"$error":"#REF!"},{"$f":"BC54*BD54*(IF(BE54=1,#REF!,1.732*#REF!))","v":{"$error":"#REF!"}},{"$error":"#REF!"}]
[null,85,49.43,49.55,49.68,49.8,49.92,50.04,50.17,50.29,50.41,50.54,null,{"$error":"#REF!"},{"$f":"LEFT(#REF!,2)","v":{"$error":"#REF!"}},{"$error":"#REF!"},{"$f":"RIGHT(#REF!,2)","v":{"$error":"#REF!"}},{"$error":"#REF!"},{"$error":"#REF!"},{"$f":"LEFT(#REF!,2)","v":{"$error":"#REF!"}},{"$error":"#REF!"},{"$f":"RIGHT(#REF!,2)","v":{"$error":"#REF!"}},{"$error":"#REF!"},{"$error":"#REF!"},{"$f":"LEFT(#REF!,2)","v":{"$error":"#REF!"}},{"$error":"#REF!"},{"$f":"RIGHT(#REF!,2)","v":{"$error":"#REF!"}},{"$error":"#REF!"},{"$error":"#REF!"},{"$f":"LEFT(#REF!,2)","v":{"$error":"#REF!"}},{"$error":"#REF!"},{"$f":"RIGHT(#REF!,2)","v":{"$error":"#REF!"}},{"$error":"#REF!"},null,{"$f":"#REF!*12000","v":{"$error":"#REF!"}},{"$f":"(#REF!*4.5*('Preliminary Calculations '!R55-'Preliminary Calculations '!W55))","v":{"$error":"#REF!"}},"",{"$f":"#REF!*12000","v":{"$error":"#REF!"}},{"$f":"(#REF!*4.5*('Preliminary Calculations '!AB55-'Preliminary Calculations '!AG55))","v":{"$error":"#REF!"}},"",null,{"$f":"#REF!","v":{"$error":"#REF!"}},{"$f":"#REF!","v":{"$error":"#REF!"}},{"$f":"#REF!","v":{"$error":"#REF!"}},{"$f":"AP55*AQ55*(IF(AR55=1,#REF!,1.732*#REF!))","v":{"$error":"#REF!"}},{"$f":"#REF!","v":{"$error":"#REF!"}},{"$f":"#REF!","v":{"$error":"#REF!"}},{"$error":"#REF!"},{"$f":"AT55*AU55*(IF(AV55=1,#REF!,1.732*#REF!))","v":{"$error":"#REF!"}},{"$error":"#REF!"},{"$f":"#REF!","v":{"$error":"#REF!"}},{"$f":"#REF!","v":{"$error":"#REF!"}},{"$error":"#REF!"},{"$f":"AY55*AZ55*(IF(BA55=1,#REF!,1.732*#REF!))","v":{"$error":"#REF!"}},{"$f":"#REF!","v":{"$error":"#REF!"}},{"$f":"#REF!","v":{"$error":"#REF!"}},{"$error":"#REF!"},{"$f":"BC55*BD55*(IF(BE55=1,#REF!,1.732*#REF!))","v":{"$error":"#REF!"}},{"$error":"#REF!"}]
[null,null,null,null,null,null,null,null,null,null,null,null,null,{"$error":"#REF!"},{"$f":"LEFT(#REF!,2)","v":{"$error":"#REF!"}},{"$error":"#REF!"},{"$f":"RIGHT(#REF!,2)","v":{"$error":"#REF!"}},{"$error":"#REF!"},{"$error":"#REF!"},{"$f":"LEFT(#REF!,2)","v":{"$error":"#REF!"}},{"$error":"#REF!"},{"$f":"RIGHT(#REF!,2)","v":{"$error":"#REF!"}},{"$error":"#REF!"},{"$error":"#REF!"},{"$f":"LEFT(#REF!,2)","v":{"$error":"#REF!"}},{"$error":"#REF!"},{"$f":"RIGHT(#REF!,2)","v":{"$error":"#REF!"}},{"$error":"#REF!"},{"$error":"#REF!"},{"$f":"LEFT(#REF!,2)","v":{"$error":"#REF!"}},{"$error":"#REF!"},{"$f":"RIGHT(#REF!,2)","v":{"$error":"#REF!"}},{"$error":"#REF!"},null,{"$f":"#REF!*12000","v":{"$error":"#REF!"}},{"$f":"(#REF!*4.5*('Preliminary Calculations '!R56-'Preliminary Calculations '!W56))","v":{"$error":"#REF!"}},"",{"$f":"#REF!*12000","v":{"$error":"#REF!"}},{"$f":"(#REF!*4.5*('Preliminary Calculations '!AB56-'Preliminary Calculations '!AG56))","v":{"$error":"#REF!"}},"",null,{"$f":"#REF!","v":{"$error":"#REF!"}},{"$f":"#REF!","v":{"$error":"#REF!"}},{"$f":"#REF!","v":{"$error":"#REF!"}},{"$f":"AP56*AQ56*(IF(AR56=1,#REF!,1.732*#REF!))","v":{"$error":"#REF!"}},{"$f":"#REF!","v":{"$error":"#REF!"}},{"$f":"#REF!","v":{"$error":"#REF!"}},{"$error":"#REF!"},{"$f":"AT56*AU56*(IF(AV56=1,#REF!,1.732*#REF!))","v":{"$error":"#REF!"}},{"$error":"#REF!"},{"$f":"#REF!","v":{"$error":"#REF!"}},{"$f":"#REF!","v":{"$error":"#REF!"}},{"$error":"#REF!"},{"$f":"AY56*AZ56*(IF(BA56=1,#REF!,1.732*#REF!))","v":{"$error":"#REF!"}},{"$f":"#REF!","v":{"$error":"#REF!"}},{"$f":"#REF!","v":{"$error":"#REF!"}},{"$error":"#REF!"},{"$f":"BC56*BD56*(IF(BE56=1,#REF!,1.732*#REF!))","v":{"$error":"#REF!"}},{"$error":"#REF!"}]
[null,null,null,null,null,null,null,null,null,null,null,null,null,{"$error":"#REF!"},{"$f":"LEFT(#REF!,2)","v":{"$error":"#REF!"}},{"$error":"#REF!"},{"$f":"RIGHT(#REF!,2)","v":{"$error":"#REF!"}},{"$error":"#REF!"},{"$error":"#REF!"},{"$f":"LEFT(#REF!,2)","v":{"$error":"#REF!"}},{"$error":"#REF!"},{"$f":"RIGHT(#REF!,2)","v":{"$error":"#REF!"}},{"$error":"#REF!"},{"$error":"#REF!"},{"$f":"LEFT(#REF!,2)","v":{"$error":"#REF!"}},{"$error":"#REF!"},{"$f":"RIGHT(#REF!,2)","v":{"$error":"#REF!"}},{"$error":"#REF!"},{"$error":"#REF!"},{"$f":"LEFT(#REF!,2)","v":{"$error":"#REF!"}},{"$error":"#REF!"},{"$f":"RIGHT(#REF!,2)","v":{"$error":"#REF!"}},{"$error":"#REF!"},null,{"$f":"#REF!*12000","v":{"$error":"#REF!"}},{"$f":"(#REF!*4.5*('Preliminary Calculations '!R57-'Preliminary Calculations '!W57))","v":{"$error":"#REF!"}},"",{"$f":"#REF!*12000","v":{"$error":"#REF!"}},{"$f":"(#REF!*4.5*('Preliminary Calculations '!AB57-'Preliminary Calculations '!AG57))","v":{"$error":"#REF!"}},"",null,{"$f":"#REF!","v":{"$error":"#REF!"}},{"$f":"#REF!","v":{"$error":"#REF!"}},{"$f":"#REF!","v":{"$error":"#REF!"}},{"$f":"AP57*AQ57*(IF(AR57=1,#REF!,1.732*#REF!))","v":{"$error":"#REF!"}},{"$f":"#REF!","v":{"$error":"#REF!"}},{"$f":"#REF!","v":{"$error":"#REF!"}},{"$error":"#REF!"},{"$f":"AT57*AU57*(IF(AV57=1,#REF!,1.732*#REF!))","v":{"$error":"#REF!"}},{"$error":"#REF!"},{"$f":"#REF!","v":{"$error":"#REF!"}},{"$f":"#REF!","v":{"$error":"#REF!"}},{"$error":"#REF!"},{"$f":"AY57*AZ57*(IF(BA57=1,#REF!,1.732*#REF!))","v":{"$error":"#REF!"}},{"$f":"#REF!","v":{"$error":"#REF!"}},{"$f":"#REF!","v":{"$error":"#REF!"}},{"$error":"#REF!"},{"$f":"BC57*BD57*(IF(BE57=1,#REF!,1.732*#REF!))","v":{"$error":"#REF!"}},{"$error":"#REF!"}]
[null,null,null,null,null,null,null,null,null,null,null,null,null,{"$error":"#REF!"},{"$f":"LEFT(#REF!,2)","v":{"$error":"#REF!"}},{"$error":"#REF!"},{"$f":"RIGHT(#REF!,2)","v":{"$error":"#REF!"}},{"$error":"#REF!"},{"$error":"#REF!"},{"$f":"LEFT(#REF!,2)","v":{"$error":"#REF!"}},{"$error":"#REF!"},{"$f":"RIGHT(#REF!,2)","v":{"$error":"#REF!"}},{"$error":"#REF!"},{"$error":"#REF!"},{"$f":"LEFT(#REF!,2)","v":{"$error":"#REF!"}},{"$error":"#REF!"},{"$f":"RIGHT(#REF!,2)","v":{"$error":"#REF!"}},{"$error":"#REF!"},{"$error":"#REF!"},{"$f":"LEFT(#REF!,2)","v":{"$error":"#REF!"}},{"$error":"#REF!"},{"$f":"RIGHT(#REF!,2)","v":{"$error":"#REF!"}},{"$error":"#REF!"},null,{"$f":"#REF!*12000","v":{"$error":"#REF!"}},{"$f":"(#REF!*4.5*('Preliminary Calculations '!R58-'Preliminary Calculations '!W58))","v":{"$error":"#REF!"}},"",{"$f":"#REF!*12000","v":{"$error":"#REF!"}},{"$f":"(#REF!*4.5*('Preliminary Calculations '!AB58-'Preliminary Calculations '!AG58))","v":{"$error":"#REF!"}},"",null,{"$f":"#REF!","v":{"$error":"#REF!"}},{"$f":"#REF!","v":{"$error":"#REF!"}},{"$f":"#REF!","v":{"$error":"#REF!"}},{"$f":"AP58*AQ58*(IF(AR58=1,#REF!,1.732*#REF!))","v":{"$error":"#REF!"}},{"$f":"#REF!","v":{"$error":"#REF!"}},{"$f":"#REF!","v":{"$error":"#REF!"}},{"$error":"#REF!"},{"$f":"AT58*AU58*(IF(AV58=1,#REF!,1.732*#REF!))","v":{"$error":"#REF!"}},{"$error":"#REF!"},{"$f":"#REF!","v":{"$error":"#REF!"}},{"$f":"#REF!","v":{"$error":"#REF!"}},{"$error":"#REF!"},{"$f":"AY58*AZ58*(IF(BA58=1,#REF!,1.732*#REF!))","v":{"$error":"#REF!"}},{"$f":"#REF!","v":{"$error":"#REF!"}},{"$f":"#REF!","v":{"$error":"#REF!"}},{"$error":"#REF!"},{"$f":"BC58*BD58*(IF(BE58=1,#REF!,1.732*#REF!))","v":{"$error":"#REF!"}},{"$error":"#REF!"}]
[null,null,null,null,null,null,null,null,null,null,null,null,null,{"$error":"#REF!"},{"$f":"LEFT(#REF!,2)","v":{"$error":"#REF!"}},{"$error":"#REF!"},{"$f":"RIGHT(#REF!,2)","v":{"$error":"#REF!"}},{"$error":"#REF!"},{"$error":"#REF!"},{"$f":"LEFT(#REF!,2)","v":{"$error":"#REF!"}},{"$error":"#REF!"},{"$f":"RIGHT(#REF!,2)","v":{"$error":"#REF!"}},{"$error":"#REF!"},{"$error":"#REF!"},{"$f":"LEFT(#REF!,2)","v":{"$error":"#REF!"}},{"$error":"#REF!"},{"$f":"RIGHT(#REF!,2)","v":{"$error":"#REF!"}},{"$error":"#REF!"},{"$error":"#REF!"},{"$f":"LEFT(#REF!,2)","v":{"$error":"#REF!"}},{"$error":"#REF!"},{"$f":"RIGHT(#REF!,2)","v":{"$error":"#REF!"}},{"$error":"#REF!"},null,{"$f":"#REF!*12000","v":{"$error":"#REF!"}},{"$f":"(#REF!*4.5*('Preliminary Calculations '!R59-'Preliminary Calculations '!W59))","v":{"$error":"#REF!"}},"",{"$f":"#REF!*12000","v":{"$error":"#REF!"}},{"$f":"(#REF!*4.5*('Preliminary Calculations '!AB59-'Preliminary Calculations '!AG59))","v":{"$error":"#REF!"}},"",null,{"$f":"#REF!","v":{"$error":"#REF!"}},{"$f":"#REF!","v":{"$error":"#REF!"}},{"$f":"#REF!","v":{"$error":"#REF!"}},{"$f":"AP59*AQ59*(IF(AR59=1,#REF!,1.732*#REF!))","v":{"$error":"#REF!"}},{"$f":"#REF!","v":{"$error":"#REF!"}},{"$f":"#REF!","v":{"$error":"#REF!"}},{"$error":"#REF!"},{"$f":"AT59*AU59*(IF(AV59=1,#REF!,1.732*#REF!))","v":{"$error":"#REF!"}},{"$error":"#REF!"},{"$f":"#REF!","v":{"$error":"#REF!"}},{"$f":"#REF!","v":{"$error":"#REF!"}},{"$error":"#REF!"},{"$f":"AY59*AZ59*(IF(BA59=1,#REF!,1.732*#REF!))","v":{"$error":"#REF!"}},{"$f":"#REF!","v":{"$error":"#REF!"}},{"$f":"#REF!","v":{"$error":"#REF!"}},{"$error":"#REF!"},{"$f":"BC59*BD59*(IF(BE59=1,#REF!,1.732*#REF!))","v":{"$error":"#REF!"}},{"$error":"#REF!"}]
[null,null,null,null,null,null,null,null,null,null,null,null,null,{"$error":"#REF!"},{"$f":"LEFT(#REF!,2)","v":{"$error":"#REF!"}},{"$error":"#REF!"},{"$f":"RIGHT(#REF!,2)","v":{"$error":"#REF!"}},{"$error":"#REF!"},{"$error":"#REF!"},{"$f":"LEFT(#REF!,2)","v":{"$error":"#REF!"}},{"$error":"#REF!"},{"$f":"RIGHT(#REF!,2)","v":{"$error":"#REF!"}},{"$error":"#REF!"},{"$error":"#REF!"},{"$f":"LEFT(#REF!,2)","v":{"$error":"#REF!"}},{"$error":"#REF!"},{"$f":"RIGHT(#REF!,2)","v":{"$error":"#REF!"}},{"$error":"#REF!"},{"$error":"#REF!"},{"$f":"LEFT(#REF!,2)","v":{"$error":"#REF!"}},{"$error":"#REF!"},{"$f":"RIGHT(#REF!,2)","v":{"$error":"#REF!"}},{"$error":"#REF!"},null,{"$f":"#REF!*12000","v":{"$error":"#REF!"}},{"$f":"(#REF!*4.5*('Preliminary Calculations '!R60-'Preliminary Calculations '!W60))","v":{"$error":"#REF!"}},"",{"$f":"#REF!*12000","v":{"$error":"#REF!"}},{"$f":"(#REF!*4.5*('Preliminary Calculations '!AB60-'Preliminary Calculations '!AG60))","v":{"$error":"#REF!"}},"",null,{"$f":"#REF!","v":{"$error":"#REF!"}},{"$f":"#REF!","v":{"$error":"#REF!"}},{"$f":"#REF!","v":{"$error":"#REF!"}},{"$f":"AP60*AQ60*(IF(AR60=1,#REF!,1.732*#REF!))","v":{"$error":"#REF!"}},{"$f":"#REF!","v":{"$error":"#REF!"}},{"$f":"#REF!","v":{"$error":"#REF!"}},{"$error":"#REF!"},{"$f":"AT60*AU60*(IF(AV60=1,#REF!,1.732*#REF!))","v":{"$error":"#REF!"}},{"$error":"#REF!"},{"$f":"#REF!","v":{"$error":"#REF!"}},{"$f":"#REF!","v":{"$error":"#REF!"}},{"$error":"#REF!"},{"$f":"AY60*AZ60*(IF(BA60=1,#REF!,1.732*#REF!))","v":{"$error":"#REF!"}},{"$f":"#REF!","v":{"$error":"#REF!"}},{"$f":"#REF!","v":{"$error":"#REF!"}},{"$error":"#REF!"},{"$f":"BC60*BD60*(IF(BE60=1,#REF!,1.732*#REF!))","v":{"$error":"#REF!"}},{"$error":"#REF!"}]
[null,null,null,null,null,null,null,null,null,null,null,null,null,{"$error":"#REF!"},{"$f":"LEFT(#REF!,2)","v":{"$error":"#REF!"}},{"$error":"#REF!"},{"$f":"RIGHT(#REF!,2)","v":{"$error":"#REF!"}},{"$error":"#REF!"},{"$error":"#REF!"},{"$f":"LEFT(#REF!,2)","v":{"$error":"#REF!"}},{"$error":"#REF!"},{"$f":"RIGHT(#REF!,2)","v":{"$error":"#REF!"}},{"$error":"#REF!"},{"$error":"#REF!"},{"$f":"LEFT(#REF!,2)","v":{"$error":"#REF!"}},{"$error":"#REF!"},{"$f":"RIGHT(#REF!,2)","v":{"$error":"#REF!"}},{"$error":"#REF!"},{"$error":"#REF!"},{"$f":"LEFT(#REF!,2)","v":{"$error":"#REF!"}},{"$error":"#REF!"},{"$f":"RIGHT(#REF!,2)","v":{"$error":"#REF!"}},{"$error":"#REF!"},null,{"$f":"#REF!*12000","v":{"$error":"#REF!"}},{"$f":"(#REF!*4.5*('Preliminary Calculations '!R61-'Preliminary Calculations '!W61))","v":{"$error":"#REF!"}},"",{"$f":"#REF!*12000","v":{"$error":"#REF!"}},{"$f":"(#REF!*4.5*('Preliminary Calculations '!AB61-'Preliminary Calculations '!AG61))","v":{"$error":"#REF!"}},"",null,{"$f":"#REF!","v":{"$error":"#REF!"}},{"$f":"#REF!","v":{"$error":"#REF!"}},{"$f":"#REF!","v":{"$error":"#REF!"}},{"$f":"AP61*AQ61*(IF(AR61=1,#REF!,1.732*#REF!))","v":{"$error":"#REF!"}},{"$f":"#REF!","v":{"$error":"#REF!"}},{"$f":"#REF!","v":{"$error":"#REF!"}},{"$error":"#REF!"},{"$f":"AT61*AU61*(IF(AV61=1,#REF!,1.732*#REF!))","v":{"$error":"#REF!"}},{"$error":"#REF!"},{"$f":"#REF!","v":{"$error":"#REF!"}},{"$f":"#REF!","v":{"$error":"#REF!"}},{"$error":"#REF!"},{"$f":"AY61*AZ61*(IF(BA61=1,#REF!,1.732*#REF!))","v":{"$error":"#REF!"}},{"$f":"#REF!","v":{"$error":"#REF!"}},{"$f":"#REF!","v":{"$error":"#REF!"}},{"$error":"#REF!"},{"$f":"BC61*BD61*(IF(BE61=1,#REF!,1.732*#REF!))","v":{"$error":"#REF!"}},{"$error":"#REF!"}]
[null,null,null,null,null,null,null,null,null,null,null,null,null,{"$error":"#REF!"},{"$f":"LEFT(#REF!,2)","v":{"$error":"#REF!"}},{"$error":"#REF!"},{"$f":"RIGHT(#REF!,2)","v":{"$error":"#REF!"}},{"$error":"#REF!"},{"$error":"#REF!"},{"$f":"LEFT(#REF!,2)","v":{"$error":"#REF!"}},{"$error":"#REF!"},{"$f":"RIGHT(#REF!,2)","v":{"$error":"#REF!"}},{"$error":"#REF!"},{"$error":"#REF!"},{"$f":"LEFT(#REF!,2)","v":{"$error":"#REF!"}},{"$error":"#REF!"},{"$f":"RIGHT(#REF!,2)","v":{"$error":"#REF!"}},{"$error":"#REF!"},{"$error":"#REF!"},{"$f":"LEFT(#REF!,2)","v":{"$error":"#REF!"}},{"$error":"#REF!"},{"$f":"RIGHT(#REF!,2)","v":{"$error":"#REF!"}},{"$error":"#REF!"},null,{"$f":"#REF!*12000","v":{"$error":"#REF!"}},{"$f":"(#REF!*4.5*('Preliminary Calculations '!R62-'Preliminary Calculations '!W62))","v":{"$error":"#REF!"}},"",{"$f":"#REF!*12000","v":{"$error":"#REF!"}},{"$f":"(#REF!*4.5*('Preliminary Calculations '!AB62-'Preliminary Calculations '!AG62))","v":{"$error":"#REF!"}},"",null,{"$f":"#REF!","v":{"$error":"#REF!"}},{"$f":"#REF!","v":{"$error":"#REF!"}},{"$f":"#REF!","v":{"$error":"#REF!"}},{"$f":"AP62*AQ62*(IF(AR62=1,#REF!,1.732*#REF!))","v":{"$error":"#REF!"}},{"$f":"#REF!","v":{"$error":"#REF!"}},{"$f":"#REF!","v":{"$error":"#REF!"}},{"$error":"#REF!"},{"$f":"AT62*AU62*(IF(AV62=1,#REF!,1.732*#REF!))","v":{"$error":"#REF!"}},{"$error":"#REF!"},{"$f":"#REF!","v":{"$error":"#REF!"}},{"$f":"#REF!","v":{"$error":"#REF!"}},{"$error":"#REF!"},{"$f":"AY62*AZ62*(IF(BA62=1,#REF!,1.732*#REF!))","v":{"$error":"#REF!"}},{"$f":"#REF!","v":{"$error":"#REF!"}},{"$f":"#REF!","v":{"$error":"#REF!"}},{"$error":"#REF!"},{"$f":"BC62*BD62*(IF(BE62=1,#REF!,1.732*#REF!))","v":{"$error":"#REF!"}},{"$error":"#REF!"}]
[null,null,null,null,null,null,null,null,null,null,null,null,null,{"$error":"#REF!"},{"$f":"LEFT(#REF!,2)","v":{"$error":"#REF!"}},{"$error":"#REF!"},{"$f":"RIGHT(#REF!,2)","v":{"$error":"#REF!"}},{"$error":"#REF!"},{"$error":"#REF!"},{"$f":"LEFT(#REF!,2)","v":{"$error":"#REF!"}},{"$error":"#REF!"},{"$f":"RIGHT(#REF!,2)","v":{"$error":"#REF!"}},{"$error":"#REF!"},{"$error":"#REF!"},{"$f":"LEFT(#REF!,2)","v":{"$error":"#REF!"}},{"$error":"#REF!"},{"$f":"RIGHT(#REF!,2)","v":{"$error":"#REF!"}},{"$error":"#REF!"},{"$error":"#REF!"},{"$f":"LEFT(#REF!,2)","v":{"$error":"#REF!"}},{"$error":"#REF!"},{"$f":"RIGHT(#REF!,2)","v":{"$error":"#REF!"}},{"$error":"#REF!"},null,{"$f":"#REF!*12000","v":{"$error":"#REF!"}},{"$f":"(#REF!*4.5*('Preliminary Calculations '!R63-'Preliminary Calculations '!W63))","v":{"$error":"#REF!"}},"",{"$f":"#REF!*12000","v":{"$error":"#REF!"}},{"$f":"(#REF!*4.5*('Preliminary Calculations '!AB63-'Preliminary Calculations '!AG63))","v":{"$error":"#REF!"}},"",null,{"$f":"#REF!","v":{"$error":"#REF!"}},{"$f":"#REF!","v":{"$error":"#REF!"}},{"$f":"#REF!","v":{"$error":"#REF!"}},{"$f":"AP63*AQ63*(IF(AR63=1,#REF!,1.732*#REF!))","v":{"$error":"#REF!"}},{"$f":"#REF!","v":{"$error":"#REF!"}},{"$f":"#REF!","v":{"$error":"#REF!"}},{"$error":"#REF!"},{"$f":"AT63*AU63*(IF(AV63=1,#REF!,1.732*#REF!))","v":{"$error":"#REF!"}},{"$error":"#REF!"},{"$f":"#REF!","v":{"$error":"#REF!"}},{"$f":"#REF!","v":{"$error":"#REF!"}},{"$error":"#REF!"},{"$f":"AY63*AZ63*(IF(BA63=1,#REF!,1.732*#REF!))","v":{"$error":"#REF!"}},{"$f":"#REF!","v":{"$error":"#REF!"}},{"$f":"#REF!","v":{"$error":"#REF!"}},{"$error":"#REF!"},{"$f":"BC63*BD63*(IF(BE63=1,#REF!,1.732*#REF!))","v":{"$error":"#REF!"}},{"$error":"#REF!"}]
[null,null,null,null,null,null,null,null,null,null,null,null,null,{"$error":"#REF!"},{"$f":"LEFT(#REF!,2)","v":{"$error":"#REF!"}},{"$error":"#REF!"},{"$f":"RIGHT(#REF!,2)","v":{"$error":"#REF!"}},{"$error":"#REF!"},{"$error":"#REF!"},{"$f":"LEFT(#REF!,2)","v":{"$error":"#REF!"}},{"$error":"#REF!"},{"$f":"RIGHT(#REF!,2)","v":{"$error":"#REF!"}},{"$error":"#REF!"},{"$error":"#REF!"},{"$f":"LEFT(#REF!,2)","v":{"$error":"#REF!"}},{"$error":"#REF!"},{"$f":"RIGHT(#REF!,2)","v":{"$error":"#REF!"}},{"$error":"#REF!"},{"$error":"#REF!"},{"$f":"LEFT(#REF!,2)","v":{"$error":"#REF!"}},{"$error":"#REF!"},{"$f":"RIGHT(#REF!,2)","v":{"$error":"#REF!"}},{"$error":"#REF!"},null,{"$f":"#REF!*12000","v":{"$error":"#REF!"}},{"$f":"(#REF!*4.5*('Preliminary Calculations '!R64-'Preliminary Calculations '!W64))","v":{"$error":"#REF!"}},"",{"$f":"#REF!*12000","v":{"$error":"#REF!"}},{"$f":"(#REF!*4.5*('Preliminary Calculations '!AB64-'Preliminary Calculations '!AG64))","v":{"$error":"#REF!"}},"",null,{"$f":"#REF!","v":{"$error":"#REF!"}},{"$f":"#REF!","v":{"$error":"#REF!"}},{"$f":"#REF!","v":{"$error":"#REF!"}},{"$f":"AP64*AQ64*(IF(AR64=1,#REF!,1.732*#REF!))","v":{"$error":"#REF!"}},{"$f":"#REF!","v":{"$error":"#REF!"}},{"$f":"#REF!","v":{"$error":"#REF!"}},{"$error":"#REF!"},{"$f":"AT64*AU64*(IF(AV64=1,#REF!,1.732*#REF!))","v":{"$error":"#REF!"}},{"$error":"#REF!"},{"$f":"#REF!","v":{"$error":"#REF!"}},{"$f":"#REF!","v":{"$error":"#REF!"}},{"$error":"#REF!"},{"$f":"AY64*AZ64*(IF(BA64=1,#REF!,1.732*#REF!))","v":{"$error":"#REF!"}},{"$f":"#REF!","v":{"$error":"#REF!"}},{"$f":"#REF!","v":{"$error":"#REF!"}},{"$error":"#REF!"},{"$f":"BC64*BD64*(IF(BE64=1,#REF!,1.732*#REF!))","v":{"$error":"#REF!"}},{"$error":"#REF!"}]
[null,null,null,null,null,null,null,null,null,null,null,null,null,{"$error":"#REF!"},{"$f":"LEFT(#REF!,2)","v":{"$error":"#REF!"}},{"$error":"#REF!"},{"$f":"RIGHT(#REF!,2)","v":{"$error":"#REF!"}},{"$error":"#REF!"},{"$error":"#REF!"},{"$f":"LEFT(#REF!,2)","v":{"$error":"#REF!"}},{"$error":"#REF!"},{"$f":"RIGHT(#REF!,2)","v":{"$error":"#REF!"}},{"$error":"#REF!"},{"$error":"#REF!"},{"$f":"LEFT(#REF!,2)","v":{"$error":"#REF!"}},{"$error":"#REF!"},{"$f":"RIGHT(#REF!,2)","v":{"$error":"#REF!"}},{"$error":"#REF!"},{"$error":"#REF!"},{"$f":"LEFT(#REF!,2)","v":{"$error":"#REF!"}},{"$error":"#REF!"},{"$f":"RIGHT(#REF!,2)","v":{"$error":"#REF!"}},{"$error":"#REF!"},null,{"$f":"#REF!*12000","v":{"$error":"#REF!"}},{"$f":"(#REF!*4.5*('Preliminary Calculations '!R65-'Preliminary Calculations '!W65))","v":{"$error":"#REF!"}},"",{"$f":"#REF!*12000","v":{"$error":"#REF!"}},{"$f":"(#REF!*4.5*('Preliminary Calculations '!AB65-'Preliminary Calculations '!AG65))","v":{"$error":"#REF!"}},"",null,{"$f":"#REF!","v":{"$error":"#REF!"}},{"$f":"#REF!","v":{"$error":"#REF!"}},{"$f":"#REF!","v":{"$error":"#REF!"}},{"$f":"AP65*AQ65*(IF(AR65=1,#REF!,1.732*#REF!))","v":{"$error":"#REF!"}},{"$f":"#REF!","v":{"$error":"#REF!"}},{"$f":"#REF!","v":{"$error":"#REF!"}},{"$error":"#REF!"},{"$f":"AT65*AU65*(IF(AV65=1,#REF!,1.732*#REF!))","v":{"$error":"#REF!"}},{"$error":"#REF!"},{"$f":"#REF!","v":{"$error":"#REF!"}},{"$f":"#REF!","v":{"$error":"#REF!"}},{"$error":"#REF!"},{"$f":"AY65*AZ65*(IF(BA65=1,#REF!,1.732*#REF!))","v":{"$error":"#REF!"}},{"$f":"#REF!","v":{"$error":"#REF!"}},{"$f":"#REF!","v":{"$error":"#REF!"}},{"$error":"#REF!"},{"$f":"BC65*BD65*(IF(BE65=1,#REF!,1.732*#REF!))","v":{"$error":"#REF!"}},{"$error":"#REF!"}]
[null,null,null,null,null,null,null,null,null,null,null,null,null,{"$error":"#REF!"},{"$f":"LEFT(#REF!,2)","v":{"$error":"#REF!"}},{"$error":"#REF!"},{"$f":"RIGHT(#REF!,2)","v":{"$error":"#REF!"}},{"$error":"#REF!"},{"$error":"#REF!"},{"$f":"LEFT(#REF!,2)","v":{"$error":"#REF!"}},{"$error":"#REF!"},{"$f":"RIGHT(#REF!,2)","v":{"$error":"#REF!"}},{"$error":"#REF!"},{"$error":"#REF!"},{"$f":"LEFT(#REF!,2)","v":{"$error":"#REF!"}},{"$error":"#REF!"},{"$f":"RIGHT(#REF!,2)","v":{"$error":"#REF!"}},{"$error":"#REF!"},{"$error":"#REF!"},{"$f":"LEFT(#REF!,2)","v":{"$error":"#REF!"}},{"$error":"#REF!"},{"$f":"RIGHT(#REF!,2)","v":{"$error":"#REF!"}},{"$error":"#REF!"},null,{"$f":"#REF!*12000","v":{"$error":"#REF!"}},{"$f":"(#REF!*4.5*('Preliminary Calculations '!R66-'Preliminary Calculations '!W66))","v":{"$error":"#REF!"}},"",{"$f":"#REF!*12000","v":{"$error":"#REF!"}},{"$f":"(#REF!*4.5*('Preliminary Calculations '!AB66-'Preliminary Calculations '!AG66))","v":{"$error":"#REF!"}},"",null,{"$f":"#REF!","v":{"$error":"#REF!"}},{"$f":"#REF!","v":{"$error":"#REF!"}},{"$f":"#REF!","v":{"$error":"#REF!"}},{"$f":"AP66*AQ66*(IF(AR66=1,#REF!,1.732*#REF!))","v":{"$error":"#REF!"}},{"$f":"#REF!","v":{"$error":"#REF!"}},{"$f":"#REF!","v":{"$error":"#REF!"}},{"$error":"#REF!"},{"$f":"AT66*AU66*(IF(AV66=1,#REF!,1.732*#REF!))","v":{"$error":"#REF!"}},{"$error":"#REF!"},{"$f":"#REF!","v":{"$error":"#REF!"}},{"$f":"#REF!","v":{"$error":"#REF!"}},{"$error":"#REF!"},{"$f":"AY66*AZ66*(IF(BA66=1,#REF!,1.732*#REF!))","v":{"$error":"#REF!"}},{"$f":"#REF!","v":{"$error":"#REF!"}},{"$f":"#REF!","v":{"$error":"#REF!"}},{"$error":"#REF!"},{"$f":"BC66*BD66*(IF(BE66=1,#REF!,1.732*#REF!))","v":{"$error":"#REF!"}},{"$error":"#REF!"}]
[null,null,null,null,null,null,null,null,null,null,null,null,null,{"$error":"#REF!"},{"$f":"LEFT(#REF!,2)","v":{"$error":"#REF!"}},{"$error":"#REF!"},{"$f":"RIGHT(#REF!,2)","v":{"$error":"#REF!"}},{"$error":"#REF!"},{"$error":"#REF!"},{"$f":"LEFT(#REF!,2)","v":{"$error":"#REF!"}},{"$error":"#REF!"},{"$f":"RIGHT(#REF!,2)","v":{"$error":"#REF!"}},{"$error":"#REF!"},{"$error":"#REF!"},{"$f":"LEFT(#REF!,2)","v":{"$error":"#REF!"}},{"$error":"#REF!"},{"$f":"RIGHT(#REF!,2)","v":{"$error":"#REF!"}},{"$error":"#REF!"},{"$error":"#REF!"},{"$f":"LEFT(#REF!,2)","v":{"$error":"#REF!"}},{"$error":"#REF!"},{"$f":"RIGHT(#REF!,2)","v":{"$error":"#REF!"}},{"$error":"#REF!"},null,{"$f":"#REF!*12000","v":{"$error":"#REF!"}},{"$f":"(#REF!*4.5*('Preliminary Calculations '!R67-'Preliminary Calculations '!W67))","v":{"$error":"#REF!"}},"",{"$f":"#REF!*12000","v":{"$error":"#REF!"}},{"$f":"(#REF!*4.5*('Preliminary Calculations '!AB67-'Preliminary Calculations '!AG67))","v":{"$error":"#REF!"}},"",null,{"$f":"#REF!","v":{"$error":"#REF!"}},{"$f":"#REF!","v":{"$error":"#REF!"}},{"$f":"#REF!","v":{"$error":"#REF!"}},{"$f":"AP67*AQ67*(IF(AR67=1,#REF!,1.732*#REF!))","v":{"$error":"#REF!"}},{"$f":"#REF!","v":{"$error":"#REF!"}},{"$f":"#REF!","v":{"$error":"#REF!"}},{"$error":"#REF!"},{"$f":"AT67*AU67*(IF(AV67=1,#REF!,1.732*#REF!))","v":{"$error":"#REF!"}},{"$error":"#REF!"},{"$f":"#REF!","v":{"$error":"#REF!"}},{"$f":"#REF!","v":{"$error":"#REF!"}},{"$error":"#REF!"},{"$f":"AY67*AZ67*(IF(BA67=1,#REF!,1.732*#REF!))","v":{"$error":"#REF!"}},{"$f":"#REF!","v":{"$error":"#REF!"}},{"$f":"#REF!","v":{"$error":"#REF!"}},{"$error":"#REF!"},{"$f":"BC67*BD67*(IF(BE67=1,#REF!,1.732*#REF!))","v":{"$error":"#REF!"}},{"$error":"#REF!"}]
[null,null,null,null,null,null,null,null,null,null,null,null,null,{"$error":"#REF!"},{"$f":"LEFT(#REF!,2)","v":{"$error":"#REF!"}},{"$error":"#REF!"},{"$f":"RIGHT(#REF!,2)","v":{"$error":"#REF!"}},{"$error":"#REF!"},{"$error":"#REF!"},{"$f":"LEFT(#REF!,2)","v":{"$error":"#REF!"}},{"$error":"#REF!"},{"$f":"RIGHT(#REF!,2)","v":{"$error":"#REF!"}},{"$error":"#REF!"},{"$error":"#REF!"},{"$f":"LEFT(#REF!,2)","v":{"$error":"#REF!"}},{"$error":"#REF!"},{"$f":"RIGHT(#REF!,2)","v":{"$error":"#REF!"}},{"$error":"#REF!"},{"$error":"#REF!"},{"$f":"LEFT(#REF!,2)","v":{"$error":"#REF!"}},{"$error":"#REF!"},{"$f":"RIGHT(#REF!,2)","v":{"$error":"#REF!"}},{"$error":"#REF!"},null,{"$f":"#REF!*12000","v":{"$error":"#REF!"}},{"$f":"(#REF!*4.5*('Preliminary Calculations '!R68-'Preliminary Calculations '!W68))","v":{"$error":"#REF!"}},"",{"$f":"#REF!*12000","v":{"$error":"#REF!"}},{"$f":"(#REF!*4.5*('Preliminary Calculations '!AB68-'Preliminary Calculations '!AG68))","v":{"$error":"#REF!"}},"",null,{"$f":"#REF!","v":{"$error":"#REF!"}},{"$f":"#REF!","v":{"$error":"#REF!"}},{"$f":"#REF!","v":{"$error":"#REF!"}},{"$f":"AP68*AQ68*(IF(AR68=1,#REF!,1.732*#REF!))","v":{"$error":"#REF!"}},{"$f":"#REF!","v":{"$error":"#REF!"}},{"$f":"#REF!","v":{"$error":"#REF!"}},{"$error":"#REF!"},{"$f":"AT68*AU68*(IF(AV68=1,#REF!,1.732*#REF!))","v":{"$error":"#REF!"}},{"$error":"#REF!"},{"$f":"#REF!","v":{"$error":"#REF!"}},{"$f":"#REF!","v":{"$error":"#REF!"}},{"$error":"#REF!"},{"$f":"AY68*AZ68*(IF(BA68=1,#REF!,1.732*#REF!))","v":{"$error":"#REF!"}},{"$f":"#REF!","v":{"$error":"#REF!"}},{"$f":"#REF!","v":{"$error":"#REF!"}},{"$error":"#REF!"},{"$f":"BC68*BD68*(IF(BE68=1,#REF!,1.732*#REF!))","v":{"$error":"#REF!"}},{"$error":"#REF!"}]
[null,null,null,null,null,null,null,null,null,null,null,null,null,{"$error":"#REF!"},{"$f":"LEFT(#REF!,2)","v":{"$error":"#REF!"}},{"$error":"#REF!"},{"$f":"RIGHT(#REF!,2)","v":{"$error":"#REF!"}},{"$error":"#REF!"},{"$error":"#REF!"},{"$f":"LEFT(#REF!,2)","v":{"$error":"#REF!"}},{"$error":"#REF!"},{"$f":"RIGHT(#REF!,2)","v":{"$error":"#REF!"}},{"$error":"#REF!"},{"$error":"#REF!"},{"$f":"LEFT(#REF!,2)","v":{"$error":"#REF!"}},{"$error":"#REF!"},{"$f":"RIGHT(#REF!,2)","v":{"$error":"#REF!"}},{"$error":"#REF!"},{"$error":"#REF!"},{"$f":"LEFT(#REF!,2)","v":{"$error":"#REF!"}},{"$error":"#REF!"},{"$f":"RIGHT(#REF!,2)","v":{"$error":"#REF!"}},{"$error":"#REF!"},null,{"$f":"#REF!*12000","v":{"$error":"#REF!"}},{"$f":"(#REF!*4.5*('Preliminary Calculations '!R69-'Preliminary Calculations '!W69))","v":{"$error":"#REF!"}},"",{"$f":"#REF!*12000","v":{"$error":"#REF!"}},{"$f":"(#REF!*4.5*('Preliminary Calculations '!AB69-'Preliminary Calculations '!AG69))","v":{"$error":"#REF!"}},"",null,{"$f":"#REF!","v":{"$error":"#REF!"}},{"$f":"#REF!","v":{"$error":"#REF!"}},{"$f":"#REF!","v":{"$error":"#REF!"}},{"$f":"AP69*AQ69*(IF(AR69=1,#REF!,1.732*#REF!))","v":{"$error":"#REF!"}},{"$f":"#REF!","v":{"$error":"#REF!"}},{"$f":"#REF!","v":{"$error":"#REF!"}},{"$error":"#REF!"},{"$f":"AT69*AU69*(IF(AV69=1,#REF!,1.732*#REF!))","v":{"$error":"#REF!"}},{"$error":"#REF!"},{"$f":"#REF!","v":{"$error":"#REF!"}},{"$f":"#REF!","v":{"$error":"#REF!"}},{"$error":"#REF!"},{"$f":"AY69*AZ69*(IF(BA69=1,#REF!,1.732*#REF!))","v":{"$error":"#REF!"}},{"$f":"#REF!","v":{"$error":"#REF!"}},{"$f":"#REF!","v":{"$error":"#REF!"}},{"$error":"#REF!"},{"$f":"BC69*BD69*(IF(BE69=1,#REF!,1.732*#REF!))","v":{"$error":"#REF!"}},{"$error":"#REF!"}]
[null,null,null,null,null,null,null,null,null,null,null,null,null,{"$f":"VALUE(O70)","v":{"$error":"#REF!"}},{"$f":"LEFT(#REF!,2)","v":{"$error":"#REF!"}},{"$f":"IF(VALUE(Q70)>1,0,VALUE(Q70))","v":{"$error":"#REF!"}},{"$f":"RIGHT(#REF!,2)","v":{"$error":"#REF!"}},{"$f":"INDEX($C$5:$L$55, MATCH(N70,$B$5:$B$55,0), MATCH(P70,$C$4:$L$4,0))","v":{"$error":"#REF!"}},{"$f":"VALUE(T70)","v":{"$error":"#REF!"}},{"$f":"LEFT(#REF!,2)","v":{"$error":"#REF!"}},{"$f":"IF(VALUE(V70)>1,0,VALUE(V70))","v":{"$error":"#REF!"}},{"$f":"RIGHT(#REF!,2)","v":{"$error":"#REF!"}},{"$f":"INDEX($C$5:$L$55, MATCH(S70,$B$5:$B$55,0), MATCH(U70,$C$4:$L$4,0))","v":{"$error":"#REF!"}},{"$f":"VALUE(Y70)","v":{"$error":"#REF!"}},{"$f":"LEFT(#REF!,2)","v":{"$error":"#REF!"}},{"$f":"IF(VALUE(AA70)>1,0,VALUE(AA70))","v":{"$error":"#REF!"}},{"$f":"RIGHT(#REF!,2)","v":{"$error":"#REF!"}},{"$f":"INDEX($C$5:$L$55, MATCH(X70,$B$5:$B$55,0), MATCH(Z70,$C$4:$L$4,0))","v":{"$error":"#REF!"}},{"$f":"VALUE(AD70)","v":{"$error":"#REF!"}},{"$f":"LEFT(#REF!,2)","v":{"$error":"#REF!"}},{"$f":"IF(VALUE(AF70)>1,0,VALUE(AF70))","v":{"$error":"#REF!"}},{"$f":"RIGHT(#REF!,2)","v":{"$error":"#REF!"}},{"$f":"INDEX($C$5:$L$55, MATCH(AC70,$B$5:$B$55,0), MATCH(AE70,$C$4:$L$4,0))","v":{"$error":"#REF!"}},null,{"$f":"#REF!*12000","v":{"$error":"#REF!"}},{"$f":"(#REF!*4.5*('Preliminary Calculations '!R70-'Preliminary Calculations '!W70))","v":{"$error":"#REF!"}},{"$f":"IFERROR(ROUND(AJ70/AI70,2),\"\")","v":""},{"$f":"#REF!*12000","v":{"$error":"#REF!"}},{"$f":"(#REF!*4.5*('Preliminary Calculations '!AB70-'Preliminary Calculations '!AG70))","v":{"$error":"#REF!"}},"",null,{"$f":"#REF!","v":{"$error":"#REF!"}},{"$f":"#REF!","v":{"$error":"#REF!"}},{"$f":"#REF!","v":{"$error":"#REF!"}},{"$f":"AP70*AQ70*(IF(AR70=1,#REF!,1.732*#REF!))","v":{"$error":"#REF!"}},{"$f":"#REF!","v":{"$error":"#REF!"}},{"$f":"#REF!","v":{"$error":"#REF!"}},{"$f":"AR70","v":{"$error":"#REF!"}},{"$f":"AT70*AU70*(IF(AV70=1,#REF!,1.732*#REF!))","v":{"$error":"#REF!"}},{"$f":"AS70+AW70","v":{"$error":"#REF!"}},{"$f":"#REF!","v":{"$error":"#REF!"}},{"$f":"#REF!","v":{"$error":"#REF!"}},{"$f":"AR70","v":{"$error":"#REF!"}},{"$f":"AY70*AZ70*(IF(BA70=1,#REF!,1.732*#REF!))","v":{"$error":"#REF!"}},{"$f":"#REF!","v":{"$error":"#REF!"}},{"$f":"#REF!","v":{"$error":"#REF!"}},{"$f":"AR70","v":{"$error":"#REF!"}},{"$f":"BC70*BD70*(IF(BE70=1,#REF!,1.732*#REF!))","v":{"$error":"#REF!"}},{"$f":"BB70+BF70","v":{"$error":"#REF!"}}]
[null,null,null,null,null,null,null,null,null,null,null,null,null,{"$f":"VALUE(O71)","v":{"$error":"#REF!"}},{"$f":"LEFT(#REF!,2)","v":{"$error":"#REF!"}},{"$f":"IF(VALUE(Q71)>1,0,VALUE(Q71))","v":{"$error":"#REF!"}},{"$f":"RIGHT(#REF!,2)","v":{"$error":"#REF!"}},{"$f":"INDEX($C$5:$L$55, MATCH(N71,$B$5:$B$55,0), MATCH(P71,$C$4:$L$4,0))","v":{"$error":"#REF!"}},{"$f":"VALUE(T71)","v":{"$error":"#REF!"}},{"$f":"LEFT(#REF!,2)","v":{"$error":"#REF!"}},{"$f":"IF(VALUE(V71)>1,0,VALUE(V71))","v":{"$error":"#REF!"}},{"$f":"RIGHT(#REF!,2)","v":{"$error":"#REF!"}},{"$f":"INDEX($C$5:$L$55, MATCH(S71,$B$5:$B$55,0), MATCH(U71,$C$4:$L$4,0))","v":{"$error":"#REF!"}},{"$f":"VALUE(Y71)","v":{"$error":"#REF!"}},{"$f":"LEFT(#REF!,2)","v":{"$error":"#REF!"}},{"$f":"IF(VALUE(AA71)>1,0,VALUE(AA71))","v":{"$error":"#REF!"}},{"$f":"RIGHT(#REF!,2)","v":{"$error":"#REF!"}},{"$f":"INDEX($C$5:$L$55, MATCH(X71,$B$5:$B$55,0), MATCH(Z71,$C$4:$L$4,0))","v":{"$error":"#REF!"}},{"$f":"VALUE(AD71)","v":{"$error":"#REF!"}},{"$f":"LEFT(#REF!,2)","v":{"$error":"#REF!"}},{"$f":"IF(VALUE(AF71)>1,0,VALUE(AF71))","v":{"$error":"#REF!"}},{"$f":"RIGHT(#REF!,2)","v":{"$error":"#REF!"}},{"$f":"INDEX($C$5:$L$55, MATCH(AC71,$B$5:$B$55,0), MATCH(AE71,$C$4:$L$4,0))","v":{"$error":"#REF!"}},null,{"$f":"#REF!*12000","v":{"$error":"#REF!"}},{"$f":"(#REF!*4.5*('Preliminary Calculations '!R71-'Preliminary Calculations '!W71))","v":{"$error":"#REF!"}},{"$f":"IFERROR(ROUND(AJ71/AI71,2),\"\")","v":""},{"$f":"#REF!*12000","v":{"$error":"#REF!"}},{"$f":"(#REF!*4.5*('Preliminary Calculations '!AB71-'Preliminary Calculations '!AG71))","v":{"$error":"#REF!"}},{"$f":"IFERROR(ROUND(AM71/AL71,2),\"\")","v":""},null,{"$f":"#REF!","v":{"$error":"#REF!"}},{"$f":"#REF!","v":{"$error":"#REF!"}},{"$f":"#REF!","v":{"$error":"#REF!"}},{"$f":"AP71*AQ71*(IF(AR71=1,#REF!,1.732*#REF!))","v":{"$error":"#REF!"}},{"$f":"#REF!","v":{"$error":"#REF!"}},{"$f":"#REF!","v":{"$error":"#REF!"}},{"$f":"AR71","v":{"$error":"#REF!"}},{"$f":"AT71*AU71*(IF(AV71=1,#REF!,1.732*#REF!))","v":{"$error":"#REF!"}},{"$f":"AS71+AW71","v":{"$error":"#REF!"}},{"$f":"#REF!","v":{"$error":"#REF!"}},{"$f":"#REF!","v":{"$error":"#REF!"}},{"$f":"AR71","v":{"$error":"#REF!"}},{"$f":"AY71*AZ71*(IF(BA71=1,#REF!,1.732*#REF!))","v":{"$error":"#REF!"}},{"$f":"#REF!","v":{"$error":"#REF!"}},{"$f":"#REF!","v":{"$error":"#REF!"}},{"$f":"AR71","v":{"$error":"#REF!"}},{"$f":"BC71*BD71*(IF(BE71=1,#REF!,1.732*#REF!))","v":{"$error":"#REF!"}},{"$f":"BB71+BF71","v":{"$error":"#REF!"}}]
[null,null,null,null,null,null,null,null,null,null,null,null,null,{"$f":"VALUE(O72)","v":{"$error":"#REF!"}},{"$f":"LEFT(#REF!,2)","v":{"$error":"#REF!"}},{"$f":"IF(VALUE(Q72)>1,0,VALUE(Q72))","v":{"$error":"#REF!"}},{"$f":"RIGHT(#REF!,2)","v":{"$error":"#REF!"}},{"$f":"INDEX($C$5:$L$55, MATCH(N72,$B$5:$B$55,0), MATCH(P72,$C$4:$L$4,0))","v":{"$error":"#REF!"}},{"$f":"VALUE(T72)","v":{"$error":"#REF!"}},{"$f":"LEFT(#REF!,2)","v":{"$error":"#REF!"}},{"$f":"IF(VALUE(V72)>1,0,VALUE(V72))","v":{"$error":"#REF!"}},{"$f":"RIGHT(#REF!,2)","v":{"$error":"#REF!"}},{"$f":"INDEX($C$5:$L$55, MATCH(S72,$B$5:$B$55,0), MATCH(U72,$C$4:$L$4,0))","v":{"$error":"#REF!"}},{"$f":"VALUE(Y72)","v":{"$error":"#REF!"}},{"$f":"LEFT(#REF!,2)","v":{"$error":"#REF!"}},{"$f":"IF(VALUE(AA72)>1,0,VALUE(AA72))","v":{"$error":"#REF!"}},{"$f":"RIGHT(#REF!,2)","v":{"$error":"#REF!"}},{"$f":"INDEX($C$5:$L$55, MATCH(X72,$B$5:$B$55,0), MATCH(Z72,$C$4:$L$4,0))","v":{"$error":"#REF!"}},{"$f":"VALUE(AD72)","v":{"$error":"#REF!"}},{"$f":"LEFT(#REF!,2)","v":{"$error":"#REF!"}},{"$f":"IF(VALUE(AF72)>1,0,VALUE(AF72))","v":{"$error":"#REF!"}},{"$f":"RIGHT(#REF!,2)","v":{"$error":"#REF!"}},{"$f":"INDEX($C$5:$L$55, MATCH(AC72,$B$5:$B$55,0), MATCH(AE72,$C$4:$L$4,0))","v":{"$error":"#REF!"}},null,{"$f":"#REF!*12000","v":{"$error":"#REF!"}},{"$f":"(#REF!*4.5*('Preliminary Calculations '!R72-'Preliminary Calculations '!W72))","v":{"$error":"#REF!"}},{"$f":"IFERROR(ROUND(AJ72/AI72,2),\"\")","v":""},{"$f":"#REF!*12000","v":{"$error":"#REF!"}},{"$f":"(#REF!*4.5*('Preliminary Calculations '!AB72-'Preliminary Calculations '!AG72))","v":{"$error":"#REF!"}},{"$f":"IFERROR(ROUND(AM72/AL72,2),\"\")","v":""},null,{"$f":"#REF!","v":{"$error":"#REF!"}},{"$f":"#REF!","v":{"$error":"#REF!"}},{"$f":"#REF!","v":{"$error":"#REF!"}},{"$f":"AP72*AQ72*(IF(AR72=1,#REF!,1.732*#REF!))","v":{"$error":"#REF!"}},{"$f":"#REF!","v":{"$error":"#REF!"}},{"$f":"#REF!","v":{"$error":"#REF!"}},{"$f":"AR72","v":{"$error":"#REF!"}},{"$f":"AT72*AU72*(IF(AV72=1,#REF!,1.732*#REF!))","v":{"$error":"#REF!"}},{"$f":"AS72+AW72","v":{"$error":"#REF!"}},{"$f":"#REF!","v":{"$error":"#REF!"}},{"$f":"#REF!","v":{"$error":"#REF!"}},{"$f":"AR72","v":{"$error":"#REF!"}},{"$f":"AY72*AZ72*(IF(BA72=1,#REF!,1.732*#REF!))","v":{"$error":"#REF!"}},{"$f":"#REF!","v":{"$error":"#REF!"}},{"$f":"#REF!","v":{"$error":"#REF!"}},{"$f":"AR72","v":{"$error":"#REF!"}},{"$f":"BC72*BD72*(IF(BE72=1,#REF!,1.732*#REF!))","v":{"$error":"#REF!"}},{"$f":"BB72+BF72","v":{"$error":"#REF!"}}]
[null,null,null,null,null,null,null,null,null,null,null,null,null,{"$f":"VALUE(O73)","v":{"$error":"#REF!"}},{"$f":"LEFT(#REF!,2)","v":{"$error":"#REF!"}},{"$f":"IF(VALUE(Q73)>1,0,VALUE(Q73))","v":{"$error":"#REF!"}},{"$f":"RIGHT(#REF!,2)","v":{"$error":"#REF!"}},{"$f":"INDEX($C$5:$L$55, MATCH(N73,$B$5:$B$55,0), MATCH(P73,$C$4:$L$4,0))","v":{"$error":"#REF!"}},{"$f":"VALUE(T73)","v":{"$error":"#REF!"}},{"$f":"LEFT(#REF!,2)","v":{"$error":"#REF!"}},{"$f":"IF(VALUE(V73)>1,0,VALUE(V73))","v":{"$error":"#REF!"}},{"$f":"RIGHT(#REF!,2)","v":{"$error":"#REF!"}},{"$f":"INDEX($C$5:$L$55, MATCH(S73,$B$5:$B$55,0), MATCH(U73,$C$4:$L$4,0))","v":{"$error":"#REF!"}},{"$f":"VALUE(Y73)","v":{"$error":"#REF!"}},{"$f":"LEFT(#REF!,2)","v":{"$error":"#REF!"}},{"$f":"IF(VALUE(AA73)>1,0,VALUE(AA73))","v":{"$error":"#REF!"}},{"$f":"RIGHT(#REF!,2)","v":{"$error":"#REF!"}},{"$f":"INDEX($C$5:$L$55, MATCH(X73,$B$5:$B$55,0), MATCH(Z73,$C$4:$L$4,0))","v":{"$error":"#REF!"}},{"$f":"VALUE(AD73)","v":{"$error":"#REF!"}},{"$f":"LEFT(#REF!,2)","v":{"$error":"#REF!"}},{"$f":"IF(VALUE(AF73)>1,0,VALUE(AF73))","v":{"$error":"#REF!"}},{"$f":"RIGHT(#REF!,2)","v":{"$error":"#REF!"}},{"$f":"INDEX($C$5:$L$55, MATCH(AC73,$B$5:$B$55,0), MATCH(AE73,$C$4:$L$4,0))","v":{"$error":"#REF!"}},null,{"$f":"#REF!*12000","v":{"$error":"#REF!"}},{"$f":"(#REF!*4.5*('Preliminary Calculations '!R73-'Preliminary Calculations '!W73))","v":{"$error":"#REF!"}},{"$f":"IFERROR(ROUND(AJ73/AI73,2),\"\")","v":""},{"$f":"#REF!*12000","v":{"$error":"#REF!"}},{"$f":"(#REF!*4.5*('Preliminary Calculations '!AB73-'Preliminary Calculations '!AG73))","v":{"$error":"#REF!"}},{"$f":"IFERROR(ROUND(AM73/AL73,2),\"\")","v":""},null,{"$f":"#REF!","v":{"$error":"#REF!"}},{"$f":"#REF!","v":{"$error":"#REF!"}},{"$f":"#REF!","v":{"$error":"#REF!"}},{"$f":"AP73*AQ73*(IF(AR73=1,#REF!,1.732*#REF!))","v":{"$error":"#REF!"}},{"$f":"#REF!","v":{"$error":"#REF!"}},{"$f":"#REF!","v":{"$error":"#REF!"}},{"$f":"AR73","v":{"$error":"#REF!"}},{"$f":"AT73*AU73*(IF(AV73=1,#REF!,1.732*#REF!))","v":{"$error":"#REF!"}},{"$f":"AS73+AW73","v":{"$error":"#REF!"}},{"$f":"#REF!","v":{"$error":"#REF!"}},{"$f":"#REF!","v":{"$error":"#REF!"}},{"$f":"AR73","v":{"$error":"#REF!"}},{"$f":"AY73*AZ73*(IF(BA73=1,#REF!,1.732*#REF!))","v":{"$error":"#REF!"}},{"$f":"#REF!","v":{"$error":"#REF!"}},{"$f":"#REF!","v":{"$error":"#REF!"}},{"$f":"AR73","v":{"$error":"#REF!"}},{"$f":"BC73*BD73*(IF(BE73=1,#REF!,1.732*#REF!))","v":{"$error":"#REF!"}},{"$f":"BB73+BF73","v":{"$error":"#REF!"}}]
[null,null,null,null,null,null,null,null,null,null,null,null,null,{"$f":"VALUE(O74)","v":{"$error":"#REF!"}},{"$f":"LEFT(#REF!,2)","v":{"$error":"#REF!"}},{"$f":"IF(VALUE(Q74)>1,0,VALUE(Q74))","v":{"$error":"#REF!"}},{"$f":"RIGHT(#REF!,2)","v":{"$error":"#REF!"}},{"$f":"INDEX($C$5:$L$55, MATCH(N74,$B$5:$B$55,0), MATCH(P74,$C$4:$L$4,0))","v":{"$error":"#REF!"}},{"$f":"VALUE(T74)","v":{"$error":"#REF!"}},{"$f":"LEFT(#REF!,2)","v":{"$error":"#REF!"}},{"$f":"IF(VALUE(V74)>1,0,VALUE(V74))","v":{"$error":"#REF!"}},{"$f":"RIGHT(#REF!,2)","v":{"$error":"#REF!"}},{"$f":"INDEX($C$5:$L$55, MATCH(S74,$B$5:$B$55,0), MATCH(U74,$C$4:$L$4,0))","v":{"$error":"#REF!"}},{"$f":"VALUE(Y74)","v":{"$error":"#REF!"}},{"$f":"LEFT(#REF!,2)","v":{"$error":"#REF!"}},{"$f":"IF(VALUE(AA74)>1,0,VALUE(AA74))","v":{"$error":"#REF!"}},{"$f":"RIGHT(#REF!,2)","v":{"$error":"#REF!"}},{"$f":"INDEX($C$5:$L$55, MATCH(X74,$B$5:$B$55,0), MATCH(Z74,$C$4:$L$4,0))","v":{"$error":"#REF!"}},{"$f":"VALUE(AD74)","v":{"$error":"#REF!"}},{"$f":"LEFT(#REF!,2)","v":{"$error":"#REF!"}},{"$f":"IF(VALUE(AF74)>1,0,VALUE(AF74))","v":{"$error":"#REF!"}},{"$f":"RIGHT(#REF!,2)","v":{"$error":"#REF!"}},{"$f":"INDEX($C$5:$L$55, MATCH(AC74,$B$5:$B$55,0), MATCH(AE74,$C$4:$L$4,0))","v":{"$error":"#REF!"}},null,{"$f":"#REF!*12000","v":{"$error":"#REF!"}},{"$f":"(#REF!*4.5*('Preliminary Calculations '!R74-'Preliminary Calculations '!W74))","v":{"$error":"#REF!"}},{"$f":"IFERROR(ROUND(AJ74/AI74,2),\"\")","v":""},{"$f":"#REF!*12000","v":{"$error":"#REF!"}},{"$f":"(#REF!*4.5*('Preliminary Calculations '!AB74-'Preliminary Calculations '!AG74))","v":{"$error":"#REF!"}},{"$f":"IFERROR(ROUND(AM74/AL74,2),\"\")","v":""},null,{"$f":"#REF!","v":{"$error":"#REF!"}},{"$f":"#REF!","v":{"$error":"#REF!"}},{"$f":"#REF!","v":{"$error":"#REF!"}},{"$f":"AP74*AQ74*(IF(AR74=1,#REF!,1.732*#REF!))","v":{"$error":"#REF!"}},{"$f":"#REF!","v":{"$error":"#REF!"}},{"$f":"#REF!","v":{"$error":"#REF!"}},{"$f":"AR74","v":{"$error":"#REF!"}},{"$f":"AT74*AU74*(IF(AV74=1,#REF!,1.732*#REF!))","v":{"$error":"#REF!"}},{"$f":"AS74+AW74","v":{"$error":"#REF!"}},{"$f":"#REF!","v":{"$error":"#REF!"}},{"$f":"#REF!","v":{"$error":"#REF!"}},{"$f":"AR74","v":{"$error":"#REF!"}},{"$f":"AY74*AZ74*(IF(BA74=1,#REF!,1.732*#REF!))","v":{"$error":"#REF!"}},{"$f":"#REF!","v":{"$error":"#REF!"}},{"$f":"#REF!","v":{"$error":"#REF!"}},{"$f":"AR74","v":{"$error":"#REF!"}},{"$f":"BC74*BD74*(IF(BE74=1,#REF!,1.732*#REF!))","v":{"$error":"#REF!"}},{"$f":"BB74+BF74","v":{"$error":"#REF!"}}]

{"sheet":"Equipment Information","index":5,"n_rows":45,"n_cols":36,"rows_kept":45,"cut":false,"hidden":false,"merged":[[11,11,11,13],[16,2,17,2],[16,3,17,3],[16,4,17,4],[16,8,17,8],[16,9,17,9],[16,7,17,7],[16,6,17,6],[12,15,12,16],[16,10,17,10],[16,15,17,15],[16,16,17,16],[15,2,15,13],[44,30,45,30],[44,32,45,32],[44,33,45,33],[44,34,45,34],[15,27,17,27],[15,28,17,28],[15,30,17,30],[44,35,45,35],[15,31,17,31],[15,35,17,35],[15,32,17,32],[15,33,17,33],[15,34,17,34],[44,31,45,31],[44,2,45,2],[44,13,45,13],[15,29,17,29],[15,25,17,25],[15,26,17,26],[15,23,17,23],[15,20,17,20],[16,17,17,17],[16,18,17,18],[16,11,17,11],[16,12,17,12],[15,21,17,21],[15,14,15,18],[16,14,17,14],[44,20,45,20],[8,17,8,18],[9,11,9,13],[9,15,9,16],[15,24,17,24],[7,3,7,13],[8,2,8,16],[9,3,9,5],[15,22,17,22],[16,13,17,13],[16,5,17,5],[10,3,10,5],[11,3,11,5],[12,3,12,5],[10,11,10,13],[10,15,10,16],[11,15,11,16]]}
[]
[]
[]
[null,null,null,"HVAC Tune-up worksheet"]
[]
[null,null,null,"Building Tune-Up Program"]
[null,null,null,{"$f":"'Version Tracking'!B2","v":"Version 6.2"}]
[]
[null,null,"Required General Project Information",null,null,null,null,null,null,null,null,null,null,null,null,null,null,"Summary Table"]
[null,null,"Customer Name",null,null,null,null,"Phone",null,null,"Contractor Name",null,null,null,"Phone",null,null,"Project ID:"]
[null,null,"Customer Contact",null,null,null,null,"Email",null,null,"Contractor Contact",null,null,null,"Email",null,null,"Total Incentive",{"$f":"AI45","v":0}]
[null,null,"Address",null,null,null,null,"City",null,null,"Address",null,null,null,"City",null,null,"Total kWh Saved:",{"$f":"AJ45","v":0}]
[null,null,"Building type",null,null,null,null,"Zip",null,null,null,null,null,null,"Zip",null,null,"Total kW Saved:",{"$f":"AH45","v":0}]
[null,null,null,null,null,null,null,null,null,null,null,null,null,null,null,null,null,"Total kW (PJM):",{"$f":"AG45","v":0}]
[]
[null,null,"GENERAL EQUIPMENT INFORMATION",null,null,null,null,null,null,null,null,null,null,null,"MAINTENANCE INFORMATION",null,null,null,null,null,"Number of units","HVAC unit size (tons)","Cooling Hours","Heating Hours","CF PJM","CF SSP","6.32% percent savings based on IL TRM","Degradation Factor for Age (DFA)","Heating COP","Cooling efficiency EER","Estimated Cooling Savings for HVAC tune-up (kWh)  ","Estimated heating Savings for HVAC tune-up (kWh)  ","Estimated Demand Savings for HVAC tune-up (kW PJM)","Estimated Demand Savings for HVAC tune-up (kW SSP) ","Total incentive","Total Savings"]
[null,null,"Unit name or number","HVAC unit manufacturer","RTU / Condensing Unit unit model number","Indoor unit model number for split systems","Year of manufacture","Age of unit / years","HVAC unit type*  ","Rated cooling capacity (tons)  ","Cooling Efficiency (EER)","Rated heating capacity for heat pump (tons) ","Heating Efficiency (COP)","Number of similar units (if applicable)","Date of maintenance (m/d/yyyy)","Refrigerant Type","Coils inspected and cleaned?","Air filter replaced or cleaned?","List any other maintenance done "]
[null,null,null,null,null,null,null,null,null,null,"Cooling Efficiency "]
[null,null,"Unit 1","ABC","ABC090","NA",2012,10,"Package RTU AC only",7.5,10,null,null,2,"2022-03-09","R410","Yes","Yes","Checked refrigerant"]
[null,null,null,null,null,null,null,null,null,null,null,null,null,null,null,null,null,null,null,null,{"$f":"N20","v":0},{"$f":"IF(J20=\"\",\"\",J20/12000)","v":""},{"$f":"VLOOKUP($D$13,Lookups!$C$119:$G$140,5,FALSE)","v":{"$error":"#N/A"}},{"$f":"VLOOKUP($D$13,Lookups!$C$146:$G$167,5,FALSE)","v":{"$error":"#N/A"}},{"$f":"IF(J20=\"\",0,IF(J20<11.25,0.36,0.567))","v":0},{"$f":"IF(J20=\"\",0,IF(J20<11.25,0.588,0.874))","v":0},6.3200000000000006E-2,{"$f":"IF(ISBLANK(H20),\"\",0.99^H20)","v":""},{"$f":"IF(ISBLANK(M20),IFERROR(_xlfn.IFS(OR(I20=\"Package RTU Heat Pump\",I20=\"Split System Heat Pump\"),\nIF(G20<2010,\nIF(L20<5.4,Lookups!$K$135, IF(AND(L20>=5.4,L20<11.25),Lookups!$K$136, IF(AND(L20>=11.25,L20<20),Lookups!$K$137,Lookups!$K$138))),\nIF(L20<5.4,Lookups!$J$135, IF(AND(L20>=5.4,L20<11.25),Lookups!$J$136, IF(AND(L20>=11.25,L20<20),Lookups!$J$137,Lookups!$J$138)))),\nI20=\"Packaged Terminal Heat Pump\",\nIF(G20<2010,\nIF(L20<0.75,Lookups!$K$156, IF(AND(L20>=0.75,L20<1),Lookups!$K$157, Lookups!$K$158)),\nIF(L20<0.75,Lookups!$J$156, IF(AND(L20>=0.75,L20<1),Lookups!$J$157, Lookups!$J$158))),\nI20=\"Ductless Mini Split Heat Pump\",\nIF(G20<2010,\nIF(L20<0.75,Lookups!$K$174, IF(AND(L20>=0.75,L20<1),Lookups!$K$175, Lookups!$K$176)),\nIF(L20<0.75,Lookups!$J$174, IF(AND(L20>=0.75,L20<1),Lookups!$J$175, Lookups!$J$176)))\n),\"\"),M20)","v":""},{"$f":"IF(ISBLANK(K20),IFERROR(_xlfn.IFS(OR(I20=\"Package RTU Heat Pump\",I20=\"Split System Heat Pump\"),\nIF(G20<2010,\nIF(J20<5.4,Lookups!$K$128, IF(AND(J20>=5.4,J20<11.25),Lookups!$K$129, IF(AND(J20>=11.25,J20<20),Lookups!$K$130,Lookups!$K$131))),\nIF(J20<5.4,Lookups!$J$128, IF(AND(J20>=5.4,J20<11.25),Lookups!$J$129, IF(AND(J20>=11.25,J20<20),Lookups!$J$130,Lookups!$J$131)))),\nOR(I20=\"Package RTU AC only\",I20=\"Split System AC\"),\nIF(G20<2010,\nIF(J20<5.4,Lookups!$K$120, IF(AND(J20>=5.4,J20<11.25),Lookups!$K$121, IF(AND(J20>=11.25,J20<20),Lookups!$K$122,Lookups!$K$123))),\nIF(J20<5.4,Lookups!$J$120, IF(AND(J20>=5.4,J20<11.25),Lookups!$J$121, IF(AND(J20>=11.25,J20<20),Lookups!$J$122,Lookups!$J$123)))),\nI20=\"Packaged Terminal AC\",\nIF(G20<2010,\nIF(J20<0.75,Lookups!$K$144, IF(AND(J20>=0.75,J20<1),Lookups!$K$145,Lookups!$K$146)),\nIF(J20<0.75,Lookups!$J$144, IF(AND(J20>=0.75,J20<1),Lookups!$J$145, Lookups!$J$146))),\nI20=\"Packaged Terminal Heat Pump\",\nIF(G20<2010,\nIF(J20<0.75,Lookups!$K$150, IF(AND(J20>=0.75,J20<1),Lookups!$K$151,Lookups!$K$152)),\nIF(J20<0.75,Lookups!$J$150, IF(AND(J20>=0.75,J20<1),Lookups!$J$151, Lookups!$J$152))),\nI20=\"Ductless Mini Split AC\",\nIF(G20<2010,\nIF(J20<0.75,Lookups!$K$162, IF(AND(J20>=0.75,J20<1),Lookups!$K$163,Lookups!$K$164)),\nIF(J20<0.75,Lookups!$J$162, IF(AND(J20>=0.75,J20<1),Lookups!$J$163, Lookups!$J$164))),\nI20=\"Ductless Mini Split Heat Pump\",\nIF(G20<2010,\nIF(J20<0.75,Lookups!$K$168, IF(AND(J20>=0.75,J20<1),Lookups!$K$169,Lookups!$K$170)),\nIF(J20<0.75,Lookups!$J$168, IF(AND(J20>=0.75,J20<1),Lookups!$J$169, Lookups!$J$170)))\n),\"\"),K20)","v":""},{"$f":"IFERROR(((J20*12)*W20*(1/AD20)*AA20),0)*N20","v":0},{"$f":"IFERROR(((L20*12)*X20*(1/(AC20*3.412))*AA20),0)*N20","v":0},{"$f":"IFERROR(((J20*12)*(1/AD20)*AA20),0)*Y20*N20","v":0},{"$f":"IFERROR(((J20*12)*(1/AD20)*AA20),0)*Z20*N20","v":0},{"$f":"IF(J20>=3,(140*N20),J20*30*N20)","v":0},{"$f":"AE20","v":0}]
[null,null,null,null,null,null,null,null,null,null,null,null,null,null,null,null,null,null,null,null,0,"",{"$f":"VLOOKUP($D$13,Lookups!$C$119:$G$140,5,FALSE)","v":{"$error":"#N/A"}},{"$f":"VLOOKUP($D$13,Lookups!$C$146:$G$167,5,FALSE)","v":{"$error":"#N/A"}},{"$f":"IF(J21=\"\",0,IF(J21<11.25,0.36,0.567))","v":0},{"$f":"IF(J21=\"\",0,IF(J21<11.25,0.588,0.874))","v":0},6.3200000000000006E-2,{"$f":"IF(ISBLANK(H21),\"\",0.99^H21)","v":""},{"$f":"IF(ISBLANK(M21),IFERROR(_xlfn.IFS(OR(I21=\"Package RTU Heat Pump\",I21=\"Split System Heat Pump\"),\nIF(G21<2010,\nIF(L21<5.4,Lookups!$K$135, IF(AND(L21>=5.4,L21<11.25),Lookups!$K$136, IF(AND(L21>=11.25,L21<20),Lookups!$K$137,Lookups!$K$138))),\nIF(L21<5.4,Lookups!$J$135, IF(AND(L21>=5.4,L21<11.25),Lookups!$J$136, IF(AND(L21>=11.25,L21<20),Lookups!$J$137,Lookups!$J$138)))),\nI21=\"Packaged Terminal Heat Pump\",\nIF(G21<2010,\nIF(L21<0.75,Lookups!$K$156, IF(AND(L21>=0.75,L21<1),Lookups!$K$157, Lookups!$K$158)),\nIF(L21<0.75,Lookups!$J$156, IF(AND(L21>=0.75,L21<1),Lookups!$J$157, Lookups!$J$158))),\nI21=\"Ductless Mini Split Heat Pump\",\nIF(G21<2010,\nIF(L21<0.75,Lookups!$K$174, IF(AND(L21>=0.75,L21<1),Lookups!$K$175, Lookups!$K$176)),\nIF(L21<0.75,Lookups!$J$174, IF(AND(L21>=0.75,L21<1),Lookups!$J$175, Lookups!$J$176)))\n),\"\"),M21)","v":""},{"$f":"IF(ISBLANK(K21),IFERROR(_xlfn.IFS(OR(I21=\"Package RTU Heat Pump\",I21=\"Split System Heat Pump\"),\nIF(G21<2010,\nIF(J21<5.4,Lookups!$K$128, IF(AND(J21>=5.4,J21<11.25),Lookups!$K$129, IF(AND(J21>=11.25,J21<20),Lookups!$K$130,Lookups!$K$131))),\nIF(J21<5.4,Lookups!$J$128, IF(AND(J21>=5.4,J21<11.25),Lookups!$J$129, IF(AND(J21>=11.25,J21<20),Lookups!$J$130,Lookups!$J$131)))),\nOR(I21=\"Package RTU AC only\",I21=\"Split System AC\"),\nIF(G21<2010,\nIF(J21<5.4,Lookups!$K$120, IF(AND(J21>=5.4,J21<11.25),Lookups!$K$121, IF(AND(J21>=11.25,J21<20),Lookups!$K$122,Lookups!$K$123))),\nIF(J21<5.4,Lookups!$J$120, IF(AND(J21>=5.4,J21<11.25),Lookups!$J$121, IF(AND(J21>=11.25,J21<20),Lookups!$J$122,Lookups!$J$123)))),\nI21=\"Packaged Terminal AC\",\nIF(G21<2010,\nIF(J21<0.75,Lookups!$K$144, IF(AND(J21>=0.75,J21<1),Lookups!$K$145,Lookups!$K$146)),\nIF(J21<0.75,Lookups!$J$144, IF(AND(J21>=0.75,J21<1),Lookups!$J$145, Lookups!$J$146))),\nI21=\"Packaged Terminal Heat Pump\",\nIF(G21<2010,\nIF(J21<0.75,Lookups!$K$150, IF(AND(J21>=0.75,J21<1),Lookups!$K$151,Lookups!$K$152)),\nIF(J21<0.75,Lookups!$J$150, IF(AND(J21>=0.75,J21<1),Lookups!$J$151, Lookups!$J$152))),\nI21=\"Ductless Mini Split AC\",\nIF(G21<2010,\nIF(J21<0.75,Lookups!$K$162, IF(AND(J21>=0.75,J21<1),Lookups!$K$163,Lookups!$K$164)),\nIF(J21<0.75,Lookups!$J$162, IF(AND(J21>=0.75,J21<1),Lookups!$J$163, Lookups!$J$164))),\nI21=\"Ductless Mini Split Heat Pump\",\nIF(G21<2010,\nIF(J21<0.75,Lookups!$K$168, IF(AND(J21>=0.75,J21<1),Lookups!$K$169,Lookups!$K$170)),\nIF(J21<0.75,Lookups!$J$168, IF(AND(J21>=0.75,J21<1),Lookups!$J$169, Lookups!$J$170)))\n),\"\"),K21)","v":""},{"$f":"IFERROR(((J21*12)*W21*(1/AD21)*AA21),0)*N21","v":0},{"$f":"IFERROR(((L21*12)*X21*(1/(AC21*3.412))*AA21),0)*N21","v":0},{"$f":"IFERROR(((J21*12)*(1/AD21)*AA21),0)*Y21*N21","v":0},{"$f":"IFERROR(((J21*12)*(1/AD21)*AA21),0)*Z21*N21","v":0},{"$f":"IF(J21>=3,(140*N21),J21*30*N21)","v":0},{"$f":"AE21","v":0}]
[null,null,null,null,null,null,null,null,null,null,null,null,null,null,null,null,null,null,null,null,0,"",{"$f":"VLOOKUP($D$13,Lookups!$C$119:$G$140,5,FALSE)","v":{"$error":"#N/A"}},{"$f":"VLOOKUP($D$13,Lookups!$C$146:$G$167,5,FALSE)","v":{"$error":"#N/A"}},0,0,6.3200000000000006E-2,{"$f":"IF(ISBLANK(H22),\"\",0.99^H22)","v":""},{"$f":"IF(ISBLANK(M22),IFERROR(_xlfn.IFS(OR(I22=\"Package RTU Heat Pump\",I22=\"Split System Heat Pump\"),\nIF(G22<2010,\nIF(L22<5.4,Lookups!$K$135, IF(AND(L22>=5.4,L22<11.25),Lookups!$K$136, IF(AND(L22>=11.25,L22<20),Lookups!$K$137,Lookups!$K$138))),\nIF(L22<5.4,Lookups!$J$135, IF(AND(L22>=5.4,L22<11.25),Lookups!$J$136, IF(AND(L22>=11.25,L22<20),Lookups!$J$137,Lookups!$J$138)))),\nI22=\"Packaged Terminal Heat Pump\",\nIF(G22<2010,\nIF(L22<0.75,Lookups!$K$156, IF(AND(L22>=0.75,L22<1),Lookups!$K$157, Lookups!$K$158)),\nIF(L22<0.75,Lookups!$J$156, IF(AND(L22>=0.75,L22<1),Lookups!$J$157, Lookups!$J$158))),\nI22=\"Ductless Mini Split Heat Pump\",\nIF(G22<2010,\nIF(L22<0.75,Lookups!$K$174, IF(AND(L22>=0.75,L22<1),Lookups!$K$175, Lookups!$K$176)),\nIF(L22<0.75,Lookups!$J$174, IF(AND(L22>=0.75,L22<1),Lookups!$J$175, Lookups!$J$176)))\n),\"\"),M22)","v":""},{"$f":"IF(ISBLANK(K22),IFERROR(_xlfn.IFS(OR(I22=\"Package RTU Heat Pump\",I22=\"Split System Heat Pump\"),\nIF(G22<2010,\nIF(J22<5.4,Lookups!$K$128, IF(AND(J22>=5.4,J22<11.25),Lookups!$K$129, IF(AND(J22>=11.25,J22<20),Lookups!$K$130,Lookups!$K$131))),\nIF(J22<5.4,Lookups!$J$128, IF(AND(J22>=5.4,J22<11.25),Lookups!$J$129, IF(AND(J22>=11.25,J22<20),Lookups!$J$130,Lookups!$J$131)))),\nOR(I22=\"Package RTU AC only\",I22=\"Split System AC\"),\nIF(G22<2010,\nIF(J22<5.4,Lookups!$K$120, IF(AND(J22>=5.4,J22<11.25),Lookups!$K$121, IF(AND(J22>=11.25,J22<20),Lookups!$K$122,Lookups!$K$123))),\nIF(J22<5.4,Lookups!$J$120, IF(AND(J22>=5.4,J22<11.25),Lookups!$J$121, IF(AND(J22>=11.25,J22<20),Lookups!$J$122,Lookups!$J$123)))),\nI22=\"Packaged Terminal AC\",\nIF(G22<2010,\nIF(J22<0.75,Lookups!$K$144, IF(AND(J22>=0.75,J22<1),Lookups!$K$145,Lookups!$K$146)),\nIF(J22<0.75,Lookups!$J$144, IF(AND(J22>=0.75,J22<1),Lookups!$J$145, Lookups!$J$146))),\nI22=\"Packaged Terminal Heat Pump\",\nIF(G22<2010,\nIF(J22<0.75,Lookups!$K$150, IF(AND(J22>=0.75,J22<1),Lookups!$K$151,Lookups!$K$152)),\nIF(J22<0.75,Lookups!$J$150, IF(AND(J22>=0.75,J22<1),Lookups!$J$151, Lookups!$J$152))),\nI22=\"Ductless Mini Split AC\",\nIF(G22<2010,\nIF(J22<0.75,Lookups!$K$162, IF(AND(J22>=0.75,J22<1),Lookups!$K$163,Lookups!$K$164)),\nIF(J22<0.75,Lookups!$J$162, IF(AND(J22>=0.75,J22<1),Lookups!$J$163, Lookups!$J$164))),\nI22=\"Ductless Mini Split Heat Pump\",\nIF(G22<2010,\nIF(J22<0.75,Lookups!$K$168, IF(AND(J22>=0.75,J22<1),Lookups!$K$169,Lookups!$K$170)),\nIF(J22<0.75,Lookups!$J$168, IF(AND(J22>=0.75,J22<1),Lookups!$J$169, Lookups!$J$170)))\n),\"\"),K22)","v":""},0,0,0,0,0,{"$f":"AE22","v":0}]
[null,null,null,null,null,null,null,null,null,null,null,null,null,null,null,null,null,null,null,null,0,"",{"$f":"VLOOKUP($D$13,Lookups!$C$119:$G$140,5,FALSE)","v":{"$error":"#N/A"}},{"$f":"VLOOKUP($D$13,Lookups!$C$146:$G$167,5,FALSE)","v":{"$error":"#N/A"}},0,0,6.3200000000000006E-2,"",{"$f":"IF(ISBLANK(M23),IFERROR(_xlfn.IFS(OR(I23=\"Package RTU Heat Pump\",I23=\"Split System Heat Pump\"),\nIF(G23<2010,\nIF(L23<5.4,Lookups!$K$135, IF(AND(L23>=5.4,L23<11.25),Lookups!$K$136, IF(AND(L23>=11.25,L23<20),Lookups!$K$137,Lookups!$K$138))),\nIF(L23<5.4,Lookups!$J$135, IF(AND(L23>=5.4,L23<11.25),Lookups!$J$136, IF(AND(L23>=11.25,L23<20),Lookups!$J$137,Lookups!$J$138)))),\nI23=\"Packaged Terminal Heat Pump\",\nIF(G23<2010,\nIF(L23<0.75,Lookups!$K$156, IF(AND(L23>=0.75,L23<1),Lookups!$K$157, Lookups!$K$158)),\nIF(L23<0.75,Lookups!$J$156, IF(AND(L23>=0.75,L23<1),Lookups!$J$157, Lookups!$J$158))),\nI23=\"Ductless Mini Split Heat Pump\",\nIF(G23<2010,\nIF(L23<0.75,Lookups!$K$174, IF(AND(L23>=0.75,L23<1),Lookups!$K$175, Lookups!$K$176)),\nIF(L23<0.75,Lookups!$J$174, IF(AND(L23>=0.75,L23<1),Lookups!$J$175, Lookups!$J$176)))\n),\"\"),M23)","v":""},{"$f":"IF(ISBLANK(K23),IFERROR(_xlfn.IFS(OR(I23=\"Package RTU Heat Pump\",I23=\"Split System Heat Pump\"),\nIF(G23<2010,\nIF(J23<5.4,Lookups!$K$128, IF(AND(J23>=5.4,J23<11.25),Lookups!$K$129, IF(AND(J23>=11.25,J23<20),Lookups!$K$130,Lookups!$K$131))),\nIF(J23<5.4,Lookups!$J$128, IF(AND(J23>=5.4,J23<11.25),Lookups!$J$129, IF(AND(J23>=11.25,J23<20),Lookups!$J$130,Lookups!$J$131)))),\nOR(I23=\"Package RTU AC only\",I23=\"Split System AC\"),\nIF(G23<2010,\nIF(J23<5.4,Lookups!$K$120, IF(AND(J23>=5.4,J23<11.25),Lookups!$K$121, IF(AND(J23>=11.25,J23<20),Lookups!$K$122,Lookups!$K$123))),\nIF(J23<5.4,Lookups!$J$120, IF(AND(J23>=5.4,J23<11.25),Lookups!$J$121, IF(AND(J23>=11.25,J23<20),Lookups!$J$122,Lookups!$J$123)))),\nI23=\"Packaged Terminal AC\",\nIF(G23<2010,\nIF(J23<0.75,Lookups!$K$144, IF(AND(J23>=0.75,J23<1),Lookups!$K$145,Lookups!$K$146)),\nIF(J23<0.75,Lookups!$J$144, IF(AND(J23>=0.75,J23<1),Lookups!$J$145, Lookups!$J$146))),\nI23=\"Packaged Terminal Heat Pump\",\nIF(G23<2010,\nIF(J23<0.75,Lookups!$K$150, IF(AND(J23>=0.75,J23<1),Lookups!$K$151,Lookups!$K$152)),\nIF(J23<0.75,Lookups!$J$150, IF(AND(J23>=0.75,J23<1),Lookups!$J$151, Lookups!$J$152))),\nI23=\"Ductless Mini Split AC\",\nIF(G23<2010,\nIF(J23<0.75,Lookups!$K$162, IF(AND(J23>=0.75,J23<1),Lookups!$K$163,Lookups!$K$164)),\nIF(J23<0.75,Lookups!$J$162, IF(AND(J23>=0.75,J23<1),Lookups!$J$163, Lookups!$J$164))),\nI23=\"Ductless Mini Split Heat Pump\",\nIF(G23<2010,\nIF(J23<0.75,Lookups!$K$168, IF(AND(J23>=0.75,J23<1),Lookups!$K$169,Lookups!$K$170)),\nIF(J23<0.75,Lookups!$J$168, IF(AND(J23>=0.75,J23<1),Lookups!$J$169, Lookups!$J$170)))\n),\"\"),K23)","v":""},0,0,0,0,0,0]
[null,null,null,null,null,null,null,null,null,null,null,null,null,null,null,null,null,null,null,null,0,"",{"$f":"VLOOKUP($D$13,Lookups!$C$119:$G$140,5,FALSE)","v":{"$error":"#N/A"}},{"$f":"VLOOKUP($D$13,Lookups!$C$146:$G$167,5,FALSE)","v":{"$error":"#N/A"}},0,0,6.3200000000000006E-2,"",{"$f":"IF(ISBLANK(M24),IFERROR(_xlfn.IFS(OR(I24=\"Package RTU Heat Pump\",I24=\"Split System Heat Pump\"),\nIF(G24<2010,\nIF(L24<5.4,Lookups!$K$135, IF(AND(L24>=5.4,L24<11.25),Lookups!$K$136, IF(AND(L24>=11.25,L24<20),Lookups!$K$137,Lookups!$K$138))),\nIF(L24<5.4,Lookups!$J$135, IF(AND(L24>=5.4,L24<11.25),Lookups!$J$136, IF(AND(L24>=11.25,L24<20),Lookups!$J$137,Lookups!$J$138)))),\nI24=\"Packaged Terminal Heat Pump\",\nIF(G24<2010,\nIF(L24<0.75,Lookups!$K$156, IF(AND(L24>=0.75,L24<1),Lookups!$K$157, Lookups!$K$158)),\nIF(L24<0.75,Lookups!$J$156, IF(AND(L24>=0.75,L24<1),Lookups!$J$157, Lookups!$J$158))),\nI24=\"Ductless Mini Split Heat Pump\",\nIF(G24<2010,\nIF(L24<0.75,Lookups!$K$174, IF(AND(L24>=0.75,L24<1),Lookups!$K$175, Lookups!$K$176)),\nIF(L24<0.75,Lookups!$J$174, IF(AND(L24>=0.75,L24<1),Lookups!$J$175, Lookups!$J$176)))\n),\"\"),M24)","v":""},{"$f":"IF(ISBLANK(K24),IFERROR(_xlfn.IFS(OR(I24=\"Package RTU Heat Pump\",I24=\"Split System Heat Pump\"),\nIF(G24<2010,\nIF(J24<5.4,Lookups!$K$128, IF(AND(J24>=5.4,J24<11.25),Lookups!$K$129, IF(AND(J24>=11.25,J24<20),Lookups!$K$130,Lookups!$K$131))),\nIF(J24<5.4,Lookups!$J$128, IF(AND(J24>=5.4,J24<11.25),Lookups!$J$129, IF(AND(J24>=11.25,J24<20),Lookups!$J$130,Lookups!$J$131)))),\nOR(I24=\"Package RTU AC only\",I24=\"Split System AC\"),\nIF(G24<2010,\nIF(J24<5.4,Lookups!$K$120, IF(AND(J24>=5.4,J24<11.25),Lookups!$K$121, IF(AND(J24>=11.25,J24<20),Lookups!$K$122,Lookups!$K$123))),\nIF(J24<5.4,Lookups!$J$120, IF(AND(J24>=5.4,J24<11.25),Lookups!$J$121, IF(AND(J24>=11.25,J24<20),Lookups!$J$122,Lookups!$J$123)))),\nI24=\"Packaged Terminal AC\",\nIF(G24<2010,\nIF(J24<0.75,Lookups!$K$144, IF(AND(J24>=0.75,J24<1),Lookups!$K$145,Lookups!$K$146)),\nIF(J24<0.75,Lookups!$J$144, IF(AND(J24>=0.75,J24<1),Lookups!$J$145, Lookups!$J$146))),\nI24=\"Packaged Terminal Heat Pump\",\nIF(G24<2010,\nIF(J24<0.75,Lookups!$K$150, IF(AND(J24>=0.75,J24<1),Lookups!$K$151,Lookups!$K$152)),\nIF(J24<0.75,Lookups!$J$150, IF(AND(J24>=0.75,J24<1),Lookups!$J$151, Lookups!$J$152))),\nI24=\"Ductless Mini Split AC\",\nIF(G24<2010,\nIF(J24<0.75,Lookups!$K$162, IF(AND(J24>=0.75,J24<1),Lookups!$K$163,Lookups!$K$164)),\nIF(J24<0.75,Lookups!$J$162, IF(AND(J24>=0.75,J24<1),Lookups!$J$163, Lookups!$J$164))),\nI24=\"Ductless Mini Split Heat Pump\",\nIF(G24<2010,\nIF(J24<0.75,Lookups!$K$168, IF(AND(J24>=0.75,J24<1),Lookups!$K$169,Lookups!$K$170)),\nIF(J24<0.75,Lookups!$J$168, IF(AND(J24>=0.75,J24<1),Lookups!$J$169, Lookups!$J$170)))\n),\"\"),K24)","v":""},0,0,0,0,0,0]
[null,null,null,null,null,null,null,null,null,null,null,null,null,null,null,null,null,null,null,null,0,"",{"$f":"VLOOKUP($D$13,Lookups!$C$119:$G$140,5,FALSE)","v":{"$error":"#N/A"}},{"$f":"VLOOKUP($D$13,Lookups!$C$146:$G$167,5,FALSE)","v":{"$error":"#N/A"}},0,0,6.3200000000000006E-2,"",{"$f":"IF(ISBLANK(M25),IFERROR(_xlfn.IFS(OR(I25=\"Package RTU Heat Pump\",I25=\"Split System Heat Pump\"),\nIF(G25<2010,\nIF(L25<5.4,Lookups!$K$135, IF(AND(L25>=5.4,L25<11.25),Lookups!$K$136, IF(AND(L25>=11.25,L25<20),Lookups!$K$137,Lookups!$K$138))),\nIF(L25<5.4,Lookups!$J$135, IF(AND(L25>=5.4,L25<11.25),Lookups!$J$136, IF(AND(L25>=11.25,L25<20),Lookups!$J$137,Lookups!$J$138)))),\nI25=\"Packaged Terminal Heat Pump\",\nIF(G25<2010,\nIF(L25<0.75,Lookups!$K$156, IF(AND(L25>=0.75,L25<1),Lookups!$K$157, Lookups!$K$158)),\nIF(L25<0.75,Lookups!$J$156, IF(AND(L25>=0.75,L25<1),Lookups!$J$157, Lookups!$J$158))),\nI25=\"Ductless Mini Split Heat Pump\",\nIF(G25<2010,\nIF(L25<0.75,Lookups!$K$174, IF(AND(L25>=0.75,L25<1),Lookups!$K$175, Lookups!$K$176)),\nIF(L25<0.75,Lookups!$J$174, IF(AND(L25>=0.75,L25<1),Lookups!$J$175, Lookups!$J$176)))\n),\"\"),M25)","v":""},{"$f":"IF(ISBLANK(K25),IFERROR(_xlfn.IFS(OR(I25=\"Package RTU Heat Pump\",I25=\"Split System Heat Pump\"),\nIF(G25<2010,\nIF(J25<5.4,Lookups!$K$128, IF(AND(J25>=5.4,J25<11.25),Lookups!$K$129, IF(AND(J25>=11.25,J25<20),Lookups!$K$130,Lookups!$K$131))),\nIF(J25<5.4,Lookups!$J$128, IF(AND(J25>=5.4,J25<11.25),Lookups!$J$129, IF(AND(J25>=11.25,J25<20),Lookups!$J$130,Lookups!$J$131)))),\nOR(I25=\"Package RTU AC only\",I25=\"Split System AC\"),\nIF(G25<2010,\nIF(J25<5.4,Lookups!$K$120, IF(AND(J25>=5.4,J25<11.25),Lookups!$K$121, IF(AND(J25>=11.25,J25<20),Lookups!$K$122,Lookups!$K$123))),\nIF(J25<5.4,Lookups!$J$120, IF(AND(J25>=5.4,J25<11.25),Lookups!$J$121, IF(AND(J25>=11.25,J25<20),Lookups!$J$122,Lookups!$J$123)))),\nI25=\"Packaged Terminal AC\",\nIF(G25<2010,\nIF(J25<0.75,Lookups!$K$144, IF(AND(J25>=0.75,J25<1),Lookups!$K$145,Lookups!$K$146)),\nIF(J25<0.75,Lookups!$J$144, IF(AND(J25>=0.75,J25<1),Lookups!$J$145, Lookups!$J$146))),\nI25=\"Packaged Terminal Heat Pump\",\nIF(G25<2010,\nIF(J25<0.75,Lookups!$K$150, IF(AND(J25>=0.75,J25<1),Lookups!$K$151,Lookups!$K$152)),\nIF(J25<0.75,Lookups!$J$150, IF(AND(J25>=0.75,J25<1),Lookups!$J$151, Lookups!$J$152))),\nI25=\"Ductless Mini Split AC\",\nIF(G25<2010,\nIF(J25<0.75,Lookups!$K$162, IF(AND(J25>=0.75,J25<1),Lookups!$K$163,Lookups!$K$164)),\nIF(J25<0.75,Lookups!$J$162, IF(AND(J25>=0.75,J25<1),Lookups!$J$163, Lookups!$J$164))),\nI25=\"Ductless Mini Split Heat Pump\",\nIF(G25<2010,\nIF(J25<0.75,Lookups!$K$168, IF(AND(J25>=0.75,J25<1),Lookups!$K$169,Lookups!$K$170)),\nIF(J25<0.75,Lookups!$J$168, IF(AND(J25>=0.75,J25<1),Lookups!$J$169, Lookups!$J$170)))\n),\"\"),K25)","v":""},0,0,0,0,0,0]
[null,null,null,null,null,null,null,null,null,null,null,null,null,null,null,null,null,null,null,null,0,"",{"$f":"VLOOKUP($D$13,Lookups!$C$119:$G$140,5,FALSE)","v":{"$error":"#N/A"}},{"$f":"VLOOKUP($D$13,Lookups!$C$146:$G$167,5,FALSE)","v":{"$error":"#N/A"}},0,0,6.3200000000000006E-2,"",{"$f":"IF(ISBLANK(M26),IFERROR(_xlfn.IFS(OR(I26=\"Package RTU Heat Pump\",I26=\"Split System Heat Pump\"),\nIF(G26<2010,\nIF(L26<5.4,Lookups!$K$135, IF(AND(L26>=5.4,L26<11.25),Lookups!$K$136, IF(AND(L26>=11.25,L26<20),Lookups!$K$137,Lookups!$K$138))),\nIF(L26<5.4,Lookups!$J$135, IF(AND(L26>=5.4,L26<11.25),Lookups!$J$136, IF(AND(L26>=11.25,L26<20),Lookups!$J$137,Lookups!$J$138)))),\nI26=\"Packaged Terminal Heat Pump\",\nIF(G26<2010,\nIF(L26<0.75,Lookups!$K$156, IF(AND(L26>=0.75,L26<1),Lookups!$K$157, Lookups!$K$158)),\nIF(L26<0.75,Lookups!$J$156, IF(AND(L26>=0.75,L26<1),Lookups!$J$157, Lookups!$J$158))),\nI26=\"Ductless Mini Split Heat Pump\",\nIF(G26<2010,\nIF(L26<0.75,Lookups!$K$174, IF(AND(L26>=0.75,L26<1),Lookups!$K$175, Lookups!$K$176)),\nIF(L26<0.75,Lookups!$J$174, IF(AND(L26>=0.75,L26<1),Lookups!$J$175, Lookups!$J$176)))\n),\"\"),M26)","v":""},{"$f":"IF(ISBLANK(K26),IFERROR(_xlfn.IFS(OR(I26=\"Package RTU Heat Pump\",I26=\"Split System Heat Pump\"),\nIF(G26<2010,\nIF(J26<5.4,Lookups!$K$128, IF(AND(J26>=5.4,J26<11.25),Lookups!$K$129, IF(AND(J26>=11.25,J26<20),Lookups!$K$130,Lookups!$K$131))),\nIF(J26<5.4,Lookups!$J$128, IF(AND(J26>=5.4,J26<11.25),Lookups!$J$129, IF(AND(J26>=11.25,J26<20),Lookups!$J$130,Lookups!$J$131)))),\nOR(I26=\"Package RTU AC only\",I26=\"Split System AC\"),\nIF(G26<2010,\nIF(J26<5.4,Lookups!$K$120, IF(AND(J26>=5.4,J26<11.25),Lookups!$K$121, IF(AND(J26>=11.25,J26<20),Lookups!$K$122,Lookups!$K$123))),\nIF(J26<5.4,Lookups!$J$120, IF(AND(J26>=5.4,J26<11.25),Lookups!$J$121, IF(AND(J26>=11.25,J26<20),Lookups!$J$122,Lookups!$J$123)))),\nI26=\"Packaged Terminal AC\",\nIF(G26<2010,\nIF(J26<0.75,Lookups!$K$144, IF(AND(J26>=0.75,J26<1),Lookups!$K$145,Lookups!$K$146)),\nIF(J26<0.75,Lookups!$J$144, IF(AND(J26>=0.75,J26<1),Lookups!$J$145, Lookups!$J$146))),\nI26=\"Packaged Terminal Heat Pump\",\nIF(G26<2010,\nIF(J26<0.75,Lookups!$K$150, IF(AND(J26>=0.75,J26<1),Lookups!$K$151,Lookups!$K$152)),\nIF(J26<0.75,Lookups!$J$150, IF(AND(J26>=0.75,J26<1),Lookups!$J$151, Lookups!$J$152))),\nI26=\"Ductless Mini Split AC\",\nIF(G26<2010,\nIF(J26<0.75,Lookups!$K$162, IF(AND(J26>=0.75,J26<1),Lookups!$K$163,Lookups!$K$164)),\nIF(J26<0.75,Lookups!$J$162, IF(AND(J26>=0.75,J26<1),Lookups!$J$163, Lookups!$J$164))),\nI26=\"Ductless Mini Split Heat Pump\",\nIF(G26<2010,\nIF(J26<0.75,Lookups!$K$168, IF(AND(J26>=0.75,J26<1),Lookups!$K$169,Lookups!$K$170)),\nIF(J26<0.75,Lookups!$J$168, IF(AND(J26>=0.75,J26<1),Lookups!$J$169, Lookups!$J$170)))\n),\"\"),K26)","v":""},0,0,0,0,0,0]
[null,null,null,null,null,null,null,null,null,null,null,null,null,null,null,null,null,null,null,null,0,"",{"$f":"VLOOKUP($D$13,Lookups!$C$119:$G$140,5,FALSE)","v":{"$error":"#N/A"}},{"$f":"VLOOKUP($D$13,Lookups!$C$146:$G$167,5,FALSE)","v":{"$error":"#N/A"}},0,0,6.3200000000000006E-2,"",{"$f":"IF(ISBLANK(M27),IFERROR(_xlfn.IFS(OR(I27=\"Package RTU Heat Pump\",I27=\"Split System Heat Pump\"),\nIF(G27<2010,\nIF(L27<5.4,Lookups!$K$135, IF(AND(L27>=5.4,L27<11.25),Lookups!$K$136, IF(AND(L27>=11.25,L27<20),Lookups!$K$137,Lookups!$K$138))),\nIF(L27<5.4,Lookups!$J$135, IF(AND(L27>=5.4,L27<11.25),Lookups!$J$136, IF(AND(L27>=11.25,L27<20),Lookups!$J$137,Lookups!$J$138)))),\nI27=\"Packaged Terminal Heat Pump\",\nIF(G27<2010,\nIF(L27<0.75,Lookups!$K$156, IF(AND(L27>=0.75,L27<1),Lookups!$K$157, Lookups!$K$158)),\nIF(L27<0.75,Lookups!$J$156, IF(AND(L27>=0.75,L27<1),Lookups!$J$157, Lookups!$J$158))),\nI27=\"Ductless Mini Split Heat Pump\",\nIF(G27<2010,\nIF(L27<0.75,Lookups!$K$174, IF(AND(L27>=0.75,L27<1),Lookups!$K$175, Lookups!$K$176)),\nIF(L27<0.75,Lookups!$J$174, IF(AND(L27>=0.75,L27<1),Lookups!$J$175, Lookups!$J$176)))\n),\"\"),M27)","v":""},{"$f":"IF(ISBLANK(K27),IFERROR(_xlfn.IFS(OR(I27=\"Package RTU Heat Pump\",I27=\"Split System Heat Pump\"),\nIF(G27<2010,\nIF(J27<5.4,Lookups!$K$128, IF(AND(J27>=5.4,J27<11.25),Lookups!$K$129, IF(AND(J27>=11.25,J27<20),Lookups!$K$130,Lookups!$K$131))),\nIF(J27<5.4,Lookups!$J$128, IF(AND(J27>=5.4,J27<11.25),Lookups!$J$129, IF(AND(J27>=11.25,J27<20),Lookups!$J$130,Lookups!$J$131)))),\nOR(I27=\"Package RTU AC only\",I27=\"Split System AC\"),\nIF(G27<2010,\nIF(J27<5.4,Lookups!$K$120, IF(AND(J27>=5.4,J27<11.25),Lookups!$K$121, IF(AND(J27>=11.25,J27<20),Lookups!$K$122,Lookups!$K$123))),\nIF(J27<5.4,Lookups!$J$120, IF(AND(J27>=5.4,J27<11.25),Lookups!$J$121, IF(AND(J27>=11.25,J27<20),Lookups!$J$122,Lookups!$J$123)))),\nI27=\"Packaged Terminal AC\",\nIF(G27<2010,\nIF(J27<0.75,Lookups!$K$144, IF(AND(J27>=0.75,J27<1),Lookups!$K$145,Lookups!$K$146)),\nIF(J27<0.75,Lookups!$J$144, IF(AND(J27>=0.75,J27<1),Lookups!$J$145, Lookups!$J$146))),\nI27=\"Packaged Terminal Heat Pump\",\nIF(G27<2010,\nIF(J27<0.75,Lookups!$K$150, IF(AND(J27>=0.75,J27<1),Lookups!$K$151,Lookups!$K$152)),\nIF(J27<0.75,Lookups!$J$150, IF(AND(J27>=0.75,J27<1),Lookups!$J$151, Lookups!$J$152))),\nI27=\"Ductless Mini Split AC\",\nIF(G27<2010,\nIF(J27<0.75,Lookups!$K$162, IF(AND(J27>=0.75,J27<1),Lookups!$K$163,Lookups!$K$164)),\nIF(J27<0.75,Lookups!$J$162, IF(AND(J27>=0.75,J27<1),Lookups!$J$163, Lookups!$J$164))),\nI27=\"Ductless Mini Split Heat Pump\",\nIF(G27<2010,\nIF(J27<0.75,Lookups!$K$168, IF(AND(J27>=0.75,J27<1),Lookups!$K$169,Lookups!$K$170)),\nIF(J27<0.75,Lookups!$J$168, IF(AND(J27>=0.75,J27<1),Lookups!$J$169, Lookups!$J$170)))\n),\"\"),K27)","v":""},0,0,0,0,0,0]
[null,null,null,null,null,null,null,null,null,null,null,null,null,null,null,null,null,null,null,null,0,"",{"$f":"VLOOKUP($D$13,Lookups!$C$119:$G$140,5,FALSE)","v":{"$error":"#N/A"}},{"$f":"VLOOKUP($D$13,Lookups!$C$146:$G$167,5,FALSE)","v":{"$error":"#N/A"}},0,0,6.3200000000000006E-2,"",{"$f":"IF(ISBLANK(M28),IFERROR(_xlfn.IFS(OR(I28=\"Package RTU Heat Pump\",I28=\"Split System Heat Pump\"),\nIF(G28<2010,\nIF(L28<5.4,Lookups!$K$135, IF(AND(L28>=5.4,L28<11.25),Lookups!$K$136, IF(AND(L28>=11.25,L28<20),Lookups!$K$137,Lookups!$K$138))),\nIF(L28<5.4,Lookups!$J$135, IF(AND(L28>=5.4,L28<11.25),Lookups!$J$136, IF(AND(L28>=11.25,L28<20),Lookups!$J$137,Lookups!$J$138)))),\nI28=\"Packaged Terminal Heat Pump\",\nIF(G28<2010,\nIF(L28<0.75,Lookups!$K$156, IF(AND(L28>=0.75,L28<1),Lookups!$K$157, Lookups!$K$158)),\nIF(L28<0.75,Lookups!$J$156, IF(AND(L28>=0.75,L28<1),Lookups!$J$157, Lookups!$J$158))),\nI28=\"Ductless Mini Split Heat Pump\",\nIF(G28<2010,\nIF(L28<0.75,Lookups!$K$174, IF(AND(L28>=0.75,L28<1),Lookups!$K$175, Lookups!$K$176)),\nIF(L28<0.75,Lookups!$J$174, IF(AND(L28>=0.75,L28<1),Lookups!$J$175, Lookups!$J$176)))\n),\"\"),M28)","v":""},{"$f":"IF(ISBLANK(K28),IFERROR(_xlfn.IFS(OR(I28=\"Package RTU Heat Pump\",I28=\"Split System Heat Pump\"),\nIF(G28<2010,\nIF(J28<5.4,Lookups!$K$128, IF(AND(J28>=5.4,J28<11.25),Lookups!$K$129, IF(AND(J28>=11.25,J28<20),Lookups!$K$130,Lookups!$K$131))),\nIF(J28<5.4,Lookups!$J$128, IF(AND(J28>=5.4,J28<11.25),Lookups!$J$129, IF(AND(J28>=11.25,J28<20),Lookups!$J$130,Lookups!$J$131)))),\nOR(I28=\"Package RTU AC only\",I28=\"Split System AC\"),\nIF(G28<2010,\nIF(J28<5.4,Lookups!$K$120, IF(AND(J28>=5.4,J28<11.25),Lookups!$K$121, IF(AND(J28>=11.25,J28<20),Lookups!$K$122,Lookups!$K$123))),\nIF(J28<5.4,Lookups!$J$120, IF(AND(J28>=5.4,J28<11.25),Lookups!$J$121, IF(AND(J28>=11.25,J28<20),Lookups!$J$122,Lookups!$J$123)))),\nI28=\"Packaged Terminal AC\",\nIF(G28<2010,\nIF(J28<0.75,Lookups!$K$144, IF(AND(J28>=0.75,J28<1),Lookups!$K$145,Lookups!$K$146)),\nIF(J28<0.75,Lookups!$J$144, IF(AND(J28>=0.75,J28<1),Lookups!$J$145, Lookups!$J$146))),\nI28=\"Packaged Terminal Heat Pump\",\nIF(G28<2010,\nIF(J28<0.75,Lookups!$K$150, IF(AND(J28>=0.75,J28<1),Lookups!$K$151,Lookups!$K$152)),\nIF(J28<0.75,Lookups!$J$150, IF(AND(J28>=0.75,J28<1),Lookups!$J$151, Lookups!$J$152))),\nI28=\"Ductless Mini Split AC\",\nIF(G28<2010,\nIF(J28<0.75,Lookups!$K$162, IF(AND(J28>=0.75,J28<1),Lookups!$K$163,Lookups!$K$164)),\nIF(J28<0.75,Lookups!$J$162, IF(AND(J28>=0.75,J28<1),Lookups!$J$163, Lookups!$J$164))),\nI28=\"Ductless Mini Split Heat Pump\",\nIF(G28<2010,\nIF(J28<0.75,Lookups!$K$168, IF(AND(J28>=0.75,J28<1),Lookups!$K$169,Lookups!$K$170)),\nIF(J28<0.75,Lookups!$J$168, IF(AND(J28>=0.75,J28<1),Lookups!$J$169, Lookups!$J$170)))\n),\"\"),K28)","v":""},0,0,0,0,0,0]
[null,null,null,null,null,null,null,null,null,null,null,null,null,null,null,null,null,null,null,null,0,"",{"$f":"VLOOKUP($D$13,Lookups!$C$119:$G$140,5,FALSE)","v":{"$error":"#N/A"}},{"$f":"VLOOKUP($D$13,Lookups!$C$146:$G$167,5,FALSE)","v":{"$error":"#N/A"}},0,0,6.3200000000000006E-2,"",{"$f":"IF(ISBLANK(M29),IFERROR(_xlfn.IFS(OR(I29=\"Package RTU Heat Pump\",I29=\"Split System Heat Pump\"),\nIF(G29<2010,\nIF(L29<5.4,Lookups!$K$135, IF(AND(L29>=5.4,L29<11.25),Lookups!$K$136, IF(AND(L29>=11.25,L29<20),Lookups!$K$137,Lookups!$K$138))),\nIF(L29<5.4,Lookups!$J$135, IF(AND(L29>=5.4,L29<11.25),Lookups!$J$136, IF(AND(L29>=11.25,L29<20),Lookups!$J$137,Lookups!$J$138)))),\nI29=\"Packaged Terminal Heat Pump\",\nIF(G29<2010,\nIF(L29<0.75,Lookups!$K$156, IF(AND(L29>=0.75,L29<1),Lookups!$K$157, Lookups!$K$158)),\nIF(L29<0.75,Lookups!$J$156, IF(AND(L29>=0.75,L29<1),Lookups!$J$157, Lookups!$J$158))),\nI29=\"Ductless Mini Split Heat Pump\",\nIF(G29<2010,\nIF(L29<0.75,Lookups!$K$174, IF(AND(L29>=0.75,L29<1),Lookups!$K$175, Lookups!$K$176)),\nIF(L29<0.75,Lookups!$J$174, IF(AND(L29>=0.75,L29<1),Lookups!$J$175, Lookups!$J$176)))\n),\"\"),M29)","v":""},{"$f":"IF(ISBLANK(K29),IFERROR(_xlfn.IFS(OR(I29=\"Package RTU Heat Pump\",I29=\"Split System Heat Pump\"),\nIF(G29<2010,\nIF(J29<5.4,Lookups!$K$128, IF(AND(J29>=5.4,J29<11.25),Lookups!$K$129, IF(AND(J29>=11.25,J29<20),Lookups!$K$130,Lookups!$K$131))),\nIF(J29<5.4,Lookups!$J$128, IF(AND(J29>=5.4,J29<11.25),Lookups!$J$129, IF(AND(J29>=11.25,J29<20),Lookups!$J$130,Lookups!$J$131)))),\nOR(I29=\"Package RTU AC only\",I29=\"Split System AC\"),\nIF(G29<2010,\nIF(J29<5.4,Lookups!$K$120, IF(AND(J29>=5.4,J29<11.25),Lookups!$K$121, IF(AND(J29>=11.25,J29<20),Lookups!$K$122,Lookups!$K$123))),\nIF(J29<5.4,Lookups!$J$120, IF(AND(J29>=5.4,J29<11.25),Lookups!$J$121, IF(AND(J29>=11.25,J29<20),Lookups!$J$122,Lookups!$J$123)))),\nI29=\"Packaged Terminal AC\",\nIF(G29<2010,\nIF(J29<0.75,Lookups!$K$144, IF(AND(J29>=0.75,J29<1),Lookups!$K$145,Lookups!$K$146)),\nIF(J29<0.75,Lookups!$J$144, IF(AND(J29>=0.75,J29<1),Lookups!$J$145, Lookups!$J$146))),\nI29=\"Packaged Terminal Heat Pump\",\nIF(G29<2010,\nIF(J29<0.75,Lookups!$K$150, IF(AND(J29>=0.75,J29<1),Lookups!$K$151,Lookups!$K$152)),\nIF(J29<0.75,Lookups!$J$150, IF(AND(J29>=0.75,J29<1),Lookups!$J$151, Lookups!$J$152))),\nI29=\"Ductless Mini Split AC\",\nIF(G29<2010,\nIF(J29<0.75,Lookups!$K$162, IF(AND(J29>=0.75,J29<1),Lookups!$K$163,Lookups!$K$164)),\nIF(J29<0.75,Lookups!$J$162, IF(AND(J29>=0.75,J29<1),Lookups!$J$163, Lookups!$J$164))),\nI29=\"Ductless Mini Split Heat Pump\",\nIF(G29<2010,\nIF(J29<0.75,Lookups!$K$168, IF(AND(J29>=0.75,J29<1),Lookups!$K$169,Lookups!$K$170)),\nIF(J29<0.75,Lookups!$J$168, IF(AND(J29>=0.75,J29<1),Lookups!$J$169, Lookups!$J$170)))\n),\"\"),K29)","v":""},0,0,0,0,0,0]
[null,null,null,null,null,null,null,null,null,null,null,null,null,null,null,null,null,null,null,null,0,"",{"$f":"VLOOKUP($D$13,Lookups!$C$119:$G$140,5,FALSE)","v":{"$error":"#N/A"}},{"$f":"VLOOKUP($D$13,Lookups!$C$146:$G$167,5,FALSE)","v":{"$error":"#N/A"}},0,0,6.3200000000000006E-2,"",{"$f":"IF(ISBLANK(M30),IFERROR(_xlfn.IFS(OR(I30=\"Package RTU Heat Pump\",I30=\"Split System Heat Pump\"),\nIF(G30<2010,\nIF(L30<5.4,Lookups!$K$135, IF(AND(L30>=5.4,L30<11.25),Lookups!$K$136, IF(AND(L30>=11.25,L30<20),Lookups!$K$137,Lookups!$K$138))),\nIF(L30<5.4,Lookups!$J$135, IF(AND(L30>=5.4,L30<11.25),Lookups!$J$136, IF(AND(L30>=11.25,L30<20),Lookups!$J$137,Lookups!$J$138)))),\nI30=\"Packaged Terminal Heat Pump\",\nIF(G30<2010,\nIF(L30<0.75,Lookups!$K$156, IF(AND(L30>=0.75,L30<1),Lookups!$K$157, Lookups!$K$158)),\nIF(L30<0.75,Lookups!$J$156, IF(AND(L30>=0.75,L30<1),Lookups!$J$157, Lookups!$J$158))),\nI30=\"Ductless Mini Split Heat Pump\",\nIF(G30<2010,\nIF(L30<0.75,Lookups!$K$174, IF(AND(L30>=0.75,L30<1),Lookups!$K$175, Lookups!$K$176)),\nIF(L30<0.75,Lookups!$J$174, IF(AND(L30>=0.75,L30<1),Lookups!$J$175, Lookups!$J$176)))\n),\"\"),M30)","v":""},{"$f":"IF(ISBLANK(K30),IFERROR(_xlfn.IFS(OR(I30=\"Package RTU Heat Pump\",I30=\"Split System Heat Pump\"),\nIF(G30<2010,\nIF(J30<5.4,Lookups!$K$128, IF(AND(J30>=5.4,J30<11.25),Lookups!$K$129, IF(AND(J30>=11.25,J30<20),Lookups!$K$130,Lookups!$K$131))),\nIF(J30<5.4,Lookups!$J$128, IF(AND(J30>=5.4,J30<11.25),Lookups!$J$129, IF(AND(J30>=11.25,J30<20),Lookups!$J$130,Lookups!$J$131)))),\nOR(I30=\"Package RTU AC only\",I30=\"Split System AC\"),\nIF(G30<2010,\nIF(J30<5.4,Lookups!$K$120, IF(AND(J30>=5.4,J30<11.25),Lookups!$K$121, IF(AND(J30>=11.25,J30<20),Lookups!$K$122,Lookups!$K$123))),\nIF(J30<5.4,Lookups!$J$120, IF(AND(J30>=5.4,J30<11.25),Lookups!$J$121, IF(AND(J30>=11.25,J30<20),Lookups!$J$122,Lookups!$J$123)))),\nI30=\"Packaged Terminal AC\",\nIF(G30<2010,\nIF(J30<0.75,Lookups!$K$144, IF(AND(J30>=0.75,J30<1),Lookups!$K$145,Lookups!$K$146)),\nIF(J30<0.75,Lookups!$J$144, IF(AND(J30>=0.75,J30<1),Lookups!$J$145, Lookups!$J$146))),\nI30=\"Packaged Terminal Heat Pump\",\nIF(G30<2010,\nIF(J30<0.75,Lookups!$K$150, IF(AND(J30>=0.75,J30<1),Lookups!$K$151,Lookups!$K$152)),\nIF(J30<0.75,Lookups!$J$150, IF(AND(J30>=0.75,J30<1),Lookups!$J$151, Lookups!$J$152))),\nI30=\"Ductless Mini Split AC\",\nIF(G30<2010,\nIF(J30<0.75,Lookups!$K$162, IF(AND(J30>=0.75,J30<1),Lookups!$K$163,Lookups!$K$164)),\nIF(J30<0.75,Lookups!$J$162, IF(AND(J30>=0.75,J30<1),Lookups!$J$163, Lookups!$J$164))),\nI30=\"Ductless Mini Split Heat Pump\",\nIF(G30<2010,\nIF(J30<0.75,Lookups!$K$168, IF(AND(J30>=0.75,J30<1),Lookups!$K$169,Lookups!$K$170)),\nIF(J30<0.75,Lookups!$J$168, IF(AND(J30>=0.75,J30<1),Lookups!$J$169, Lookups!$J$170)))\n),\"\"),K30)","v":""},0,0,0,0,0,0]
[null,null,null,null,null,null,null,null,null,null,null,null,null,null,null,null,null,null,null,null,0,"",{"$f":"VLOOKUP($D$13,Lookups!$C$119:$G$140,5,FALSE)","v":{"$error":"#N/A"}},{"$f":"VLOOKUP($D$13,Lookups!$C$146:$G$167,5,FALSE)","v":{"$error":"#N/A"}},0,0,6.3200000000000006E-2,"",{"$f":"IF(ISBLANK(M31),IFERROR(_xlfn.IFS(OR(I31=\"Package RTU Heat Pump\",I31=\"Split System Heat Pump\"),\nIF(G31<2010,\nIF(L31<5.4,Lookups!$K$135, IF(AND(L31>=5.4,L31<11.25),Lookups!$K$136, IF(AND(L31>=11.25,L31<20),Lookups!$K$137,Lookups!$K$138))),\nIF(L31<5.4,Lookups!$J$135, IF(AND(L31>=5.4,L31<11.25),Lookups!$J$136, IF(AND(L31>=11.25,L31<20),Lookups!$J$137,Lookups!$J$138)))),\nI31=\"Packaged Terminal Heat Pump\",\nIF(G31<2010,\nIF(L31<0.75,Lookups!$K$156, IF(AND(L31>=0.75,L31<1),Lookups!$K$157, Lookups!$K$158)),\nIF(L31<0.75,Lookups!$J$156, IF(AND(L31>=0.75,L31<1),Lookups!$J$157, Lookups!$J$158))),\nI31=\"Ductless Mini Split Heat Pump\",\nIF(G31<2010,\nIF(L31<0.75,Lookups!$K$174, IF(AND(L31>=0.75,L31<1),Lookups!$K$175, Lookups!$K$176)),\nIF(L31<0.75,Lookups!$J$174, IF(AND(L31>=0.75,L31<1),Lookups!$J$175, Lookups!$J$176)))\n),\"\"),M31)","v":""},{"$f":"IF(ISBLANK(K31),IFERROR(_xlfn.IFS(OR(I31=\"Package RTU Heat Pump\",I31=\"Split System Heat Pump\"),\nIF(G31<2010,\nIF(J31<5.4,Lookups!$K$128, IF(AND(J31>=5.4,J31<11.25),Lookups!$K$129, IF(AND(J31>=11.25,J31<20),Lookups!$K$130,Lookups!$K$131))),\nIF(J31<5.4,Lookups!$J$128, IF(AND(J31>=5.4,J31<11.25),Lookups!$J$129, IF(AND(J31>=11.25,J31<20),Lookups!$J$130,Lookups!$J$131)))),\nOR(I31=\"Package RTU AC only\",I31=\"Split System AC\"),\nIF(G31<2010,\nIF(J31<5.4,Lookups!$K$120, IF(AND(J31>=5.4,J31<11.25),Lookups!$K$121, IF(AND(J31>=11.25,J31<20),Lookups!$K$122,Lookups!$K$123))),\nIF(J31<5.4,Lookups!$J$120, IF(AND(J31>=5.4,J31<11.25),Lookups!$J$121, IF(AND(J31>=11.25,J31<20),Lookups!$J$122,Lookups!$J$123)))),\nI31=\"Packaged Terminal AC\",\nIF(G31<2010,\nIF(J31<0.75,Lookups!$K$144, IF(AND(J31>=0.75,J31<1),Lookups!$K$145,Lookups!$K$146)),\nIF(J31<0.75,Lookups!$J$144, IF(AND(J31>=0.75,J31<1),Lookups!$J$145, Lookups!$J$146))),\nI31=\"Packaged Terminal Heat Pump\",\nIF(G31<2010,\nIF(J31<0.75,Lookups!$K$150, IF(AND(J31>=0.75,J31<1),Lookups!$K$151,Lookups!$K$152)),\nIF(J31<0.75,Lookups!$J$150, IF(AND(J31>=0.75,J31<1),Lookups!$J$151, Lookups!$J$152))),\nI31=\"Ductless Mini Split AC\",\nIF(G31<2010,\nIF(J31<0.75,Lookups!$K$162, IF(AND(J31>=0.75,J31<1),Lookups!$K$163,Lookups!$K$164)),\nIF(J31<0.75,Lookups!$J$162, IF(AND(J31>=0.75,J31<1),Lookups!$J$163, Lookups!$J$164))),\nI31=\"Ductless Mini Split Heat Pump\",\nIF(G31<2010,\nIF(J31<0.75,Lookups!$K$168, IF(AND(J31>=0.75,J31<1),Lookups!$K$169,Lookups!$K$170)),\nIF(J31<0.75,Lookups!$J$168, IF(AND(J31>=0.75,J31<1),Lookups!$J$169, Lookups!$J$170)))\n),\"\"),K31)","v":""},0,0,0,0,0,0]
[null,null,null,null,null,null,null,null,null,null,null,null,null,null,null,null,null,null,null,null,0,"",{"$f":"VLOOKUP($D$13,Lookups!$C$119:$G$140,5,FALSE)","v":{"$error":"#N/A"}},{"$f":"VLOOKUP($D$13,Lookups!$C$146:$G$167,5,FALSE)","v":{"$error":"#N/A"}},0,0,6.3200000000000006E-2,"",{"$f":"IF(ISBLANK(M32),IFERROR(_xlfn.IFS(OR(I32=\"Package RTU Heat Pump\",I32=\"Split System Heat Pump\"),\nIF(G32<2010,\nIF(L32<5.4,Lookups!$K$135, IF(AND(L32>=5.4,L32<11.25),Lookups!$K$136, IF(AND(L32>=11.25,L32<20),Lookups!$K$137,Lookups!$K$138))),\nIF(L32<5.4,Lookups!$J$135, IF(AND(L32>=5.4,L32<11.25),Lookups!$J$136, IF(AND(L32>=11.25,L32<20),Lookups!$J$137,Lookups!$J$138)))),\nI32=\"Packaged Terminal Heat Pump\",\nIF(G32<2010,\nIF(L32<0.75,Lookups!$K$156, IF(AND(L32>=0.75,L32<1),Lookups!$K$157, Lookups!$K$158)),\nIF(L32<0.75,Lookups!$J$156, IF(AND(L32>=0.75,L32<1),Lookups!$J$157, Lookups!$J$158))),\nI32=\"Ductless Mini Split Heat Pump\",\nIF(G32<2010,\nIF(L32<0.75,Lookups!$K$174, IF(AND(L32>=0.75,L32<1),Lookups!$K$175, Lookups!$K$176)),\nIF(L32<0.75,Lookups!$J$174, IF(AND(L32>=0.75,L32<1),Lookups!$J$175, Lookups!$J$176)))\n),\"\"),M32)","v":""},{"$f":"IF(ISBLANK(K32),IFERROR(_xlfn.IFS(OR(I32=\"Package RTU Heat Pump\",I32=\"Split System Heat Pump\"),\nIF(G32<2010,\nIF(J32<5.4,Lookups!$K$128, IF(AND(J32>=5.4,J32<11.25),Lookups!$K$129, IF(AND(J32>=11.25,J32<20),Lookups!$K$130,Lookups!$K$131))),\nIF(J32<5.4,Lookups!$J$128, IF(AND(J32>=5.4,J32<11.25),Lookups!$J$129, IF(AND(J32>=11.25,J32<20),Lookups!$J$130,Lookups!$J$131)))),\nOR(I32=\"Package RTU AC only\",I32=\"Split System AC\"),\nIF(G32<2010,\nIF(J32<5.4,Lookups!$K$120, IF(AND(J32>=5.4,J32<11.25),Lookups!$K$121, IF(AND(J32>=11.25,J32<20),Lookups!$K$122,Lookups!$K$123))),\nIF(J32<5.4,Lookups!$J$120, IF(AND(J32>=5.4,J32<11.25),Lookups!$J$121, IF(AND(J32>=11.25,J32<20),Lookups!$J$122,Lookups!$J$123)))),\nI32=\"Packaged Terminal AC\",\nIF(G32<2010,\nIF(J32<0.75,Lookups!$K$144, IF(AND(J32>=0.75,J32<1),Lookups!$K$145,Lookups!$K$146)),\nIF(J32<0.75,Lookups!$J$144, IF(AND(J32>=0.75,J32<1),Lookups!$J$145, Lookups!$J$146))),\nI32=\"Packaged Terminal Heat Pump\",\nIF(G32<2010,\nIF(J32<0.75,Lookups!$K$150, IF(AND(J32>=0.75,J32<1),Lookups!$K$151,Lookups!$K$152)),\nIF(J32<0.75,Lookups!$J$150, IF(AND(J32>=0.75,J32<1),Lookups!$J$151, Lookups!$J$152))),\nI32=\"Ductless Mini Split AC\",\nIF(G32<2010,\nIF(J32<0.75,Lookups!$K$162, IF(AND(J32>=0.75,J32<1),Lookups!$K$163,Lookups!$K$164)),\nIF(J32<0.75,Lookups!$J$162, IF(AND(J32>=0.75,J32<1),Lookups!$J$163, Lookups!$J$164))),\nI32=\"Ductless Mini Split Heat Pump\",\nIF(G32<2010,\nIF(J32<0.75,Lookups!$K$168, IF(AND(J32>=0.75,J32<1),Lookups!$K$169,Lookups!$K$170)),\nIF(J32<0.75,Lookups!$J$168, IF(AND(J32>=0.75,J32<1),Lookups!$J$169, Lookups!$J$170)))\n),\"\"),K32)","v":""},0,0,0,0,0,0]
[null,null,null,null,null,null,null,null,null,null,null,null,null,null,null,null,null,null,null,null,0,"",{"$f":"VLOOKUP($D$13,Lookups!$C$119:$G$140,5,FALSE)","v":{"$error":"#N/A"}},{"$f":"VLOOKUP($D$13,Lookups!$C$146:$G$167,5,FALSE)","v":{"$error":"#N/A"}},0,0,6.3200000000000006E-2,"",{"$f":"IF(ISBLANK(M33),IFERROR(_xlfn.IFS(OR(I33=\"Package RTU Heat Pump\",I33=\"Split System Heat Pump\"),\nIF(G33<2010,\nIF(L33<5.4,Lookups!$K$135, IF(AND(L33>=5.4,L33<11.25),Lookups!$K$136, IF(AND(L33>=11.25,L33<20),Lookups!$K$137,Lookups!$K$138))),\nIF(L33<5.4,Lookups!$J$135, IF(AND(L33>=5.4,L33<11.25),Lookups!$J$136, IF(AND(L33>=11.25,L33<20),Lookups!$J$137,Lookups!$J$138)))),\nI33=\"Packaged Terminal Heat Pump\",\nIF(G33<2010,\nIF(L33<0.75,Lookups!$K$156, IF(AND(L33>=0.75,L33<1),Lookups!$K$157, Lookups!$K$158)),\nIF(L33<0.75,Lookups!$J$156, IF(AND(L33>=0.75,L33<1),Lookups!$J$157, Lookups!$J$158))),\nI33=\"Ductless Mini Split Heat Pump\",\nIF(G33<2010,\nIF(L33<0.75,Lookups!$K$174, IF(AND(L33>=0.75,L33<1),Lookups!$K$175, Lookups!$K$176)),\nIF(L33<0.75,Lookups!$J$174, IF(AND(L33>=0.75,L33<1),Lookups!$J$175, Lookups!$J$176)))\n),\"\"),M33)","v":""},{"$f":"IF(ISBLANK(K33),IFERROR(_xlfn.IFS(OR(I33=\"Package RTU Heat Pump\",I33=\"Split System Heat Pump\"),\nIF(G33<2010,\nIF(J33<5.4,Lookups!$K$128, IF(AND(J33>=5.4,J33<11.25),Lookups!$K$129, IF(AND(J33>=11.25,J33<20),Lookups!$K$130,Lookups!$K$131))),\nIF(J33<5.4,Lookups!$J$128, IF(AND(J33>=5.4,J33<11.25),Lookups!$J$129, IF(AND(J33>=11.25,J33<20),Lookups!$J$130,Lookups!$J$131)))),\nOR(I33=\"Package RTU AC only\",I33=\"Split System AC\"),\nIF(G33<2010,\nIF(J33<5.4,Lookups!$K$120, IF(AND(J33>=5.4,J33<11.25),Lookups!$K$121, IF(AND(J33>=11.25,J33<20),Lookups!$K$122,Lookups!$K$123))),\nIF(J33<5.4,Lookups!$J$120, IF(AND(J33>=5.4,J33<11.25),Lookups!$J$121, IF(AND(J33>=11.25,J33<20),Lookups!$J$122,Lookups!$J$123)))),\nI33=\"Packaged Terminal AC\",\nIF(G33<2010,\nIF(J33<0.75,Lookups!$K$144, IF(AND(J33>=0.75,J33<1),Lookups!$K$145,Lookups!$K$146)),\nIF(J33<0.75,Lookups!$J$144, IF(AND(J33>=0.75,J33<1),Lookups!$J$145, Lookups!$J$146))),\nI33=\"Packaged Terminal Heat Pump\",\nIF(G33<2010,\nIF(J33<0.75,Lookups!$K$150, IF(AND(J33>=0.75,J33<1),Lookups!$K$151,Lookups!$K$152)),\nIF(J33<0.75,Lookups!$J$150, IF(AND(J33>=0.75,J33<1),Lookups!$J$151, Lookups!$J$152))),\nI33=\"Ductless Mini Split AC\",\nIF(G33<2010,\nIF(J33<0.75,Lookups!$K$162, IF(AND(J33>=0.75,J33<1),Lookups!$K$163,Lookups!$K$164)),\nIF(J33<0.75,Lookups!$J$162, IF(AND(J33>=0.75,J33<1),Lookups!$J$163, Lookups!$J$164))),\nI33=\"Ductless Mini Split Heat Pump\",\nIF(G33<2010,\nIF(J33<0.75,Lookups!$K$168, IF(AND(J33>=0.75,J33<1),Lookups!$K$169,Lookups!$K$170)),\nIF(J33<0.75,Lookups!$J$168, IF(AND(J33>=0.75,J33<1),Lookups!$J$169, Lookups!$J$170)))\n),\"\"),K33)","v":""},0,0,0,0,0,0]
[null,null,null,null,null,null,null,null,null,null,null,null,null,null,null,null,null,null,null,null,0,"",{"$f":"VLOOKUP($D$13,Lookups!$C$119:$G$140,5,FALSE)","v":{"$error":"#N/A"}},{"$f":"VLOOKUP($D$13,Lookups!$C$146:$G$167,5,FALSE)","v":{"$error":"#N/A"}},0,0,6.3200000000000006E-2,"",{"$f":"IF(ISBLANK(M34),IFERROR(_xlfn.IFS(OR(I34=\"Package RTU Heat Pump\",I34=\"Split System Heat Pump\"),\nIF(G34<2010,\nIF(L34<5.4,Lookups!$K$135, IF(AND(L34>=5.4,L34<11.25),Lookups!$K$136, IF(AND(L34>=11.25,L34<20),Lookups!$K$137,Lookups!$K$138))),\nIF(L34<5.4,Lookups!$J$135, IF(AND(L34>=5.4,L34<11.25),Lookups!$J$136, IF(AND(L34>=11.25,L34<20),Lookups!$J$137,Lookups!$J$138)))),\nI34=\"Packaged Terminal Heat Pump\",\nIF(G34<2010,\nIF(L34<0.75,Lookups!$K$156, IF(AND(L34>=0.75,L34<1),Lookups!$K$157, Lookups!$K$158)),\nIF(L34<0.75,Lookups!$J$156, IF(AND(L34>=0.75,L34<1),Lookups!$J$157, Lookups!$J$158))),\nI34=\"Ductless Mini Split Heat Pump\",\nIF(G34<2010,\nIF(L34<0.75,Lookups!$K$174, IF(AND(L34>=0.75,L34<1),Lookups!$K$175, Lookups!$K$176)),\nIF(L34<0.75,Lookups!$J$174, IF(AND(L34>=0.75,L34<1),Lookups!$J$175, Lookups!$J$176)))\n),\"\"),M34)","v":""},{"$f":"IF(ISBLANK(K34),IFERROR(_xlfn.IFS(OR(I34=\"Package RTU Heat Pump\",I34=\"Split System Heat Pump\"),\nIF(G34<2010,\nIF(J34<5.4,Lookups!$K$128, IF(AND(J34>=5.4,J34<11.25),Lookups!$K$129, IF(AND(J34>=11.25,J34<20),Lookups!$K$130,Lookups!$K$131))),\nIF(J34<5.4,Lookups!$J$128, IF(AND(J34>=5.4,J34<11.25),Lookups!$J$129, IF(AND(J34>=11.25,J34<20),Lookups!$J$130,Lookups!$J$131)))),\nOR(I34=\"Package RTU AC only\",I34=\"Split System AC\"),\nIF(G34<2010,\nIF(J34<5.4,Lookups!$K$120, IF(AND(J34>=5.4,J34<11.25),Lookups!$K$121, IF(AND(J34>=11.25,J34<20),Lookups!$K$122,Lookups!$K$123))),\nIF(J34<5.4,Lookups!$J$120, IF(AND(J34>=5.4,J34<11.25),Lookups!$J$121, IF(AND(J34>=11.25,J34<20),Lookups!$J$122,Lookups!$J$123)))),\nI34=\"Packaged Terminal AC\",\nIF(G34<2010,\nIF(J34<0.75,Lookups!$K$144, IF(AND(J34>=0.75,J34<1),Lookups!$K$145,Lookups!$K$146)),\nIF(J34<0.75,Lookups!$J$144, IF(AND(J34>=0.75,J34<1),Lookups!$J$145, Lookups!$J$146))),\nI34=\"Packaged Terminal Heat Pump\",\nIF(G34<2010,\nIF(J34<0.75,Lookups!$K$150, IF(AND(J34>=0.75,J34<1),Lookups!$K$151,Lookups!$K$152)),\nIF(J34<0.75,Lookups!$J$150, IF(AND(J34>=0.75,J34<1),Lookups!$J$151, Lookups!$J$152))),\nI34=\"Ductless Mini Split AC\",\nIF(G34<2010,\nIF(J34<0.75,Lookups!$K$162, IF(AND(J34>=0.75,J34<1),Lookups!$K$163,Lookups!$K$164)),\nIF(J34<0.75,Lookups!$J$162, IF(AND(J34>=0.75,J34<1),Lookups!$J$163, Lookups!$J$164))),\nI34=\"Ductless Mini Split Heat Pump\",\nIF(G34<2010,\nIF(J34<0.75,Lookups!$K$168, IF(AND(J34>=0.75,J34<1),Lookups!$K$169,Lookups!$K$170)),\nIF(J34<0.75,Lookups!$J$168, IF(AND(J34>=0.75,J34<1),Lookups!$J$169, Lookups!$J$170)))\n),\"\"),K34)","v":""},0,0,0,0,0,0]
[null,null,null,null,null,null,null,null,null,null,null,null,null,null,null,null,null,null,null,null,0,"",{"$f":"VLOOKUP($D$13,Lookups!$C$119:$G$140,5,FALSE)","v":{"$error":"#N/A"}},{"$f":"VLOOKUP($D$13,Lookups!$C$146:$G$167,5,FALSE)","v":{"$error":"#N/A"}},0,0,6.3200000000000006E-2,"",{"$f":"IF(ISBLANK(M35),IFERROR(_xlfn.IFS(OR(I35=\"Package RTU Heat Pump\",I35=\"Split System Heat Pump\"),\nIF(G35<2010,\nIF(L35<5.4,Lookups!$K$135, IF(AND(L35>=5.4,L35<11.25),Lookups!$K$136, IF(AND(L35>=11.25,L35<20),Lookups!$K$137,Lookups!$K$138))),\nIF(L35<5.4,Lookups!$J$135, IF(AND(L35>=5.4,L35<11.25),Lookups!$J$136, IF(AND(L35>=11.25,L35<20),Lookups!$J$137,Lookups!$J$138)))),\nI35=\"Packaged Terminal Heat Pump\",\nIF(G35<2010,\nIF(L35<0.75,Lookups!$K$156, IF(AND(L35>=0.75,L35<1),Lookups!$K$157, Lookups!$K$158)),\nIF(L35<0.75,Lookups!$J$156, IF(AND(L35>=0.75,L35<1),Lookups!$J$157, Lookups!$J$158))),\nI35=\"Ductless Mini Split Heat Pump\",\nIF(G35<2010,\nIF(L35<0.75,Lookups!$K$174, IF(AND(L35>=0.75,L35<1),Lookups!$K$175, Lookups!$K$176)),\nIF(L35<0.75,Lookups!$J$174, IF(AND(L35>=0.75,L35<1),Lookups!$J$175, Lookups!$J$176)))\n),\"\"),M35)","v":""},{"$f":"IF(ISBLANK(K35),IFERROR(_xlfn.IFS(OR(I35=\"Package RTU Heat Pump\",I35=\"Split System Heat Pump\"),\nIF(G35<2010,\nIF(J35<5.4,Lookups!$K$128, IF(AND(J35>=5.4,J35<11.25),Lookups!$K$129, IF(AND(J35>=11.25,J35<20),Lookups!$K$130,Lookups!$K$131))),\nIF(J35<5.4,Lookups!$J$128, IF(AND(J35>=5.4,J35<11.25),Lookups!$J$129, IF(AND(J35>=11.25,J35<20),Lookups!$J$130,Lookups!$J$131)))),\nOR(I35=\"Package RTU AC only\",I35=\"Split System AC\"),\nIF(G35<2010,\nIF(J35<5.4,Lookups!$K$120, IF(AND(J35>=5.4,J35<11.25),Lookups!$K$121, IF(AND(J35>=11.25,J35<20),Lookups!$K$122,Lookups!$K$123))),\nIF(J35<5.4,Lookups!$J$120, IF(AND(J35>=5.4,J35<11.25),Lookups!$J$121, IF(AND(J35>=11.25,J35<20),Lookups!$J$122,Lookups!$J$123)))),\nI35=\"Packaged Terminal AC\",\nIF(G35<2010,\nIF(J35<0.75,Lookups!$K$144, IF(AND(J35>=0.75,J35<1),Lookups!$K$145,Lookups!$K$146)),\nIF(J35<0.75,Lookups!$J$144, IF(AND(J35>=0.75,J35<1),Lookups!$J$145, Lookups!$J$146))),\nI35=\"Packaged Terminal Heat Pump\",\nIF(G35<2010,\nIF(J35<0.75,Lookups!$K$150, IF(AND(J35>=0.75,J35<1),Lookups!$K$151,Lookups!$K$152)),\nIF(J35<0.75,Lookups!$J$150, IF(AND(J35>=0.75,J35<1),Lookups!$J$151, Lookups!$J$152))),\nI35=\"Ductless Mini Split AC\",\nIF(G35<2010,\nIF(J35<0.75,Lookups!$K$162, IF(AND(J35>=0.75,J35<1),Lookups!$K$163,Lookups!$K$164)),\nIF(J35<0.75,Lookups!$J$162, IF(AND(J35>=0.75,J35<1),Lookups!$J$163, Lookups!$J$164))),\nI35=\"Ductless Mini Split Heat Pump\",\nIF(G35<2010,\nIF(J35<0.75,Lookups!$K$168, IF(AND(J35>=0.75,J35<1),Lookups!$K$169,Lookups!$K$170)),\nIF(J35<0.75,Lookups!$J$168, IF(AND(J35>=0.75,J35<1),Lookups!$J$169, Lookups!$J$170)))\n),\"\"),K35)","v":""},0,0,0,0,0,0]
[null,null,null,null,null,null,null,null,null,null,null,null,null,null,null,null,null,null,null,null,0,"",{"$f":"VLOOKUP($D$13,Lookups!$C$119:$G$140,5,FALSE)","v":{"$error":"#N/A"}},{"$f":"VLOOKUP($D$13,Lookups!$C$146:$G$167,5,FALSE)","v":{"$error":"#N/A"}},0,0,6.3200000000000006E-2,"",{"$f":"IF(ISBLANK(M36),IFERROR(_xlfn.IFS(OR(I36=\"Package RTU Heat Pump\",I36=\"Split System Heat Pump\"),\nIF(G36<2010,\nIF(L36<5.4,Lookups!$K$135, IF(AND(L36>=5.4,L36<11.25),Lookups!$K$136, IF(AND(L36>=11.25,L36<20),Lookups!$K$137,Lookups!$K$138))),\nIF(L36<5.4,Lookups!$J$135, IF(AND(L36>=5.4,L36<11.25),Lookups!$J$136, IF(AND(L36>=11.25,L36<20),Lookups!$J$137,Lookups!$J$138)))),\nI36=\"Packaged Terminal Heat Pump\",\nIF(G36<2010,\nIF(L36<0.75,Lookups!$K$156, IF(AND(L36>=0.75,L36<1),Lookups!$K$157, Lookups!$K$158)),\nIF(L36<0.75,Lookups!$J$156, IF(AND(L36>=0.75,L36<1),Lookups!$J$157, Lookups!$J$158))),\nI36=\"Ductless Mini Split Heat Pump\",\nIF(G36<2010,\nIF(L36<0.75,Lookups!$K$174, IF(AND(L36>=0.75,L36<1),Lookups!$K$175, Lookups!$K$176)),\nIF(L36<0.75,Lookups!$J$174, IF(AND(L36>=0.75,L36<1),Lookups!$J$175, Lookups!$J$176)))\n),\"\"),M36)","v":""},{"$f":"IF(ISBLANK(K36),IFERROR(_xlfn.IFS(OR(I36=\"Package RTU Heat Pump\",I36=\"Split System Heat Pump\"),\nIF(G36<2010,\nIF(J36<5.4,Lookups!$K$128, IF(AND(J36>=5.4,J36<11.25),Lookups!$K$129, IF(AND(J36>=11.25,J36<20),Lookups!$K$130,Lookups!$K$131))),\nIF(J36<5.4,Lookups!$J$128, IF(AND(J36>=5.4,J36<11.25),Lookups!$J$129, IF(AND(J36>=11.25,J36<20),Lookups!$J$130,Lookups!$J$131)))),\nOR(I36=\"Package RTU AC only\",I36=\"Split System AC\"),\nIF(G36<2010,\nIF(J36<5.4,Lookups!$K$120, IF(AND(J36>=5.4,J36<11.25),Lookups!$K$121, IF(AND(J36>=11.25,J36<20),Lookups!$K$122,Lookups!$K$123))),\nIF(J36<5.4,Lookups!$J$120, IF(AND(J36>=5.4,J36<11.25),Lookups!$J$121, IF(AND(J36>=11.25,J36<20),Lookups!$J$122,Lookups!$J$123)))),\nI36=\"Packaged Terminal AC\",\nIF(G36<2010,\nIF(J36<0.75,Lookups!$K$144, IF(AND(J36>=0.75,J36<1),Lookups!$K$145,Lookups!$K$146)),\nIF(J36<0.75,Lookups!$J$144, IF(AND(J36>=0.75,J36<1),Lookups!$J$145, Lookups!$J$146))),\nI36=\"Packaged Terminal Heat Pump\",\nIF(G36<2010,\nIF(J36<0.75,Lookups!$K$150, IF(AND(J36>=0.75,J36<1),Lookups!$K$151,Lookups!$K$152)),\nIF(J36<0.75,Lookups!$J$150, IF(AND(J36>=0.75,J36<1),Lookups!$J$151, Lookups!$J$152))),\nI36=\"Ductless Mini Split AC\",\nIF(G36<2010,\nIF(J36<0.75,Lookups!$K$162, IF(AND(J36>=0.75,J36<1),Lookups!$K$163,Lookups!$K$164)),\nIF(J36<0.75,Lookups!$J$162, IF(AND(J36>=0.75,J36<1),Lookups!$J$163, Lookups!$J$164))),\nI36=\"Ductless Mini Split Heat Pump\",\nIF(G36<2010,\nIF(J36<0.75,Lookups!$K$168, IF(AND(J36>=0.75,J36<1),Lookups!$K$169,Lookups!$K$170)),\nIF(J36<0.75,Lookups!$J$168, IF(AND(J36>=0.75,J36<1),Lookups!$J$169, Lookups!$J$170)))\n),\"\"),K36)","v":""},0,0,0,0,0,0]
[null,null,null,null,null,null,null,null,null,null,null,null,null,null,null,null,null,null,null,null,0,"",{"$f":"VLOOKUP($D$13,Lookups!$C$119:$G$140,5,FALSE)","v":{"$error":"#N/A"}},{"$f":"VLOOKUP($D$13,Lookups!$C$146:$G$167,5,FALSE)","v":{"$error":"#N/A"}},0,0,6.3200000000000006E-2,"",{"$f":"IF(ISBLANK(M37),IFERROR(_xlfn.IFS(OR(I37=\"Package RTU Heat Pump\",I37=\"Split System Heat Pump\"),\nIF(G37<2010,\nIF(L37<5.4,Lookups!$K$135, IF(AND(L37>=5.4,L37<11.25),Lookups!$K$136, IF(AND(L37>=11.25,L37<20),Lookups!$K$137,Lookups!$K$138))),\nIF(L37<5.4,Lookups!$J$135, IF(AND(L37>=5.4,L37<11.25),Lookups!$J$136, IF(AND(L37>=11.25,L37<20),Lookups!$J$137,Lookups!$J$138)))),\nI37=\"Packaged Terminal Heat Pump\",\nIF(G37<2010,\nIF(L37<0.75,Lookups!$K$156, IF(AND(L37>=0.75,L37<1),Lookups!$K$157, Lookups!$K$158)),\nIF(L37<0.75,Lookups!$J$156, IF(AND(L37>=0.75,L37<1),Lookups!$J$157, Lookups!$J$158))),\nI37=\"Ductless Mini Split Heat Pump\",\nIF(G37<2010,\nIF(L37<0.75,Lookups!$K$174, IF(AND(L37>=0.75,L37<1),Lookups!$K$175, Lookups!$K$176)),\nIF(L37<0.75,Lookups!$J$174, IF(AND(L37>=0.75,L37<1),Lookups!$J$175, Lookups!$J$176)))\n),\"\"),M37)","v":""},{"$f":"IF(ISBLANK(K37),IFERROR(_xlfn.IFS(OR(I37=\"Package RTU Heat Pump\",I37=\"Split System Heat Pump\"),\nIF(G37<2010,\nIF(J37<5.4,Lookups!$K$128, IF(AND(J37>=5.4,J37<11.25),Lookups!$K$129, IF(AND(J37>=11.25,J37<20),Lookups!$K$130,Lookups!$K$131))),\nIF(J37<5.4,Lookups!$J$128, IF(AND(J37>=5.4,J37<11.25),Lookups!$J$129, IF(AND(J37>=11.25,J37<20),Lookups!$J$130,Lookups!$J$131)))),\nOR(I37=\"Package RTU AC only\",I37=\"Split System AC\"),\nIF(G37<2010,\nIF(J37<5.4,Lookups!$K$120, IF(AND(J37>=5.4,J37<11.25),Lookups!$K$121, IF(AND(J37>=11.25,J37<20),Lookups!$K$122,Lookups!$K$123))),\nIF(J37<5.4,Lookups!$J$120, IF(AND(J37>=5.4,J37<11.25),Lookups!$J$121, IF(AND(J37>=11.25,J37<20),Lookups!$J$122,Lookups!$J$123)))),\nI37=\"Packaged Terminal AC\",\nIF(G37<2010,\nIF(J37<0.75,Lookups!$K$144, IF(AND(J37>=0.75,J37<1),Lookups!$K$145,Lookups!$K$146)),\nIF(J37<0.75,Lookups!$J$144, IF(AND(J37>=0.75,J37<1),Lookups!$J$145, Lookups!$J$146))),\nI37=\"Packaged Terminal Heat Pump\",\nIF(G37<2010,\nIF(J37<0.75,Lookups!$K$150, IF(AND(J37>=0.75,J37<1),Lookups!$K$151,Lookups!$K$152)),\nIF(J37<0.75,Lookups!$J$150, IF(AND(J37>=0.75,J37<1),Lookups!$J$151, Lookups!$J$152))),\nI37=\"Ductless Mini Split AC\",\nIF(G37<2010,\nIF(J37<0.75,Lookups!$K$162, IF(AND(J37>=0.75,J37<1),Lookups!$K$163,Lookups!$K$164)),\nIF(J37<0.75,Lookups!$J$162, IF(AND(J37>=0.75,J37<1),Lookups!$J$163, Lookups!$J$164))),\nI37=\"Ductless Mini Split Heat Pump\",\nIF(G37<2010,\nIF(J37<0.75,Lookups!$K$168, IF(AND(J37>=0.75,J37<1),Lookups!$K$169,Lookups!$K$170)),\nIF(J37<0.75,Lookups!$J$168, IF(AND(J37>=0.75,J37<1),Lookups!$J$169, Lookups!$J$170)))\n),\"\"),K37)","v":""},0,0,0,0,0,0]
[null,null,null,null,null,null,null,null,null,null,null,null,null,null,null,null,null,null,null,null,0,"",{"$f":"VLOOKUP($D$13,Lookups!$C$119:$G$140,5,FALSE)","v":{"$error":"#N/A"}},{"$f":"VLOOKUP($D$13,Lookups!$C$146:$G$167,5,FALSE)","v":{"$error":"#N/A"}},0,0,6.3200000000000006E-2,"",{"$f":"IF(ISBLANK(M38),IFERROR(_xlfn.IFS(OR(I38=\"Package RTU Heat Pump\",I38=\"Split System Heat Pump\"),\nIF(G38<2010,\nIF(L38<5.4,Lookups!$K$135, IF(AND(L38>=5.4,L38<11.25),Lookups!$K$136, IF(AND(L38>=11.25,L38<20),Lookups!$K$137,Lookups!$K$138))),\nIF(L38<5.4,Lookups!$J$135, IF(AND(L38>=5.4,L38<11.25),Lookups!$J$136, IF(AND(L38>=11.25,L38<20),Lookups!$J$137,Lookups!$J$138)))),\nI38=\"Packaged Terminal Heat Pump\",\nIF(G38<2010,\nIF(L38<0.75,Lookups!$K$156, IF(AND(L38>=0.75,L38<1),Lookups!$K$157, Lookups!$K$158)),\nIF(L38<0.75,Lookups!$J$156, IF(AND(L38>=0.75,L38<1),Lookups!$J$157, Lookups!$J$158))),\nI38=\"Ductless Mini Split Heat Pump\",\nIF(G38<2010,\nIF(L38<0.75,Lookups!$K$174, IF(AND(L38>=0.75,L38<1),Lookups!$K$175, Lookups!$K$176)),\nIF(L38<0.75,Lookups!$J$174, IF(AND(L38>=0.75,L38<1),Lookups!$J$175, Lookups!$J$176)))\n),\"\"),M38)","v":""},{"$f":"IF(ISBLANK(K38),IFERROR(_xlfn.IFS(OR(I38=\"Package RTU Heat Pump\",I38=\"Split System Heat Pump\"),\nIF(G38<2010,\nIF(J38<5.4,Lookups!$K$128, IF(AND(J38>=5.4,J38<11.25),Lookups!$K$129, IF(AND(J38>=11.25,J38<20),Lookups!$K$130,Lookups!$K$131))),\nIF(J38<5.4,Lookups!$J$128, IF(AND(J38>=5.4,J38<11.25),Lookups!$J$129, IF(AND(J38>=11.25,J38<20),Lookups!$J$130,Lookups!$J$131)))),\nOR(I38=\"Package RTU AC only\",I38=\"Split System AC\"),\nIF(G38<2010,\nIF(J38<5.4,Lookups!$K$120, IF(AND(J38>=5.4,J38<11.25),Lookups!$K$121, IF(AND(J38>=11.25,J38<20),Lookups!$K$122,Lookups!$K$123))),\nIF(J38<5.4,Lookups!$J$120, IF(AND(J38>=5.4,J38<11.25),Lookups!$J$121, IF(AND(J38>=11.25,J38<20),Lookups!$J$122,Lookups!$J$123)))),\nI38=\"Packaged Terminal AC\",\nIF(G38<2010,\nIF(J38<0.75,Lookups!$K$144, IF(AND(J38>=0.75,J38<1),Lookups!$K$145,Lookups!$K$146)),\nIF(J38<0.75,Lookups!$J$144, IF(AND(J38>=0.75,J38<1),Lookups!$J$145, Lookups!$J$146))),\nI38=\"Packaged Terminal Heat Pump\",\nIF(G38<2010,\nIF(J38<0.75,Lookups!$K$150, IF(AND(J38>=0.75,J38<1),Lookups!$K$151,Lookups!$K$152)),\nIF(J38<0.75,Lookups!$J$150, IF(AND(J38>=0.75,J38<1),Lookups!$J$151, Lookups!$J$152))),\nI38=\"Ductless Mini Split AC\",\nIF(G38<2010,\nIF(J38<0.75,Lookups!$K$162, IF(AND(J38>=0.75,J38<1),Lookups!$K$163,Lookups!$K$164)),\nIF(J38<0.75,Lookups!$J$162, IF(AND(J38>=0.75,J38<1),Lookups!$J$163, Lookups!$J$164))),\nI38=\"Ductless Mini Split Heat Pump\",\nIF(G38<2010,\nIF(J38<0.75,Lookups!$K$168, IF(AND(J38>=0.75,J38<1),Lookups!$K$169,Lookups!$K$170)),\nIF(J38<0.75,Lookups!$J$168, IF(AND(J38>=0.75,J38<1),Lookups!$J$169, Lookups!$J$170)))\n),\"\"),K38)","v":""},0,0,0,0,0,0]
[null,null,null,null,null,null,null,null,null,null,null,null,null,null,null,null,null,null,null,null,0,"",{"$f":"VLOOKUP($D$13,Lookups!$C$119:$G$140,5,FALSE)","v":{"$error":"#N/A"}},{"$f":"VLOOKUP($D$13,Lookups!$C$146:$G$167,5,FALSE)","v":{"$error":"#N/A"}},0,0,6.3200000000000006E-2,"",{"$f":"IF(ISBLANK(M39),IFERROR(_xlfn.IFS(OR(I39=\"Package RTU Heat Pump\",I39=\"Split System Heat Pump\"),\nIF(G39<2010,\nIF(L39<5.4,Lookups!$K$135, IF(AND(L39>=5.4,L39<11.25),Lookups!$K$136, IF(AND(L39>=11.25,L39<20),Lookups!$K$137,Lookups!$K$138))),\nIF(L39<5.4,Lookups!$J$135, IF(AND(L39>=5.4,L39<11.25),Lookups!$J$136, IF(AND(L39>=11.25,L39<20),Lookups!$J$137,Lookups!$J$138)))),\nI39=\"Packaged Terminal Heat Pump\",\nIF(G39<2010,\nIF(L39<0.75,Lookups!$K$156, IF(AND(L39>=0.75,L39<1),Lookups!$K$157, Lookups!$K$158)),\nIF(L39<0.75,Lookups!$J$156, IF(AND(L39>=0.75,L39<1),Lookups!$J$157, Lookups!$J$158))),\nI39=\"Ductless Mini Split Heat Pump\",\nIF(G39<2010,\nIF(L39<0.75,Lookups!$K$174, IF(AND(L39>=0.75,L39<1),Lookups!$K$175, Lookups!$K$176)),\nIF(L39<0.75,Lookups!$J$174, IF(AND(L39>=0.75,L39<1),Lookups!$J$175, Lookups!$J$176)))\n),\"\"),M39)","v":""},{"$f":"IF(ISBLANK(K39),IFERROR(_xlfn.IFS(OR(I39=\"Package RTU Heat Pump\",I39=\"Split System Heat Pump\"),\nIF(G39<2010,\nIF(J39<5.4,Lookups!$K$128, IF(AND(J39>=5.4,J39<11.25),Lookups!$K$129, IF(AND(J39>=11.25,J39<20),Lookups!$K$130,Lookups!$K$131))),\nIF(J39<5.4,Lookups!$J$128, IF(AND(J39>=5.4,J39<11.25),Lookups!$J$129, IF(AND(J39>=11.25,J39<20),Lookups!$J$130,Lookups!$J$131)))),\nOR(I39=\"Package RTU AC only\",I39=\"Split System AC\"),\nIF(G39<2010,\nIF(J39<5.4,Lookups!$K$120, IF(AND(J39>=5.4,J39<11.25),Lookups!$K$121, IF(AND(J39>=11.25,J39<20),Lookups!$K$122,Lookups!$K$123))),\nIF(J39<5.4,Lookups!$J$120, IF(AND(J39>=5.4,J39<11.25),Lookups!$J$121, IF(AND(J39>=11.25,J39<20),Lookups!$J$122,Lookups!$J$123)))),\nI39=\"Packaged Terminal AC\",\nIF(G39<2010,\nIF(J39<0.75,Lookups!$K$144, IF(AND(J39>=0.75,J39<1),Lookups!$K$145,Lookups!$K$146)),\nIF(J39<0.75,Lookups!$J$144, IF(AND(J39>=0.75,J39<1),Lookups!$J$145, Lookups!$J$146))),\nI39=\"Packaged Terminal Heat Pump\",\nIF(G39<2010,\nIF(J39<0.75,Lookups!$K$150, IF(AND(J39>=0.75,J39<1),Lookups!$K$151,Lookups!$K$152)),\nIF(J39<0.75,Lookups!$J$150, IF(AND(J39>=0.75,J39<1),Lookups!$J$151, Lookups!$J$152))),\nI39=\"Ductless Mini Split AC\",\nIF(G39<2010,\nIF(J39<0.75,Lookups!$K$162, IF(AND(J39>=0.75,J39<1),Lookups!$K$163,Lookups!$K$164)),\nIF(J39<0.75,Lookups!$J$162, IF(AND(J39>=0.75,J39<1),Lookups!$J$163, Lookups!$J$164))),\nI39=\"Ductless Mini Split Heat Pump\",\nIF(G39<2010,\nIF(J39<0.75,Lookups!$K$168, IF(AND(J39>=0.75,J39<1),Lookups!$K$169,Lookups!$K$170)),\nIF(J39<0.75,Lookups!$J$168, IF(AND(J39>=0.75,J39<1),Lookups!$J$169, Lookups!$J$170)))\n),\"\"),K39)","v":""},0,0,0,0,0,0]
[null,null,null,null,null,null,null,null,null,null,null,null,null,null,null,null,null,null,null,null,0,"",{"$f":"VLOOKUP($D$13,Lookups!$C$119:$G$140,5,FALSE)","v":{"$error":"#N/A"}},{"$f":"VLOOKUP($D$13,Lookups!$C$146:$G$167,5,FALSE)","v":{"$error":"#N/A"}},0,0,6.3200000000000006E-2,"",{"$f":"IF(ISBLANK(M40),IFERROR(_xlfn.IFS(OR(I40=\"Package RTU Heat Pump\",I40=\"Split System Heat Pump\"),\nIF(G40<2010,\nIF(L40<5.4,Lookups!$K$135, IF(AND(L40>=5.4,L40<11.25),Lookups!$K$136, IF(AND(L40>=11.25,L40<20),Lookups!$K$137,Lookups!$K$138))),\nIF(L40<5.4,Lookups!$J$135, IF(AND(L40>=5.4,L40<11.25),Lookups!$J$136, IF(AND(L40>=11.25,L40<20),Lookups!$J$137,Lookups!$J$138)))),\nI40=\"Packaged Terminal Heat Pump\",\nIF(G40<2010,\nIF(L40<0.75,Lookups!$K$156, IF(AND(L40>=0.75,L40<1),Lookups!$K$157, Lookups!$K$158)),\nIF(L40<0.75,Lookups!$J$156, IF(AND(L40>=0.75,L40<1),Lookups!$J$157, Lookups!$J$158))),\nI40=\"Ductless Mini Split Heat Pump\",\nIF(G40<2010,\nIF(L40<0.75,Lookups!$K$174, IF(AND(L40>=0.75,L40<1),Lookups!$K$175, Lookups!$K$176)),\nIF(L40<0.75,Lookups!$J$174, IF(AND(L40>=0.75,L40<1),Lookups!$J$175, Lookups!$J$176)))\n),\"\"),M40)","v":""},{"$f":"IF(ISBLANK(K40),IFERROR(_xlfn.IFS(OR(I40=\"Package RTU Heat Pump\",I40=\"Split System Heat Pump\"),\nIF(G40<2010,\nIF(J40<5.4,Lookups!$K$128, IF(AND(J40>=5.4,J40<11.25),Lookups!$K$129, IF(AND(J40>=11.25,J40<20),Lookups!$K$130,Lookups!$K$131))),\nIF(J40<5.4,Lookups!$J$128, IF(AND(J40>=5.4,J40<11.25),Lookups!$J$129, IF(AND(J40>=11.25,J40<20),Lookups!$J$130,Lookups!$J$131)))),\nOR(I40=\"Package RTU AC only\",I40=\"Split System AC\"),\nIF(G40<2010,\nIF(J40<5.4,Lookups!$K$120, IF(AND(J40>=5.4,J40<11.25),Lookups!$K$121, IF(AND(J40>=11.25,J40<20),Lookups!$K$122,Lookups!$K$123))),\nIF(J40<5.4,Lookups!$J$120, IF(AND(J40>=5.4,J40<11.25),Lookups!$J$121, IF(AND(J40>=11.25,J40<20),Lookups!$J$122,Lookups!$J$123)))),\nI40=\"Packaged Terminal AC\",\nIF(G40<2010,\nIF(J40<0.75,Lookups!$K$144, IF(AND(J40>=0.75,J40<1),Lookups!$K$145,Lookups!$K$146)),\nIF(J40<0.75,Lookups!$J$144, IF(AND(J40>=0.75,J40<1),Lookups!$J$145, Lookups!$J$146))),\nI40=\"Packaged Terminal Heat Pump\",\nIF(G40<2010,\nIF(J40<0.75,Lookups!$K$150, IF(AND(J40>=0.75,J40<1),Lookups!$K$151,Lookups!$K$152)),\nIF(J40<0.75,Lookups!$J$150, IF(AND(J40>=0.75,J40<1),Lookups!$J$151, Lookups!$J$152))),\nI40=\"Ductless Mini Split AC\",\nIF(G40<2010,\nIF(J40<0.75,Lookups!$K$162, IF(AND(J40>=0.75,J40<1),Lookups!$K$163,Lookups!$K$164)),\nIF(J40<0.75,Lookups!$J$162, IF(AND(J40>=0.75,J40<1),Lookups!$J$163, Lookups!$J$164))),\nI40=\"Ductless Mini Split Heat Pump\",\nIF(G40<2010,\nIF(J40<0.75,Lookups!$K$168, IF(AND(J40>=0.75,J40<1),Lookups!$K$169,Lookups!$K$170)),\nIF(J40<0.75,Lookups!$J$168, IF(AND(J40>=0.75,J40<1),Lookups!$J$169, Lookups!$J$170)))\n),\"\"),K40)","v":""},0,0,0,0,0,0]
[null,null,null,null,null,null,null,null,null,null,null,null,null,null,null,null,null,null,null,null,0,"",{"$f":"VLOOKUP($D$13,Lookups!$C$119:$G$140,5,FALSE)","v":{"$error":"#N/A"}},{"$f":"VLOOKUP($D$13,Lookups!$C$146:$G$167,5,FALSE)","v":{"$error":"#N/A"}},0,0,6.3200000000000006E-2,"",{"$f":"IF(ISBLANK(M41),IFERROR(_xlfn.IFS(OR(I41=\"Package RTU Heat Pump\",I41=\"Split System Heat Pump\"),\nIF(G41<2010,\nIF(L41<5.4,Lookups!$K$135, IF(AND(L41>=5.4,L41<11.25),Lookups!$K$136, IF(AND(L41>=11.25,L41<20),Lookups!$K$137,Lookups!$K$138))),\nIF(L41<5.4,Lookups!$J$135, IF(AND(L41>=5.4,L41<11.25),Lookups!$J$136, IF(AND(L41>=11.25,L41<20),Lookups!$J$137,Lookups!$J$138)))),\nI41=\"Packaged Terminal Heat Pump\",\nIF(G41<2010,\nIF(L41<0.75,Lookups!$K$156, IF(AND(L41>=0.75,L41<1),Lookups!$K$157, Lookups!$K$158)),\nIF(L41<0.75,Lookups!$J$156, IF(AND(L41>=0.75,L41<1),Lookups!$J$157, Lookups!$J$158))),\nI41=\"Ductless Mini Split Heat Pump\",\nIF(G41<2010,\nIF(L41<0.75,Lookups!$K$174, IF(AND(L41>=0.75,L41<1),Lookups!$K$175, Lookups!$K$176)),\nIF(L41<0.75,Lookups!$J$174, IF(AND(L41>=0.75,L41<1),Lookups!$J$175, Lookups!$J$176)))\n),\"\"),M41)","v":""},{"$f":"IF(ISBLANK(K41),IFERROR(_xlfn.IFS(OR(I41=\"Package RTU Heat Pump\",I41=\"Split System Heat Pump\"),\nIF(G41<2010,\nIF(J41<5.4,Lookups!$K$128, IF(AND(J41>=5.4,J41<11.25),Lookups!$K$129, IF(AND(J41>=11.25,J41<20),Lookups!$K$130,Lookups!$K$131))),\nIF(J41<5.4,Lookups!$J$128, IF(AND(J41>=5.4,J41<11.25),Lookups!$J$129, IF(AND(J41>=11.25,J41<20),Lookups!$J$130,Lookups!$J$131)))),\nOR(I41=\"Package RTU AC only\",I41=\"Split System AC\"),\nIF(G41<2010,\nIF(J41<5.4,Lookups!$K$120, IF(AND(J41>=5.4,J41<11.25),Lookups!$K$121, IF(AND(J41>=11.25,J41<20),Lookups!$K$122,Lookups!$K$123))),\nIF(J41<5.4,Lookups!$J$120, IF(AND(J41>=5.4,J41<11.25),Lookups!$J$121, IF(AND(J41>=11.25,J41<20),Lookups!$J$122,Lookups!$J$123)))),\nI41=\"Packaged Terminal AC\",\nIF(G41<2010,\nIF(J41<0.75,Lookups!$K$144, IF(AND(J41>=0.75,J41<1),Lookups!$K$145,Lookups!$K$146)),\nIF(J41<0.75,Lookups!$J$144, IF(AND(J41>=0.75,J41<1),Lookups!$J$145, Lookups!$J$146))),\nI41=\"Packaged Terminal Heat Pump\",\nIF(G41<2010,\nIF(J41<0.75,Lookups!$K$150, IF(AND(J41>=0.75,J41<1),Lookups!$K$151,Lookups!$K$152)),\nIF(J41<0.75,Lookups!$J$150, IF(AND(J41>=0.75,J41<1),Lookups!$J$151, Lookups!$J$152))),\nI41=\"Ductless Mini Split AC\",\nIF(G41<2010,\nIF(J41<0.75,Lookups!$K$162, IF(AND(J41>=0.75,J41<1),Lookups!$K$163,Lookups!$K$164)),\nIF(J41<0.75,Lookups!$J$162, IF(AND(J41>=0.75,J41<1),Lookups!$J$163, Lookups!$J$164))),\nI41=\"Ductless Mini Split Heat Pump\",\nIF(G41<2010,\nIF(J41<0.75,Lookups!$K$168, IF(AND(J41>=0.75,J41<1),Lookups!$K$169,Lookups!$K$170)),\nIF(J41<0.75,Lookups!$J$168, IF(AND(J41>=0.75,J41<1),Lookups!$J$169, Lookups!$J$170)))\n),\"\"),K41)","v":""},0,0,0,0,0,0]
[null,null,null,null,null,null,null,null,null,null,null,null,null,null,null,null,null,null,null,null,0,"",{"$f":"VLOOKUP($D$13,Lookups!$C$119:$G$140,5,FALSE)","v":{"$error":"#N/A"}},{"$f":"VLOOKUP($D$13,Lookups!$C$146:$G$167,5,FALSE)","v":{"$error":"#N/A"}},0,0,6.3200000000000006E-2,"",{"$f":"IF(ISBLANK(M42),IFERROR(_xlfn.IFS(OR(I42=\"Package RTU Heat Pump\",I42=\"Split System Heat Pump\"),\nIF(G42<2010,\nIF(L42<5.4,Lookups!$K$135, IF(AND(L42>=5.4,L42<11.25),Lookups!$K$136, IF(AND(L42>=11.25,L42<20),Lookups!$K$137,Lookups!$K$138))),\nIF(L42<5.4,Lookups!$J$135, IF(AND(L42>=5.4,L42<11.25),Lookups!$J$136, IF(AND(L42>=11.25,L42<20),Lookups!$J$137,Lookups!$J$138)))),\nI42=\"Packaged Terminal Heat Pump\",\nIF(G42<2010,\nIF(L42<0.75,Lookups!$K$156, IF(AND(L42>=0.75,L42<1),Lookups!$K$157, Lookups!$K$158)),\nIF(L42<0.75,Lookups!$J$156, IF(AND(L42>=0.75,L42<1),Lookups!$J$157, Lookups!$J$158))),\nI42=\"Ductless Mini Split Heat Pump\",\nIF(G42<2010,\nIF(L42<0.75,Lookups!$K$174, IF(AND(L42>=0.75,L42<1),Lookups!$K$175, Lookups!$K$176)),\nIF(L42<0.75,Lookups!$J$174, IF(AND(L42>=0.75,L42<1),Lookups!$J$175, Lookups!$J$176)))\n),\"\"),M42)","v":""},{"$f":"IF(ISBLANK(K42),IFERROR(_xlfn.IFS(OR(I42=\"Package RTU Heat Pump\",I42=\"Split System Heat Pump\"),\nIF(G42<2010,\nIF(J42<5.4,Lookups!$K$128, IF(AND(J42>=5.4,J42<11.25),Lookups!$K$129, IF(AND(J42>=11.25,J42<20),Lookups!$K$130,Lookups!$K$131))),\nIF(J42<5.4,Lookups!$J$128, IF(AND(J42>=5.4,J42<11.25),Lookups!$J$129, IF(AND(J42>=11.25,J42<20),Lookups!$J$130,Lookups!$J$131)))),\nOR(I42=\"Package RTU AC only\",I42=\"Split System AC\"),\nIF(G42<2010,\nIF(J42<5.4,Lookups!$K$120, IF(AND(J42>=5.4,J42<11.25),Lookups!$K$121, IF(AND(J42>=11.25,J42<20),Lookups!$K$122,Lookups!$K$123))),\nIF(J42<5.4,Lookups!$J$120, IF(AND(J42>=5.4,J42<11.25),Lookups!$J$121, IF(AND(J42>=11.25,J42<20),Lookups!$J$122,Lookups!$J$123)))),\nI42=\"Packaged Terminal AC\",\nIF(G42<2010,\nIF(J42<0.75,Lookups!$K$144, IF(AND(J42>=0.75,J42<1),Lookups!$K$145,Lookups!$K$146)),\nIF(J42<0.75,Lookups!$J$144, IF(AND(J42>=0.75,J42<1),Lookups!$J$145, Lookups!$J$146))),\nI42=\"Packaged Terminal Heat Pump\",\nIF(G42<2010,\nIF(J42<0.75,Lookups!$K$150, IF(AND(J42>=0.75,J42<1),Lookups!$K$151,Lookups!$K$152)),\nIF(J42<0.75,Lookups!$J$150, IF(AND(J42>=0.75,J42<1),Lookups!$J$151, Lookups!$J$152))),\nI42=\"Ductless Mini Split AC\",\nIF(G42<2010,\nIF(J42<0.75,Lookups!$K$162, IF(AND(J42>=0.75,J42<1),Lookups!$K$163,Lookups!$K$164)),\nIF(J42<0.75,Lookups!$J$162, IF(AND(J42>=0.75,J42<1),Lookups!$J$163, Lookups!$J$164))),\nI42=\"Ductless Mini Split Heat Pump\",\nIF(G42<2010,\nIF(J42<0.75,Lookups!$K$168, IF(AND(J42>=0.75,J42<1),Lookups!$K$169,Lookups!$K$170)),\nIF(J42<0.75,Lookups!$J$168, IF(AND(J42>=0.75,J42<1),Lookups!$J$169, Lookups!$J$170)))\n),\"\"),K42)","v":""},0,0,0,0,0,0]
[null,null,null,null,null,null,null,null,null,null,null,null,null,null,null,null,null,null,null,null,0,"",{"$f":"VLOOKUP($D$13,Lookups!$C$119:$G$140,5,FALSE)","v":{"$error":"#N/A"}},{"$f":"VLOOKUP($D$13,Lookups!$C$146:$G$167,5,FALSE)","v":{"$error":"#N/A"}},0,0,6.3200000000000006E-2,"",{"$f":"IF(ISBLANK(M43),IFERROR(_xlfn.IFS(OR(I43=\"Package RTU Heat Pump\",I43=\"Split System Heat Pump\"),\nIF(G43<2010,\nIF(L43<5.4,Lookups!$K$135, IF(AND(L43>=5.4,L43<11.25),Lookups!$K$136, IF(AND(L43>=11.25,L43<20),Lookups!$K$137,Lookups!$K$138))),\nIF(L43<5.4,Lookups!$J$135, IF(AND(L43>=5.4,L43<11.25),Lookups!$J$136, IF(AND(L43>=11.25,L43<20),Lookups!$J$137,Lookups!$J$138)))),\nI43=\"Packaged Terminal Heat Pump\",\nIF(G43<2010,\nIF(L43<0.75,Lookups!$K$156, IF(AND(L43>=0.75,L43<1),Lookups!$K$157, Lookups!$K$158)),\nIF(L43<0.75,Lookups!$J$156, IF(AND(L43>=0.75,L43<1),Lookups!$J$157, Lookups!$J$158))),\nI43=\"Ductless Mini Split Heat Pump\",\nIF(G43<2010,\nIF(L43<0.75,Lookups!$K$174, IF(AND(L43>=0.75,L43<1),Lookups!$K$175, Lookups!$K$176)),\nIF(L43<0.75,Lookups!$J$174, IF(AND(L43>=0.75,L43<1),Lookups!$J$175, Lookups!$J$176)))\n),\"\"),M43)","v":""},{"$f":"IF(ISBLANK(K43),IFERROR(_xlfn.IFS(OR(I43=\"Package RTU Heat Pump\",I43=\"Split System Heat Pump\"),\nIF(G43<2010,\nIF(J43<5.4,Lookups!$K$128, IF(AND(J43>=5.4,J43<11.25),Lookups!$K$129, IF(AND(J43>=11.25,J43<20),Lookups!$K$130,Lookups!$K$131))),\nIF(J43<5.4,Lookups!$J$128, IF(AND(J43>=5.4,J43<11.25),Lookups!$J$129, IF(AND(J43>=11.25,J43<20),Lookups!$J$130,Lookups!$J$131)))),\nOR(I43=\"Package RTU AC only\",I43=\"Split System AC\"),\nIF(G43<2010,\nIF(J43<5.4,Lookups!$K$120, IF(AND(J43>=5.4,J43<11.25),Lookups!$K$121, IF(AND(J43>=11.25,J43<20),Lookups!$K$122,Lookups!$K$123))),\nIF(J43<5.4,Lookups!$J$120, IF(AND(J43>=5.4,J43<11.25),Lookups!$J$121, IF(AND(J43>=11.25,J43<20),Lookups!$J$122,Lookups!$J$123)))),\nI43=\"Packaged Terminal AC\",\nIF(G43<2010,\nIF(J43<0.75,Lookups!$K$144, IF(AND(J43>=0.75,J43<1),Lookups!$K$145,Lookups!$K$146)),\nIF(J43<0.75,Lookups!$J$144, IF(AND(J43>=0.75,J43<1),Lookups!$J$145, Lookups!$J$146))),\nI43=\"Packaged Terminal Heat Pump\",\nIF(G43<2010,\nIF(J43<0.75,Lookups!$K$150, IF(AND(J43>=0.75,J43<1),Lookups!$K$151,Lookups!$K$152)),\nIF(J43<0.75,Lookups!$J$150, IF(AND(J43>=0.75,J43<1),Lookups!$J$151, Lookups!$J$152))),\nI43=\"Ductless Mini Split AC\",\nIF(G43<2010,\nIF(J43<0.75,Lookups!$K$162, IF(AND(J43>=0.75,J43<1),Lookups!$K$163,Lookups!$K$164)),\nIF(J43<0.75,Lookups!$J$162, IF(AND(J43>=0.75,J43<1),Lookups!$J$163, Lookups!$J$164))),\nI43=\"Ductless Mini Split Heat Pump\",\nIF(G43<2010,\nIF(J43<0.75,Lookups!$K$168, IF(AND(J43>=0.75,J43<1),Lookups!$K$169,Lookups!$K$170)),\nIF(J43<0.75,Lookups!$J$168, IF(AND(J43>=0.75,J43<1),Lookups!$J$169, Lookups!$J$170)))\n),\"\"),K43)","v":""},0,0,0,0,0,0]
[null,null,null,null,null,null,null,null,null,null,null,null,null,null,null,null,null,null,null,null,0,"",{"$f":"VLOOKUP($D$13,Lookups!$C$119:$G$140,5,FALSE)","v":{"$error":"#N/A"}},{"$f":"VLOOKUP($D$13,Lookups!$C$146:$G$167,5,FALSE)","v":{"$error":"#N/A"}},0,0,6.3200000000000006E-2,"",{"$f":"IF(ISBLANK(M44),IFERROR(_xlfn.IFS(OR(I44=\"Package RTU Heat Pump\",I44=\"Split System Heat Pump\"),\nIF(G44<2010,\nIF(L44<5.4,Lookups!$K$135, IF(AND(L44>=5.4,L44<11.25),Lookups!$K$136, IF(AND(L44>=11.25,L44<20),Lookups!$K$137,Lookups!$K$138))),\nIF(L44<5.4,Lookups!$J$135, IF(AND(L44>=5.4,L44<11.25),Lookups!$J$136, IF(AND(L44>=11.25,L44<20),Lookups!$J$137,Lookups!$J$138)))),\nI44=\"Packaged Terminal Heat Pump\",\nIF(G44<2010,\nIF(L44<0.75,Lookups!$K$156, IF(AND(L44>=0.75,L44<1),Lookups!$K$157, Lookups!$K$158)),\nIF(L44<0.75,Lookups!$J$156, IF(AND(L44>=0.75,L44<1),Lookups!$J$157, Lookups!$J$158))),\nI44=\"Ductless Mini Split Heat Pump\",\nIF(G44<2010,\nIF(L44<0.75,Lookups!$K$174, IF(AND(L44>=0.75,L44<1),Lookups!$K$175, Lookups!$K$176)),\nIF(L44<0.75,Lookups!$J$174, IF(AND(L44>=0.75,L44<1),Lookups!$J$175, Lookups!$J$176)))\n),\"\"),M44)","v":""},{"$f":"IF(ISBLANK(K44),IFERROR(_xlfn.IFS(OR(I44=\"Package RTU Heat Pump\",I44=\"Split System Heat Pump\"),\nIF(G44<2010,\nIF(J44<5.4,Lookups!$K$128, IF(AND(J44>=5.4,J44<11.25),Lookups!$K$129, IF(AND(J44>=11.25,J44<20),Lookups!$K$130,Lookups!$K$131))),\nIF(J44<5.4,Lookups!$J$128, IF(AND(J44>=5.4,J44<11.25),Lookups!$J$129, IF(AND(J44>=11.25,J44<20),Lookups!$J$130,Lookups!$J$131)))),\nOR(I44=\"Package RTU AC only\",I44=\"Split System AC\"),\nIF(G44<2010,\nIF(J44<5.4,Lookups!$K$120, IF(AND(J44>=5.4,J44<11.25),Lookups!$K$121, IF(AND(J44>=11.25,J44<20),Lookups!$K$122,Lookups!$K$123))),\nIF(J44<5.4,Lookups!$J$120, IF(AND(J44>=5.4,J44<11.25),Lookups!$J$121, IF(AND(J44>=11.25,J44<20),Lookups!$J$122,Lookups!$J$123)))),\nI44=\"Packaged Terminal AC\",\nIF(G44<2010,\nIF(J44<0.75,Lookups!$K$144, IF(AND(J44>=0.75,J44<1),Lookups!$K$145,Lookups!$K$146)),\nIF(J44<0.75,Lookups!$J$144, IF(AND(J44>=0.75,J44<1),Lookups!$J$145, Lookups!$J$146))),\nI44=\"Packaged Terminal Heat Pump\",\nIF(G44<2010,\nIF(J44<0.75,Lookups!$K$150, IF(AND(J44>=0.75,J44<1),Lookups!$K$151,Lookups!$K$152)),\nIF(J44<0.75,Lookups!$J$150, IF(AND(J44>=0.75,J44<1),Lookups!$J$151, Lookups!$J$152))),\nI44=\"Ductless Mini Split AC\",\nIF(G44<2010,\nIF(J44<0.75,Lookups!$K$162, IF(AND(J44>=0.75,J44<1),Lookups!$K$163,Lookups!$K$164)),\nIF(J44<0.75,Lookups!$J$162, IF(AND(J44>=0.75,J44<1),Lookups!$J$163, Lookups!$J$164))),\nI44=\"Ductless Mini Split Heat Pump\",\nIF(G44<2010,\nIF(J44<0.75,Lookups!$K$168, IF(AND(J44>=0.75,J44<1),Lookups!$K$169,Lookups!$K$170)),\nIF(J44<0.75,Lookups!$J$168, IF(AND(J44>=0.75,J44<1),Lookups!$J$169, Lookups!$J$170)))\n),\"\"),K44)","v":""},0,0,0,0,0,0]
[null,null,null,null,null,null,null,null,null,null,null,null,null,null,null,null,null,null,null,null,{"$f":"SUM(U20:U44)","v":0},null,null,null,null,null,null,null,null,null,{"$f":"SUM(AE20:AE44)","v":0},0,0,0,0,0]

{"sheet":"Inputs","index":6,"n_rows":164,"n_cols":251,"rows_kept":164,"cut":false,"hidden":true,"merged":[[2,2,2,5],[6,15,6,18],[14,3,15,3],[14,12,14,13],[13,2,13,14],[8,15,8,18],[8,10,8,11],[8,7,8,8],[8,4,8,5],[14,10,14,11],[14,6,15,6],[9,4,9,5],[10,4,10,5],[14,7,14,9],[14,4,15,5],[10,10,10,11],[17,4,17,5],[28,4,28,5],[19,4,19,5],[20,4,20,5],[16,4,16,5],[21,4,21,5],[22,4,22,5],[18,4,18,5],[23,4,23,5],[24,4,24,5],[25,4,25,5],[26,4,26,5],[27,4,27,5],[40,4,40,5],[29,4,29,5],[30,4,30,5],[31,4,31,5],[32,4,32,5],[33,4,33,5],[34,4,34,5],[35,4,35,5],[36,4,36,5],[37,4,37,5],[38,4,38,5],[39,4,39,5],[52,4,52,5],[41,4,41,5],[42,4,42,5],[43,4,43,5],[44,4,44,5],[45,4,45,5],[46,4,46,5],[47,4,47,5],[48,4,48,5],[49,4,49,5],[50,4,50,5],[51,4,51,5],[64,4,64,5],[53,4,53,5],[54,4,54,5],[55,4,55,5],[56,4,56,5],[57,4,57,5],[58,4,58,5],[59,4,59,5],[60,4,60,5],[61,4,61,5],[62,4,62,5],[63,4,63,5],[76,4,76,5],[65,4,65,5],[66,4,66,5],[67,4,67,5],[68,4,68,5],[69,4,69,5],[70,4,70,5],[71,4,71,5],[72,4,72,5],[73,4,73,5],[74,4,74,5],[75,4,75,5],[83,4,83,5],[84,4,84,5],[85,4,85,5],[86,4,86,5],[77,4,77,5],[78,4,78,5],[79,4,79,5],[80,4,80,5],[81,4,81,5],[82,4,82,5]]}
[]
[]
[null," ","Enhanced unitary HVAC maintenance worksheet"]
[null," "," ",null," ",null,null,null," "]
[null,null,{"$f":"#REF!","v":{"$error":"#REF!"}}]
[]
[null,null,"Required General Project Information"]
[]
[null,null,"Company Name",null,{"$f":"#REF!","v":{"$error":"#REF!"}},null,"Phone",{"$f":"#REF!","v":{"$error":"#REF!"}},null,"Project ID",{"$f":"'Project Summary '!J10","v":0},null,null,null,null,"Summary Table"]
[null,null,"Contact Person",null,{"$f":"#REF!","v":{"$error":"#REF!"}},null,"Email",{"$f":"#REF!","v":{"$error":"#REF!"}},null,null,null,null,null,null,null,"Total kWh ","Summer Coincident Peak (kW)","Summer PJM Peak (kW)","Total Incentive"]
[null,null,"Address",null,{"$f":"#REF!","v":{"$error":"#REF!"}},null,"City",{"$f":"#REF!","v":{"$error":"#REF!"}},null,"Zip",{"$f":"#REF!","v":{"$error":"#REF!"}},null,null,null,null,{"$f":"SUM(D91:G91)","v":{"$error":"#REF!"}},{"$f":"I91","v":{"$error":"#REF!"}},{"$f":"H91","v":{"$error":"#REF!"}},{"$f":"S88","v":{"$error":"#REF!"}}]
[]
[]
[null,null,"Required Input Information"]
[null,null,null,"Building Type","Manufacturer / Model number",null,"Compressor Configuration (single or multiple )","Coil Capacity (KBTUh)",null,null,"System Wattage (Watts)",null,"Outdoor Air Tepmerature(°F)"]
[null,null,"Entry",null,null,null,null,"Nominal","Pre Tune-up ","Post Tune-up","Pre Tune-up ","Post Tune-up ","Pre Tune-up ","Post Tune-up","Quantity","Pre Tune-up Efficiency","Post Tune-up Efficiency","Change in efficiency","Incentive per Unit",null,null,null,null,null,null,null,null,null,null,null,null,null,null,null,null,null,null,null,null,null,null,null,null,null,null,null,null,null,null,null,null,null,null,null,null,null,null,null,null,null,null,null,null,null,null,null,null,null,null,null,null,null,null,null,null,null,null,null,null,null,null,null,null,null,null,null,null,null,null,null,null,null,null,null,null,null,null,null,null,null,null,null,null,null,null,null,null,null,null,null,null,null,null,null,null,null,null,null,null,null,null,null,null,null,null,null,null,null,null,null,null,null,null,null,null,null,null,null,null,null,null,null,null,null,null,null,null,null,null,null,null,null,null,null,null,null,null,null,null,null,null,null,null,null,null,null,null,null,null,null,null,null,null,null,null,null,null,null,null,null,null,null,null,null,null,null,null,null,null,null,null,null,null,null,null,null,null,null,null,null,null,null,null,null,null,null,null,null,null,null,null,null,null,null,null,null,null,null,null,null,null,null,null,null,null,null,null,null,null,null,null,null,null,null,null,null,null,null,null,null,null,null,null,null,null,null,null,null,null,null,"Minimum Efficiency"]
[null,null,"EX","Retail",{"$f":"#REF!","v":{"$error":"#REF!"}},null,{"$f":"#REF!","v":{"$error":"#REF!"}},{"$f":"(#REF!*12000)/1000","v":{"$error":"#REF!"}},38.676000000000002,46.84,5970,5848,{"$f":"#REF!","v":{"$error":"#REF!"}},{"$f":"#REF!","v":{"$error":"#REF!"}},1,{"$f":"IF(I17=\"\",\"\",I17/H17)","v":{"$error":"#REF!"}},{"$f":"IF(J17=\"\",\"\",J17/H17)","v":{"$error":"#REF!"}},{"$f":"IF(Q17=\"\",\"\",Q17-P17)","v":{"$error":"#REF!"}},175,null,null,null,null,null,null,null,null,null,null,null,null,null,null,null,null,null,null,null,null,null,null,null,null,null,null,null,null,null,null,null,null,null,null,null,null,null,null,null,null,null,null,null,null,null,null,null,null,null,null,null,null,null,null,null,null,null,null,null,null,null,null,null,null,null,null,null,null,null,null,null,null,null,null,null,null,null,null,null,null,null,null,null,null,null,null,null,null,null,null,null,null,null,null,null,null,null,null,null,null,null,null,null,null,null,null,null,null,null,null,null,null,null,null,null,null,null,null,null,null,null,null,null,null,null,null,null,null,null,null,null,null,null,null,null,null,null,null,null,null,null,null,null,null,null,null,null,null,null,null,null,null,null,null,null,null,null,null,null,null,null,null,null,null,null,null,null,null,null,null,null,null,null,null,null,null,null,null,null,null,null,null,null,null,null,null,null,null,null,null,null,null,null,null,null,null,null,null,null,null,null,null,null,null,null,null,null,null,null,null,null,null,null,null,null,null,null,null,null,null,null,null,null,null,null,null,null,null,null,null,null,4]
[null,null,{"$f":"#REF!","v":{"$error":"#REF!"}},{"$f":"#REF!","v":{"$error":"#REF!"}},{"$f":"#REF!","v":{"$error":"#REF!"}},null,{"$f":"#REF!","v":{"$error":"#REF!"}},{"$f":"#REF!*12000/1000","v":{"$error":"#REF!"}},{"$f":"IF(ISERROR('Preliminary Calculations '!AJ5/1000),\"\",'Preliminary Calculations '!AJ5/1000)","v":""},{"$f":"IF(ISERROR('Preliminary Calculations '!AM5/1000),\"\",'Preliminary Calculations '!AM5/1000)","v":""},{"$f":"'Preliminary Calculations '!AX5","v":{"$error":"#REF!"}},{"$f":"'Preliminary Calculations '!BG5","v":{"$error":"#REF!"}},{"$f":"#REF!","v":{"$error":"#REF!"}},{"$f":"#REF!","v":{"$error":"#REF!"}},{"$f":"IF(G18=0,\"\",1)","v":{"$error":"#REF!"}},{"$f":"'Preliminary Calculations '!AK5","v":""},{"$f":"'Preliminary Calculations '!AN5","v":""},{"$f":"IF(Q18=\"\",\"\",Q18-P18)","v":""},{"$f":"IF(#REF!>=3,IF(G18=\"Multiple\",IF(R18>=9.5%,250,35),IF(G18=\"Single\",IF(R18>=9.5%,175,35),\"\")),0)","v":{"$error":"#REF!"}},null,null,null,null,null,null,null,null,null,null,null,null,null,null,null,null,null,null,null,null,null,null,null,null,null,null,null,null,null,null,null,null,null,null,null,null,null,null,null,null,null,null,null,null,null,null,null,null,null,null,null,null,null,null,null,null,null,null,null,null,null,null,null,null,null,null,null,null,null,null,null,null,null,null,null,null,null,null,null,null,null,null,null,null,null,null,null,null,null,null,null,null,null,null,null,null,null,null,null,null,null,null,null,null,null,null,null,null,null,null,null,null,null,null,null,null,null,null,null,null,null,null,null,null,null,null,null,null,null,null,null,null,null,null,null,null,null,null,null,null,null,null,null,null,null,null,null,null,null,null,null,null,null,null,null,null,null,null,null,null,null,null,null,null,null,null,null,null,null,null,null,null,null,null,null,null,null,null,null,null,null,null,null,null,null,null,null,null,null,null,null,null,null,null,null,null,null,null,null,null,null,null,null,null,null,null,null,null,null,null,null,null,null,null,null,null,null,null,null,null,null,null,null,null,null,null,null,null,null,null,null,{"$f":"' Calculations'!#REF!","v":{"$error":"#REF!"}}]
[null,null,{"$f":"#REF!","v":{"$error":"#REF!"}},{"$f":"D18","v":{"$error":"#REF!"}},{"$f":"#REF!","v":{"$error":"#REF!"}},null,{"$f":"#REF!","v":{"$error":"#REF!"}},{"$f":"#REF!*12000/1000","v":{"$error":"#REF!"}},{"$f":"IF(ISERROR('Preliminary Calculations '!AJ6/1000),\"\",'Preliminary Calculations '!AJ6/1000)","v":""},{"$f":"IF(ISERROR('Preliminary Calculations '!AM6/1000),\"\",'Preliminary Calculations '!AM6/1000)","v":""},{"$f":"'Preliminary Calculations '!AX6","v":{"$error":"#REF!"}},{"$f":"'Preliminary Calculations '!BG6","v":{"$error":"#REF!"}},{"$f":"#REF!","v":{"$error":"#REF!"}},{"$f":"#REF!","v":{"$error":"#REF!"}},{"$error":"#REF!"},{"$f":"'Preliminary Calculations '!AK6","v":""},{"$f":"'Preliminary Calculations '!AN6","v":""},{"$f":"IF(Q19=\"\",\"\",Q19-P19)","v":""},{"$f":"IF(#REF!>=3,IF(G19=\"Multiple\",IF(R19>=9.5%,250,35),IF(G19=\"Single\",IF(R19>=9.5%,175,35),\"\")),0)","v":{"$error":"#REF!"}},null,null,null,null,null,null,null,null,null,null,null,null,null,null,null,null,null,null,null,null,null,null,null,null,null,null,null,null,null,null,null,null,null,null,null,null,null,null,null,null,null,null,null,null,null,null,null,null,null,null,null,null,null,null,null,null,null,null,null,null,null,null,null,null,null,null,null,null,null,null,null,null,null,null,null,null,null,null,null,null,null,null,null,null,null,null,null,null,null,null,null,null,null,null,null,null,null,null,null,null,null,null,null,null,null,null,null,null,null,null,null,null,null,null,null,null,null,null,null,null,null,null,null,null,null,null,null,null,null,null,null,null,null,null,null,null,null,null,null,null,null,null,null,null,null,null,null,null,null,null,null,null,null,null,null,null,null,null,null,null,null,null,null,null,null,null,null,null,null,null,null,null,null,null,null,null,null,null,null,null,null,null,null,null,null,null,null,null,null,null,null,null,null,null,null,null,null,null,null,null,null,null,null,null,null,null,null,null,null,null,null,null,null,null,null,null,null,null,null,null,null,null,null,null,null,null,null,null,null,null,null,{"$f":"' Calculations'!#REF!","v":{"$error":"#REF!"}}]
[null,null,{"$f":"#REF!","v":{"$error":"#REF!"}},{"$f":"D19","v":{"$error":"#REF!"}},{"$f":"#REF!","v":{"$error":"#REF!"}},null,{"$f":"#REF!","v":{"$error":"#REF!"}},{"$f":"#REF!*12000/1000","v":{"$error":"#REF!"}},{"$f":"IF(ISERROR('Preliminary Calculations '!AJ7/1000),\"\",'Preliminary Calculations '!AJ7/1000)","v":""},{"$f":"IF(ISERROR('Preliminary Calculations '!AM7/1000),\"\",'Preliminary Calculations '!AM7/1000)","v":""},{"$f":"'Preliminary Calculations '!AX7","v":{"$error":"#REF!"}},{"$f":"'Preliminary Calculations '!BG7","v":{"$error":"#REF!"}},{"$f":"#REF!","v":{"$error":"#REF!"}},{"$f":"#REF!","v":{"$error":"#REF!"}},{"$error":"#REF!"},{"$f":"'Preliminary Calculations '!AK7","v":""},{"$f":"'Preliminary Calculations '!AN7","v":""},{"$f":"IF(Q20=\"\",\"\",Q20-P20)","v":""},{"$f":"IF(#REF!>=3,IF(G20=\"Multiple\",IF(R20>=9.5%,250,35),IF(G20=\"Single\",IF(R20>=9.5%,175,35),\"\")),0)","v":{"$error":"#REF!"}}]
[null,null,{"$f":"#REF!","v":{"$error":"#REF!"}},{"$error":"#REF!"},{"$f":"#REF!","v":{"$error":"#REF!"}},null,{"$f":"#REF!","v":{"$error":"#REF!"}},{"$f":"#REF!*12000/1000","v":{"$error":"#REF!"}},{"$f":"IF(ISERROR('Preliminary Calculations '!AJ8/1000),\"\",'Preliminary Calculations '!AJ8/1000)","v":""},{"$f":"IF(ISERROR('Preliminary Calculations '!AM8/1000),\"\",'Preliminary Calculations '!AM8/1000)","v":""},{"$f":"'Preliminary Calculations '!AX8","v":{"$error":"#REF!"}},{"$f":"'Preliminary Calculations '!BG8","v":{"$error":"#REF!"}},{"$f":"#REF!","v":{"$error":"#REF!"}},{"$f":"#REF!","v":{"$error":"#REF!"}},{"$error":"#REF!"},{"$f":"'Preliminary Calculations '!AK8","v":""},{"$f":"'Preliminary Calculations '!AN8","v":""},"",{"$f":"IF(#REF!>=3,IF(G21=\"Multiple\",IF(R21>=9.5%,250,35),IF(G21=\"Single\",IF(R21>=9.5%,175,35),\"\")),0)","v":{"$error":"#REF!"}},null,null,null,null,null,null,null,null,null,null,null,null,null,null,null,null,null,null,null,null,null,null,null,null,null,null,null,null,null,null,null,null,null,null,null,null,null,null,null,null,null,null,null,null,null,null,null,null,null,null,null,null,null,null,null,null,null,null,null,null,null,null,null,null,null,null,null,null,null,null,null,null,null,null,null,null,null,null,null,null,null,null,null,null,null,null,null,null,null,null,null,null,null,null,null,null,null,null,null,null,null,null,null,null,null,null,null,null,null,null,null,null,null,null,null,null,null,null,null,null,null,null,null,null,null,null,null,null,null,null,null,null,null,null,null,null,null,null,null,null,null,null,null,null,null,null,null,null,null,null,null,null,null,null,null,null,null,null,null,null,null,null,null,null,null,null,null,null,null,null,null,null,null,null,null,null,null,null,null,null,null,null,null,null,null,null,null,null,null,null,null,null,null,null,null,null,null,null,null,null,null,null,null,null,null,null,null,null,null,null,null,null,null,null,null,null,null,null,null,null,null,null,null,null,null,null,null,null,null,null,null,{"$f":"' Calculations'!#REF!","v":{"$error":"#REF!"}}]
[null,null,{"$f":"#REF!","v":{"$error":"#REF!"}},{"$error":"#REF!"},{"$f":"#REF!","v":{"$error":"#REF!"}},null,{"$f":"#REF!","v":{"$error":"#REF!"}},{"$f":"#REF!*12000/1000","v":{"$error":"#REF!"}},{"$f":"IF(ISERROR('Preliminary Calculations '!AJ9/1000),\"\",'Preliminary Calculations '!AJ9/1000)","v":""},{"$f":"IF(ISERROR('Preliminary Calculations '!AM9/1000),\"\",'Preliminary Calculations '!AM9/1000)","v":""},{"$f":"'Preliminary Calculations '!AX9","v":{"$error":"#REF!"}},{"$f":"'Preliminary Calculations '!BG9","v":{"$error":"#REF!"}},{"$f":"#REF!","v":{"$error":"#REF!"}},{"$f":"#REF!","v":{"$error":"#REF!"}},{"$error":"#REF!"},{"$f":"'Preliminary Calculations '!AK9","v":""},{"$f":"'Preliminary Calculations '!AN9","v":""},"",{"$f":"IF(#REF!>=3,IF(G22=\"Multiple\",IF(R22>=9.5%,250,35),IF(G22=\"Single\",IF(R22>=9.5%,175,35),\"\")),0)","v":{"$error":"#REF!"}}]
[null,null,{"$f":"#REF!","v":{"$error":"#REF!"}},{"$error":"#REF!"},{"$f":"#REF!","v":{"$error":"#REF!"}},null,{"$f":"#REF!","v":{"$error":"#REF!"}},{"$f":"#REF!*12000/1000","v":{"$error":"#REF!"}},{"$f":"IF(ISERROR('Preliminary Calculations '!AJ10/1000),\"\",'Preliminary Calculations '!AJ10/1000)","v":""},{"$f":"IF(ISERROR('Preliminary Calculations '!AM10/1000),\"\",'Preliminary Calculations '!AM10/1000)","v":""},{"$f":"'Preliminary Calculations '!AX10","v":{"$error":"#REF!"}},{"$f":"'Preliminary Calculations '!BG10","v":{"$error":"#REF!"}},{"$f":"#REF!","v":{"$error":"#REF!"}},{"$f":"#REF!","v":{"$error":"#REF!"}},{"$error":"#REF!"},{"$f":"'Preliminary Calculations '!AK10","v":""},{"$f":"'Preliminary Calculations '!AN10","v":""},"",{"$f":"IF(#REF!>=3,IF(G23=\"Multiple\",IF(R23>=9.5%,250,35),IF(G23=\"Single\",IF(R23>=9.5%,175,35),\"\")),0)","v":{"$error":"#REF!"}}]
[null,null,{"$f":"#REF!","v":{"$error":"#REF!"}},{"$error":"#REF!"},{"$f":"#REF!","v":{"$error":"#REF!"}},null,{"$f":"#REF!","v":{"$error":"#REF!"}},{"$f":"#REF!*12000/1000","v":{"$error":"#REF!"}},{"$f":"IF(ISERROR('Preliminary Calculations '!AJ11/1000),\"\",'Preliminary Calculations '!AJ11/1000)","v":""},{"$f":"IF(ISERROR('Preliminary Calculations '!AM11/1000),\"\",'Preliminary Calculations '!AM11/1000)","v":""},{"$f":"'Preliminary Calculations '!AX11","v":{"$error":"#REF!"}},{"$f":"'Preliminary Calculations '!BG11","v":{"$error":"#REF!"}},{"$f":"#REF!","v":{"$error":"#REF!"}},{"$f":"#REF!","v":{"$error":"#REF!"}},{"$error":"#REF!"},{"$f":"'Preliminary Calculations '!AK11","v":""},{"$f":"'Preliminary Calculations '!AN11","v":""},"",{"$f":"IF(#REF!>=3,IF(G24=\"Multiple\",IF(R24>=9.5%,250,35),IF(G24=\"Single\",IF(R24>=9.5%,175,35),\"\")),0)","v":{"$error":"#REF!"}}]
[null,null,{"$f":"#REF!","v":{"$error":"#REF!"}},{"$error":"#REF!"},{"$f":"#REF!","v":{"$error":"#REF!"}},null,{"$f":"#REF!","v":{"$error":"#REF!"}},{"$f":"#REF!*12000/1000","v":{"$error":"#REF!"}},{"$f":"IF(ISERROR('Preliminary Calculations '!AJ12/1000),\"\",'Preliminary Calculations '!AJ12/1000)","v":""},{"$f":"IF(ISERROR('Preliminary Calculations '!AM12/1000),\"\",'Preliminary Calculations '!AM12/1000)","v":""},{"$f":"'Preliminary Calculations '!AX12","v":{"$error":"#REF!"}},{"$f":"'Preliminary Calculations '!BG12","v":{"$error":"#REF!"}},{"$f":"#REF!","v":{"$error":"#REF!"}},{"$f":"#REF!","v":{"$error":"#REF!"}},{"$error":"#REF!"},{"$f":"'Preliminary Calculations '!AK12","v":""},{"$f":"'Preliminary Calculations '!AN12","v":""},"",{"$f":"IF(#REF!>=3,IF(G25=\"Multiple\",IF(R25>=9.5%,250,35),IF(G25=\"Single\",IF(R25>=9.5%,175,35),\"\")),0)","v":{"$error":"#REF!"}}]
[null,null,{"$f":"#REF!","v":{"$error":"#REF!"}},{"$error":"#REF!"},{"$f":"#REF!","v":{"$error":"#REF!"}},null,{"$f":"#REF!","v":{"$error":"#REF!"}},{"$f":"#REF!*12000/1000","v":{"$error":"#REF!"}},{"$f":"IF(ISERROR('Preliminary Calculations '!AJ13/1000),\"\",'Preliminary Calculations '!AJ13/1000)","v":""},{"$f":"IF(ISERROR('Preliminary Calculations '!AM13/1000),\"\",'Preliminary Calculations '!AM13/1000)","v":""},{"$f":"'Preliminary Calculations '!AX13","v":{"$error":"#REF!"}},{"$f":"'Preliminary Calculations '!BG13","v":{"$error":"#REF!"}},{"$f":"#REF!","v":{"$error":"#REF!"}},{"$f":"#REF!","v":{"$error":"#REF!"}},{"$error":"#REF!"},{"$f":"'Preliminary Calculations '!AK13","v":""},{"$f":"'Preliminary Calculations '!AN13","v":""},"",{"$f":"IF(#REF!>=3,IF(G26=\"Multiple\",IF(R26>=9.5%,250,35),IF(G26=\"Single\",IF(R26>=9.5%,175,35),\"\")),0)","v":{"$error":"#REF!"}}]
[null,null,{"$f":"#REF!","v":{"$error":"#REF!"}},{"$error":"#REF!"},{"$f":"#REF!","v":{"$error":"#REF!"}},null,{"$f":"#REF!","v":{"$error":"#REF!"}},{"$f":"#REF!*12000/1000","v":{"$error":"#REF!"}},{"$f":"IF(ISERROR('Preliminary Calculations '!AJ14/1000),\"\",'Preliminary Calculations '!AJ14/1000)","v":""},{"$f":"IF(ISERROR('Preliminary Calculations '!AM14/1000),\"\",'Preliminary Calculations '!AM14/1000)","v":""},{"$f":"'Preliminary Calculations '!AX14","v":{"$error":"#REF!"}},{"$f":"'Preliminary Calculations '!BG14","v":{"$error":"#REF!"}},{"$f":"#REF!","v":{"$error":"#REF!"}},{"$f":"#REF!","v":{"$error":"#REF!"}},{"$error":"#REF!"},{"$f":"'Preliminary Calculations '!AK14","v":""},{"$f":"'Preliminary Calculations '!AN14","v":""},"",{"$f":"IF(#REF!>=3,IF(G27=\"Multiple\",IF(R27>=9.5%,250,35),IF(G27=\"Single\",IF(R27>=9.5%,175,35),\"\")),0)","v":{"$error":"#REF!"}}]
[null,null,{"$f":"#REF!","v":{"$error":"#REF!"}},{"$error":"#REF!"},{"$f":"#REF!","v":{"$error":"#REF!"}},null,{"$f":"#REF!","v":{"$error":"#REF!"}},{"$f":"#REF!*12000/1000","v":{"$error":"#REF!"}},{"$f":"IF(ISERROR('Preliminary Calculations '!AJ15/1000),\"\",'Preliminary Calculations '!AJ15/1000)","v":""},{"$f":"IF(ISERROR('Preliminary Calculations '!AM15/1000),\"\",'Preliminary Calculations '!AM15/1000)","v":""},{"$f":"'Preliminary Calculations '!AX15","v":{"$error":"#REF!"}},{"$f":"'Preliminary Calculations '!BG15","v":{"$error":"#REF!"}},{"$f":"#REF!","v":{"$error":"#REF!"}},{"$f":"#REF!","v":{"$error":"#REF!"}},{"$error":"#REF!"},{"$f":"'Preliminary Calculations '!AK15","v":""},{"$f":"'Preliminary Calculations '!AN15","v":""},"",{"$f":"IF(#REF!>=3,IF(G28=\"Multiple\",IF(R28>=9.5%,250,35),IF(G28=\"Single\",IF(R28>=9.5%,175,35),\"\")),0)","v":{"$error":"#REF!"}}]
[null,null,{"$f":"#REF!","v":{"$error":"#REF!"}},{"$error":"#REF!"},{"$f":"#REF!","v":{"$error":"#REF!"}},null,{"$f":"#REF!","v":{"$error":"#REF!"}},{"$f":"#REF!*12000/1000","v":{"$error":"#REF!"}},{"$f":"IF(ISERROR('Preliminary Calculations '!AJ16/1000),\"\",'Preliminary Calculations '!AJ16/1000)","v":""},{"$f":"IF(ISERROR('Preliminary Calculations '!AM16/1000),\"\",'Preliminary Calculations '!AM16/1000)","v":""},{"$f":"'Preliminary Calculations '!AX16","v":{"$error":"#REF!"}},{"$f":"'Preliminary Calculations '!BG16","v":{"$error":"#REF!"}},{"$f":"#REF!","v":{"$error":"#REF!"}},{"$f":"#REF!","v":{"$error":"#REF!"}},{"$error":"#REF!"},{"$f":"'Preliminary Calculations '!AK16","v":""},{"$f":"'Preliminary Calculations '!AN16","v":""},"",{"$f":"IF(#REF!>=3,IF(G29=\"Multiple\",IF(R29>=9.5%,250,35),IF(G29=\"Single\",IF(R29>=9.5%,175,35),\"\")),0)","v":{"$error":"#REF!"}}]
[null,null,{"$f":"#REF!","v":{"$error":"#REF!"}},{"$error":"#REF!"},{"$f":"#REF!","v":{"$error":"#REF!"}},null,{"$f":"#REF!","v":{"$error":"#REF!"}},{"$f":"#REF!*12000/1000","v":{"$error":"#REF!"}},{"$f":"IF(ISERROR('Preliminary Calculations '!AJ17/1000),\"\",'Preliminary Calculations '!AJ17/1000)","v":""},{"$f":"IF(ISERROR('Preliminary Calculations '!AM17/1000),\"\",'Preliminary Calculations '!AM17/1000)","v":""},{"$f":"'Preliminary Calculations '!AX17","v":{"$error":"#REF!"}},{"$f":"'Preliminary Calculations '!BG17","v":{"$error":"#REF!"}},{"$f":"#REF!","v":{"$error":"#REF!"}},{"$f":"#REF!","v":{"$error":"#REF!"}},{"$error":"#REF!"},{"$f":"'Preliminary Calculations '!AK17","v":""},{"$f":"'Preliminary Calculations '!AN17","v":""},"",{"$f":"IF(#REF!>=3,IF(G30=\"Multiple\",IF(R30>=9.5%,250,35),IF(G30=\"Single\",IF(R30>=9.5%,175,35),\"\")),0)","v":{"$error":"#REF!"}}]
[null,null,{"$f":"#REF!","v":{"$error":"#REF!"}},{"$error":"#REF!"},{"$f":"#REF!","v":{"$error":"#REF!"}},null,{"$f":"#REF!","v":{"$error":"#REF!"}},{"$f":"#REF!*12000/1000","v":{"$error":"#REF!"}},{"$f":"IF(ISERROR('Preliminary Calculations '!AJ18/1000),\"\",'Preliminary Calculations '!AJ18/1000)","v":""},{"$f":"IF(ISERROR('Preliminary Calculations '!AM18/1000),\"\",'Preliminary Calculations '!AM18/1000)","v":""},{"$f":"'Preliminary Calculations '!AX18","v":{"$error":"#REF!"}},{"$f":"'Preliminary Calculations '!BG18","v":{"$error":"#REF!"}},{"$f":"#REF!","v":{"$error":"#REF!"}},{"$f":"#REF!","v":{"$error":"#REF!"}},{"$error":"#REF!"},{"$f":"'Preliminary Calculations '!AK18","v":""},{"$f":"'Preliminary Calculations '!AN18","v":""},"",{"$f":"IF(#REF!>=3,IF(G31=\"Multiple\",IF(R31>=9.5%,250,35),IF(G31=\"Single\",IF(R31>=9.5%,175,35),\"\")),0)","v":{"$error":"#REF!"}}]
[null,null,{"$f":"#REF!","v":{"$error":"#REF!"}},{"$error":"#REF!"},{"$f":"#REF!","v":{"$error":"#REF!"}},null,{"$f":"#REF!","v":{"$error":"#REF!"}},{"$f":"#REF!*12000/1000","v":{"$error":"#REF!"}},{"$f":"IF(ISERROR('Preliminary Calculations '!AJ19/1000),\"\",'Preliminary Calculations '!AJ19/1000)","v":""},{"$f":"IF(ISERROR('Preliminary Calculations '!AM19/1000),\"\",'Preliminary Calculations '!AM19/1000)","v":""},{"$f":"'Preliminary Calculations '!AX19","v":{"$error":"#REF!"}},{"$f":"'Preliminary Calculations '!BG19","v":{"$error":"#REF!"}},{"$f":"#REF!","v":{"$error":"#REF!"}},{"$f":"#REF!","v":{"$error":"#REF!"}},{"$error":"#REF!"},{"$f":"'Preliminary Calculations '!AK19","v":""},{"$f":"'Preliminary Calculations '!AN19","v":""},"",{"$f":"IF(#REF!>=3,IF(G32=\"Multiple\",IF(R32>=9.5%,250,35),IF(G32=\"Single\",IF(R32>=9.5%,175,35),\"\")),0)","v":{"$error":"#REF!"}}]
[null,null,{"$f":"#REF!","v":{"$error":"#REF!"}},{"$error":"#REF!"},{"$f":"#REF!","v":{"$error":"#REF!"}},null,{"$f":"#REF!","v":{"$error":"#REF!"}},{"$f":"#REF!*12000/1000","v":{"$error":"#REF!"}},{"$f":"IF(ISERROR('Preliminary Calculations '!AJ20/1000),\"\",'Preliminary Calculations '!AJ20/1000)","v":""},{"$f":"IF(ISERROR('Preliminary Calculations '!AM20/1000),\"\",'Preliminary Calculations '!AM20/1000)","v":""},{"$f":"'Preliminary Calculations '!AX20","v":{"$error":"#REF!"}},{"$f":"'Preliminary Calculations '!BG20","v":{"$error":"#REF!"}},{"$f":"#REF!","v":{"$error":"#REF!"}},{"$f":"#REF!","v":{"$error":"#REF!"}},{"$error":"#REF!"},{"$f":"'Preliminary Calculations '!AK20","v":""},{"$f":"'Preliminary Calculations '!AN20","v":""},"",{"$f":"IF(#REF!>=3,IF(G33=\"Multiple\",IF(R33>=9.5%,250,35),IF(G33=\"Single\",IF(R33>=9.5%,175,35),\"\")),0)","v":{"$error":"#REF!"}},null,null,null,null,null,null,null,null,null,null,null,null,null,null,null,null,null,null,null,null,null,null,null,null,null,null,null,null,null,null,null,null,null,null,null,null,null,null,null,null,null,null,null,null,null,null,null,null,null,null,null,null,null,null,null,null,null,null,null,null,null,null,null,null,null,null,null,null,null,null,null,null,null,null,null,null,null,null,null,null,null,null,null,null,null,null,null,null,null,null,null,null,null,null,null,null,null,null,null,null,null,null,null,null,null,null,null,null,null,null,null,null,null,null,null,null,null,null,null,null,null,null,null,null,null,null,null,null,null,null,null,null,null,null,null,null,null,null,null,null,null,null,null,null,null,null,null,null,null,null,null,null,null,null,null,null,null,null,null,null,null,null,null,null,null,null,null,null,null,null,null,null,null,null,null,null,null,null,null,null,null,null,null,null,null,null,null,null,null,null,null,null,null,null,null,null,null,null,null,null,null,null,null,null,null,null,null,null,null,null,null,null,null,null,null,null,null,null,null,null,null,null,null,null,null,null,null,null,null,null,null,{"$f":"' Calculations'!#REF!","v":{"$error":"#REF!"}}]
[null,null,{"$f":"#REF!","v":{"$error":"#REF!"}},{"$error":"#REF!"},{"$f":"#REF!","v":{"$error":"#REF!"}},null,{"$f":"#REF!","v":{"$error":"#REF!"}},{"$f":"#REF!*12000/1000","v":{"$error":"#REF!"}},{"$f":"IF(ISERROR('Preliminary Calculations '!AJ21/1000),\"\",'Preliminary Calculations '!AJ21/1000)","v":""},{"$f":"IF(ISERROR('Preliminary Calculations '!AM21/1000),\"\",'Preliminary Calculations '!AM21/1000)","v":""},{"$f":"'Preliminary Calculations '!AX21","v":{"$error":"#REF!"}},{"$f":"'Preliminary Calculations '!BG21","v":{"$error":"#REF!"}},{"$f":"#REF!","v":{"$error":"#REF!"}},{"$f":"#REF!","v":{"$error":"#REF!"}},{"$error":"#REF!"},{"$f":"'Preliminary Calculations '!AK21","v":""},{"$f":"'Preliminary Calculations '!AN21","v":""},"",{"$f":"IF(#REF!>=3,IF(G34=\"Multiple\",IF(R34>=9.5%,250,35),IF(G34=\"Single\",IF(R34>=9.5%,175,35),\"\")),0)","v":{"$error":"#REF!"}},null,null,null,null,null,null,null,null,null,null,null,null,null,null,null,null,null,null,null,null,null,null,null,null,null,null,null,null,null,null,null,null,null,null,null,null,null,null,null,null,null,null,null,null,null,null,null,null,null,null,null,null,null,null,null,null,null,null,null,null,null,null,null,null,null,null,null,null,null,null,null,null,null,null,null,null,null,null,null,null,null,null,null,null,null,null,null,null,null,null,null,null,null,null,null,null,null,null,null,null,null,null,null,null,null,null,null,null,null,null,null,null,null,null,null,null,null,null,null,null,null,null,null,null,null,null,null,null,null,null,null,null,null,null,null,null,null,null,null,null,null,null,null,null,null,null,null,null,null,null,null,null,null,null,null,null,null,null,null,null,null,null,null,null,null,null,null,null,null,null,null,null,null,null,null,null,null,null,null,null,null,null,null,null,null,null,null,null,null,null,null,null,null,null,null,null,null,null,null,null,null,null,null,null,null,null,null,null,null,null,null,null,null,null,null,null,null,null,null,null,null,null,null,null,null,null,null,null,null,null,null,{"$f":"' Calculations'!#REF!","v":{"$error":"#REF!"}}]
[null,null,{"$f":"#REF!","v":{"$error":"#REF!"}},{"$error":"#REF!"},{"$f":"#REF!","v":{"$error":"#REF!"}},null,{"$f":"#REF!","v":{"$error":"#REF!"}},{"$f":"#REF!*12000/1000","v":{"$error":"#REF!"}},{"$f":"IF(ISERROR('Preliminary Calculations '!AJ22/1000),\"\",'Preliminary Calculations '!AJ22/1000)","v":""},{"$f":"IF(ISERROR('Preliminary Calculations '!AM22/1000),\"\",'Preliminary Calculations '!AM22/1000)","v":""},{"$f":"'Preliminary Calculations '!AX22","v":{"$error":"#REF!"}},{"$f":"'Preliminary Calculations '!BG22","v":{"$error":"#REF!"}},{"$f":"#REF!","v":{"$error":"#REF!"}},{"$f":"#REF!","v":{"$error":"#REF!"}},{"$error":"#REF!"},{"$f":"'Preliminary Calculations '!AK22","v":""},{"$f":"'Preliminary Calculations '!AN22","v":""},"",{"$f":"IF(#REF!>=3,IF(G35=\"Multiple\",IF(R35>=9.5%,250,35),IF(G35=\"Single\",IF(R35>=9.5%,175,35),\"\")),0)","v":{"$error":"#REF!"}},null,null,null,null,null,null,null,null,null,null,null,null,null,null,null,null,null,null,null,null,null,null,null,null,null,null,null,null,null,null,null,null,null,null,null,null,null,null,null,null,null,null,null,null,null,null,null,null,null,null,null,null,null,null,null,null,null,null,null,null,null,null,null,null,null,null,null,null,null,null,null,null,null,null,null,null,null,null,null,null,null,null,null,null,null,null,null,null,null,null,null,null,null,null,null,null,null,null,null,null,null,null,null,null,null,null,null,null,null,null,null,null,null,null,null,null,null,null,null,null,null,null,null,null,null,null,null,null,null,null,null,null,null,null,null,null,null,null,null,null,null,null,null,null,null,null,null,null,null,null,null,null,null,null,null,null,null,null,null,null,null,null,null,null,null,null,null,null,null,null,null,null,null,null,null,null,null,null,null,null,null,null,null,null,null,null,null,null,null,null,null,null,null,null,null,null,null,null,null,null,null,null,null,null,null,null,null,null,null,null,null,null,null,null,null,null,null,null,null,null,null,null,null,null,null,null,null,null,null,null,null,{"$f":"' Calculations'!#REF!","v":{"$error":"#REF!"}}]
[null,null,{"$f":"#REF!","v":{"$error":"#REF!"}},{"$error":"#REF!"},{"$f":"#REF!","v":{"$error":"#REF!"}},null,{"$f":"#REF!","v":{"$error":"#REF!"}},{"$f":"#REF!*12000/1000","v":{"$error":"#REF!"}},{"$f":"IF(ISERROR('Preliminary Calculations '!AJ23/1000),\"\",'Preliminary Calculations '!AJ23/1000)","v":""},{"$f":"IF(ISERROR('Preliminary Calculations '!AM23/1000),\"\",'Preliminary Calculations '!AM23/1000)","v":""},{"$f":"'Preliminary Calculations '!AX23","v":{"$error":"#REF!"}},{"$f":"'Preliminary Calculations '!BG23","v":{"$error":"#REF!"}},{"$f":"#REF!","v":{"$error":"#REF!"}},{"$f":"#REF!","v":{"$error":"#REF!"}},{"$error":"#REF!"},{"$f":"'Preliminary Calculations '!AK23","v":""},{"$f":"'Preliminary Calculations '!AN23","v":""},"",{"$f":"IF(#REF!>=3,IF(G36=\"Multiple\",IF(R36>=9.5%,250,35),IF(G36=\"Single\",IF(R36>=9.5%,175,35),\"\")),0)","v":{"$error":"#REF!"}},null,null,null,null,null,null,null,null,null,null,null,null,null,null,null,null,null,null,null,null,null,null,null,null,null,null,null,null,null,null,null,null,null,null,null,null,null,null,null,null,null,null,null,null,null,null,null,null,null,null,null,null,null,null,null,null,null,null,null,null,null,null,null,null,null,null,null,null,null,null,null,null,null,null,null,null,null,null,null,null,null,null,null,null,null,null,null,null,null,null,null,null,null,null,null,null,null,null,null,null,null,null,null,null,null,null,null,null,null,null,null,null,null,null,null,null,null,null,null,null,null,null,null,null,null,null,null,null,null,null,null,null,null,null,null,null,null,null,null,null,null,null,null,null,null,null,null,null,null,null,null,null,null,null,null,null,null,null,null,null,null,null,null,null,null,null,null,null,null,null,null,null,null,null,null,null,null,null,null,null,null,null,null,null,null,null,null,null,null,null,null,null,null,null,null,null,null,null,null,null,null,null,null,null,null,null,null,null,null,null,null,null,null,null,null,null,null,null,null,null,null,null,null,null,null,null,null,null,null,null,null,{"$f":"' Calculations'!#REF!","v":{"$error":"#REF!"}}]
[null,null,{"$f":"#REF!","v":{"$error":"#REF!"}},{"$error":"#REF!"},{"$f":"#REF!","v":{"$error":"#REF!"}},null,{"$f":"#REF!","v":{"$error":"#REF!"}},{"$f":"#REF!*12000/1000","v":{"$error":"#REF!"}},{"$f":"IF(ISERROR('Preliminary Calculations '!AJ24/1000),\"\",'Preliminary Calculations '!AJ24/1000)","v":""},{"$f":"IF(ISERROR('Preliminary Calculations '!AM24/1000),\"\",'Preliminary Calculations '!AM24/1000)","v":""},{"$f":"'Preliminary Calculations '!AX24","v":{"$error":"#REF!"}},{"$f":"'Preliminary Calculations '!BG24","v":{"$error":"#REF!"}},{"$f":"#REF!","v":{"$error":"#REF!"}},{"$f":"#REF!","v":{"$error":"#REF!"}},{"$error":"#REF!"},{"$f":"'Preliminary Calculations '!AK24","v":""},{"$f":"'Preliminary Calculations '!AN24","v":""},"",{"$f":"IF(#REF!>=3,IF(G37=\"Multiple\",IF(R37>=9.5%,250,35),IF(G37=\"Single\",IF(R37>=9.5%,175,35),\"\")),0)","v":{"$error":"#REF!"}}]
[null,null,{"$f":"#REF!","v":{"$error":"#REF!"}},{"$error":"#REF!"},{"$f":"#REF!","v":{"$error":"#REF!"}},null,{"$f":"#REF!","v":{"$error":"#REF!"}},{"$f":"#REF!*12000/1000","v":{"$error":"#REF!"}},{"$f":"IF(ISERROR('Preliminary Calculations '!AJ25/1000),\"\",'Preliminary Calculations '!AJ25/1000)","v":""},{"$f":"IF(ISERROR('Preliminary Calculations '!AM25/1000),\"\",'Preliminary Calculations '!AM25/1000)","v":""},{"$f":"'Preliminary Calculations '!AX25","v":{"$error":"#REF!"}},{"$f":"'Preliminary Calculations '!BG25","v":{"$error":"#REF!"}},{"$f":"#REF!","v":{"$error":"#REF!"}},{"$f":"#REF!","v":{"$error":"#REF!"}},{"$error":"#REF!"},{"$f":"'Preliminary Calculations '!AK25","v":""},{"$f":"'Preliminary Calculations '!AN25","v":""},"",{"$f":"IF(#REF!>=3,IF(G38=\"Multiple\",IF(R38>=9.5%,250,35),IF(G38=\"Single\",IF(R38>=9.5%,175,35),\"\")),0)","v":{"$error":"#REF!"}}]
[null,null,{"$f":"#REF!","v":{"$error":"#REF!"}},{"$error":"#REF!"},{"$f":"#REF!","v":{"$error":"#REF!"}},null,{"$f":"#REF!","v":{"$error":"#REF!"}},{"$f":"#REF!*12000/1000","v":{"$error":"#REF!"}},{"$f":"IF(ISERROR('Preliminary Calculations '!AJ26/1000),\"\",'Preliminary Calculations '!AJ26/1000)","v":""},{"$f":"IF(ISERROR('Preliminary Calculations '!AM26/1000),\"\",'Preliminary Calculations '!AM26/1000)","v":""},{"$f":"'Preliminary Calculations '!AX26","v":{"$error":"#REF!"}},{"$f":"'Preliminary Calculations '!BG26","v":{"$error":"#REF!"}},{"$f":"#REF!","v":{"$error":"#REF!"}},{"$f":"#REF!","v":{"$error":"#REF!"}},{"$error":"#REF!"},{"$f":"'Preliminary Calculations '!AK26","v":""},{"$f":"'Preliminary Calculations '!AN26","v":""},"",{"$f":"IF(#REF!>=3,IF(G39=\"Multiple\",IF(R39>=9.5%,250,35),IF(G39=\"Single\",IF(R39>=9.5%,175,35),\"\")),0)","v":{"$error":"#REF!"}}]
[null,null,{"$f":"#REF!","v":{"$error":"#REF!"}},{"$error":"#REF!"},{"$f":"#REF!","v":{"$error":"#REF!"}},null,{"$f":"#REF!","v":{"$error":"#REF!"}},{"$f":"#REF!*12000/1000","v":{"$error":"#REF!"}},{"$f":"IF(ISERROR('Preliminary Calculations '!AJ27/1000),\"\",'Preliminary Calculations '!AJ27/1000)","v":""},{"$f":"IF(ISERROR('Preliminary Calculations '!AM27/1000),\"\",'Preliminary Calculations '!AM27/1000)","v":""},{"$f":"'Preliminary Calculations '!AX27","v":{"$error":"#REF!"}},{"$f":"'Preliminary Calculations '!BG27","v":{"$error":"#REF!"}},{"$f":"#REF!","v":{"$error":"#REF!"}},{"$f":"#REF!","v":{"$error":"#REF!"}},{"$error":"#REF!"},{"$f":"'Preliminary Calculations '!AK27","v":""},{"$f":"'Preliminary Calculations '!AN27","v":""},"",{"$f":"IF(#REF!>=3,IF(G40=\"Multiple\",IF(R40>=9.5%,250,35),IF(G40=\"Single\",IF(R40>=9.5%,175,35),\"\")),0)","v":{"$error":"#REF!"}}]
[null,null,{"$f":"#REF!","v":{"$error":"#REF!"}},{"$error":"#REF!"},{"$f":"#REF!","v":{"$error":"#REF!"}},null,{"$f":"#REF!","v":{"$error":"#REF!"}},{"$f":"#REF!*12000/1000","v":{"$error":"#REF!"}},{"$f":"IF(ISERROR('Preliminary Calculations '!AJ28/1000),\"\",'Preliminary Calculations '!AJ28/1000)","v":""},{"$f":"IF(ISERROR('Preliminary Calculations '!AM28/1000),\"\",'Preliminary Calculations '!AM28/1000)","v":""},{"$f":"'Preliminary Calculations '!AX28","v":{"$error":"#REF!"}},{"$f":"'Preliminary Calculations '!BG28","v":{"$error":"#REF!"}},{"$f":"#REF!","v":{"$error":"#REF!"}},{"$f":"#REF!","v":{"$error":"#REF!"}},{"$error":"#REF!"},{"$f":"'Preliminary Calculations '!AK28","v":""},{"$f":"'Preliminary Calculations '!AN28","v":""},"",{"$f":"IF(#REF!>=3,IF(G41=\"Multiple\",IF(R41>=9.5%,250,35),IF(G41=\"Single\",IF(R41>=9.5%,175,35),\"\")),0)","v":{"$error":"#REF!"}}]
[null,null,{"$f":"#REF!","v":{"$error":"#REF!"}},{"$error":"#REF!"},{"$f":"#REF!","v":{"$error":"#REF!"}},null,{"$f":"#REF!","v":{"$error":"#REF!"}},{"$f":"#REF!*12000/1000","v":{"$error":"#REF!"}},{"$f":"IF(ISERROR('Preliminary Calculations '!AJ29/1000),\"\",'Preliminary Calculations '!AJ29/1000)","v":""},{"$f":"IF(ISERROR('Preliminary Calculations '!AM29/1000),\"\",'Preliminary Calculations '!AM29/1000)","v":""},{"$f":"'Preliminary Calculations '!AX29","v":{"$error":"#REF!"}},{"$f":"'Preliminary Calculations '!BG29","v":{"$error":"#REF!"}},{"$f":"#REF!","v":{"$error":"#REF!"}},{"$f":"#REF!","v":{"$error":"#REF!"}},{"$error":"#REF!"},{"$f":"'Preliminary Calculations '!AK29","v":""},{"$f":"'Preliminary Calculations '!AN29","v":""},"",{"$f":"IF(#REF!>=3,IF(G42=\"Multiple\",IF(R42>=9.5%,250,35),IF(G42=\"Single\",IF(R42>=9.5%,175,35),\"\")),0)","v":{"$error":"#REF!"}}]
[null,null,{"$f":"#REF!","v":{"$error":"#REF!"}},{"$error":"#REF!"},{"$f":"#REF!","v":{"$error":"#REF!"}},null,{"$f":"#REF!","v":{"$error":"#REF!"}},{"$f":"#REF!*12000/1000","v":{"$error":"#REF!"}},{"$f":"IF(ISERROR('Preliminary Calculations '!AJ30/1000),\"\",'Preliminary Calculations '!AJ30/1000)","v":""},{"$f":"IF(ISERROR('Preliminary Calculations '!AM30/1000),\"\",'Preliminary Calculations '!AM30/1000)","v":""},{"$f":"'Preliminary Calculations '!AX30","v":{"$error":"#REF!"}},{"$f":"'Preliminary Calculations '!BG30","v":{"$error":"#REF!"}},{"$f":"#REF!","v":{"$error":"#REF!"}},{"$f":"#REF!","v":{"$error":"#REF!"}},{"$error":"#REF!"},{"$f":"'Preliminary Calculations '!AK30","v":""},{"$f":"'Preliminary Calculations '!AN30","v":""},"",{"$f":"IF(#REF!>=3,IF(G43=\"Multiple\",IF(R43>=9.5%,250,35),IF(G43=\"Single\",IF(R43>=9.5%,175,35),\"\")),0)","v":{"$error":"#REF!"}}]
[null,null,{"$f":"#REF!","v":{"$error":"#REF!"}},{"$error":"#REF!"},{"$f":"#REF!","v":{"$error":"#REF!"}},null,{"$f":"#REF!","v":{"$error":"#REF!"}},{"$f":"#REF!*12000/1000","v":{"$error":"#REF!"}},{"$f":"IF(ISERROR('Preliminary Calculations '!AJ31/1000),\"\",'Preliminary Calculations '!AJ31/1000)","v":""},{"$f":"IF(ISERROR('Preliminary Calculations '!AM31/1000),\"\",'Preliminary Calculations '!AM31/1000)","v":""},{"$f":"'Preliminary Calculations '!AX31","v":{"$error":"#REF!"}},{"$f":"'Preliminary Calculations '!BG31","v":{"$error":"#REF!"}},{"$f":"#REF!","v":{"$error":"#REF!"}},{"$f":"#REF!","v":{"$error":"#REF!"}},{"$error":"#REF!"},{"$f":"'Preliminary Calculations '!AK31","v":""},{"$f":"'Preliminary Calculations '!AN31","v":""},"",{"$f":"IF(#REF!>=3,IF(G44=\"Multiple\",IF(R44>=9.5%,250,35),IF(G44=\"Single\",IF(R44>=9.5%,175,35),\"\")),0)","v":{"$error":"#REF!"}}]
[null,null,{"$f":"#REF!","v":{"$error":"#REF!"}},{"$error":"#REF!"},{"$f":"#REF!","v":{"$error":"#REF!"}},null,{"$f":"#REF!","v":{"$error":"#REF!"}},{"$f":"#REF!*12000/1000","v":{"$error":"#REF!"}},{"$f":"IF(ISERROR('Preliminary Calculations '!AJ32/1000),\"\",'Preliminary Calculations '!AJ32/1000)","v":""},{"$f":"IF(ISERROR('Preliminary Calculations '!AM32/1000),\"\",'Preliminary Calculations '!AM32/1000)","v":""},{"$f":"'Preliminary Calculations '!AX32","v":{"$error":"#REF!"}},{"$f":"'Preliminary Calculations '!BG32","v":{"$error":"#REF!"}},{"$f":"#REF!","v":{"$error":"#REF!"}},{"$f":"#REF!","v":{"$error":"#REF!"}},{"$error":"#REF!"},{"$f":"'Preliminary Calculations '!AK32","v":""},{"$f":"'Preliminary Calculations '!AN32","v":""},"",{"$f":"IF(#REF!>=3,IF(G45=\"Multiple\",IF(R45>=9.5%,250,35),IF(G45=\"Single\",IF(R45>=9.5%,175,35),\"\")),0)","v":{"$error":"#REF!"}}]
[null,null,{"$f":"#REF!","v":{"$error":"#REF!"}},{"$error":"#REF!"},{"$f":"#REF!","v":{"$error":"#REF!"}},null,{"$f":"#REF!","v":{"$error":"#REF!"}},{"$f":"#REF!*12000/1000","v":{"$error":"#REF!"}},{"$f":"IF(ISERROR('Preliminary Calculations '!AJ33/1000),\"\",'Preliminary Calculations '!AJ33/1000)","v":""},{"$f":"IF(ISERROR('Preliminary Calculations '!AM33/1000),\"\",'Preliminary Calculations '!AM33/1000)","v":""},{"$f":"'Preliminary Calculations '!AX33","v":{"$error":"#REF!"}},{"$f":"'Preliminary Calculations '!BG33","v":{"$error":"#REF!"}},{"$f":"#REF!","v":{"$error":"#REF!"}},{"$f":"#REF!","v":{"$error":"#REF!"}},{"$error":"#REF!"},{"$f":"'Preliminary Calculations '!AK33","v":""},{"$f":"'Preliminary Calculations '!AN33","v":""},"",{"$f":"IF(#REF!>=3,IF(G46=\"Multiple\",IF(R46>=9.5%,250,35),IF(G46=\"Single\",IF(R46>=9.5%,175,35),\"\")),0)","v":{"$error":"#REF!"}}]
[null,null,{"$f":"#REF!","v":{"$error":"#REF!"}},{"$error":"#REF!"},{"$f":"#REF!","v":{"$error":"#REF!"}},null,{"$f":"#REF!","v":{"$error":"#REF!"}},{"$f":"#REF!*12000/1000","v":{"$error":"#REF!"}},{"$f":"IF(ISERROR('Preliminary Calculations '!AJ34/1000),\"\",'Preliminary Calculations '!AJ34/1000)","v":""},{"$f":"IF(ISERROR('Preliminary Calculations '!AM34/1000),\"\",'Preliminary Calculations '!AM34/1000)","v":""},{"$f":"'Preliminary Calculations '!AX34","v":{"$error":"#REF!"}},{"$f":"'Preliminary Calculations '!BG34","v":{"$error":"#REF!"}},{"$f":"#REF!","v":{"$error":"#REF!"}},{"$f":"#REF!","v":{"$error":"#REF!"}},{"$error":"#REF!"},{"$f":"'Preliminary Calculations '!AK34","v":""},{"$f":"'Preliminary Calculations '!AN34","v":""},"",{"$f":"IF(#REF!>=3,IF(G47=\"Multiple\",IF(R47>=9.5%,250,35),IF(G47=\"Single\",IF(R47>=9.5%,175,35),\"\")),0)","v":{"$error":"#REF!"}}]
[null,null,{"$f":"#REF!","v":{"$error":"#REF!"}},{"$error":"#REF!"},{"$f":"#REF!","v":{"$error":"#REF!"}},null,{"$f":"#REF!","v":{"$error":"#REF!"}},{"$f":"#REF!*12000/1000","v":{"$error":"#REF!"}},{"$f":"IF(ISERROR('Preliminary Calculations '!AJ35/1000),\"\",'Preliminary Calculations '!AJ35/1000)","v":""},{"$f":"IF(ISERROR('Preliminary Calculations '!AM35/1000),\"\",'Preliminary Calculations '!AM35/1000)","v":""},{"$f":"'Preliminary Calculations '!AX35","v":{"$error":"#REF!"}},{"$f":"'Preliminary Calculations '!BG35","v":{"$error":"#REF!"}},{"$f":"#REF!","v":{"$error":"#REF!"}},{"$f":"#REF!","v":{"$error":"#REF!"}},{"$error":"#REF!"},{"$f":"'Preliminary Calculations '!AK35","v":""},{"$f":"'Preliminary Calculations '!AN35","v":""},"",{"$f":"IF(#REF!>=3,IF(G48=\"Multiple\",IF(R48>=9.5%,250,35),IF(G48=\"Single\",IF(R48>=9.5%,175,35),\"\")),0)","v":{"$error":"#REF!"}}]
[null,null,{"$f":"#REF!","v":{"$error":"#REF!"}},{"$error":"#REF!"},{"$f":"#REF!","v":{"$error":"#REF!"}},null,{"$f":"#REF!","v":{"$error":"#REF!"}},{"$f":"#REF!*12000/1000","v":{"$error":"#REF!"}},{"$f":"IF(ISERROR('Preliminary Calculations '!AJ36/1000),\"\",'Preliminary Calculations '!AJ36/1000)","v":""},{"$f":"IF(ISERROR('Preliminary Calculations '!AM36/1000),\"\",'Preliminary Calculations '!AM36/1000)","v":""},{"$f":"'Preliminary Calculations '!AX36","v":{"$error":"#REF!"}},{"$f":"'Preliminary Calculations '!BG36","v":{"$error":"#REF!"}},{"$f":"#REF!","v":{"$error":"#REF!"}},{"$f":"#REF!","v":{"$error":"#REF!"}},{"$error":"#REF!"},{"$f":"'Preliminary Calculations '!AK36","v":""},{"$f":"'Preliminary Calculations '!AN36","v":""},"",{"$f":"IF(#REF!>=3,IF(G49=\"Multiple\",IF(R49>=9.5%,250,35),IF(G49=\"Single\",IF(R49>=9.5%,175,35),\"\")),0)","v":{"$error":"#REF!"}}]
[null,null,{"$f":"#REF!","v":{"$error":"#REF!"}},{"$error":"#REF!"},{"$f":"#REF!","v":{"$error":"#REF!"}},null,{"$f":"#REF!","v":{"$error":"#REF!"}},{"$f":"#REF!*12000/1000","v":{"$error":"#REF!"}},{"$f":"IF(ISERROR('Preliminary Calculations '!AJ37/1000),\"\",'Preliminary Calculations '!AJ37/1000)","v":""},{"$f":"IF(ISERROR('Preliminary Calculations '!AM37/1000),\"\",'Preliminary Calculations '!AM37/1000)","v":""},{"$f":"'Preliminary Calculations '!AX37","v":{"$error":"#REF!"}},{"$f":"'Preliminary Calculations '!BG37","v":{"$error":"#REF!"}},{"$f":"#REF!","v":{"$error":"#REF!"}},{"$f":"#REF!","v":{"$error":"#REF!"}},{"$error":"#REF!"},{"$f":"'Preliminary Calculations '!AK37","v":""},{"$f":"'Preliminary Calculations '!AN37","v":""},"",{"$f":"IF(#REF!>=3,IF(G50=\"Multiple\",IF(R50>=9.5%,250,35),IF(G50=\"Single\",IF(R50>=9.5%,175,35),\"\")),0)","v":{"$error":"#REF!"}}]
[null,null,{"$f":"#REF!","v":{"$error":"#REF!"}},{"$error":"#REF!"},{"$f":"#REF!","v":{"$error":"#REF!"}},null,{"$f":"#REF!","v":{"$error":"#REF!"}},{"$f":"#REF!*12000/1000","v":{"$error":"#REF!"}},{"$f":"IF(ISERROR('Preliminary Calculations '!AJ38/1000),\"\",'Preliminary Calculations '!AJ38/1000)","v":""},{"$f":"IF(ISERROR('Preliminary Calculations '!AM38/1000),\"\",'Preliminary Calculations '!AM38/1000)","v":""},{"$f":"'Preliminary Calculations '!AX38","v":{"$error":"#REF!"}},{"$f":"'Preliminary Calculations '!BG38","v":{"$error":"#REF!"}},{"$f":"#REF!","v":{"$error":"#REF!"}},{"$f":"#REF!","v":{"$error":"#REF!"}},{"$error":"#REF!"},{"$f":"'Preliminary Calculations '!AK38","v":""},{"$f":"'Preliminary Calculations '!AN38","v":""},"",{"$f":"IF(#REF!>=3,IF(G51=\"Multiple\",IF(R51>=9.5%,250,35),IF(G51=\"Single\",IF(R51>=9.5%,175,35),\"\")),0)","v":{"$error":"#REF!"}}]
[null,null,{"$f":"#REF!","v":{"$error":"#REF!"}},{"$error":"#REF!"},{"$f":"#REF!","v":{"$error":"#REF!"}},null,{"$f":"#REF!","v":{"$error":"#REF!"}},{"$f":"#REF!*12000/1000","v":{"$error":"#REF!"}},{"$f":"IF(ISERROR('Preliminary Calculations '!AJ39/1000),\"\",'Preliminary Calculations '!AJ39/1000)","v":""},{"$f":"IF(ISERROR('Preliminary Calculations '!AM39/1000),\"\",'Preliminary Calculations '!AM39/1000)","v":""},{"$f":"'Preliminary Calculations '!AX39","v":{"$error":"#REF!"}},{"$f":"'Preliminary Calculations '!BG39","v":{"$error":"#REF!"}},{"$f":"#REF!","v":{"$error":"#REF!"}},{"$f":"#REF!","v":{"$error":"#REF!"}},{"$error":"#REF!"},{"$f":"'Preliminary Calculations '!AK39","v":""},{"$f":"'Preliminary Calculations '!AN39","v":""},"",{"$f":"IF(#REF!>=3,IF(G52=\"Multiple\",IF(R52>=9.5%,250,35),IF(G52=\"Single\",IF(R52>=9.5%,175,35),\"\")),0)","v":{"$error":"#REF!"}}]
[null,null,{"$f":"#REF!","v":{"$error":"#REF!"}},{"$error":"#REF!"},{"$f":"#REF!","v":{"$error":"#REF!"}},null,{"$f":"#REF!","v":{"$error":"#REF!"}},{"$f":"#REF!*12000/1000","v":{"$error":"#REF!"}},{"$f":"IF(ISERROR('Preliminary Calculations '!AJ40/1000),\"\",'Preliminary Calculations '!AJ40/1000)","v":""},{"$f":"IF(ISERROR('Preliminary Calculations '!AM40/1000),\"\",'Preliminary Calculations '!AM40/1000)","v":""},{"$f":"'Preliminary Calculations '!AX40","v":{"$error":"#REF!"}},{"$f":"'Preliminary Calculations '!BG40","v":{"$error":"#REF!"}},{"$f":"#REF!","v":{"$error":"#REF!"}},{"$f":"#REF!","v":{"$error":"#REF!"}},{"$error":"#REF!"},{"$f":"'Preliminary Calculations '!AK40","v":""},{"$f":"'Preliminary Calculations '!AN40","v":""},"",{"$f":"IF(#REF!>=3,IF(G53=\"Multiple\",IF(R53>=9.5%,250,35),IF(G53=\"Single\",IF(R53>=9.5%,175,35),\"\")),0)","v":{"$error":"#REF!"}}]
[null,null,{"$f":"#REF!","v":{"$error":"#REF!"}},{"$error":"#REF!"},{"$f":"#REF!","v":{"$error":"#REF!"}},null,{"$f":"#REF!","v":{"$error":"#REF!"}},{"$f":"#REF!*12000/1000","v":{"$error":"#REF!"}},{"$f":"IF(ISERROR('Preliminary Calculations '!AJ41/1000),\"\",'Preliminary Calculations '!AJ41/1000)","v":""},{"$f":"IF(ISERROR('Preliminary Calculations '!AM41/1000),\"\",'Preliminary Calculations '!AM41/1000)","v":""},{"$f":"'Preliminary Calculations '!AX41","v":{"$error":"#REF!"}},{"$f":"'Preliminary Calculations '!BG41","v":{"$error":"#REF!"}},{"$f":"#REF!","v":{"$error":"#REF!"}},{"$f":"#REF!","v":{"$error":"#REF!"}},{"$error":"#REF!"},{"$f":"'Preliminary Calculations '!AK41","v":""},{"$f":"'Preliminary Calculations '!AN41","v":""},"",{"$f":"IF(#REF!>=3,IF(G54=\"Multiple\",IF(R54>=9.5%,250,35),IF(G54=\"Single\",IF(R54>=9.5%,175,35),\"\")),0)","v":{"$error":"#REF!"}}]
[null,null,{"$f":"#REF!","v":{"$error":"#REF!"}},{"$error":"#REF!"},{"$f":"#REF!","v":{"$error":"#REF!"}},null,{"$f":"#REF!","v":{"$error":"#REF!"}},{"$f":"#REF!*12000/1000","v":{"$error":"#REF!"}},{"$f":"IF(ISERROR('Preliminary Calculations '!AJ42/1000),\"\",'Preliminary Calculations '!AJ42/1000)","v":""},{"$f":"IF(ISERROR('Preliminary Calculations '!AM42/1000),\"\",'Preliminary Calculations '!AM42/1000)","v":""},{"$f":"'Preliminary Calculations '!AX42","v":{"$error":"#REF!"}},{"$f":"'Preliminary Calculations '!BG42","v":{"$error":"#REF!"}},{"$f":"#REF!","v":{"$error":"#REF!"}},{"$f":"#REF!","v":{"$error":"#REF!"}},{"$error":"#REF!"},{"$f":"'Preliminary Calculations '!AK42","v":""},{"$f":"'Preliminary Calculations '!AN42","v":""},"",{"$f":"IF(#REF!>=3,IF(G55=\"Multiple\",IF(R55>=9.5%,250,35),IF(G55=\"Single\",IF(R55>=9.5%,175,35),\"\")),0)","v":{"$error":"#REF!"}}]
[null,null,{"$f":"#REF!","v":{"$error":"#REF!"}},{"$error":"#REF!"},{"$f":"#REF!","v":{"$error":"#REF!"}},null,{"$f":"#REF!","v":{"$error":"#REF!"}},{"$f":"#REF!*12000/1000","v":{"$error":"#REF!"}},{"$f":"IF(ISERROR('Preliminary Calculations '!AJ43/1000),\"\",'Preliminary Calculations '!AJ43/1000)","v":""},{"$f":"IF(ISERROR('Preliminary Calculations '!AM43/1000),\"\",'Preliminary Calculations '!AM43/1000)","v":""},{"$f":"'Preliminary Calculations '!AX43","v":{"$error":"#REF!"}},{"$f":"'Preliminary Calculations '!BG43","v":{"$error":"#REF!"}},{"$f":"#REF!","v":{"$error":"#REF!"}},{"$f":"#REF!","v":{"$error":"#REF!"}},{"$error":"#REF!"},{"$f":"'Preliminary Calculations '!AK43","v":""},{"$f":"'Preliminary Calculations '!AN43","v":""},"",{"$f":"IF(#REF!>=3,IF(G56=\"Multiple\",IF(R56>=9.5%,250,35),IF(G56=\"Single\",IF(R56>=9.5%,175,35),\"\")),0)","v":{"$error":"#REF!"}}]
[null,null,{"$f":"#REF!","v":{"$error":"#REF!"}},{"$error":"#REF!"},{"$f":"#REF!","v":{"$error":"#REF!"}},null,{"$f":"#REF!","v":{"$error":"#REF!"}},{"$f":"#REF!*12000/1000","v":{"$error":"#REF!"}},{"$f":"IF(ISERROR('Preliminary Calculations '!AJ44/1000),\"\",'Preliminary Calculations '!AJ44/1000)","v":""},{"$f":"IF(ISERROR('Preliminary Calculations '!AM44/1000),\"\",'Preliminary Calculations '!AM44/1000)","v":""},{"$f":"'Preliminary Calculations '!AX44","v":{"$error":"#REF!"}},{"$f":"'Preliminary Calculations '!BG44","v":{"$error":"#REF!"}},{"$f":"#REF!","v":{"$error":"#REF!"}},{"$f":"#REF!","v":{"$error":"#REF!"}},{"$error":"#REF!"},{"$f":"'Preliminary Calculations '!AK44","v":""},{"$f":"'Preliminary Calculations '!AN44","v":""},"",{"$f":"IF(#REF!>=3,IF(G57=\"Multiple\",IF(R57>=9.5%,250,35),IF(G57=\"Single\",IF(R57>=9.5%,175,35),\"\")),0)","v":{"$error":"#REF!"}}]
[null,null,{"$f":"#REF!","v":{"$error":"#REF!"}},{"$error":"#REF!"},{"$f":"#REF!","v":{"$error":"#REF!"}},null,{"$f":"#REF!","v":{"$error":"#REF!"}},{"$f":"#REF!*12000/1000","v":{"$error":"#REF!"}},{"$f":"IF(ISERROR('Preliminary Calculations '!AJ45/1000),\"\",'Preliminary Calculations '!AJ45/1000)","v":""},{"$f":"IF(ISERROR('Preliminary Calculations '!AM45/1000),\"\",'Preliminary Calculations '!AM45/1000)","v":""},{"$f":"'Preliminary Calculations '!AX45","v":{"$error":"#REF!"}},{"$f":"'Preliminary Calculations '!BG45","v":{"$error":"#REF!"}},{"$f":"#REF!","v":{"$error":"#REF!"}},{"$f":"#REF!","v":{"$error":"#REF!"}},{"$error":"#REF!"},{"$f":"'Preliminary Calculations '!AK45","v":""},{"$f":"'Preliminary Calculations '!AN45","v":""},"",{"$f":"IF(#REF!>=3,IF(G58=\"Multiple\",IF(R58>=9.5%,250,35),IF(G58=\"Single\",IF(R58>=9.5%,175,35),\"\")),0)","v":{"$error":"#REF!"}}]
[null,null,{"$f":"#REF!","v":{"$error":"#REF!"}},{"$error":"#REF!"},{"$f":"#REF!","v":{"$error":"#REF!"}},null,{"$f":"#REF!","v":{"$error":"#REF!"}},{"$f":"#REF!*12000/1000","v":{"$error":"#REF!"}},{"$f":"IF(ISERROR('Preliminary Calculations '!AJ46/1000),\"\",'Preliminary Calculations '!AJ46/1000)","v":""},{"$f":"IF(ISERROR('Preliminary Calculations '!AM46/1000),\"\",'Preliminary Calculations '!AM46/1000)","v":""},{"$f":"'Preliminary Calculations '!AX46","v":{"$error":"#REF!"}},{"$f":"'Preliminary Calculations '!BG46","v":{"$error":"#REF!"}},{"$f":"#REF!","v":{"$error":"#REF!"}},{"$f":"#REF!","v":{"$error":"#REF!"}},{"$error":"#REF!"},{"$f":"'Preliminary Calculations '!AK46","v":""},{"$f":"'Preliminary Calculations '!AN46","v":""},"",{"$f":"IF(#REF!>=3,IF(G59=\"Multiple\",IF(R59>=9.5%,250,35),IF(G59=\"Single\",IF(R59>=9.5%,175,35),\"\")),0)","v":{"$error":"#REF!"}}]
[null,null,{"$f":"#REF!","v":{"$error":"#REF!"}},{"$error":"#REF!"},{"$f":"#REF!","v":{"$error":"#REF!"}},null,{"$f":"#REF!","v":{"$error":"#REF!"}},{"$f":"#REF!*12000/1000","v":{"$error":"#REF!"}},{"$f":"IF(ISERROR('Preliminary Calculations '!AJ47/1000),\"\",'Preliminary Calculations '!AJ47/1000)","v":""},{"$f":"IF(ISERROR('Preliminary Calculations '!AM47/1000),\"\",'Preliminary Calculations '!AM47/1000)","v":""},{"$f":"'Preliminary Calculations '!AX47","v":{"$error":"#REF!"}},{"$f":"'Preliminary Calculations '!BG47","v":{"$error":"#REF!"}},{"$f":"#REF!","v":{"$error":"#REF!"}},{"$f":"#REF!","v":{"$error":"#REF!"}},{"$error":"#REF!"},{"$f":"'Preliminary Calculations '!AK47","v":""},{"$f":"'Preliminary Calculations '!AN47","v":""},"",{"$f":"IF(#REF!>=3,IF(G60=\"Multiple\",IF(R60>=9.5%,250,35),IF(G60=\"Single\",IF(R60>=9.5%,175,35),\"\")),0)","v":{"$error":"#REF!"}}]
[null,null,{"$f":"#REF!","v":{"$error":"#REF!"}},{"$error":"#REF!"},{"$f":"#REF!","v":{"$error":"#REF!"}},null,{"$f":"#REF!","v":{"$error":"#REF!"}},{"$f":"#REF!*12000/1000","v":{"$error":"#REF!"}},{"$f":"IF(ISERROR('Preliminary Calculations '!AJ48/1000),\"\",'Preliminary Calculations '!AJ48/1000)","v":""},{"$f":"IF(ISERROR('Preliminary Calculations '!AM48/1000),\"\",'Preliminary Calculations '!AM48/1000)","v":""},{"$f":"'Preliminary Calculations '!AX48","v":{"$error":"#REF!"}},{"$f":"'Preliminary Calculations '!BG48","v":{"$error":"#REF!"}},{"$f":"#REF!","v":{"$error":"#REF!"}},{"$f":"#REF!","v":{"$error":"#REF!"}},{"$error":"#REF!"},{"$f":"'Preliminary Calculations '!AK48","v":""},{"$f":"'Preliminary Calculations '!AN48","v":""},"",{"$f":"IF(#REF!>=3,IF(G61=\"Multiple\",IF(R61>=9.5%,250,35),IF(G61=\"Single\",IF(R61>=9.5%,175,35),\"\")),0)","v":{"$error":"#REF!"}}]
[null,null,{"$f":"#REF!","v":{"$error":"#REF!"}},{"$error":"#REF!"},{"$f":"#REF!","v":{"$error":"#REF!"}},null,{"$f":"#REF!","v":{"$error":"#REF!"}},{"$f":"#REF!*12000/1000","v":{"$error":"#REF!"}},{"$f":"IF(ISERROR('Preliminary Calculations '!AJ49/1000),\"\",'Preliminary Calculations '!AJ49/1000)","v":""},{"$f":"IF(ISERROR('Preliminary Calculations '!AM49/1000),\"\",'Preliminary Calculations '!AM49/1000)","v":""},{"$f":"'Preliminary Calculations '!AX49","v":{"$error":"#REF!"}},{"$f":"'Preliminary Calculations '!BG49","v":{"$error":"#REF!"}},{"$f":"#REF!","v":{"$error":"#REF!"}},{"$f":"#REF!","v":{"$error":"#REF!"}},{"$error":"#REF!"},{"$f":"'Preliminary Calculations '!AK49","v":""},{"$f":"'Preliminary Calculations '!AN49","v":""},"",{"$f":"IF(#REF!>=3,IF(G62=\"Multiple\",IF(R62>=9.5%,250,35),IF(G62=\"Single\",IF(R62>=9.5%,175,35),\"\")),0)","v":{"$error":"#REF!"}}]
[null,null,{"$f":"#REF!","v":{"$error":"#REF!"}},{"$error":"#REF!"},{"$f":"#REF!","v":{"$error":"#REF!"}},null,{"$f":"#REF!","v":{"$error":"#REF!"}},{"$f":"#REF!*12000/1000","v":{"$error":"#REF!"}},{"$f":"IF(ISERROR('Preliminary Calculations '!AJ50/1000),\"\",'Preliminary Calculations '!AJ50/1000)","v":""},{"$f":"IF(ISERROR('Preliminary Calculations '!AM50/1000),\"\",'Preliminary Calculations '!AM50/1000)","v":""},{"$f":"'Preliminary Calculations '!AX50","v":{"$error":"#REF!"}},{"$f":"'Preliminary Calculations '!BG50","v":{"$error":"#REF!"}},{"$f":"#REF!","v":{"$error":"#REF!"}},{"$f":"#REF!","v":{"$error":"#REF!"}},{"$error":"#REF!"},{"$f":"'Preliminary Calculations '!AK50","v":""},{"$f":"'Preliminary Calculations '!AN50","v":""},"",{"$f":"IF(#REF!>=3,IF(G63=\"Multiple\",IF(R63>=9.5%,250,35),IF(G63=\"Single\",IF(R63>=9.5%,175,35),\"\")),0)","v":{"$error":"#REF!"}}]
[null,null,{"$f":"#REF!","v":{"$error":"#REF!"}},{"$error":"#REF!"},{"$f":"#REF!","v":{"$error":"#REF!"}},null,{"$f":"#REF!","v":{"$error":"#REF!"}},{"$f":"#REF!*12000/1000","v":{"$error":"#REF!"}},{"$f":"IF(ISERROR('Preliminary Calculations '!AJ51/1000),\"\",'Preliminary Calculations '!AJ51/1000)","v":""},{"$f":"IF(ISERROR('Preliminary Calculations '!AM51/1000),\"\",'Preliminary Calculations '!AM51/1000)","v":""},{"$f":"'Preliminary Calculations '!AX51","v":{"$error":"#REF!"}},{"$f":"'Preliminary Calculations '!BG51","v":{"$error":"#REF!"}},{"$f":"#REF!","v":{"$error":"#REF!"}},{"$f":"#REF!","v":{"$error":"#REF!"}},{"$error":"#REF!"},{"$f":"'Preliminary Calculations '!AK51","v":""},{"$f":"'Preliminary Calculations '!AN51","v":""},"",{"$f":"IF(#REF!>=3,IF(G64=\"Multiple\",IF(R64>=9.5%,250,35),IF(G64=\"Single\",IF(R64>=9.5%,175,35),\"\")),0)","v":{"$error":"#REF!"}}]
[null,null,{"$f":"#REF!","v":{"$error":"#REF!"}},{"$error":"#REF!"},{"$f":"#REF!","v":{"$error":"#REF!"}},null,{"$f":"#REF!","v":{"$error":"#REF!"}},{"$f":"#REF!*12000/1000","v":{"$error":"#REF!"}},{"$f":"IF(ISERROR('Preliminary Calculations '!AJ52/1000),\"\",'Preliminary Calculations '!AJ52/1000)","v":""},{"$f":"IF(ISERROR('Preliminary Calculations '!AM52/1000),\"\",'Preliminary Calculations '!AM52/1000)","v":""},{"$f":"'Preliminary Calculations '!AX52","v":{"$error":"#REF!"}},{"$f":"'Preliminary Calculations '!BG52","v":{"$error":"#REF!"}},{"$f":"#REF!","v":{"$error":"#REF!"}},{"$f":"#REF!","v":{"$error":"#REF!"}},{"$error":"#REF!"},{"$f":"'Preliminary Calculations '!AK52","v":""},{"$f":"'Preliminary Calculations '!AN52","v":""},"",{"$f":"IF(#REF!>=3,IF(G65=\"Multiple\",IF(R65>=9.5%,250,35),IF(G65=\"Single\",IF(R65>=9.5%,175,35),\"\")),0)","v":{"$error":"#REF!"}}]
[null,null,{"$f":"#REF!","v":{"$error":"#REF!"}},{"$error":"#REF!"},{"$f":"#REF!","v":{"$error":"#REF!"}},null,{"$f":"#REF!","v":{"$error":"#REF!"}},{"$f":"#REF!*12000/1000","v":{"$error":"#REF!"}},{"$f":"IF(ISERROR('Preliminary Calculations '!AJ53/1000),\"\",'Preliminary Calculations '!AJ53/1000)","v":""},{"$f":"IF(ISERROR('Preliminary Calculations '!AM53/1000),\"\",'Preliminary Calculations '!AM53/1000)","v":""},{"$f":"'Preliminary Calculations '!AX53","v":{"$error":"#REF!"}},{"$f":"'Preliminary Calculations '!BG53","v":{"$error":"#REF!"}},{"$f":"#REF!","v":{"$error":"#REF!"}},{"$f":"#REF!","v":{"$error":"#REF!"}},{"$error":"#REF!"},{"$f":"'Preliminary Calculations '!AK53","v":""},{"$f":"'Preliminary Calculations '!AN53","v":""},"",{"$f":"IF(#REF!>=3,IF(G66=\"Multiple\",IF(R66>=9.5%,250,35),IF(G66=\"Single\",IF(R66>=9.5%,175,35),\"\")),0)","v":{"$error":"#REF!"}}]
[null,null,{"$f":"#REF!","v":{"$error":"#REF!"}},{"$error":"#REF!"},{"$f":"#REF!","v":{"$error":"#REF!"}},null,{"$f":"#REF!","v":{"$error":"#REF!"}},{"$f":"#REF!*12000/1000","v":{"$error":"#REF!"}},{"$f":"IF(ISERROR('Preliminary Calculations '!AJ54/1000),\"\",'Preliminary Calculations '!AJ54/1000)","v":""},{"$f":"IF(ISERROR('Preliminary Calculations '!AM54/1000),\"\",'Preliminary Calculations '!AM54/1000)","v":""},{"$f":"'Preliminary Calculations '!AX54","v":{"$error":"#REF!"}},{"$f":"'Preliminary Calculations '!BG54","v":{"$error":"#REF!"}},{"$f":"#REF!","v":{"$error":"#REF!"}},{"$f":"#REF!","v":{"$error":"#REF!"}},{"$error":"#REF!"},{"$f":"'Preliminary Calculations '!AK54","v":""},{"$f":"'Preliminary Calculations '!AN54","v":""},"",{"$f":"IF(#REF!>=3,IF(G67=\"Multiple\",IF(R67>=9.5%,250,35),IF(G67=\"Single\",IF(R67>=9.5%,175,35),\"\")),0)","v":{"$error":"#REF!"}}]
[null,null,{"$f":"#REF!","v":{"$error":"#REF!"}},{"$error":"#REF!"},{"$f":"#REF!","v":{"$error":"#REF!"}},null,{"$f":"#REF!","v":{"$error":"#REF!"}},{"$f":"#REF!*12000/1000","v":{"$error":"#REF!"}},{"$f":"IF(ISERROR('Preliminary Calculations '!AJ55/1000),\"\",'Preliminary Calculations '!AJ55/1000)","v":""},{"$f":"IF(ISERROR('Preliminary Calculations '!AM55/1000),\"\",'Preliminary Calculations '!AM55/1000)","v":""},{"$f":"'Preliminary Calculations '!AX55","v":{"$error":"#REF!"}},{"$f":"'Preliminary Calculations '!BG55","v":{"$error":"#REF!"}},{"$f":"#REF!","v":{"$error":"#REF!"}},{"$f":"#REF!","v":{"$error":"#REF!"}},{"$error":"#REF!"},{"$f":"'Preliminary Calculations '!AK55","v":""},{"$f":"'Preliminary Calculations '!AN55","v":""},"",{"$f":"IF(#REF!>=3,IF(G68=\"Multiple\",IF(R68>=9.5%,250,35),IF(G68=\"Single\",IF(R68>=9.5%,175,35),\"\")),0)","v":{"$error":"#REF!"}}]
[null,null,{"$f":"#REF!","v":{"$error":"#REF!"}},{"$error":"#REF!"},{"$f":"#REF!","v":{"$error":"#REF!"}},null,{"$f":"#REF!","v":{"$error":"#REF!"}},{"$f":"#REF!*12000/1000","v":{"$error":"#REF!"}},{"$f":"IF(ISERROR('Preliminary Calculations '!AJ56/1000),\"\",'Preliminary Calculations '!AJ56/1000)","v":""},{"$f":"IF(ISERROR('Preliminary Calculations '!AM56/1000),\"\",'Preliminary Calculations '!AM56/1000)","v":""},{"$f":"'Preliminary Calculations '!AX56","v":{"$error":"#REF!"}},{"$f":"'Preliminary Calculations '!BG56","v":{"$error":"#REF!"}},{"$f":"#REF!","v":{"$error":"#REF!"}},{"$f":"#REF!","v":{"$error":"#REF!"}},{"$error":"#REF!"},{"$f":"'Preliminary Calculations '!AK56","v":""},{"$f":"'Preliminary Calculations '!AN56","v":""},"",{"$f":"IF(#REF!>=3,IF(G69=\"Multiple\",IF(R69>=9.5%,250,35),IF(G69=\"Single\",IF(R69>=9.5%,175,35),\"\")),0)","v":{"$error":"#REF!"}}]
[null,null,{"$f":"#REF!","v":{"$error":"#REF!"}},{"$error":"#REF!"},{"$f":"#REF!","v":{"$error":"#REF!"}},null,{"$f":"#REF!","v":{"$error":"#REF!"}},{"$f":"#REF!*12000/1000","v":{"$error":"#REF!"}},{"$f":"IF(ISERROR('Preliminary Calculations '!AJ57/1000),\"\",'Preliminary Calculations '!AJ57/1000)","v":""},{"$f":"IF(ISERROR('Preliminary Calculations '!AM57/1000),\"\",'Preliminary Calculations '!AM57/1000)","v":""},{"$f":"'Preliminary Calculations '!AX57","v":{"$error":"#REF!"}},{"$f":"'Preliminary Calculations '!BG57","v":{"$error":"#REF!"}},{"$f":"#REF!","v":{"$error":"#REF!"}},{"$f":"#REF!","v":{"$error":"#REF!"}},{"$error":"#REF!"},{"$f":"'Preliminary Calculations '!AK57","v":""},{"$f":"'Preliminary Calculations '!AN57","v":""},"",{"$f":"IF(#REF!>=3,IF(G70=\"Multiple\",IF(R70>=9.5%,250,35),IF(G70=\"Single\",IF(R70>=9.5%,175,35),\"\")),0)","v":{"$error":"#REF!"}}]
[null,null,{"$f":"#REF!","v":{"$error":"#REF!"}},{"$error":"#REF!"},{"$f":"#REF!","v":{"$error":"#REF!"}},null,{"$f":"#REF!","v":{"$error":"#REF!"}},{"$f":"#REF!*12000/1000","v":{"$error":"#REF!"}},{"$f":"IF(ISERROR('Preliminary Calculations '!AJ58/1000),\"\",'Preliminary Calculations '!AJ58/1000)","v":""},{"$f":"IF(ISERROR('Preliminary Calculations '!AM58/1000),\"\",'Preliminary Calculations '!AM58/1000)","v":""},{"$f":"'Preliminary Calculations '!AX58","v":{"$error":"#REF!"}},{"$f":"'Preliminary Calculations '!BG58","v":{"$error":"#REF!"}},{"$f":"#REF!","v":{"$error":"#REF!"}},{"$f":"#REF!","v":{"$error":"#REF!"}},{"$error":"#REF!"},{"$f":"'Preliminary Calculations '!AK58","v":""},{"$f":"'Preliminary Calculations '!AN58","v":""},"",{"$f":"IF(#REF!>=3,IF(G71=\"Multiple\",IF(R71>=9.5%,250,35),IF(G71=\"Single\",IF(R71>=9.5%,175,35),\"\")),0)","v":{"$error":"#REF!"}}]
[null,null,{"$f":"#REF!","v":{"$error":"#REF!"}},{"$error":"#REF!"},{"$f":"#REF!","v":{"$error":"#REF!"}},null,{"$f":"#REF!","v":{"$error":"#REF!"}},{"$f":"#REF!*12000/1000","v":{"$error":"#REF!"}},{"$f":"IF(ISERROR('Preliminary Calculations '!AJ59/1000),\"\",'Preliminary Calculations '!AJ59/1000)","v":""},{"$f":"IF(ISERROR('Preliminary Calculations '!AM59/1000),\"\",'Preliminary Calculations '!AM59/1000)","v":""},{"$f":"'Preliminary Calculations '!AX59","v":{"$error":"#REF!"}},{"$f":"'Preliminary Calculations '!BG59","v":{"$error":"#REF!"}},{"$f":"#REF!","v":{"$error":"#REF!"}},{"$f":"#REF!","v":{"$error":"#REF!"}},{"$error":"#REF!"},{"$f":"'Preliminary Calculations '!AK59","v":""},{"$f":"'Preliminary Calculations '!AN59","v":""},"",{"$f":"IF(#REF!>=3,IF(G72=\"Multiple\",IF(R72>=9.5%,250,35),IF(G72=\"Single\",IF(R72>=9.5%,175,35),\"\")),0)","v":{"$error":"#REF!"}}]
[null,null,{"$f":"#REF!","v":{"$error":"#REF!"}},{"$error":"#REF!"},{"$f":"#REF!","v":{"$error":"#REF!"}},null,{"$f":"#REF!","v":{"$error":"#REF!"}},{"$f":"#REF!*12000/1000","v":{"$error":"#REF!"}},{"$f":"IF(ISERROR('Preliminary Calculations '!AJ60/1000),\"\",'Preliminary Calculations '!AJ60/1000)","v":""},{"$f":"IF(ISERROR('Preliminary Calculations '!AM60/1000),\"\",'Preliminary Calculations '!AM60/1000)","v":""},{"$f":"'Preliminary Calculations '!AX60","v":{"$error":"#REF!"}},{"$f":"'Preliminary Calculations '!BG60","v":{"$error":"#REF!"}},{"$f":"#REF!","v":{"$error":"#REF!"}},{"$f":"#REF!","v":{"$error":"#REF!"}},{"$error":"#REF!"},{"$f":"'Preliminary Calculations '!AK60","v":""},{"$f":"'Preliminary Calculations '!AN60","v":""},"",{"$f":"IF(#REF!>=3,IF(G73=\"Multiple\",IF(R73>=9.5%,250,35),IF(G73=\"Single\",IF(R73>=9.5%,175,35),\"\")),0)","v":{"$error":"#REF!"}}]
[null,null,{"$f":"#REF!","v":{"$error":"#REF!"}},{"$error":"#REF!"},{"$f":"#REF!","v":{"$error":"#REF!"}},null,{"$f":"#REF!","v":{"$error":"#REF!"}},{"$f":"#REF!*12000/1000","v":{"$error":"#REF!"}},{"$f":"IF(ISERROR('Preliminary Calculations '!AJ61/1000),\"\",'Preliminary Calculations '!AJ61/1000)","v":""},{"$f":"IF(ISERROR('Preliminary Calculations '!AM61/1000),\"\",'Preliminary Calculations '!AM61/1000)","v":""},{"$f":"'Preliminary Calculations '!AX61","v":{"$error":"#REF!"}},{"$f":"'Preliminary Calculations '!BG61","v":{"$error":"#REF!"}},{"$f":"#REF!","v":{"$error":"#REF!"}},{"$f":"#REF!","v":{"$error":"#REF!"}},{"$error":"#REF!"},{"$f":"'Preliminary Calculations '!AK61","v":""},{"$f":"'Preliminary Calculations '!AN61","v":""},"",{"$f":"IF(#REF!>=3,IF(G74=\"Multiple\",IF(R74>=9.5%,250,35),IF(G74=\"Single\",IF(R74>=9.5%,175,35),\"\")),0)","v":{"$error":"#REF!"}}]
[null,null,{"$f":"#REF!","v":{"$error":"#REF!"}},{"$error":"#REF!"},{"$f":"#REF!","v":{"$error":"#REF!"}},null,{"$f":"#REF!","v":{"$error":"#REF!"}},{"$f":"#REF!*12000/1000","v":{"$error":"#REF!"}},{"$f":"IF(ISERROR('Preliminary Calculations '!AJ62/1000),\"\",'Preliminary Calculations '!AJ62/1000)","v":""},{"$f":"IF(ISERROR('Preliminary Calculations '!AM62/1000),\"\",'Preliminary Calculations '!AM62/1000)","v":""},{"$f":"'Preliminary Calculations '!AX62","v":{"$error":"#REF!"}},{"$f":"'Preliminary Calculations '!BG62","v":{"$error":"#REF!"}},{"$f":"#REF!","v":{"$error":"#REF!"}},{"$f":"#REF!","v":{"$error":"#REF!"}},{"$error":"#REF!"},{"$f":"'Preliminary Calculations '!AK62","v":""},{"$f":"'Preliminary Calculations '!AN62","v":""},"",{"$f":"IF(#REF!>=3,IF(G75=\"Multiple\",IF(R75>=9.5%,250,35),IF(G75=\"Single\",IF(R75>=9.5%,175,35),\"\")),0)","v":{"$error":"#REF!"}}]
[null,null,{"$f":"#REF!","v":{"$error":"#REF!"}},{"$error":"#REF!"},{"$f":"#REF!","v":{"$error":"#REF!"}},null,{"$f":"#REF!","v":{"$error":"#REF!"}},{"$f":"#REF!*12000/1000","v":{"$error":"#REF!"}},{"$f":"IF(ISERROR('Preliminary Calculations '!AJ63/1000),\"\",'Preliminary Calculations '!AJ63/1000)","v":""},{"$f":"IF(ISERROR('Preliminary Calculations '!AM63/1000),\"\",'Preliminary Calculations '!AM63/1000)","v":""},{"$f":"'Preliminary Calculations '!AX63","v":{"$error":"#REF!"}},{"$f":"'Preliminary Calculations '!BG63","v":{"$error":"#REF!"}},{"$f":"#REF!","v":{"$error":"#REF!"}},{"$f":"#REF!","v":{"$error":"#REF!"}},{"$error":"#REF!"},{"$f":"'Preliminary Calculations '!AK63","v":""},{"$f":"'Preliminary Calculations '!AN63","v":""},"",{"$f":"IF(#REF!>=3,IF(G76=\"Multiple\",IF(R76>=9.5%,250,35),IF(G76=\"Single\",IF(R76>=9.5%,175,35),\"\")),0)","v":{"$error":"#REF!"}}]
[null,null,{"$f":"#REF!","v":{"$error":"#REF!"}},{"$error":"#REF!"},{"$f":"#REF!","v":{"$error":"#REF!"}},null,{"$f":"#REF!","v":{"$error":"#REF!"}},{"$f":"#REF!*12000/1000","v":{"$error":"#REF!"}},{"$f":"IF(ISERROR('Preliminary Calculations '!AJ64/1000),\"\",'Preliminary Calculations '!AJ64/1000)","v":""},{"$f":"IF(ISERROR('Preliminary Calculations '!AM64/1000),\"\",'Preliminary Calculations '!AM64/1000)","v":""},{"$f":"'Preliminary Calculations '!AX64","v":{"$error":"#REF!"}},{"$f":"'Preliminary Calculations '!BG64","v":{"$error":"#REF!"}},{"$f":"#REF!","v":{"$error":"#REF!"}},{"$f":"#REF!","v":{"$error":"#REF!"}},{"$error":"#REF!"},{"$f":"'Preliminary Calculations '!AK64","v":""},{"$f":"'Preliminary Calculations '!AN64","v":""},"",{"$f":"IF(#REF!>=3,IF(G77=\"Multiple\",IF(R77>=9.5%,250,35),IF(G77=\"Single\",IF(R77>=9.5%,175,35),\"\")),0)","v":{"$error":"#REF!"}}]
[null,null,{"$f":"#REF!","v":{"$error":"#REF!"}},{"$error":"#REF!"},{"$f":"#REF!","v":{"$error":"#REF!"}},null,{"$f":"#REF!","v":{"$error":"#REF!"}},{"$f":"#REF!*12000/1000","v":{"$error":"#REF!"}},{"$f":"IF(ISERROR('Preliminary Calculations '!AJ65/1000),\"\",'Preliminary Calculations '!AJ65/1000)","v":""},{"$f":"IF(ISERROR('Preliminary Calculations '!AM65/1000),\"\",'Preliminary Calculations '!AM65/1000)","v":""},{"$f":"'Preliminary Calculations '!AX65","v":{"$error":"#REF!"}},{"$f":"'Preliminary Calculations '!BG65","v":{"$error":"#REF!"}},{"$f":"#REF!","v":{"$error":"#REF!"}},{"$f":"#REF!","v":{"$error":"#REF!"}},{"$error":"#REF!"},{"$f":"'Preliminary Calculations '!AK65","v":""},{"$f":"'Preliminary Calculations '!AN65","v":""},"",{"$f":"IF(#REF!>=3,IF(G78=\"Multiple\",IF(R78>=9.5%,250,35),IF(G78=\"Single\",IF(R78>=9.5%,175,35),\"\")),0)","v":{"$error":"#REF!"}}]
[null,null,{"$f":"#REF!","v":{"$error":"#REF!"}},{"$error":"#REF!"},{"$f":"#REF!","v":{"$error":"#REF!"}},null,{"$f":"#REF!","v":{"$error":"#REF!"}},{"$f":"#REF!*12000/1000","v":{"$error":"#REF!"}},{"$f":"IF(ISERROR('Preliminary Calculations '!AJ66/1000),\"\",'Preliminary Calculations '!AJ66/1000)","v":""},{"$f":"IF(ISERROR('Preliminary Calculations '!AM66/1000),\"\",'Preliminary Calculations '!AM66/1000)","v":""},{"$f":"'Preliminary Calculations '!AX66","v":{"$error":"#REF!"}},{"$f":"'Preliminary Calculations '!BG66","v":{"$error":"#REF!"}},{"$f":"#REF!","v":{"$error":"#REF!"}},{"$f":"#REF!","v":{"$error":"#REF!"}},{"$error":"#REF!"},{"$f":"'Preliminary Calculations '!AK66","v":""},{"$f":"'Preliminary Calculations '!AN66","v":""},"",{"$f":"IF(#REF!>=3,IF(G79=\"Multiple\",IF(R79>=9.5%,250,35),IF(G79=\"Single\",IF(R79>=9.5%,175,35),\"\")),0)","v":{"$error":"#REF!"}}]
[null,null,{"$f":"#REF!","v":{"$error":"#REF!"}},{"$error":"#REF!"},{"$f":"#REF!","v":{"$error":"#REF!"}},null,{"$f":"#REF!","v":{"$error":"#REF!"}},{"$f":"#REF!*12000/1000","v":{"$error":"#REF!"}},{"$f":"IF(ISERROR('Preliminary Calculations '!AJ67/1000),\"\",'Preliminary Calculations '!AJ67/1000)","v":""},{"$f":"IF(ISERROR('Preliminary Calculations '!AM67/1000),\"\",'Preliminary Calculations '!AM67/1000)","v":""},{"$f":"'Preliminary Calculations '!AX67","v":{"$error":"#REF!"}},{"$f":"'Preliminary Calculations '!BG67","v":{"$error":"#REF!"}},{"$f":"#REF!","v":{"$error":"#REF!"}},{"$f":"#REF!","v":{"$error":"#REF!"}},{"$error":"#REF!"},{"$f":"'Preliminary Calculations '!AK67","v":""},{"$f":"'Preliminary Calculations '!AN67","v":""},"",{"$f":"IF(#REF!>=3,IF(G80=\"Multiple\",IF(R80>=9.5%,250,35),IF(G80=\"Single\",IF(R80>=9.5%,175,35),\"\")),0)","v":{"$error":"#REF!"}}]
[null,null,{"$f":"#REF!","v":{"$error":"#REF!"}},{"$error":"#REF!"},{"$f":"#REF!","v":{"$error":"#REF!"}},null,{"$f":"#REF!","v":{"$error":"#REF!"}},{"$f":"#REF!*12000/1000","v":{"$error":"#REF!"}},{"$f":"IF(ISERROR('Preliminary Calculations '!AJ68/1000),\"\",'Preliminary Calculations '!AJ68/1000)","v":""},{"$f":"IF(ISERROR('Preliminary Calculations '!AM68/1000),\"\",'Preliminary Calculations '!AM68/1000)","v":""},{"$f":"'Preliminary Calculations '!AX68","v":{"$error":"#REF!"}},{"$f":"'Preliminary Calculations '!BG68","v":{"$error":"#REF!"}},{"$f":"#REF!","v":{"$error":"#REF!"}},{"$f":"#REF!","v":{"$error":"#REF!"}},{"$error":"#REF!"},{"$f":"'Preliminary Calculations '!AK68","v":""},{"$f":"'Preliminary Calculations '!AN68","v":""},"",{"$f":"IF(#REF!>=3,IF(G81=\"Multiple\",IF(R81>=9.5%,250,35),IF(G81=\"Single\",IF(R81>=9.5%,175,35),\"\")),0)","v":{"$error":"#REF!"}}]
[null,null,{"$f":"#REF!","v":{"$error":"#REF!"}},{"$error":"#REF!"},{"$f":"#REF!","v":{"$error":"#REF!"}},null,{"$f":"#REF!","v":{"$error":"#REF!"}},{"$f":"#REF!*12000/1000","v":{"$error":"#REF!"}},{"$f":"IF(ISERROR('Preliminary Calculations '!AJ69/1000),\"\",'Preliminary Calculations '!AJ69/1000)","v":""},{"$f":"IF(ISERROR('Preliminary Calculations '!AM69/1000),\"\",'Preliminary Calculations '!AM69/1000)","v":""},{"$f":"'Preliminary Calculations '!AX69","v":{"$error":"#REF!"}},{"$f":"'Preliminary Calculations '!BG69","v":{"$error":"#REF!"}},{"$f":"#REF!","v":{"$error":"#REF!"}},{"$f":"#REF!","v":{"$error":"#REF!"}},{"$error":"#REF!"},{"$f":"'Preliminary Calculations '!AK69","v":""},{"$f":"'Preliminary Calculations '!AN69","v":""},"",{"$f":"IF(#REF!>=3,IF(G82=\"Multiple\",IF(R82>=9.5%,250,35),IF(G82=\"Single\",IF(R82>=9.5%,175,35),\"\")),0)","v":{"$error":"#REF!"}}]
[null,null,{"$f":"#REF!","v":{"$error":"#REF!"}},{"$error":"#REF!"},{"$f":"#REF!","v":{"$error":"#REF!"}},null,{"$f":"#REF!","v":{"$error":"#REF!"}},{"$f":"#REF!*12000/1000","v":{"$error":"#REF!"}},{"$f":"IF(ISERROR('Preliminary Calculations '!AJ70/1000),\"\",'Preliminary Calculations '!AJ70/1000)","v":""},{"$f":"IF(ISERROR('Preliminary Calculations '!AM70/1000),\"\",'Preliminary Calculations '!AM70/1000)","v":""},{"$f":"'Preliminary Calculations '!AX70","v":{"$error":"#REF!"}},{"$f":"'Preliminary Calculations '!BG70","v":{"$error":"#REF!"}},{"$f":"#REF!","v":{"$error":"#REF!"}},{"$f":"#REF!","v":{"$error":"#REF!"}},{"$f":"IF(G83=0,\"\",1)","v":{"$error":"#REF!"}},{"$f":"'Preliminary Calculations '!AK70","v":""},{"$f":"'Preliminary Calculations '!AN70","v":""},"",{"$f":"IF(#REF!>=3,IF(G83=\"Multiple\",IF(R83>=9.5%,250,35),IF(G83=\"Single\",IF(R83>=9.5%,175,35),\"\")),0)","v":{"$error":"#REF!"}}]
[null,null,{"$f":"#REF!","v":{"$error":"#REF!"}},{"$f":"D83","v":{"$error":"#REF!"}},{"$f":"#REF!","v":{"$error":"#REF!"}},null,{"$f":"#REF!","v":{"$error":"#REF!"}},{"$f":"#REF!*12000/1000","v":{"$error":"#REF!"}},{"$f":"IF(ISERROR('Preliminary Calculations '!AJ71/1000),\"\",'Preliminary Calculations '!AJ71/1000)","v":""},{"$f":"IF(ISERROR('Preliminary Calculations '!AM71/1000),\"\",'Preliminary Calculations '!AM71/1000)","v":""},{"$f":"'Preliminary Calculations '!AX71","v":{"$error":"#REF!"}},{"$f":"'Preliminary Calculations '!BG71","v":{"$error":"#REF!"}},{"$f":"#REF!","v":{"$error":"#REF!"}},{"$f":"#REF!","v":{"$error":"#REF!"}},{"$f":"IF(G84=0,\"\",1)","v":{"$error":"#REF!"}},{"$f":"'Preliminary Calculations '!AK71","v":""},{"$f":"'Preliminary Calculations '!AN71","v":""},"",{"$f":"IF(#REF!>=3,IF(G84=\"Multiple\",IF(R84>=9.5%,250,35),IF(G84=\"Single\",IF(R84>=9.5%,175,35),\"\")),0)","v":{"$error":"#REF!"}}]
[null,null,{"$f":"#REF!","v":{"$error":"#REF!"}},{"$f":"D84","v":{"$error":"#REF!"}},{"$f":"#REF!","v":{"$error":"#REF!"}},null,{"$f":"#REF!","v":{"$error":"#REF!"}},{"$f":"#REF!*12000/1000","v":{"$error":"#REF!"}},{"$f":"IF(ISERROR('Preliminary Calculations '!AJ72/1000),\"\",'Preliminary Calculations '!AJ72/1000)","v":""},{"$f":"IF(ISERROR('Preliminary Calculations '!AM72/1000),\"\",'Preliminary Calculations '!AM72/1000)","v":""},{"$f":"'Preliminary Calculations '!AX72","v":{"$error":"#REF!"}},{"$f":"'Preliminary Calculations '!BG72","v":{"$error":"#REF!"}},{"$f":"#REF!","v":{"$error":"#REF!"}},{"$f":"#REF!","v":{"$error":"#REF!"}},{"$f":"IF(G85=0,\"\",1)","v":{"$error":"#REF!"}},{"$f":"'Preliminary Calculations '!AK72","v":""},{"$f":"'Preliminary Calculations '!AN72","v":""},"",{"$f":"IF(#REF!>=3,IF(G85=\"Multiple\",IF(R85>=9.5%,250,35),IF(G85=\"Single\",IF(R85>=9.5%,175,35),\"\")),0)","v":{"$error":"#REF!"}}]
[null,null,{"$f":"#REF!","v":{"$error":"#REF!"}},{"$f":"D85","v":{"$error":"#REF!"}},{"$f":"#REF!","v":{"$error":"#REF!"}},null,{"$f":"#REF!","v":{"$error":"#REF!"}},{"$f":"#REF!*12000/1000","v":{"$error":"#REF!"}},{"$f":"IF(ISERROR('Preliminary Calculations '!AJ73/1000),\"\",'Preliminary Calculations '!AJ73/1000)","v":""},{"$f":"IF(ISERROR('Preliminary Calculations '!AM73/1000),\"\",'Preliminary Calculations '!AM73/1000)","v":""},{"$f":"'Preliminary Calculations '!AX73","v":{"$error":"#REF!"}},{"$f":"'Preliminary Calculations '!BG73","v":{"$error":"#REF!"}},{"$f":"#REF!","v":{"$error":"#REF!"}},{"$f":"#REF!","v":{"$error":"#REF!"}},{"$f":"IF(G86=0,\"\",1)","v":{"$error":"#REF!"}},{"$f":"'Preliminary Calculations '!AK73","v":""},{"$f":"'Preliminary Calculations '!AN73","v":""},"",{"$f":"IF(#REF!>=3,IF(G86=\"Multiple\",IF(R86>=9.5%,250,35),IF(G86=\"Single\",IF(R86>=9.5%,175,35),\"\")),0)","v":{"$error":"#REF!"}},null,null,null,null,null,null,null,null,null,null,null,null,null,null,null,null,null,null,null,null,null,null,null,null,null,null,null,null,null,null,null,null,null,null,null,null,null,null,null,null,null,null,null,null,null,null,null,null,null,null,null,null,null,null,null,null,null,null,null,null,null,null,null,null,null,null,null,null,null,null,null,null,null,null,null,null,null,null,null,null,null,null,null,null,null,null,null,null,null,null,null,null,null,null,null,null,null,null,null,null,null,null,null,null,null,null,null,null,null,null,null,null,null,null,null,null,null,null,null,null,null,null,null,null,null,null,null,null,null,null,null,null,null,null,null,null,null,null,null,null,null,null,null,null,null,null,null,null,null,null,null,null,null,null,null,null,null,null,null,null,null,null,null,null,null,null,null,null,null,null,null,null,null,null,null,null,null,null,null,null,null,null,null,null,null,null,null,null,null,null,null,null,null,null,null,null,null,null,null,null,null,null,null,null,null,null,null,null,null,null,null,null,null,null,null,null,null,null,null,null,null,null,null,null,null,null,null,null,null,null,null,{"$f":"' Calculations'!#REF!","v":{"$error":"#REF!"}}]
[null,null,{"$f":"#REF!","v":{"$error":"#REF!"}},{"$f":"D86","v":{"$error":"#REF!"}},{"$f":"#REF!","v":{"$error":"#REF!"}},null,{"$f":"#REF!","v":{"$error":"#REF!"}},{"$f":"#REF!*12000/1000","v":{"$error":"#REF!"}},{"$f":"IF(ISERROR('Preliminary Calculations '!AJ74/1000),\"\",'Preliminary Calculations '!AJ74/1000)","v":""},{"$f":"IF(ISERROR('Preliminary Calculations '!AM74/1000),\"\",'Preliminary Calculations '!AM74/1000)","v":""},{"$f":"'Preliminary Calculations '!AX74","v":{"$error":"#REF!"}},{"$f":"'Preliminary Calculations '!BG74","v":{"$error":"#REF!"}},{"$f":"#REF!","v":{"$error":"#REF!"}},{"$f":"#REF!","v":{"$error":"#REF!"}},{"$f":"IF(G87=0,\"\",1)","v":{"$error":"#REF!"}},{"$f":"'Preliminary Calculations '!AK74","v":""},{"$f":"'Preliminary Calculations '!AN74","v":""},"",{"$f":"IF(#REF!>=3,IF(G87=\"Multiple\",IF(R87>=9.5%,250,35),IF(G87=\"Single\",IF(R87>=9.5%,175,35),\"\")),0)","v":{"$error":"#REF!"}},null,null,null,null,null,null,null,null,null,null,null,null,null,null,null,null,null,null,null,null,null,null,null,null,null,null,null,null,null,null,null,null,null,null,null,null,null,null,null,null,null,null,null,null,null,null,null,null,null,null,null,null,null,null,null,null,null,null,null,null,null,null,null,null,null,null,null,null,null,null,null,null,null,null,null,null,null,null,null,null,null,null,null,null,null,null,null,null,null,null,null,null,null,null,null,null,null,null,null,null,null,null,null,null,null,null,null,null,null,null,null,null,null,null,null,null,null,null,null,null,null,null,null,null,null,null,null,null,null,null,null,null,null,null,null,null,null,null,null,null,null,null,null,null,null,null,null,null,null,null,null,null,null,null,null,null,null,null,null,null,null,null,null,null,null,null,null,null,null,null,null,null,null,null,null,null,null,null,null,null,null,null,null,null,null,null,null,null,null,null,null,null,null,null,null,null,null,null,null,null,null,null,null,null,null,null,null,null,null,null,null,null,null,null,null,null,null,null,null,null,null,null,null,null,null,null,null,null,null,null,null,{"$f":"' Calculations'!#REF!","v":{"$error":"#REF!"}}]
[null,null,null,null,null,null,null,null,null,null,null,null,null,null,null,null,null,"Total Incentive:",{"$f":"SUM(S18:S87)","v":{"$error":"#REF!"}}]
[null,null,null,"Total Program Savings from Project"]
[null,null,null,"Summer Peak (kWh)","Summer \nOff-Peak \n(kWh)","Winter \nPeak \n(kWh)","Winter \nOff-Peak \n(kWh)","Summer PJM Peak (kW)","Summer Coincident Peak (kW)"]
[null,null,null,{"$f":"SUM(D$95:D$164)","v":{"$error":"#REF!"}},{"$error":"#REF!"},{"$error":"#REF!"},{"$error":"#REF!"},{"$error":"#REF!"},{"$error":"#REF!"},null," "," "]
[null,null,null,null,null,null,null,null,null,null," "]
[null,null,"Estimated Program Savings"]
[null,null,"Entry","Summer Peak (kWh)","Summer \nOff-Peak \n(kWh)","Winter \nPeak \n(kWh)","Winter \nOff-Peak \n(kWh)","Summer PJM Peak (kW)","Summer Coincident Peak (kW)"]
[null,null,{"$f":"C18","v":{"$error":"#REF!"}},{"$f":"' Calculations'!#REF!","v":{"$error":"#REF!"}},{"$f":"' Calculations'!#REF!","v":{"$error":"#REF!"}},{"$f":"' Calculations'!#REF!","v":{"$error":"#REF!"}},{"$f":"' Calculations'!#REF!","v":{"$error":"#REF!"}},{"$f":"' Calculations'!#REF!","v":{"$error":"#REF!"}},{"$f":"' Calculations'!#REF!","v":{"$error":"#REF!"}}]
[null,null,{"$f":"C19","v":{"$error":"#REF!"}},{"$f":"' Calculations'!#REF!","v":{"$error":"#REF!"}},{"$f":"' Calculations'!#REF!","v":{"$error":"#REF!"}},{"$f":"' Calculations'!#REF!","v":{"$error":"#REF!"}},{"$f":"' Calculations'!#REF!","v":{"$error":"#REF!"}},{"$f":"' Calculations'!#REF!","v":{"$error":"#REF!"}},{"$f":"' Calculations'!#REF!","v":{"$error":"#REF!"}}]
[null,null,{"$error":"#REF!"},{"$f":"' Calculations'!#REF!","v":{"$error":"#REF!"}},{"$f":"' Calculations'!#REF!","v":{"$error":"#REF!"}},{"$f":"' Calculations'!#REF!","v":{"$error":"#REF!"}},{"$f":"' Calculations'!#REF!","v":{"$error":"#REF!"}},{"$f":"' Calculations'!#REF!","v":{"$error":"#REF!"}},{"$f":"' Calculations'!#REF!","v":{"$error":"#REF!"}}]
[null,null,{"$error":"#REF!"},{"$f":"' Calculations'!#REF!","v":{"$error":"#REF!"}},{"$f":"' Calculations'!#REF!","v":{"$error":"#REF!"}},{"$f":"' Calculations'!#REF!","v":{"$error":"#REF!"}},{"$f":"' Calculations'!#REF!","v":{"$error":"#REF!"}},{"$f":"' Calculations'!#REF!","v":{"$error":"#REF!"}},{"$f":"' Calculations'!#REF!","v":{"$error":"#REF!"}}]
[null,null,{"$error":"#REF!"},{"$f":"' Calculations'!#REF!","v":{"$error":"#REF!"}},{"$f":"' Calculations'!#REF!","v":{"$error":"#REF!"}},{"$f":"' Calculations'!#REF!","v":{"$error":"#REF!"}},{"$f":"' Calculations'!#REF!","v":{"$error":"#REF!"}},{"$f":"' Calculations'!#REF!","v":{"$error":"#REF!"}},{"$f":"' Calculations'!#REF!","v":{"$error":"#REF!"}}]
[null,null,{"$error":"#REF!"},{"$f":"' Calculations'!#REF!","v":{"$error":"#REF!"}},{"$f":"' Calculations'!#REF!","v":{"$error":"#REF!"}},{"$f":"' Calculations'!#REF!","v":{"$error":"#REF!"}},{"$f":"' Calculations'!#REF!","v":{"$error":"#REF!"}},{"$f":"' Calculations'!#REF!","v":{"$error":"#REF!"}},{"$f":"' Calculations'!#REF!","v":{"$error":"#REF!"}}]
[null,null,{"$error":"#REF!"},{"$f":"' Calculations'!#REF!","v":{"$error":"#REF!"}},{"$f":"' Calculations'!#REF!","v":{"$error":"#REF!"}},{"$f":"' Calculations'!#REF!","v":{"$error":"#REF!"}},{"$f":"' Calculations'!#REF!","v":{"$error":"#REF!"}},{"$f":"' Calculations'!#REF!","v":{"$error":"#REF!"}},{"$f":"' Calculations'!#REF!","v":{"$error":"#REF!"}}]
[null,null,{"$error":"#REF!"},{"$f":"' Calculations'!#REF!","v":{"$error":"#REF!"}},{"$f":"' Calculations'!#REF!","v":{"$error":"#REF!"}},{"$f":"' Calculations'!#REF!","v":{"$error":"#REF!"}},{"$f":"' Calculations'!#REF!","v":{"$error":"#REF!"}},{"$f":"' Calculations'!#REF!","v":{"$error":"#REF!"}},{"$f":"' Calculations'!#REF!","v":{"$error":"#REF!"}}]
[null,null,{"$error":"#REF!"},{"$f":"' Calculations'!#REF!","v":{"$error":"#REF!"}},{"$f":"' Calculations'!#REF!","v":{"$error":"#REF!"}},{"$f":"' Calculations'!#REF!","v":{"$error":"#REF!"}},{"$f":"' Calculations'!#REF!","v":{"$error":"#REF!"}},{"$f":"' Calculations'!#REF!","v":{"$error":"#REF!"}},{"$f":"' Calculations'!#REF!","v":{"$error":"#REF!"}}]
[null,null,{"$error":"#REF!"},{"$f":"' Calculations'!#REF!","v":{"$error":"#REF!"}},{"$f":"' Calculations'!#REF!","v":{"$error":"#REF!"}},{"$f":"' Calculations'!#REF!","v":{"$error":"#REF!"}},{"$f":"' Calculations'!#REF!","v":{"$error":"#REF!"}},{"$f":"' Calculations'!#REF!","v":{"$error":"#REF!"}},{"$f":"' Calculations'!#REF!","v":{"$error":"#REF!"}}]
[null,null,{"$error":"#REF!"},{"$f":"' Calculations'!#REF!","v":{"$error":"#REF!"}},{"$f":"' Calculations'!#REF!","v":{"$error":"#REF!"}},{"$f":"' Calculations'!#REF!","v":{"$error":"#REF!"}},{"$f":"' Calculations'!#REF!","v":{"$error":"#REF!"}},{"$f":"' Calculations'!#REF!","v":{"$error":"#REF!"}},{"$f":"' Calculations'!#REF!","v":{"$error":"#REF!"}}]
[null,null,{"$error":"#REF!"},{"$f":"' Calculations'!#REF!","v":{"$error":"#REF!"}},{"$f":"' Calculations'!#REF!","v":{"$error":"#REF!"}},{"$f":"' Calculations'!#REF!","v":{"$error":"#REF!"}},{"$f":"' Calculations'!#REF!","v":{"$error":"#REF!"}},{"$f":"' Calculations'!#REF!","v":{"$error":"#REF!"}},{"$f":"' Calculations'!#REF!","v":{"$error":"#REF!"}}]
[null,null,{"$error":"#REF!"},{"$f":"' Calculations'!#REF!","v":{"$error":"#REF!"}},{"$f":"' Calculations'!#REF!","v":{"$error":"#REF!"}},{"$f":"' Calculations'!#REF!","v":{"$error":"#REF!"}},{"$f":"' Calculations'!#REF!","v":{"$error":"#REF!"}},{"$f":"' Calculations'!#REF!","v":{"$error":"#REF!"}},{"$f":"' Calculations'!#REF!","v":{"$error":"#REF!"}}]
[null,null,{"$error":"#REF!"},{"$f":"' Calculations'!#REF!","v":{"$error":"#REF!"}},{"$f":"' Calculations'!#REF!","v":{"$error":"#REF!"}},{"$f":"' Calculations'!#REF!","v":{"$error":"#REF!"}},{"$f":"' Calculations'!#REF!","v":{"$error":"#REF!"}},{"$f":"' Calculations'!#REF!","v":{"$error":"#REF!"}},{"$f":"' Calculations'!#REF!","v":{"$error":"#REF!"}}]
[null,null,{"$error":"#REF!"},{"$f":"' Calculations'!#REF!","v":{"$error":"#REF!"}},{"$f":"' Calculations'!#REF!","v":{"$error":"#REF!"}},{"$f":"' Calculations'!#REF!","v":{"$error":"#REF!"}},{"$f":"' Calculations'!#REF!","v":{"$error":"#REF!"}},{"$f":"' Calculations'!#REF!","v":{"$error":"#REF!"}},{"$f":"' Calculations'!#REF!","v":{"$error":"#REF!"}}]
[null,null,{"$error":"#REF!"},{"$f":"' Calculations'!#REF!","v":{"$error":"#REF!"}},{"$f":"' Calculations'!#REF!","v":{"$error":"#REF!"}},{"$f":"' Calculations'!#REF!","v":{"$error":"#REF!"}},{"$f":"' Calculations'!#REF!","v":{"$error":"#REF!"}},{"$f":"' Calculations'!#REF!","v":{"$error":"#REF!"}},{"$f":"' Calculations'!#REF!","v":{"$error":"#REF!"}}]
[null,null,{"$error":"#REF!"},{"$f":"' Calculations'!#REF!","v":{"$error":"#REF!"}},{"$f":"' Calculations'!#REF!","v":{"$error":"#REF!"}},{"$f":"' Calculations'!#REF!","v":{"$error":"#REF!"}},{"$f":"' Calculations'!#REF!","v":{"$error":"#REF!"}},{"$f":"' Calculations'!#REF!","v":{"$error":"#REF!"}},{"$f":"' Calculations'!#REF!","v":{"$error":"#REF!"}}]
[null,null,{"$error":"#REF!"},{"$f":"' Calculations'!#REF!","v":{"$error":"#REF!"}},{"$f":"' Calculations'!#REF!","v":{"$error":"#REF!"}},{"$f":"' Calculations'!#REF!","v":{"$error":"#REF!"}},{"$f":"' Calculations'!#REF!","v":{"$error":"#REF!"}},{"$f":"' Calculations'!#REF!","v":{"$error":"#REF!"}},{"$f":"' Calculations'!#REF!","v":{"$error":"#REF!"}}]
[null,null,{"$error":"#REF!"},{"$f":"' Calculations'!#REF!","v":{"$error":"#REF!"}},{"$f":"' Calculations'!#REF!","v":{"$error":"#REF!"}},{"$f":"' Calculations'!#REF!","v":{"$error":"#REF!"}},{"$f":"' Calculations'!#REF!","v":{"$error":"#REF!"}},{"$f":"' Calculations'!#REF!","v":{"$error":"#REF!"}},{"$f":"' Calculations'!#REF!","v":{"$error":"#REF!"}}]
[null,null,{"$error":"#REF!"},{"$f":"' Calculations'!#REF!","v":{"$error":"#REF!"}},{"$f":"' Calculations'!#REF!","v":{"$error":"#REF!"}},{"$f":"' Calculations'!#REF!","v":{"$error":"#REF!"}},{"$f":"' Calculations'!#REF!","v":{"$error":"#REF!"}},{"$f":"' Calculations'!#REF!","v":{"$error":"#REF!"}},{"$f":"' Calculations'!#REF!","v":{"$error":"#REF!"}}]
[null,null,{"$error":"#REF!"},{"$f":"' Calculations'!#REF!","v":{"$error":"#REF!"}},{"$f":"' Calculations'!#REF!","v":{"$error":"#REF!"}},{"$f":"' Calculations'!#REF!","v":{"$error":"#REF!"}},{"$f":"' Calculations'!#REF!","v":{"$error":"#REF!"}},{"$f":"' Calculations'!#REF!","v":{"$error":"#REF!"}},{"$f":"' Calculations'!#REF!","v":{"$error":"#REF!"}}]
[null,null,{"$error":"#REF!"},{"$f":"' Calculations'!#REF!","v":{"$error":"#REF!"}},{"$f":"' Calculations'!#REF!","v":{"$error":"#REF!"}},{"$f":"' Calculations'!#REF!","v":{"$error":"#REF!"}},{"$f":"' Calculations'!#REF!","v":{"$error":"#REF!"}},{"$f":"' Calculations'!#REF!","v":{"$error":"#REF!"}},{"$f":"' Calculations'!#REF!","v":{"$error":"#REF!"}}]
[null,null,{"$error":"#REF!"},{"$f":"' Calculations'!#REF!","v":{"$error":"#REF!"}},{"$f":"' Calculations'!#REF!","v":{"$error":"#REF!"}},{"$f":"' Calculations'!#REF!","v":{"$error":"#REF!"}},{"$f":"' Calculations'!#REF!","v":{"$error":"#REF!"}},{"$f":"' Calculations'!#REF!","v":{"$error":"#REF!"}},{"$f":"' Calculations'!#REF!","v":{"$error":"#REF!"}}]
[null,null,{"$error":"#REF!"},{"$f":"' Calculations'!#REF!","v":{"$error":"#REF!"}},{"$f":"' Calculations'!#REF!","v":{"$error":"#REF!"}},{"$f":"' Calculations'!#REF!","v":{"$error":"#REF!"}},{"$f":"' Calculations'!#REF!","v":{"$error":"#REF!"}},{"$f":"' Calculations'!#REF!","v":{"$error":"#REF!"}},{"$f":"' Calculations'!#REF!","v":{"$error":"#REF!"}}]
[null,null,{"$error":"#REF!"},{"$f":"' Calculations'!#REF!","v":{"$error":"#REF!"}},{"$f":"' Calculations'!#REF!","v":{"$error":"#REF!"}},{"$f":"' Calculations'!#REF!","v":{"$error":"#REF!"}},{"$f":"' Calculations'!#REF!","v":{"$error":"#REF!"}},{"$f":"' Calculations'!#REF!","v":{"$error":"#REF!"}},{"$f":"' Calculations'!#REF!","v":{"$error":"#REF!"}}]
[null,null,{"$error":"#REF!"},{"$f":"' Calculations'!#REF!","v":{"$error":"#REF!"}},{"$f":"' Calculations'!#REF!","v":{"$error":"#REF!"}},{"$f":"' Calculations'!#REF!","v":{"$error":"#REF!"}},{"$f":"' Calculations'!#REF!","v":{"$error":"#REF!"}},{"$f":"' Calculations'!#REF!","v":{"$error":"#REF!"}},{"$f":"' Calculations'!#REF!","v":{"$error":"#REF!"}}]
[null,null,{"$error":"#REF!"},{"$f":"' Calculations'!#REF!","v":{"$error":"#REF!"}},{"$f":"' Calculations'!#REF!","v":{"$error":"#REF!"}},{"$f":"' Calculations'!#REF!","v":{"$error":"#REF!"}},{"$f":"' Calculations'!#REF!","v":{"$error":"#REF!"}},{"$f":"' Calculations'!#REF!","v":{"$error":"#REF!"}},{"$f":"' Calculations'!#REF!","v":{"$error":"#REF!"}}]
[null,null,{"$error":"#REF!"},{"$f":"' Calculations'!#REF!","v":{"$error":"#REF!"}},{"$f":"' Calculations'!#REF!","v":{"$error":"#REF!"}},{"$f":"' Calculations'!#REF!","v":{"$error":"#REF!"}},{"$f":"' Calculations'!#REF!","v":{"$error":"#REF!"}},{"$f":"' Calculations'!#REF!","v":{"$error":"#REF!"}},{"$f":"' Calculations'!#REF!","v":{"$error":"#REF!"}}]
[null,null,{"$error":"#REF!"},{"$f":"' Calculations'!#REF!","v":{"$error":"#REF!"}},{"$f":"' Calculations'!#REF!","v":{"$error":"#REF!"}},{"$f":"' Calculations'!#REF!","v":{"$error":"#REF!"}},{"$f":"' Calculations'!#REF!","v":{"$error":"#REF!"}},{"$f":"' Calculations'!#REF!","v":{"$error":"#REF!"}},{"$f":"' Calculations'!#REF!","v":{"$error":"#REF!"}}]
[null,null,{"$error":"#REF!"},{"$f":"' Calculations'!#REF!","v":{"$error":"#REF!"}},{"$f":"' Calculations'!#REF!","v":{"$error":"#REF!"}},{"$f":"' Calculations'!#REF!","v":{"$error":"#REF!"}},{"$f":"' Calculations'!#REF!","v":{"$error":"#REF!"}},{"$f":"' Calculations'!#REF!","v":{"$error":"#REF!"}},{"$f":"' Calculations'!#REF!","v":{"$error":"#REF!"}}]
[null,null,{"$error":"#REF!"},{"$f":"' Calculations'!#REF!","v":{"$error":"#REF!"}},{"$f":"' Calculations'!#REF!","v":{"$error":"#REF!"}},{"$f":"' Calculations'!#REF!","v":{"$error":"#REF!"}},{"$f":"' Calculations'!#REF!","v":{"$error":"#REF!"}},{"$f":"' Calculations'!#REF!","v":{"$error":"#REF!"}},{"$f":"' Calculations'!#REF!","v":{"$error":"#REF!"}}]
[null,null,{"$error":"#REF!"},{"$f":"' Calculations'!#REF!","v":{"$error":"#REF!"}},{"$f":"' Calculations'!#REF!","v":{"$error":"#REF!"}},{"$f":"' Calculations'!#REF!","v":{"$error":"#REF!"}},{"$f":"' Calculations'!#REF!","v":{"$error":"#REF!"}},{"$f":"' Calculations'!#REF!","v":{"$error":"#REF!"}},{"$f":"' Calculations'!#REF!","v":{"$error":"#REF!"}}]
[null,null,{"$error":"#REF!"},{"$f":"' Calculations'!#REF!","v":{"$error":"#REF!"}},{"$f":"' Calculations'!#REF!","v":{"$error":"#REF!"}},{"$f":"' Calculations'!#REF!","v":{"$error":"#REF!"}},{"$f":"' Calculations'!#REF!","v":{"$error":"#REF!"}},{"$f":"' Calculations'!#REF!","v":{"$error":"#REF!"}},{"$f":"' Calculations'!#REF!","v":{"$error":"#REF!"}}]
[null,null,{"$error":"#REF!"},{"$f":"' Calculations'!#REF!","v":{"$error":"#REF!"}},{"$f":"' Calculations'!#REF!","v":{"$error":"#REF!"}},{"$f":"' Calculations'!#REF!","v":{"$error":"#REF!"}},{"$f":"' Calculations'!#REF!","v":{"$error":"#REF!"}},{"$f":"' Calculations'!#REF!","v":{"$error":"#REF!"}},{"$f":"' Calculations'!#REF!","v":{"$error":"#REF!"}}]
[null,null,{"$error":"#REF!"},{"$f":"' Calculations'!#REF!","v":{"$error":"#REF!"}},{"$f":"' Calculations'!#REF!","v":{"$error":"#REF!"}},{"$f":"' Calculations'!#REF!","v":{"$error":"#REF!"}},{"$f":"' Calculations'!#REF!","v":{"$error":"#REF!"}},{"$f":"' Calculations'!#REF!","v":{"$error":"#REF!"}},{"$f":"' Calculations'!#REF!","v":{"$error":"#REF!"}}]
[null,null,{"$error":"#REF!"},{"$f":"' Calculations'!#REF!","v":{"$error":"#REF!"}},{"$f":"' Calculations'!#REF!","v":{"$error":"#REF!"}},{"$f":"' Calculations'!#REF!","v":{"$error":"#REF!"}},{"$f":"' Calculations'!#REF!","v":{"$error":"#REF!"}},{"$f":"' Calculations'!#REF!","v":{"$error":"#REF!"}},{"$f":"' Calculations'!#REF!","v":{"$error":"#REF!"}}]
[null,null,{"$error":"#REF!"},{"$f":"' Calculations'!#REF!","v":{"$error":"#REF!"}},{"$f":"' Calculations'!#REF!","v":{"$error":"#REF!"}},{"$f":"' Calculations'!#REF!","v":{"$error":"#REF!"}},{"$f":"' Calculations'!#REF!","v":{"$error":"#REF!"}},{"$f":"' Calculations'!#REF!","v":{"$error":"#REF!"}},{"$f":"' Calculations'!#REF!","v":{"$error":"#REF!"}}]
[null,null,{"$error":"#REF!"},{"$f":"' Calculations'!#REF!","v":{"$error":"#REF!"}},{"$f":"' Calculations'!#REF!","v":{"$error":"#REF!"}},{"$f":"' Calculations'!#REF!","v":{"$error":"#REF!"}},{"$f":"' Calculations'!#REF!","v":{"$error":"#REF!"}},{"$f":"' Calculations'!#REF!","v":{"$error":"#REF!"}},{"$f":"' Calculations'!#REF!","v":{"$error":"#REF!"}}]
[null,null,{"$error":"#REF!"},{"$f":"' Calculations'!#REF!","v":{"$error":"#REF!"}},{"$f":"' Calculations'!#REF!","v":{"$error":"#REF!"}},{"$f":"' Calculations'!#REF!","v":{"$error":"#REF!"}},{"$f":"' Calculations'!#REF!","v":{"$error":"#REF!"}},{"$f":"' Calculations'!#REF!","v":{"$error":"#REF!"}},{"$f":"' Calculations'!#REF!","v":{"$error":"#REF!"}}]
[null,null,{"$error":"#REF!"},{"$f":"' Calculations'!#REF!","v":{"$error":"#REF!"}},{"$f":"' Calculations'!#REF!","v":{"$error":"#REF!"}},{"$f":"' Calculations'!#REF!","v":{"$error":"#REF!"}},{"$f":"' Calculations'!#REF!","v":{"$error":"#REF!"}},{"$f":"' Calculations'!#REF!","v":{"$error":"#REF!"}},{"$f":"' Calculations'!#REF!","v":{"$error":"#REF!"}}]
[null,null,{"$error":"#REF!"},{"$f":"' Calculations'!#REF!","v":{"$error":"#REF!"}},{"$f":"' Calculations'!#REF!","v":{"$error":"#REF!"}},{"$f":"' Calculations'!#REF!","v":{"$error":"#REF!"}},{"$f":"' Calculations'!#REF!","v":{"$error":"#REF!"}},{"$f":"' Calculations'!#REF!","v":{"$error":"#REF!"}},{"$f":"' Calculations'!#REF!","v":{"$error":"#REF!"}}]
[null,null,{"$error":"#REF!"},{"$f":"' Calculations'!#REF!","v":{"$error":"#REF!"}},{"$f":"' Calculations'!#REF!","v":{"$error":"#REF!"}},{"$f":"' Calculations'!#REF!","v":{"$error":"#REF!"}},{"$f":"' Calculations'!#REF!","v":{"$error":"#REF!"}},{"$f":"' Calculations'!#REF!","v":{"$error":"#REF!"}},{"$f":"' Calculations'!#REF!","v":{"$error":"#REF!"}}]
[null,null,{"$error":"#REF!"},{"$f":"' Calculations'!#REF!","v":{"$error":"#REF!"}},{"$f":"' Calculations'!#REF!","v":{"$error":"#REF!"}},{"$f":"' Calculations'!#REF!","v":{"$error":"#REF!"}},{"$f":"' Calculations'!#REF!","v":{"$error":"#REF!"}},{"$f":"' Calculations'!#REF!","v":{"$error":"#REF!"}},{"$f":"' Calculations'!#REF!","v":{"$error":"#REF!"}}]
[null,null,{"$error":"#REF!"},{"$f":"' Calculations'!#REF!","v":{"$error":"#REF!"}},{"$f":"' Calculations'!#REF!","v":{"$error":"#REF!"}},{"$f":"' Calculations'!#REF!","v":{"$error":"#REF!"}},{"$f":"' Calculations'!#REF!","v":{"$error":"#REF!"}},{"$f":"' Calculations'!#REF!","v":{"$error":"#REF!"}},{"$f":"' Calculations'!#REF!","v":{"$error":"#REF!"}}]
[null,null,{"$error":"#REF!"},{"$f":"' Calculations'!#REF!","v":{"$error":"#REF!"}},{"$f":"' Calculations'!#REF!","v":{"$error":"#REF!"}},{"$f":"' Calculations'!#REF!","v":{"$error":"#REF!"}},{"$f":"' Calculations'!#REF!","v":{"$error":"#REF!"}},{"$f":"' Calculations'!#REF!","v":{"$error":"#REF!"}},{"$f":"' Calculations'!#REF!","v":{"$error":"#REF!"}}]
[null,null,{"$error":"#REF!"},{"$f":"' Calculations'!#REF!","v":{"$error":"#REF!"}},{"$f":"' Calculations'!#REF!","v":{"$error":"#REF!"}},{"$f":"' Calculations'!#REF!","v":{"$error":"#REF!"}},{"$f":"' Calculations'!#REF!","v":{"$error":"#REF!"}},{"$f":"' Calculations'!#REF!","v":{"$error":"#REF!"}},{"$f":"' Calculations'!#REF!","v":{"$error":"#REF!"}}]
[null,null,{"$error":"#REF!"},{"$f":"' Calculations'!#REF!","v":{"$error":"#REF!"}},{"$f":"' Calculations'!#REF!","v":{"$error":"#REF!"}},{"$f":"' Calculations'!#REF!","v":{"$error":"#REF!"}},{"$f":"' Calculations'!#REF!","v":{"$error":"#REF!"}},{"$f":"' Calculations'!#REF!","v":{"$error":"#REF!"}},{"$f":"' Calculations'!#REF!","v":{"$error":"#REF!"}}]
[null,null,{"$error":"#REF!"},{"$f":"' Calculations'!#REF!","v":{"$error":"#REF!"}},{"$f":"' Calculations'!#REF!","v":{"$error":"#REF!"}},{"$f":"' Calculations'!#REF!","v":{"$error":"#REF!"}},{"$f":"' Calculations'!#REF!","v":{"$error":"#REF!"}},{"$f":"' Calculations'!#REF!","v":{"$error":"#REF!"}},{"$f":"' Calculations'!#REF!","v":{"$error":"#REF!"}}]
[null,null,{"$error":"#REF!"},{"$f":"' Calculations'!#REF!","v":{"$error":"#REF!"}},{"$f":"' Calculations'!#REF!","v":{"$error":"#REF!"}},{"$f":"' Calculations'!#REF!","v":{"$error":"#REF!"}},{"$f":"' Calculations'!#REF!","v":{"$error":"#REF!"}},{"$f":"' Calculations'!#REF!","v":{"$error":"#REF!"}},{"$f":"' Calculations'!#REF!","v":{"$error":"#REF!"}}]
[null,null,{"$error":"#REF!"},{"$f":"' Calculations'!#REF!","v":{"$error":"#REF!"}},{"$f":"' Calculations'!#REF!","v":{"$error":"#REF!"}},{"$f":"' Calculations'!#REF!","v":{"$error":"#REF!"}},{"$f":"' Calculations'!#REF!","v":{"$error":"#REF!"}},{"$f":"' Calculations'!#REF!","v":{"$error":"#REF!"}},{"$f":"' Calculations'!#REF!","v":{"$error":"#REF!"}}]
[null,null,{"$error":"#REF!"},{"$f":"' Calculations'!#REF!","v":{"$error":"#REF!"}},{"$f":"' Calculations'!#REF!","v":{"$error":"#REF!"}},{"$f":"' Calculations'!#REF!","v":{"$error":"#REF!"}},{"$f":"' Calculations'!#REF!","v":{"$error":"#REF!"}},{"$f":"' Calculations'!#REF!","v":{"$error":"#REF!"}},{"$f":"' Calculations'!#REF!","v":{"$error":"#REF!"}}]
[null,null,{"$error":"#REF!"},{"$f":"' Calculations'!#REF!","v":{"$error":"#REF!"}},{"$f":"' Calculations'!#REF!","v":{"$error":"#REF!"}},{"$f":"' Calculations'!#REF!","v":{"$error":"#REF!"}},{"$f":"' Calculations'!#REF!","v":{"$error":"#REF!"}},{"$f":"' Calculations'!#REF!","v":{"$error":"#REF!"}},{"$f":"' Calculations'!#REF!","v":{"$error":"#REF!"}}]
[null,null,{"$error":"#REF!"},{"$f":"' Calculations'!#REF!","v":{"$error":"#REF!"}},{"$f":"' Calculations'!#REF!","v":{"$error":"#REF!"}},{"$f":"' Calculations'!#REF!","v":{"$error":"#REF!"}},{"$f":"' Calculations'!#REF!","v":{"$error":"#REF!"}},{"$f":"' Calculations'!#REF!","v":{"$error":"#REF!"}},{"$f":"' Calculations'!#REF!","v":{"$error":"#REF!"}}]
[null,null,{"$error":"#REF!"},{"$f":"' Calculations'!#REF!","v":{"$error":"#REF!"}},{"$f":"' Calculations'!#REF!","v":{"$error":"#REF!"}},{"$f":"' Calculations'!#REF!","v":{"$error":"#REF!"}},{"$f":"' Calculations'!#REF!","v":{"$error":"#REF!"}},{"$f":"' Calculations'!#REF!","v":{"$error":"#REF!"}},{"$f":"' Calculations'!#REF!","v":{"$error":"#REF!"}}]
[null,null,{"$error":"#REF!"},{"$f":"' Calculations'!#REF!","v":{"$error":"#REF!"}},{"$f":"' Calculations'!#REF!","v":{"$error":"#REF!"}},{"$f":"' Calculations'!#REF!","v":{"$error":"#REF!"}},{"$f":"' Calculations'!#REF!","v":{"$error":"#REF!"}},{"$f":"' Calculations'!#REF!","v":{"$error":"#REF!"}},{"$f":"' Calculations'!#REF!","v":{"$error":"#REF!"}}]
[null,null,{"$error":"#REF!"},{"$f":"' Calculations'!#REF!","v":{"$error":"#REF!"}},{"$f":"' Calculations'!#REF!","v":{"$error":"#REF!"}},{"$f":"' Calculations'!#REF!","v":{"$error":"#REF!"}},{"$f":"' Calculations'!#REF!","v":{"$error":"#REF!"}},{"$f":"' Calculations'!#REF!","v":{"$error":"#REF!"}},{"$f":"' Calculations'!#REF!","v":{"$error":"#REF!"}}]
[null,null,{"$error":"#REF!"},{"$f":"' Calculations'!#REF!","v":{"$error":"#REF!"}},{"$f":"' Calculations'!#REF!","v":{"$error":"#REF!"}},{"$f":"' Calculations'!#REF!","v":{"$error":"#REF!"}},{"$f":"' Calculations'!#REF!","v":{"$error":"#REF!"}},{"$f":"' Calculations'!#REF!","v":{"$error":"#REF!"}},{"$f":"' Calculations'!#REF!","v":{"$error":"#REF!"}}]
[null,null,{"$error":"#REF!"},{"$f":"' Calculations'!#REF!","v":{"$error":"#REF!"}},{"$f":"' Calculations'!#REF!","v":{"$error":"#REF!"}},{"$f":"' Calculations'!#REF!","v":{"$error":"#REF!"}},{"$f":"' Calculations'!#REF!","v":{"$error":"#REF!"}},{"$f":"' Calculations'!#REF!","v":{"$error":"#REF!"}},{"$f":"' Calculations'!#REF!","v":{"$error":"#REF!"}}]
[null,null,{"$error":"#REF!"},{"$f":"' Calculations'!#REF!","v":{"$error":"#REF!"}},{"$f":"' Calculations'!#REF!","v":{"$error":"#REF!"}},{"$f":"' Calculations'!#REF!","v":{"$error":"#REF!"}},{"$f":"' Calculations'!#REF!","v":{"$error":"#REF!"}},{"$f":"' Calculations'!#REF!","v":{"$error":"#REF!"}},{"$f":"' Calculations'!#REF!","v":{"$error":"#REF!"}}]
[null,null,{"$error":"#REF!"},{"$f":"' Calculations'!#REF!","v":{"$error":"#REF!"}},{"$f":"' Calculations'!#REF!","v":{"$error":"#REF!"}},{"$f":"' Calculations'!#REF!","v":{"$error":"#REF!"}},{"$f":"' Calculations'!#REF!","v":{"$error":"#REF!"}},{"$f":"' Calculations'!#REF!","v":{"$error":"#REF!"}},{"$f":"' Calculations'!#REF!","v":{"$error":"#REF!"}}]
[null,null,{"$error":"#REF!"},{"$f":"' Calculations'!#REF!","v":{"$error":"#REF!"}},{"$f":"' Calculations'!#REF!","v":{"$error":"#REF!"}},{"$f":"' Calculations'!#REF!","v":{"$error":"#REF!"}},{"$f":"' Calculations'!#REF!","v":{"$error":"#REF!"}},{"$f":"' Calculations'!#REF!","v":{"$error":"#REF!"}},{"$f":"' Calculations'!#REF!","v":{"$error":"#REF!"}}]
[null,null,{"$error":"#REF!"},{"$f":"' Calculations'!#REF!","v":{"$error":"#REF!"}},{"$f":"' Calculations'!#REF!","v":{"$error":"#REF!"}},{"$f":"' Calculations'!#REF!","v":{"$error":"#REF!"}},{"$f":"' Calculations'!#REF!","v":{"$error":"#REF!"}},{"$f":"' Calculations'!#REF!","v":{"$error":"#REF!"}},{"$f":"' Calculations'!#REF!","v":{"$error":"#REF!"}}]
[null,null,{"$error":"#REF!"},{"$f":"' Calculations'!#REF!","v":{"$error":"#REF!"}},{"$f":"' Calculations'!#REF!","v":{"$error":"#REF!"}},{"$f":"' Calculations'!#REF!","v":{"$error":"#REF!"}},{"$f":"' Calculations'!#REF!","v":{"$error":"#REF!"}},{"$f":"' Calculations'!#REF!","v":{"$error":"#REF!"}},{"$f":"' Calculations'!#REF!","v":{"$error":"#REF!"}}]
[null,null,{"$error":"#REF!"},{"$f":"' Calculations'!#REF!","v":{"$error":"#REF!"}},{"$f":"' Calculations'!#REF!","v":{"$error":"#REF!"}},{"$f":"' Calculations'!#REF!","v":{"$error":"#REF!"}},{"$f":"' Calculations'!#REF!","v":{"$error":"#REF!"}},{"$f":"' Calculations'!#REF!","v":{"$error":"#REF!"}},{"$f":"' Calculations'!#REF!","v":{"$error":"#REF!"}}]
[null,null,{"$error":"#REF!"},{"$f":"' Calculations'!#REF!","v":{"$error":"#REF!"}},{"$f":"' Calculations'!#REF!","v":{"$error":"#REF!"}},{"$f":"' Calculations'!#REF!","v":{"$error":"#REF!"}},{"$f":"' Calculations'!#REF!","v":{"$error":"#REF!"}},{"$f":"' Calculations'!#REF!","v":{"$error":"#REF!"}},{"$f":"' Calculations'!#REF!","v":{"$error":"#REF!"}}]
[null,null,{"$f":"C83","v":{"$error":"#REF!"}},{"$f":"' Calculations'!#REF!","v":{"$error":"#REF!"}},{"$f":"' Calculations'!#REF!","v":{"$error":"#REF!"}},{"$f":"' Calculations'!#REF!","v":{"$error":"#REF!"}},{"$f":"' Calculations'!#REF!","v":{"$error":"#REF!"}},{"$f":"' Calculations'!#REF!","v":{"$error":"#REF!"}},{"$f":"' Calculations'!#REF!","v":{"$error":"#REF!"}}]
[null,null,{"$f":"C84","v":{"$error":"#REF!"}},{"$f":"' Calculations'!#REF!","v":{"$error":"#REF!"}},{"$f":"' Calculations'!#REF!","v":{"$error":"#REF!"}},{"$f":"' Calculations'!#REF!","v":{"$error":"#REF!"}},{"$f":"' Calculations'!#REF!","v":{"$error":"#REF!"}},{"$f":"' Calculations'!#REF!","v":{"$error":"#REF!"}},{"$f":"' Calculations'!#REF!","v":{"$error":"#REF!"}}]
[null,null,{"$f":"C85","v":{"$error":"#REF!"}},{"$f":"' Calculations'!#REF!","v":{"$error":"#REF!"}},{"$f":"' Calculations'!#REF!","v":{"$error":"#REF!"}},{"$f":"' Calculations'!#REF!","v":{"$error":"#REF!"}},{"$f":"' Calculations'!#REF!","v":{"$error":"#REF!"}},{"$f":"' Calculations'!#REF!","v":{"$error":"#REF!"}},{"$f":"' Calculations'!#REF!","v":{"$error":"#REF!"}}]
[null,null,{"$f":"C86","v":{"$error":"#REF!"}},{"$f":"' Calculations'!#REF!","v":{"$error":"#REF!"}},{"$f":"' Calculations'!#REF!","v":{"$error":"#REF!"}},{"$f":"' Calculations'!#REF!","v":{"$error":"#REF!"}},{"$f":"' Calculations'!#REF!","v":{"$error":"#REF!"}},{"$f":"' Calculations'!#REF!","v":{"$error":"#REF!"}},{"$f":"' Calculations'!#REF!","v":{"$error":"#REF!"}}]
[null,null,{"$f":"C87","v":{"$error":"#REF!"}},{"$f":"' Calculations'!#REF!","v":{"$error":"#REF!"}},{"$f":"' Calculations'!#REF!","v":{"$error":"#REF!"}},{"$f":"' Calculations'!#REF!","v":{"$error":"#REF!"}},{"$f":"' Calculations'!#REF!","v":{"$error":"#REF!"}},{"$f":"' Calculations'!#REF!","v":{"$error":"#REF!"}},{"$f":"' Calculations'!#REF!","v":{"$error":"#REF!"}}]

{"sheet":"AEG Import","index":7,"n_rows":26,"n_cols":85,"rows_kept":26,"cut":false,"hidden":true,"merged":[]}
["Measure #","Import?","Line_ID","Location","Equipment_Type","BTUH_COOL","BTUH_Heat","Compressor_Designation","Compressor_Type","Equip_Class","Outdoor_Unit_Model","Indoor_Unit_Model","phase","age","number_bath_aerators","number_bath_faucets","number_fans_installed","number_fans_removed","number_fixed_showerheads","number_handheld_showerheads","number_inputs","number_kitchen_aerators","number_kitchen_faucets","TEMP_COOL","number_of_apts","number_of_ballasts","number_of_decks","number_of_doors","number_of_events","number_of_fixtures","number_of_fixtures_pre","DATE_OF_MAINTENANCE","number_of_lamps","number_of_occupants","number_of_outlets","Number_of_Panes","number_of_power_packs","number_of_racks","Refrigerant","CHARGE_ADDED_OR_REMOVED","number_of_return_registers","number_of_sensors","number_of_windows","number_of_years_enrolled","number_pans","TEMPERATURE","optimum_start_stop","order_number","economizer_present","details","pre_test_CFM","post_test_CFM","basecase_efficiency","Efficiency","Percent_better","Sub-Number","sub_component_1","Sub_Component_2","Sub_Component_3","Sub_Component_4","Sub_Component_5","Water","Water_Consumption","Water_Factor","water_gallons_per_minute_ton","Water_MBH","water_realization_rate","trade_ally_id_company","trade_ally_ID_employee","TradeBrand_Name","TRANSACTION_ID","transmission","building_type","Customer_refID","elec_util_cust_incentive","kW_Impact","kw_pjm_peak_unadjusted","kWh_Impact","kwh_nonsummer_offpeak_unadjusted","kwh_nonsummer_peak_unadjusted","kwh_summer_offpeak_unadjusted","kwh_summer_peak_unadjusted","Measure_Life","quantity","Calculator_version"]
["RCx Enhanced HVAC ",{"$f":"IF('Equipment Information'!AJ20=0,\"No\",\"Yes\")","v":"No"},{"$f":"'Equipment Information'!C20","v":0},0,{"$f":"'Equipment Information'!I20","v":0},{"$f":"'Equipment Information'!J20","v":0},{"$f":"'Equipment Information'!L20","v":0},null,null,null,{"$f":"'Equipment Information'!E20","v":0},{"$f":"'Equipment Information'!F20","v":0},null,{"$f":"'Equipment Information'!H20","v":0},null,null,null,null,null,null,null,null,null,null,null,null,null,null,null,null,null,{"$f":"TEXT(IF('Equipment Information'!O20=\"\",\"\",'Equipment Information'!O20),\"mm/dd/yyyy\")","v":""},null,null,null,null,null,null,{"$f":"'Equipment Information'!P20","v":0},null,null,null,null,null,null,null,null,null,null,{"$f":"'Equipment Information'!S20","v":0},0,0,0,0,0,null,null,null,null,null,null,null,null,null,null,null,null,null,null,null,null,null,{"$f":"'Equipment Information'!$D$13","v":0},"RCx Enhanced HVAC ",{"$f":"'Equipment Information'!AI20/CF2","v":{"$error":"#DIV/0!"}},{"$f":"IFERROR(' Calculations'!X7/CF2,\"-\")","v":"-"},{"$f":"IFERROR(' Calculations'!W7/CF2,\"-\")","v":"-"},{"$f":"SUM(CA2,CB2,CC2,CD2)","v":0},{"$f":"IFERROR(' Calculations'!AF7/CF2,\"-\")","v":"-"},{"$f":"IFERROR(' Calculations'!AE7/CF2,\"-\")","v":"-"},{"$f":"IFERROR(' Calculations'!AD7/CF2,\"-\")","v":"-"},{"$f":"IFERROR(' Calculations'!AC7/CF2,\"-\")","v":"-"},3,{"$f":"'Equipment Information'!N20","v":0},{"$f":"'Equipment Information'!$D$7","v":"Version 6.2"}]
["RCx Enhanced HVAC ",{"$f":"IF('Equipment Information'!AJ21=0,\"No\",\"Yes\")","v":"No"},{"$f":"'Equipment Information'!C21","v":0},0,{"$f":"'Equipment Information'!I21","v":0},{"$f":"'Equipment Information'!J21","v":0},{"$f":"'Equipment Information'!L21","v":0},null,null,null,{"$f":"'Equipment Information'!E21","v":0},{"$f":"'Equipment Information'!F21","v":0},null,{"$f":"'Equipment Information'!H21","v":0},null,null,null,null,null,null,null,null,null,null,null,null,null,null,null,null,null,{"$f":"TEXT(IF('Equipment Information'!O21=\"\",\"\",'Equipment Information'!O21),\"mm/dd/yyyy\")","v":""},null,null,null,null,null,null,{"$f":"'Equipment Information'!P21","v":0},null,null,null,null,null,null,null,null,null,null,{"$f":"'Equipment Information'!S21","v":0},0,0,0,0,0,null,null,null,null,null,null,null,null,null,null,null,null,null,null,null,null,null,{"$f":"'Equipment Information'!$D$13","v":0},"RCx Enhanced HVAC ",{"$f":"'Equipment Information'!AI21","v":0},{"$f":"IFERROR(' Calculations'!X8/CF3,\"-\")","v":"-"},{"$f":"IFERROR(' Calculations'!W8/CF3,\"-\")","v":"-"},0,{"$f":"IFERROR(' Calculations'!AF8/CF3,\"-\")","v":"-"},{"$f":"IFERROR(' Calculations'!AE8/CF3,\"-\")","v":"-"},{"$f":"IFERROR(' Calculations'!AD8/CF3,\"-\")","v":"-"},{"$f":"IFERROR(' Calculations'!AC8/CF3,\"-\")","v":"-"},3,{"$f":"'Equipment Information'!N21","v":0},{"$f":"'Equipment Information'!$D$7","v":"Version 6.2"}]
["RCx Enhanced HVAC ",{"$f":"IF('Equipment Information'!AJ22=0,\"No\",\"Yes\")","v":"No"},{"$f":"'Equipment Information'!C22","v":0},0,{"$f":"'Equipment Information'!I22","v":0},{"$f":"'Equipment Information'!J22","v":0},{"$f":"'Equipment Information'!L22","v":0},null,null,null,{"$f":"'Equipment Information'!E22","v":0},{"$f":"'Equipment Information'!F22","v":0},null,{"$f":"'Equipment Information'!H22","v":0},null,null,null,null,null,null,null,null,null,null,null,null,null,null,null,null,null,{"$f":"TEXT(IF('Equipment Information'!O22=\"\",\"\",'Equipment Information'!O22),\"mm/dd/yyyy\")","v":""},null,null,null,null,null,null,{"$f":"'Equipment Information'!P22","v":0},null,null,null,null,null,null,null,null,null,null,{"$f":"'Equipment Information'!S22","v":0},0,0,0,0,0,null,null,null,null,null,null,null,null,null,null,null,null,null,null,null,null,null,{"$f":"'Equipment Information'!$D$13","v":0},"RCx Enhanced HVAC ",{"$f":"'Equipment Information'!AI22","v":0},{"$f":"IFERROR(' Calculations'!X9/CF4,\"-\")","v":"-"},{"$f":"IFERROR(' Calculations'!W9/CF4,\"-\")","v":"-"},{"$f":"SUM(CA4,CB4,CC4,CD4)","v":0},{"$f":"IFERROR(' Calculations'!AF9/CF4,\"-\")","v":"-"},{"$f":"IFERROR(' Calculations'!AE9/CF4,\"-\")","v":"-"},{"$f":"IFERROR(' Calculations'!AD9/CF4,\"-\")","v":"-"},{"$f":"IFERROR(' Calculations'!AC9/CF4,\"-\")","v":"-"},3,{"$f":"'Equipment Information'!N22","v":0},{"$f":"'Equipment Information'!$D$7","v":"Version 6.2"}]
["RCx Enhanced HVAC ",{"$f":"IF('Equipment Information'!AJ23=0,\"No\",\"Yes\")","v":"No"},{"$f":"'Equipment Information'!C23","v":0},0,{"$f":"'Equipment Information'!I23","v":0},{"$f":"'Equipment Information'!J23","v":0},{"$f":"'Equipment Information'!L23","v":0},null,null,null,{"$f":"'Equipment Information'!E23","v":0},{"$f":"'Equipment Information'!F23","v":0},null,{"$f":"'Equipment Information'!H23","v":0},null,null,null,null,null,null,null,null,null,null,null,null,null,null,null,null,null,{"$f":"TEXT(IF('Equipment Information'!O23=\"\",\"\",'Equipment Information'!O23),\"mm/dd/yyyy\")","v":""},null,null,null,null,null,null,{"$f":"'Equipment Information'!P23","v":0},null,null,null,null,null,null,null,null,null,null,{"$f":"'Equipment Information'!S23","v":0},0,0,0,0,0,null,null,null,null,null,null,null,null,null,null,null,null,null,null,null,null,null,{"$f":"'Equipment Information'!$D$13","v":0},"RCx Enhanced HVAC ",{"$f":"'Equipment Information'!AI23","v":0},{"$f":"IFERROR(' Calculations'!X10/CF5,\"-\")","v":"-"},{"$f":"IFERROR(' Calculations'!W10/CF5,\"-\")","v":"-"},0,{"$f":"IFERROR(' Calculations'!AF10/CF5,\"-\")","v":"-"},{"$f":"IFERROR(' Calculations'!AE10/CF5,\"-\")","v":"-"},{"$f":"IFERROR(' Calculations'!AD10/CF5,\"-\")","v":"-"},{"$f":"IFERROR(' Calculations'!AC10/CF5,\"-\")","v":"-"},3,{"$f":"'Equipment Information'!N23","v":0},{"$f":"'Equipment Information'!$D$7","v":"Version 6.2"}]
["RCx Enhanced HVAC ",{"$f":"IF('Equipment Information'!AJ24=0,\"No\",\"Yes\")","v":"No"},{"$f":"'Equipment Information'!C24","v":0},0,{"$f":"'Equipment Information'!I24","v":0},{"$f":"'Equipment Information'!J24","v":0},{"$f":"'Equipment Information'!L24","v":0},null,null,null,{"$f":"'Equipment Information'!E24","v":0},{"$f":"'Equipment Information'!F24","v":0},null,{"$f":"'Equipment Information'!H24","v":0},null,null,null,null,null,null,null,null,null,null,null,null,null,null,null,null,null,{"$f":"TEXT(IF('Equipment Information'!O24=\"\",\"\",'Equipment Information'!O24),\"mm/dd/yyyy\")","v":""},null,null,null,null,null,null,{"$f":"'Equipment Information'!P24","v":0},null,null,null,null,null,null,null,null,null,null,{"$f":"'Equipment Information'!S24","v":0},0,0,0,0,0,null,null,null,null,null,null,null,null,null,null,null,null,null,null,null,null,null,{"$f":"'Equipment Information'!$D$13","v":0},"RCx Enhanced HVAC ",{"$f":"'Equipment Information'!AI24","v":0},{"$f":"IFERROR(' Calculations'!X11/CF6,\"-\")","v":"-"},{"$f":"IFERROR(' Calculations'!W11/CF6,\"-\")","v":"-"},0,{"$f":"IFERROR(' Calculations'!AF11/CF6,\"-\")","v":"-"},{"$f":"IFERROR(' Calculations'!AE11/CF6,\"-\")","v":"-"},{"$f":"IFERROR(' Calculations'!AD11/CF6,\"-\")","v":"-"},{"$f":"IFERROR(' Calculations'!AC11/CF6,\"-\")","v":"-"},3,{"$f":"'Equipment Information'!N24","v":0},{"$f":"'Equipment Information'!$D$7","v":"Version 6.2"}]
["RCx Enhanced HVAC ",{"$f":"IF('Equipment Information'!AJ25=0,\"No\",\"Yes\")","v":"No"},{"$f":"'Equipment Information'!C25","v":0},0,{"$f":"'Equipment Information'!I25","v":0},{"$f":"'Equipment Information'!J25","v":0},{"$f":"'Equipment Information'!L25","v":0},null,null,null,{"$f":"'Equipment Information'!E25","v":0},{"$f":"'Equipment Information'!F25","v":0},null,{"$f":"'Equipment Information'!H25","v":0},null,null,null,null,null,null,null,null,null,null,null,null,null,null,null,null,null,{"$f":"TEXT(IF('Equipment Information'!O25=\"\",\"\",'Equipment Information'!O25),\"mm/dd/yyyy\")","v":""},null,null,null,null,null,null,{"$f":"'Equipment Information'!P25","v":0},null,null,null,null,null,null,null,null,null,null,{"$f":"'Equipment Information'!S25","v":0},0,0,0,0,0,null,null,null,null,null,null,null,null,null,null,null,null,null,null,null,null,null,{"$f":"'Equipment Information'!$D$13","v":0},"RCx Enhanced HVAC ",{"$f":"'Equipment Information'!AI25","v":0},{"$f":"IFERROR(' Calculations'!X12/CF7,\"-\")","v":"-"},{"$f":"IFERROR(' Calculations'!W12/CF7,\"-\")","v":"-"},0,{"$f":"IFERROR(' Calculations'!AF12/CF7,\"-\")","v":"-"},{"$f":"IFERROR(' Calculations'!AE12/CF7,\"-\")","v":"-"},{"$f":"IFERROR(' Calculations'!AD12/CF7,\"-\")","v":"-"},{"$f":"IFERROR(' Calculations'!AC12/CF7,\"-\")","v":"-"},3,{"$f":"'Equipment Information'!N25","v":0},{"$f":"'Equipment Information'!$D$7","v":"Version 6.2"}]
["RCx Enhanced HVAC ",{"$f":"IF('Equipment Information'!AJ26=0,\"No\",\"Yes\")","v":"No"},{"$f":"'Equipment Information'!C26","v":0},0,{"$f":"'Equipment Information'!I26","v":0},{"$f":"'Equipment Information'!J26","v":0},{"$f":"'Equipment Information'!L26","v":0},null,null,null,{"$f":"'Equipment Information'!E26","v":0},{"$f":"'Equipment Information'!F26","v":0},null,{"$f":"'Equipment Information'!H26","v":0},null,null,null,null,null,null,null,null,null,null,null,null,null,null,null,null,null,{"$f":"TEXT(IF('Equipment Information'!O26=\"\",\"\",'Equipment Information'!O26),\"mm/dd/yyyy\")","v":""},null,null,null,null,null,null,{"$f":"'Equipment Information'!P26","v":0},null,null,null,null,null,null,null,null,null,null,{"$f":"'Equipment Information'!S26","v":0},0,0,0,0,0,null,null,null,null,null,null,null,null,null,null,null,null,null,null,null,null,null,{"$f":"'Equipment Information'!$D$13","v":0},"RCx Enhanced HVAC ",{"$f":"'Equipment Information'!AI26","v":0},{"$f":"IFERROR(' Calculations'!X13/CF8,\"-\")","v":"-"},{"$f":"IFERROR(' Calculations'!W13/CF8,\"-\")","v":"-"},0,{"$f":"IFERROR(' Calculations'!AF13/CF8,\"-\")","v":"-"},{"$f":"IFERROR(' Calculations'!AE13/CF8,\"-\")","v":"-"},{"$f":"IFERROR(' Calculations'!AD13/CF8,\"-\")","v":"-"},{"$f":"IFERROR(' Calculations'!AC13/CF8,\"-\")","v":"-"},3,{"$f":"'Equipment Information'!N26","v":0},{"$f":"'Equipment Information'!$D$7","v":"Version 6.2"}]
["RCx Enhanced HVAC ",{"$f":"IF('Equipment Information'!AJ27=0,\"No\",\"Yes\")","v":"No"},{"$f":"'Equipment Information'!C27","v":0},0,{"$f":"'Equipment Information'!I27","v":0},{"$f":"'Equipment Information'!J27","v":0},{"$f":"'Equipment Information'!L27","v":0},null,null,null,{"$f":"'Equipment Information'!E27","v":0},{"$f":"'Equipment Information'!F27","v":0},null,{"$f":"'Equipment Information'!H27","v":0},null,null,null,null,null,null,null,null,null,null,null,null,null,null,null,null,null,{"$f":"TEXT(IF('Equipment Information'!O27=\"\",\"\",'Equipment Information'!O27),\"mm/dd/yyyy\")","v":""},null,null,null,null,null,null,{"$f":"'Equipment Information'!P27","v":0},null,null,null,null,null,null,null,null,null,null,{"$f":"'Equipment Information'!S27","v":0},0,0,0,0,0,null,null,null,null,null,null,null,null,null,null,null,null,null,null,null,null,null,{"$f":"'Equipment Information'!$D$13","v":0},"RCx Enhanced HVAC ",{"$f":"'Equipment Information'!AI27","v":0},{"$f":"IFERROR(' Calculations'!X14/CF9,\"-\")","v":"-"},{"$f":"IFERROR(' Calculations'!W14/CF9,\"-\")","v":"-"},0,{"$f":"IFERROR(' Calculations'!AF14/CF9,\"-\")","v":"-"},{"$f":"IFERROR(' Calculations'!AE14/CF9,\"-\")","v":"-"},{"$f":"IFERROR(' Calculations'!AD14/CF9,\"-\")","v":"-"},{"$f":"IFERROR(' Calculations'!AC14/CF9,\"-\")","v":"-"},3,{"$f":"'Equipment Information'!N27","v":0},{"$f":"'Equipment Information'!$D$7","v":"Version 6.2"}]
["RCx Enhanced HVAC ",{"$f":"IF('Equipment Information'!AJ28=0,\"No\",\"Yes\")","v":"No"},{"$f":"'Equipment Information'!C28","v":0},0,{"$f":"'Equipment Information'!I28","v":0},{"$f":"'Equipment Information'!J28","v":0},{"$f":"'Equipment Information'!L28","v":0},null,null,null,{"$f":"'Equipment Information'!E28","v":0},{"$f":"'Equipment Information'!F28","v":0},null,{"$f":"'Equipment Information'!H28","v":0},null,null,null,null,null,null,null,null,null,null,null,null,null,null,null,null,null,{"$f":"TEXT(IF('Equipment Information'!O28=\"\",\"\",'Equipment Information'!O28),\"mm/dd/yyyy\")","v":""},null,null,null,null,null,null,{"$f":"'Equipment Information'!P28","v":0},null,null,null,null,null,null,null,null,null,null,{"$f":"'Equipment Information'!S28","v":0},0,0,0,0,0,null,null,null,null,null,null,null,null,null,null,null,null,null,null,null,null,null,{"$f":"'Equipment Information'!$D$13","v":0},"RCx Enhanced HVAC ",{"$f":"'Equipment Information'!AI28","v":0},{"$f":"IFERROR(' Calculations'!X15/CF10,\"-\")","v":"-"},{"$f":"IFERROR(' Calculations'!W15/CF10,\"-\")","v":"-"},0,{"$f":"IFERROR(' Calculations'!AF15/CF10,\"-\")","v":"-"},{"$f":"IFERROR(' Calculations'!AE15/CF10,\"-\")","v":"-"},{"$f":"IFERROR(' Calculations'!AD15/CF10,\"-\")","v":"-"},{"$f":"IFERROR(' Calculations'!AC15/CF10,\"-\")","v":"-"},3,{"$f":"'Equipment Information'!N28","v":0},{"$f":"'Equipment Information'!$D$7","v":"Version 6.2"}]
["RCx Enhanced HVAC ",{"$f":"IF('Equipment Information'!AJ29=0,\"No\",\"Yes\")","v":"No"},{"$f":"'Equipment Information'!C29","v":0},0,{"$f":"'Equipment Information'!I29","v":0},{"$f":"'Equipment Information'!J29","v":0},{"$f":"'Equipment Information'!L29","v":0},null,null,null,{"$f":"'Equipment Information'!E29","v":0},{"$f":"'Equipment Information'!F29","v":0},null,{"$f":"'Equipment Information'!H29","v":0},null,null,null,null,null,null,null,null,null,null,null,null,null,null,null,null,null,{"$f":"TEXT(IF('Equipment Information'!O29=\"\",\"\",'Equipment Information'!O29),\"mm/dd/yyyy\")","v":""},null,null,null,null,null,null,{"$f":"'Equipment Information'!P29","v":0},null,null,null,null,null,null,null,null,null,null,{"$f":"'Equipment Information'!S29","v":0},0,0,0,0,0,null,null,null,null,null,null,null,null,null,null,null,null,null,null,null,null,null,{"$f":"'Equipment Information'!$D$13","v":0},"RCx Enhanced HVAC ",{"$f":"'Equipment Information'!AI29","v":0},{"$f":"IFERROR(' Calculations'!X16/CF11,\"-\")","v":"-"},{"$f":"IFERROR(' Calculations'!W16/CF11,\"-\")","v":"-"},0,{"$f":"IFERROR(' Calculations'!AF16/CF11,\"-\")","v":"-"},{"$f":"IFERROR(' Calculations'!AE16/CF11,\"-\")","v":"-"},{"$f":"IFERROR(' Calculations'!AD16/CF11,\"-\")","v":"-"},{"$f":"IFERROR(' Calculations'!AC16/CF11,\"-\")","v":"-"},3,{"$f":"'Equipment Information'!N29","v":0},{"$f":"'Equipment Information'!$D$7","v":"Version 6.2"}]
["RCx Enhanced HVAC ",{"$f":"IF('Equipment Information'!AJ30=0,\"No\",\"Yes\")","v":"No"},{"$f":"'Equipment Information'!C30","v":0},0,{"$f":"'Equipment Information'!I30","v":0},{"$f":"'Equipment Information'!J30","v":0},{"$f":"'Equipment Information'!L30","v":0},null,null,null,{"$f":"'Equipment Information'!E30","v":0},{"$f":"'Equipment Information'!F30","v":0},null,{"$f":"'Equipment Information'!H30","v":0},null,null,null,null,null,null,null,null,null,null,null,null,null,null,null,null,null,{"$f":"TEXT(IF('Equipment Information'!O30=\"\",\"\",'Equipment Information'!O30),\"mm/dd/yyyy\")","v":""},null,null,null,null,null,null,{"$f":"'Equipment Information'!P30","v":0},null,null,null,null,null,null,null,null,null,null,{"$f":"'Equipment Information'!S30","v":0},0,0,0,0,0,null,null,null,null,null,null,null,null,null,null,null,null,null,null,null,null,null,{"$f":"'Equipment Information'!$D$13","v":0},"RCx Enhanced HVAC ",{"$f":"'Equipment Information'!AI30","v":0},{"$f":"IFERROR(' Calculations'!X17/CF12,\"-\")","v":"-"},{"$f":"IFERROR(' Calculations'!W17/CF12,\"-\")","v":"-"},0,{"$f":"IFERROR(' Calculations'!AF17/CF12,\"-\")","v":"-"},{"$f":"IFERROR(' Calculations'!AE17/CF12,\"-\")","v":"-"},{"$f":"IFERROR(' Calculations'!AD17/CF12,\"-\")","v":"-"},{"$f":"IFERROR(' Calculations'!AC17/CF12,\"-\")","v":"-"},3,{"$f":"'Equipment Information'!N30","v":0},{"$f":"'Equipment Information'!$D$7","v":"Version 6.2"}]
["RCx Enhanced HVAC ",{"$f":"IF('Equipment Information'!AJ31=0,\"No\",\"Yes\")","v":"No"},{"$f":"'Equipment Information'!C31","v":0},0,{"$f":"'Equipment Information'!I31","v":0},{"$f":"'Equipment Information'!J31","v":0},{"$f":"'Equipment Information'!L31","v":0},null,null,null,{"$f":"'Equipment Information'!E31","v":0},{"$f":"'Equipment Information'!F31","v":0},null,{"$f":"'Equipment Information'!H31","v":0},null,null,null,null,null,null,null,null,null,null,null,null,null,null,null,null,null,{"$f":"TEXT(IF('Equipment Information'!O31=\"\",\"\",'Equipment Information'!O31),\"mm/dd/yyyy\")","v":""},null,null,null,null,null,null,{"$f":"'Equipment Information'!P31","v":0},null,null,null,null,null,null,null,null,null,null,{"$f":"'Equipment Information'!S31","v":0},0,0,0,0,0,null,null,null,null,null,null,null,null,null,null,null,null,null,null,null,null,null,{"$f":"'Equipment Information'!$D$13","v":0},"RCx Enhanced HVAC ",{"$f":"'Equipment Information'!AI31","v":0},{"$f":"IFERROR(' Calculations'!X18/CF13,\"-\")","v":"-"},{"$f":"IFERROR(' Calculations'!W18/CF13,\"-\")","v":"-"},0,{"$f":"IFERROR(' Calculations'!AF18/CF13,\"-\")","v":"-"},{"$f":"IFERROR(' Calculations'!AE18/CF13,\"-\")","v":"-"},{"$f":"IFERROR(' Calculations'!AD18/CF13,\"-\")","v":"-"},{"$f":"IFERROR(' Calculations'!AC18/CF13,\"-\")","v":"-"},3,{"$f":"'Equipment Information'!N31","v":0},{"$f":"'Equipment Information'!$D$7","v":"Version 6.2"}]
["RCx Enhanced HVAC ",{"$f":"IF('Equipment Information'!AJ32=0,\"No\",\"Yes\")","v":"No"},{"$f":"'Equipment Information'!C32","v":0},0,{"$f":"'Equipment Information'!I32","v":0},{"$f":"'Equipment Information'!J32","v":0},{"$f":"'Equipment Information'!L32","v":0},null,null,null,{"$f":"'Equipment Information'!E32","v":0},{"$f":"'Equipment Information'!F32","v":0},null,{"$f":"'Equipment Information'!H32","v":0},null,null,null,null,null,null,null,null,null,null,null,null,null,null,null,null,null,{"$f":"TEXT(IF('Equipment Information'!O32=\"\",\"\",'Equipment Information'!O32),\"mm/dd/yyyy\")","v":""},null,null,null,null,null,null,{"$f":"'Equipment Information'!P32","v":0},null,null,null,null,null,null,null,null,null,null,{"$f":"'Equipment Information'!S32","v":0},0,0,0,0,0,null,null,null,null,null,null,null,null,null,null,null,null,null,null,null,null,null,{"$f":"'Equipment Information'!$D$13","v":0},"RCx Enhanced HVAC ",{"$f":"'Equipment Information'!AI32","v":0},{"$f":"IFERROR(' Calculations'!X19/CF14,\"-\")","v":"-"},{"$f":"IFERROR(' Calculations'!W19/CF14,\"-\")","v":"-"},0,{"$f":"IFERROR(' Calculations'!AF19/CF14,\"-\")","v":"-"},{"$f":"IFERROR(' Calculations'!AE19/CF14,\"-\")","v":"-"},{"$f":"IFERROR(' Calculations'!AD19/CF14,\"-\")","v":"-"},{"$f":"IFERROR(' Calculations'!AC19/CF14,\"-\")","v":"-"},3,{"$f":"'Equipment Information'!N32","v":0},{"$f":"'Equipment Information'!$D$7","v":"Version 6.2"}]
["RCx Enhanced HVAC ",{"$f":"IF('Equipment Information'!AJ33=0,\"No\",\"Yes\")","v":"No"},{"$f":"'Equipment Information'!C33","v":0},0,{"$f":"'Equipment Information'!I33","v":0},{"$f":"'Equipment Information'!J33","v":0},{"$f":"'Equipment Information'!L33","v":0},null,null,null,{"$f":"'Equipment Information'!E33","v":0},{"$f":"'Equipment Information'!F33","v":0},null,{"$f":"'Equipment Information'!H33","v":0},null,null,null,null,null,null,null,null,null,null,null,null,null,null,null,null,null,{"$f":"TEXT(IF('Equipment Information'!O33=\"\",\"\",'Equipment Information'!O33),\"mm/dd/yyyy\")","v":""},null,null,null,null,null,null,{"$f":"'Equipment Information'!P33","v":0},null,null,null,null,null,null,null,null,null,null,{"$f":"'Equipment Information'!S33","v":0},0,0,0,0,0,null,null,null,null,null,null,null,null,null,null,null,null,null,null,null,null,null,{"$f":"'Equipment Information'!$D$13","v":0},"RCx Enhanced HVAC ",{"$f":"'Equipment Information'!AI33","v":0},{"$f":"IFERROR(' Calculations'!X20/CF15,\"-\")","v":"-"},{"$f":"IFERROR(' Calculations'!W20/CF15,\"-\")","v":"-"},0,{"$f":"IFERROR(' Calculations'!AF20/CF15,\"-\")","v":"-"},{"$f":"IFERROR(' Calculations'!AE20/CF15,\"-\")","v":"-"},{"$f":"IFERROR(' Calculations'!AD20/CF15,\"-\")","v":"-"},{"$f":"IFERROR(' Calculations'!AC20/CF15,\"-\")","v":"-"},3,{"$f":"'Equipment Information'!N33","v":0},{"$f":"'Equipment Information'!$D$7","v":"Version 6.2"}]
["RCx Enhanced HVAC ",{"$f":"IF('Equipment Information'!AJ34=0,\"No\",\"Yes\")","v":"No"},{"$f":"'Equipment Information'!C34","v":0},0,{"$f":"'Equipment Information'!I34","v":0},{"$f":"'Equipment Information'!J34","v":0},{"$f":"'Equipment Information'!L34","v":0},null,null,null,{"$f":"'Equipment Information'!E34","v":0},{"$f":"'Equipment Information'!F34","v":0},null,{"$f":"'Equipment Information'!H34","v":0},null,null,null,null,null,null,null,null,null,null,null,null,null,null,null,null,null,{"$f":"TEXT(IF('Equipment Information'!O34=\"\",\"\",'Equipment Information'!O34),\"mm/dd/yyyy\")","v":""},null,null,null,null,null,null,{"$f":"'Equipment Information'!P34","v":0},null,null,null,null,null,null,null,null,null,null,{"$f":"'Equipment Information'!S34","v":0},0,0,0,0,0,null,null,null,null,null,null,null,null,null,null,null,null,null,null,null,null,null,{"$f":"'Equipment Information'!$D$13","v":0},"RCx Enhanced HVAC ",{"$f":"'Equipment Information'!AI34","v":0},{"$f":"IFERROR(' Calculations'!X21/CF16,\"-\")","v":"-"},{"$f":"IFERROR(' Calculations'!W21/CF16,\"-\")","v":"-"},0,{"$f":"IFERROR(' Calculations'!AF21/CF16,\"-\")","v":"-"},{"$f":"IFERROR(' Calculations'!AE21/CF16,\"-\")","v":"-"},{"$f":"IFERROR(' Calculations'!AD21/CF16,\"-\")","v":"-"},{"$f":"IFERROR(' Calculations'!AC21/CF16,\"-\")","v":"-"},3,{"$f":"'Equipment Information'!N34","v":0},{"$f":"'Equipment Information'!$D$7","v":"Version 6.2"}]
["RCx Enhanced HVAC ",{"$f":"IF('Equipment Information'!AJ35=0,\"No\",\"Yes\")","v":"No"},{"$f":"'Equipment Information'!C35","v":0},0,{"$f":"'Equipment Information'!I35","v":0},{"$f":"'Equipment Information'!J35","v":0},{"$f":"'Equipment Information'!L35","v":0},null,null,null,{"$f":"'Equipment Information'!E35","v":0},{"$f":"'Equipment Information'!F35","v":0},null,{"$f":"'Equipment Information'!H35","v":0},null,null,null,null,null,null,null,null,null,null,null,null,null,null,null,null,null,{"$f":"TEXT(IF('Equipment Information'!O35=\"\",\"\",'Equipment Information'!O35),\"mm/dd/yyyy\")","v":""},null,null,null,null,null,null,{"$f":"'Equipment Information'!P35","v":0},null,null,null,null,null,null,null,null,null,null,{"$f":"'Equipment Information'!S35","v":0},0,0,0,0,0,null,null,null,null,null,null,null,null,null,null,null,null,null,null,null,null,null,{"$f":"'Equipment Information'!$D$13","v":0},"RCx Enhanced HVAC ",{"$f":"'Equipment Information'!AI35","v":0},{"$f":"IFERROR(' Calculations'!X22/CF17,\"-\")","v":"-"},{"$f":"IFERROR(' Calculations'!W22/CF17,\"-\")","v":"-"},0,{"$f":"IFERROR(' Calculations'!AF22/CF17,\"-\")","v":"-"},{"$f":"IFERROR(' Calculations'!AE22/CF17,\"-\")","v":"-"},{"$f":"IFERROR(' Calculations'!AD22/CF17,\"-\")","v":"-"},{"$f":"IFERROR(' Calculations'!AC22/CF17,\"-\")","v":"-"},3,{"$f":"'Equipment Information'!N35","v":0},{"$f":"'Equipment Information'!$D$7","v":"Version 6.2"}]
["RCx Enhanced HVAC ",{"$f":"IF('Equipment Information'!AJ36=0,\"No\",\"Yes\")","v":"No"},{"$f":"'Equipment Information'!C36","v":0},0,{"$f":"'Equipment Information'!I36","v":0},{"$f":"'Equipment Information'!J36","v":0},{"$f":"'Equipment Information'!L36","v":0},null,null,null,{"$f":"'Equipment Information'!E36","v":0},{"$f":"'Equipment Information'!F36","v":0},null,{"$f":"'Equipment Information'!H36","v":0},null,null,null,null,null,null,null,null,null,null,null,null,null,null,null,null,null,{"$f":"TEXT(IF('Equipment Information'!O36=\"\",\"\",'Equipment Information'!O36),\"mm/dd/yyyy\")","v":""},null,null,null,null,null,null,{"$f":"'Equipment Information'!P36","v":0},null,null,null,null,null,null,null,null,null,null,{"$f":"'Equipment Information'!S36","v":0},0,0,0,0,0,null,null,null,null,null,null,null,null,null,null,null,null,null,null,null,null,null,{"$f":"'Equipment Information'!$D$13","v":0},"RCx Enhanced HVAC ",{"$f":"'Equipment Information'!AI36","v":0},{"$f":"IFERROR(' Calculations'!X23/CF18,\"-\")","v":"-"},{"$f":"IFERROR(' Calculations'!W23/CF18,\"-\")","v":"-"},0,{"$f":"IFERROR(' Calculations'!AF23/CF18,\"-\")","v":"-"},{"$f":"IFERROR(' Calculations'!AE23/CF18,\"-\")","v":"-"},{"$f":"IFERROR(' Calculations'!AD23/CF18,\"-\")","v":"-"},{"$f":"IFERROR(' Calculations'!AC23/CF18,\"-\")","v":"-"},3,{"$f":"'Equipment Information'!N36","v":0},{"$f":"'Equipment Information'!$D$7","v":"Version 6.2"}]
["RCx Enhanced HVAC ",{"$f":"IF('Equipment Information'!AJ37=0,\"No\",\"Yes\")","v":"No"},{"$f":"'Equipment Information'!C37","v":0},0,{"$f":"'Equipment Information'!I37","v":0},{"$f":"'Equipment Information'!J37","v":0},{"$f":"'Equipment Information'!L37","v":0},null,null,null,{"$f":"'Equipment Information'!E37","v":0},{"$f":"'Equipment Information'!F37","v":0},null,{"$f":"'Equipment Information'!H37","v":0},null,null,null,null,null,null,null,null,null,null,null,null,null,null,null,null,null,{"$f":"TEXT(IF('Equipment Information'!O37=\"\",\"\",'Equipment Information'!O37),\"mm/dd/yyyy\")","v":""},null,null,null,null,null,null,{"$f":"'Equipment Information'!P37","v":0},null,null,null,null,null,null,null,null,null,null,{"$f":"'Equipment Information'!S37","v":0},0,0,0,0,0,null,null,null,null,null,null,null,null,null,null,null,null,null,null,null,null,null,{"$f":"'Equipment Information'!$D$13","v":0},"RCx Enhanced HVAC ",{"$f":"'Equipment Information'!AI37","v":0},{"$f":"IFERROR(' Calculations'!X24/CF19,\"-\")","v":"-"},{"$f":"IFERROR(' Calculations'!W24/CF19,\"-\")","v":"-"},0,{"$f":"IFERROR(' Calculations'!AF24/CF19,\"-\")","v":"-"},{"$f":"IFERROR(' Calculations'!AE24/CF19,\"-\")","v":"-"},{"$f":"IFERROR(' Calculations'!AD24/CF19,\"-\")","v":"-"},{"$f":"IFERROR(' Calculations'!AC24/CF19,\"-\")","v":"-"},3,{"$f":"'Equipment Information'!N37","v":0},{"$f":"'Equipment Information'!$D$7","v":"Version 6.2"}]
["RCx Enhanced HVAC ",{"$f":"IF('Equipment Information'!AJ38=0,\"No\",\"Yes\")","v":"No"},{"$f":"'Equipment Information'!C38","v":0},0,{"$f":"'Equipment Information'!I38","v":0},{"$f":"'Equipment Information'!J38","v":0},{"$f":"'Equipment Information'!L38","v":0},null,null,null,{"$f":"'Equipment Information'!E38","v":0},{"$f":"'Equipment Information'!F38","v":0},null,{"$f":"'Equipment Information'!H38","v":0},null,null,null,null,null,null,null,null,null,null,null,null,null,null,null,null,null,{"$f":"TEXT(IF('Equipment Information'!O38=\"\",\"\",'Equipment Information'!O38),\"mm/dd/yyyy\")","v":""},null,null,null,null,null,null,{"$f":"'Equipment Information'!P38","v":0},null,null,null,null,null,null,null,null,null,null,{"$f":"'Equipment Information'!S38","v":0},0,0,0,0,0,null,null,null,null,null,null,null,null,null,null,null,null,null,null,null,null,null,{"$f":"'Equipment Information'!$D$13","v":0},"RCx Enhanced HVAC ",{"$f":"'Equipment Information'!AI38","v":0},{"$f":"IFERROR(' Calculations'!X25/CF20,\"-\")","v":"-"},{"$f":"IFERROR(' Calculations'!W25/CF20,\"-\")","v":"-"},0,{"$f":"IFERROR(' Calculations'!AF25/CF20,\"-\")","v":"-"},{"$f":"IFERROR(' Calculations'!AE25/CF20,\"-\")","v":"-"},{"$f":"IFERROR(' Calculations'!AD25/CF20,\"-\")","v":"-"},{"$f":"IFERROR(' Calculations'!AC25/CF20,\"-\")","v":"-"},3,{"$f":"'Equipment Information'!N38","v":0},{"$f":"'Equipment Information'!$D$7","v":"Version 6.2"}]
["RCx Enhanced HVAC ",{"$f":"IF('Equipment Information'!AJ39=0,\"No\",\"Yes\")","v":"No"},{"$f":"'Equipment Information'!C39","v":0},0,{"$f":"'Equipment Information'!I39","v":0},{"$f":"'Equipment Information'!J39","v":0},{"$f":"'Equipment Information'!L39","v":0},null,null,null,{"$f":"'Equipment Information'!E39","v":0},{"$f":"'Equipment Information'!F39","v":0},null,{"$f":"'Equipment Information'!H39","v":0},null,null,null,null,null,null,null,null,null,null,null,null,null,null,null,null,null,{"$f":"TEXT(IF('Equipment Information'!O39=\"\",\"\",'Equipment Information'!O39),\"mm/dd/yyyy\")","v":""},null,null,null,null,null,null,{"$f":"'Equipment Information'!P39","v":0},null,null,null,null,null,null,null,null,null,null,{"$f":"'Equipment Information'!S39","v":0},0,0,0,0,0,null,null,null,null,null,null,null,null,null,null,null,null,null,null,null,null,null,{"$f":"'Equipment Information'!$D$13","v":0},"RCx Enhanced HVAC ",{"$f":"'Equipment Information'!AI39","v":0},{"$f":"IFERROR(' Calculations'!X26/CF21,\"-\")","v":"-"},{"$f":"IFERROR(' Calculations'!W26/CF21,\"-\")","v":"-"},0,{"$f":"IFERROR(' Calculations'!AF26/CF21,\"-\")","v":"-"},{"$f":"IFERROR(' Calculations'!AE26/CF21,\"-\")","v":"-"},{"$f":"IFERROR(' Calculations'!AD26/CF21,\"-\")","v":"-"},{"$f":"IFERROR(' Calculations'!AC26/CF21,\"-\")","v":"-"},3,{"$f":"'Equipment Information'!N39","v":0},{"$f":"'Equipment Information'!$D$7","v":"Version 6.2"}]
["RCx Enhanced HVAC ",{"$f":"IF('Equipment Information'!AJ40=0,\"No\",\"Yes\")","v":"No"},{"$f":"'Equipment Information'!C40","v":0},0,{"$f":"'Equipment Information'!I40","v":0},{"$f":"'Equipment Information'!J40","v":0},{"$f":"'Equipment Information'!L40","v":0},null,null,null,{"$f":"'Equipment Information'!E40","v":0},{"$f":"'Equipment Information'!F40","v":0},null,{"$f":"'Equipment Information'!H40","v":0},null,null,null,null,null,null,null,null,null,null,null,null,null,null,null,null,null,{"$f":"TEXT(IF('Equipment Information'!O40=\"\",\"\",'Equipment Information'!O40),\"mm/dd/yyyy\")","v":""},null,null,null,null,null,null,{"$f":"'Equipment Information'!P40","v":0},null,null,null,null,null,null,null,null,null,null,{"$f":"'Equipment Information'!S40","v":0},0,0,0,0,0,null,null,null,null,null,null,null,null,null,null,null,null,null,null,null,null,null,{"$f":"'Equipment Information'!$D$13","v":0},"RCx Enhanced HVAC ",{"$f":"'Equipment Information'!AI40","v":0},{"$f":"IFERROR(' Calculations'!X27/CF22,\"-\")","v":"-"},{"$f":"IFERROR(' Calculations'!W27/CF22,\"-\")","v":"-"},0,{"$f":"IFERROR(' Calculations'!AF27/CF22,\"-\")","v":"-"},{"$f":"IFERROR(' Calculations'!AE27/CF22,\"-\")","v":"-"},{"$f":"IFERROR(' Calculations'!AD27/CF22,\"-\")","v":"-"},{"$f":"IFERROR(' Calculations'!AC27/CF22,\"-\")","v":"-"},3,{"$f":"'Equipment Information'!N40","v":0},{"$f":"'Equipment Information'!$D$7","v":"Version 6.2"}]
["RCx Enhanced HVAC ",{"$f":"IF('Equipment Information'!AJ41=0,\"No\",\"Yes\")","v":"No"},{"$f":"'Equipment Information'!C41","v":0},0,{"$f":"'Equipment Information'!I41","v":0},{"$f":"'Equipment Information'!J41","v":0},{"$f":"'Equipment Information'!L41","v":0},null,null,null,{"$f":"'Equipment Information'!E41","v":0},{"$f":"'Equipment Information'!F41","v":0},null,{"$f":"'Equipment Information'!H41","v":0},null,null,null,null,null,null,null,null,null,null,null,null,null,null,null,null,null,{"$f":"TEXT(IF('Equipment Information'!O41=\"\",\"\",'Equipment Information'!O41),\"mm/dd/yyyy\")","v":""},null,null,null,null,null,null,{"$f":"'Equipment Information'!P41","v":0},null,null,null,null,null,null,null,null,null,null,{"$f":"'Equipment Information'!S41","v":0},0,0,0,0,0,null,null,null,null,null,null,null,null,null,null,null,null,null,null,null,null,null,{"$f":"'Equipment Information'!$D$13","v":0},"RCx Enhanced HVAC ",{"$f":"'Equipment Information'!AI41","v":0},{"$f":"IFERROR(' Calculations'!X28/CF23,\"-\")","v":"-"},{"$f":"IFERROR(' Calculations'!W28/CF23,\"-\")","v":"-"},0,{"$f":"IFERROR(' Calculations'!AF28/CF23,\"-\")","v":"-"},{"$f":"IFERROR(' Calculations'!AE28/CF23,\"-\")","v":"-"},{"$f":"IFERROR(' Calculations'!AD28/CF23,\"-\")","v":"-"},{"$f":"IFERROR(' Calculations'!AC28/CF23,\"-\")","v":"-"},3,{"$f":"'Equipment Information'!N41","v":0},{"$f":"'Equipment Information'!$D$7","v":"Version 6.2"}]
["RCx Enhanced HVAC ",{"$f":"IF('Equipment Information'!AJ42=0,\"No\",\"Yes\")","v":"No"},{"$f":"'Equipment Information'!C42","v":0},0,{"$f":"'Equipment Information'!I42","v":0},{"$f":"'Equipment Information'!J42","v":0},{"$f":"'Equipment Information'!L42","v":0},null,null,null,{"$f":"'Equipment Information'!E42","v":0},{"$f":"'Equipment Information'!F42","v":0},null,{"$f":"'Equipment Information'!H42","v":0},null,null,null,null,null,null,null,null,null,null,null,null,null,null,null,null,null,{"$f":"TEXT(IF('Equipment Information'!O42=\"\",\"\",'Equipment Information'!O42),\"mm/dd/yyyy\")","v":""},null,null,null,null,null,null,{"$f":"'Equipment Information'!P42","v":0},null,null,null,null,null,null,null,null,null,null,{"$f":"'Equipment Information'!S42","v":0},0,0,0,0,0,null,null,null,null,null,null,null,null,null,null,null,null,null,null,null,null,null,{"$f":"'Equipment Information'!$D$13","v":0},"RCx Enhanced HVAC ",{"$f":"'Equipment Information'!AI42","v":0},{"$f":"IFERROR(' Calculations'!X29/CF24,\"-\")","v":"-"},{"$f":"IFERROR(' Calculations'!W29/CF24,\"-\")","v":"-"},0,{"$f":"IFERROR(' Calculations'!AF29/CF24,\"-\")","v":"-"},{"$f":"IFERROR(' Calculations'!AE29/CF24,\"-\")","v":"-"},{"$f":"IFERROR(' Calculations'!AD29/CF24,\"-\")","v":"-"},{"$f":"IFERROR(' Calculations'!AC29/CF24,\"-\")","v":"-"},3,{"$f":"'Equipment Information'!N42","v":0},{"$f":"'Equipment Information'!$D$7","v":"Version 6.2"}]
["RCx Enhanced HVAC ",{"$f":"IF('Equipment Information'!AJ43=0,\"No\",\"Yes\")","v":"No"},{"$f":"'Equipment Information'!C43","v":0},0,{"$f":"'Equipment Information'!I43","v":0},{"$f":"'Equipment Information'!J43","v":0},{"$f":"'Equipment Information'!L43","v":0},null,null,null,{"$f":"'Equipment Information'!E43","v":0},{"$f":"'Equipment Information'!F43","v":0},null,{"$f":"'Equipment Information'!H43","v":0},null,null,null,null,null,null,null,null,null,null,null,null,null,null,null,null,null,{"$f":"TEXT(IF('Equipment Information'!O43=\"\",\"\",'Equipment Information'!O43),\"mm/dd/yyyy\")","v":""},null,null,null,null,null,null,{"$f":"'Equipment Information'!P43","v":0},null,null,null,null,null,null,null,null,null,null,{"$f":"'Equipment Information'!S43","v":0},0,0,0,0,0,null,null,null,null,null,null,null,null,null,null,null,null,null,null,null,null,null,{"$f":"'Equipment Information'!$D$13","v":0},"RCx Enhanced HVAC ",{"$f":"'Equipment Information'!AI43","v":0},{"$f":"IFERROR(' Calculations'!X30/CF25,\"-\")","v":"-"},{"$f":"IFERROR(' Calculations'!W30/CF25,\"-\")","v":"-"},0,{"$f":"IFERROR(' Calculations'!AF30/CF25,\"-\")","v":"-"},{"$f":"IFERROR(' Calculations'!AE30/CF25,\"-\")","v":"-"},{"$f":"IFERROR(' Calculations'!AD30/CF25,\"-\")","v":"-"},{"$f":"IFERROR(' Calculations'!AC30/CF25,\"-\")","v":"-"},3,{"$f":"'Equipment Information'!N43","v":0},{"$f":"'Equipment Information'!$D$7","v":"Version 6.2"}]
["RCx Enhanced HVAC ",{"$f":"IF('Equipment Information'!AJ44=0,\"No\",\"Yes\")","v":"No"},{"$f":"'Equipment Information'!C44","v":0},0,{"$f":"'Equipment Information'!I44","v":0},{"$f":"'Equipment Information'!J44","v":0},{"$f":"'Equipment Information'!L44","v":0},null,null,null,{"$f":"'Equipment Information'!E44","v":0},{"$f":"'Equipment Information'!F44","v":0},null,{"$f":"'Equipment Information'!H44","v":0},null,null,null,null,null,null,null,null,null,null,null,null,null,null,null,null,null,{"$f":"TEXT(IF('Equipment Information'!O44=\"\",\"\",'Equipment Information'!O44),\"mm/dd/yyyy\")","v":""},null,null,null,null,null,null,{"$f":"'Equipment Information'!P44","v":0},null,null,null,null,null,null,null,null,null,null,{"$f":"'Equipment Information'!S44","v":0},0,0,0,0,0,null,null,null,null,null,null,null,null,null,null,null,null,null,null,null,null,null,{"$f":"'Equipment Information'!$D$13","v":0},"RCx Enhanced HVAC ",{"$f":"'Equipment Information'!AI44","v":0},{"$f":"IFERROR(' Calculations'!X31/CF26,\"-\")","v":"-"},{"$f":"IFERROR(' Calculations'!W31/CF26,\"-\")","v":"-"},0,{"$f":"IFERROR(' Calculations'!AF31/CF26,\"-\")","v":"-"},{"$f":"IFERROR(' Calculations'!AE31/CF26,\"-\")","v":"-"},{"$f":"IFERROR(' Calculations'!AD31/CF26,\"-\")","v":"-"},{"$f":"IFERROR(' Calculations'!AC31/CF26,\"-\")","v":"-"},3,{"$f":"'Equipment Information'!N44","v":0},{"$f":"'Equipment Information'!$D$7","v":"Version 6.2"}]

{"sheet":"AEG Import Check","index":8,"n_rows":96,"n_cols":41,"rows_kept":96,"cut":false,"hidden":true,"merged":[]}
["Measure #","Import?","Line_ID","Location","Equipment_Type","BTUH_COOL","BTUH_Heat","Compressor_Designation","age","DATE_OF_MAINTENANCE","Refrigerant","Phase_sel","CHARGE_ADDED_OR_REMOVED","temperature","temperature_desc","pre_test_CFM","post_test_CFM","basecase_efficiency","Efficiency","Percent_better","building_type","Customer_refID","elec_util_cust_incentive","kW_Impact","kw_pjm_peak_unadjusted","kWh_Impact","kwh_nonsummer_offpeak_unadjusted","kwh_nonsummer_peak_unadjusted","kwh_summer_offpeak_unadjusted","kwh_summer_peak_unadjusted","Measure_Life","quantity","Calculator_version","Total_Incentive","kW_Impact_total","kw_pjm_peak_unadjusted_total","kWh_Impact_total","kwh_nonsummer_offpeak_unadjusted_total","kwh_nonsummer_peak_unadjusted_total","kwh_summer_offpeak_unadjusted_Total","kwh_summer_peak_unadjusted_total"]
["RCx Enhanced HVAC ",{"$f":"IF(OR(Inputs!I18=\"\",Inputs!H18<36),\"No\",\"Yes\")","v":{"$error":"#REF!"}},{"$f":"Inputs!C18","v":{"$error":"#REF!"}},{"$f":"#REF!","v":{"$error":"#REF!"}},{"$f":"#REF!","v":{"$error":"#REF!"}},{"$f":"#REF!","v":{"$error":"#REF!"}},{"$f":"#REF!","v":{"$error":"#REF!"}},{"$f":"Inputs!G18","v":{"$error":"#REF!"}},{"$f":"#REF!","v":{"$error":"#REF!"}},{"$f":"TEXT(IF(#REF!=\"\",\"\",#REF!),\"mm/dd/yyyy\")","v":{"$error":"#REF!"}},{"$f":"#REF!","v":{"$error":"#REF!"}},{"$f":"#REF!","v":{"$error":"#REF!"}},{"$f":"#REF!","v":{"$error":"#REF!"}},{"$f":"#REF!-#REF!","v":{"$error":"#REF!"}},{"$f":"#REF!-#REF!","v":{"$error":"#REF!"}},{"$f":"#REF!","v":{"$error":"#REF!"}},{"$f":"#REF!","v":{"$error":"#REF!"}},{"$f":"IFERROR(ROUND(#REF!*100,0),\"\")","v":""},{"$f":"IFERROR(ROUND(#REF!*100,0),\"\")","v":""},{"$f":"IF(R2=\"\",\"\",S2-R2)","v":""},{"$f":"Inputs!D18","v":{"$error":"#REF!"}},{"$f":"A2","v":"RCx Enhanced HVAC "},{"$f":"Inputs!S18","v":{"$error":"#REF!"}},{"$f":"Inputs!I95","v":{"$error":"#REF!"}},{"$f":"Inputs!H95","v":{"$error":"#REF!"}},{"$f":"SUM(AA2,AB2,AC2,AD2)","v":{"$error":"#REF!"}},{"$f":"Inputs!G95","v":{"$error":"#REF!"}},{"$f":"Inputs!F95","v":{"$error":"#REF!"}},{"$f":"Inputs!E95","v":{"$error":"#REF!"}},{"$f":"Inputs!D95","v":{"$error":"#REF!"}},5,{"$f":"Inputs!O18","v":{"$error":"#REF!"}},{"$f":"#REF!","v":{"$error":"#REF!"}}]
["RCx Enhanced HVAC ",{"$f":"IF(OR(Inputs!I19=\"\",Inputs!H19<36),\"No\",\"Yes\")","v":{"$error":"#REF!"}},{"$f":"Inputs!C19","v":{"$error":"#REF!"}},{"$f":"#REF!","v":{"$error":"#REF!"}},{"$f":"#REF!","v":{"$error":"#REF!"}},{"$f":"#REF!","v":{"$error":"#REF!"}},{"$f":"#REF!","v":{"$error":"#REF!"}},{"$f":"Inputs!G19","v":{"$error":"#REF!"}},{"$f":"#REF!","v":{"$error":"#REF!"}},{"$f":"TEXT(IF(#REF!=\"\",\"\",#REF!),\"mm/dd/yyyy\")","v":{"$error":"#REF!"}},{"$f":"#REF!","v":{"$error":"#REF!"}},{"$f":"#REF!","v":{"$error":"#REF!"}},{"$f":"#REF!","v":{"$error":"#REF!"}},{"$f":"#REF!-#REF!","v":{"$error":"#REF!"}},{"$f":"#REF!-#REF!","v":{"$error":"#REF!"}},{"$f":"#REF!","v":{"$error":"#REF!"}},{"$f":"#REF!","v":{"$error":"#REF!"}},{"$f":"IFERROR(ROUND(#REF!*100,0),\"\")","v":""},{"$f":"IFERROR(ROUND(#REF!*100,0),\"\")","v":""},{"$f":"IF(R3=\"\",\"\",S3-R3)","v":""},{"$f":"Inputs!D19","v":{"$error":"#REF!"}},"RCx Enhanced HVAC ",{"$f":"Inputs!S19","v":{"$error":"#REF!"}},{"$f":"Inputs!I96","v":{"$error":"#REF!"}},{"$f":"Inputs!H96","v":{"$error":"#REF!"}},{"$f":"SUM(AA3,AB3,AC3,AD3)","v":{"$error":"#REF!"}},{"$f":"Inputs!G96","v":{"$error":"#REF!"}},{"$f":"Inputs!F96","v":{"$error":"#REF!"}},{"$f":"Inputs!E96","v":{"$error":"#REF!"}},{"$f":"Inputs!D96","v":{"$error":"#REF!"}},5,1,{"$f":"#REF!","v":{"$error":"#REF!"}}]
["RCx Enhanced HVAC ",{"$f":"IF(OR(Inputs!I20=\"\",Inputs!H20<36),\"No\",\"Yes\")","v":{"$error":"#REF!"}},{"$f":"Inputs!C20","v":{"$error":"#REF!"}},{"$f":"#REF!","v":{"$error":"#REF!"}},{"$f":"#REF!","v":{"$error":"#REF!"}},{"$f":"#REF!","v":{"$error":"#REF!"}},{"$f":"#REF!","v":{"$error":"#REF!"}},{"$f":"Inputs!G20","v":{"$error":"#REF!"}},{"$f":"#REF!","v":{"$error":"#REF!"}},{"$f":"TEXT(IF(#REF!=\"\",\"\",#REF!),\"mm/dd/yyyy\")","v":{"$error":"#REF!"}},{"$f":"#REF!","v":{"$error":"#REF!"}},{"$f":"#REF!","v":{"$error":"#REF!"}},{"$f":"#REF!","v":{"$error":"#REF!"}},{"$f":"#REF!-#REF!","v":{"$error":"#REF!"}},{"$f":"#REF!-#REF!","v":{"$error":"#REF!"}},{"$f":"#REF!","v":{"$error":"#REF!"}},{"$f":"#REF!","v":{"$error":"#REF!"}},{"$f":"IFERROR(ROUND(#REF!*100,0),\"\")","v":""},{"$f":"IFERROR(ROUND(#REF!*100,0),\"\")","v":""},"",{"$f":"Inputs!D20","v":{"$error":"#REF!"}},"RCx Enhanced HVAC ",{"$f":"Inputs!S20","v":{"$error":"#REF!"}},{"$f":"Inputs!I97","v":{"$error":"#REF!"}},{"$f":"Inputs!H97","v":{"$error":"#REF!"}},{"$error":"#REF!"},{"$f":"Inputs!G97","v":{"$error":"#REF!"}},{"$f":"Inputs!F97","v":{"$error":"#REF!"}},{"$f":"Inputs!E97","v":{"$error":"#REF!"}},{"$f":"Inputs!D97","v":{"$error":"#REF!"}},5,1,{"$f":"#REF!","v":{"$error":"#REF!"}}]
["RCx Enhanced HVAC ",{"$f":"IF(OR(Inputs!I21=\"\",Inputs!H21<36),\"No\",\"Yes\")","v":{"$error":"#REF!"}},{"$f":"Inputs!C21","v":{"$error":"#REF!"}},{"$f":"#REF!","v":{"$error":"#REF!"}},{"$f":"#REF!","v":{"$error":"#REF!"}},{"$f":"#REF!","v":{"$error":"#REF!"}},{"$f":"#REF!","v":{"$error":"#REF!"}},{"$f":"Inputs!G21","v":{"$error":"#REF!"}},{"$f":"#REF!","v":{"$error":"#REF!"}},{"$f":"TEXT(IF(#REF!=\"\",\"\",#REF!),\"mm/dd/yyyy\")","v":{"$error":"#REF!"}},{"$f":"#REF!","v":{"$error":"#REF!"}},{"$f":"#REF!","v":{"$error":"#REF!"}},{"$f":"#REF!","v":{"$error":"#REF!"}},{"$f":"#REF!-#REF!","v":{"$error":"#REF!"}},{"$f":"#REF!-#REF!","v":{"$error":"#REF!"}},{"$f":"#REF!","v":{"$error":"#REF!"}},{"$f":"#REF!","v":{"$error":"#REF!"}},{"$f":"IFERROR(ROUND(#REF!*100,0),\"\")","v":""},{"$f":"IFERROR(ROUND(#REF!*100,0),\"\")","v":""},"",{"$f":"Inputs!D21","v":{"$error":"#REF!"}},"RCx Enhanced HVAC ",{"$f":"Inputs!S21","v":{"$error":"#REF!"}},{"$f":"Inputs!I98","v":{"$error":"#REF!"}},{"$f":"Inputs!H98","v":{"$error":"#REF!"}},{"$error":"#REF!"},{"$f":"Inputs!G98","v":{"$error":"#REF!"}},{"$f":"Inputs!F98","v":{"$error":"#REF!"}},{"$f":"Inputs!E98","v":{"$error":"#REF!"}},{"$f":"Inputs!D98","v":{"$error":"#REF!"}},5,1,{"$f":"#REF!","v":{"$error":"#REF!"}}]
["RCx Enhanced HVAC ",{"$f":"IF(OR(Inputs!I22=\"\",Inputs!H22<36),\"No\",\"Yes\")","v":{"$error":"#REF!"}},{"$f":"Inputs!C22","v":{"$error":"#REF!"}},{"$f":"#REF!","v":{"$error":"#REF!"}},{"$f":"#REF!","v":{"$error":"#REF!"}},{"$f":"#REF!","v":{"$error":"#REF!"}},{"$f":"#REF!","v":{"$error":"#REF!"}},{"$f":"Inputs!G22","v":{"$error":"#REF!"}},{"$f":"#REF!","v":{"$error":"#REF!"}},{"$f":"TEXT(IF(#REF!=\"\",\"\",#REF!),\"mm/dd/yyyy\")","v":{"$error":"#REF!"}},{"$f":"#REF!","v":{"$error":"#REF!"}},{"$f":"#REF!","v":{"$error":"#REF!"}},{"$f":"#REF!","v":{"$error":"#REF!"}},{"$f":"#REF!-#REF!","v":{"$error":"#REF!"}},{"$f":"#REF!-#REF!","v":{"$error":"#REF!"}},{"$f":"#REF!","v":{"$error":"#REF!"}},{"$f":"#REF!","v":{"$error":"#REF!"}},{"$f":"IFERROR(ROUND(#REF!*100,0),\"\")","v":""},{"$f":"IFERROR(ROUND(#REF!*100,0),\"\")","v":""},"",{"$f":"Inputs!D22","v":{"$error":"#REF!"}},"RCx Enhanced HVAC ",{"$f":"Inputs!S22","v":{"$error":"#REF!"}},{"$f":"Inputs!I99","v":{"$error":"#REF!"}},{"$f":"Inputs!H99","v":{"$error":"#REF!"}},{"$error":"#REF!"},{"$f":"Inputs!G99","v":{"$error":"#REF!"}},{"$f":"Inputs!F99","v":{"$error":"#REF!"}},{"$f":"Inputs!E99","v":{"$error":"#REF!"}},{"$f":"Inputs!D99","v":{"$error":"#REF!"}},5,1,{"$f":"#REF!","v":{"$error":"#REF!"}}]
["RCx Enhanced HVAC ",{"$f":"IF(OR(Inputs!I23=\"\",Inputs!H23<36),\"No\",\"Yes\")","v":{"$error":"#REF!"}},{"$f":"Inputs!C23","v":{"$error":"#REF!"}},{"$f":"#REF!","v":{"$error":"#REF!"}},{"$f":"#REF!","v":{"$error":"#REF!"}},{"$f":"#REF!","v":{"$error":"#REF!"}},{"$f":"#REF!","v":{"$error":"#REF!"}},{"$f":"Inputs!G23","v":{"$error":"#REF!"}},{"$f":"#REF!","v":{"$error":"#REF!"}},{"$f":"TEXT(IF(#REF!=\"\",\"\",#REF!),\"mm/dd/yyyy\")","v":{"$error":"#REF!"}},{"$f":"#REF!","v":{"$error":"#REF!"}},{"$f":"#REF!","v":{"$error":"#REF!"}},{"$f":"#REF!","v":{"$error":"#REF!"}},{"$f":"#REF!-#REF!","v":{"$error":"#REF!"}},{"$f":"#REF!-#REF!","v":{"$error":"#REF!"}},{"$f":"#REF!","v":{"$error":"#REF!"}},{"$f":"#REF!","v":{"$error":"#REF!"}},{"$f":"IFERROR(ROUND(#REF!*100,0),\"\")","v":""},{"$f":"IFERROR(ROUND(#REF!*100,0),\"\")","v":""},"",{"$f":"Inputs!D23","v":{"$error":"#REF!"}},"RCx Enhanced HVAC ",{"$f":"Inputs!S23","v":{"$error":"#REF!"}},{"$f":"Inputs!I100","v":{"$error":"#REF!"}},{"$f":"Inputs!H100","v":{"$error":"#REF!"}},{"$error":"#REF!"},{"$f":"Inputs!G100","v":{"$error":"#REF!"}},{"$f":"Inputs!F100","v":{"$error":"#REF!"}},{"$f":"Inputs!E100","v":{"$error":"#REF!"}},{"$f":"Inputs!D100","v":{"$error":"#REF!"}},5,1,{"$f":"#REF!","v":{"$error":"#REF!"}}]
["RCx Enhanced HVAC ",{"$f":"IF(OR(Inputs!I24=\"\",Inputs!H24<36),\"No\",\"Yes\")","v":{"$error":"#REF!"}},{"$f":"Inputs!C24","v":{"$error":"#REF!"}},{"$f":"#REF!","v":{"$error":"#REF!"}},{"$f":"#REF!","v":{"$error":"#REF!"}},{"$f":"#REF!","v":{"$error":"#REF!"}},{"$f":"#REF!","v":{"$error":"#REF!"}},{"$f":"Inputs!G24","v":{"$error":"#REF!"}},{"$f":"#REF!","v":{"$error":"#REF!"}},{"$f":"TEXT(IF(#REF!=\"\",\"\",#REF!),\"mm/dd/yyyy\")","v":{"$error":"#REF!"}},{"$f":"#REF!","v":{"$error":"#REF!"}},{"$f":"#REF!","v":{"$error":"#REF!"}},{"$f":"#REF!","v":{"$error":"#REF!"}},{"$f":"#REF!-#REF!","v":{"$error":"#REF!"}},{"$f":"#REF!-#REF!","v":{"$error":"#REF!"}},{"$f":"#REF!","v":{"$error":"#REF!"}},{"$f":"#REF!","v":{"$error":"#REF!"}},{"$f":"IFERROR(ROUND(#REF!*100,0),\"\")","v":""},{"$f":"IFERROR(ROUND(#REF!*100,0),\"\")","v":""},"",{"$f":"Inputs!D24","v":{"$error":"#REF!"}},"RCx Enhanced HVAC ",{"$f":"Inputs!S24","v":{"$error":"#REF!"}},{"$f":"Inputs!I101","v":{"$error":"#REF!"}},{"$f":"Inputs!H101","v":{"$error":"#REF!"}},{"$error":"#REF!"},{"$f":"Inputs!G101","v":{"$error":"#REF!"}},{"$f":"Inputs!F101","v":{"$error":"#REF!"}},{"$f":"Inputs!E101","v":{"$error":"#REF!"}},{"$f":"Inputs!D101","v":{"$error":"#REF!"}},5,1,{"$f":"#REF!","v":{"$error":"#REF!"}}]
["RCx Enhanced HVAC ",{"$f":"IF(OR(Inputs!I25=\"\",Inputs!H25<36),\"No\",\"Yes\")","v":{"$error":"#REF!"}},{"$f":"Inputs!C25","v":{"$error":"#REF!"}},{"$f":"#REF!","v":{"$error":"#REF!"}},{"$f":"#REF!","v":{"$error":"#REF!"}},{"$f":"#REF!","v":{"$error":"#REF!"}},{"$f":"#REF!","v":{"$error":"#REF!"}},{"$f":"Inputs!G25","v":{"$error":"#REF!"}},{"$f":"#REF!","v":{"$error":"#REF!"}},{"$f":"TEXT(IF(#REF!=\"\",\"\",#REF!),\"mm/dd/yyyy\")","v":{"$error":"#REF!"}},{"$f":"#REF!","v":{"$error":"#REF!"}},{"$f":"#REF!","v":{"$error":"#REF!"}},{"$f":"#REF!","v":{"$error":"#REF!"}},{"$f":"#REF!-#REF!","v":{"$error":"#REF!"}},{"$f":"#REF!-#REF!","v":{"$error":"#REF!"}},{"$f":"#REF!","v":{"$error":"#REF!"}},{"$f":"#REF!","v":{"$error":"#REF!"}},{"$f":"IFERROR(ROUND(#REF!*100,0),\"\")","v":""},{"$f":"IFERROR(ROUND(#REF!*100,0),\"\")","v":""},"",{"$f":"Inputs!D25","v":{"$error":"#REF!"}},"RCx Enhanced HVAC ",{"$f":"Inputs!S25","v":{"$error":"#REF!"}},{"$f":"Inputs!I102","v":{"$error":"#REF!"}},{"$f":"Inputs!H102","v":{"$error":"#REF!"}},{"$error":"#REF!"},{"$f":"Inputs!G102","v":{"$error":"#REF!"}},{"$f":"Inputs!F102","v":{"$error":"#REF!"}},{"$f":"Inputs!E102","v":{"$error":"#REF!"}},{"$f":"Inputs!D102","v":{"$error":"#REF!"}},5,1,{"$f":"#REF!","v":{"$error":"#REF!"}}]
["RCx Enhanced HVAC ",{"$f":"IF(OR(Inputs!I26=\"\",Inputs!H26<36),\"No\",\"Yes\")","v":{"$error":"#REF!"}},{"$f":"Inputs!C26","v":{"$error":"#REF!"}},{"$f":"#REF!","v":{"$error":"#REF!"}},{"$f":"#REF!","v":{"$error":"#REF!"}},{"$f":"#REF!","v":{"$error":"#REF!"}},{"$f":"#REF!","v":{"$error":"#REF!"}},{"$f":"Inputs!G26","v":{"$error":"#REF!"}},{"$f":"#REF!","v":{"$error":"#REF!"}},{"$f":"TEXT(IF(#REF!=\"\",\"\",#REF!),\"mm/dd/yyyy\")","v":{"$error":"#REF!"}},{"$f":"#REF!","v":{"$error":"#REF!"}},{"$f":"#REF!","v":{"$error":"#REF!"}},{"$f":"#REF!","v":{"$error":"#REF!"}},{"$f":"#REF!-#REF!","v":{"$error":"#REF!"}},{"$f":"#REF!-#REF!","v":{"$error":"#REF!"}},{"$f":"#REF!","v":{"$error":"#REF!"}},{"$f":"#REF!","v":{"$error":"#REF!"}},{"$f":"IFERROR(ROUND(#REF!*100,0),\"\")","v":""},{"$f":"IFERROR(ROUND(#REF!*100,0),\"\")","v":""},"",{"$f":"Inputs!D26","v":{"$error":"#REF!"}},"RCx Enhanced HVAC ",{"$f":"Inputs!S26","v":{"$error":"#REF!"}},{"$f":"Inputs!I103","v":{"$error":"#REF!"}},{"$f":"Inputs!H103","v":{"$error":"#REF!"}},{"$error":"#REF!"},{"$f":"Inputs!G103","v":{"$error":"#REF!"}},{"$f":"Inputs!F103","v":{"$error":"#REF!"}},{"$f":"Inputs!E103","v":{"$error":"#REF!"}},{"$f":"Inputs!D103","v":{"$error":"#REF!"}},5,1,{"$f":"#REF!","v":{"$error":"#REF!"}}]
["RCx Enhanced HVAC ",{"$f":"IF(OR(Inputs!I27=\"\",Inputs!H27<36),\"No\",\"Yes\")","v":{"$error":"#REF!"}},{"$f":"Inputs!C27","v":{"$error":"#REF!"}},{"$f":"#REF!","v":{"$error":"#REF!"}},{"$f":"#REF!","v":{"$error":"#REF!"}},{"$f":"#REF!","v":{"$error":"#REF!"}},{"$f":"#REF!","v":{"$error":"#REF!"}},{"$f":"Inputs!G27","v":{"$error":"#REF!"}},{"$f":"#REF!","v":{"$error":"#REF!"}},{"$f":"TEXT(IF(#REF!=\"\",\"\",#REF!),\"mm/dd/yyyy\")","v":{"$error":"#REF!"}},{"$f":"#REF!","v":{"$error":"#REF!"}},{"$f":"#REF!","v":{"$error":"#REF!"}},{"$f":"#REF!","v":{"$error":"#REF!"}},{"$f":"#REF!-#REF!","v":{"$error":"#REF!"}},{"$f":"#REF!-#REF!","v":{"$error":"#REF!"}},{"$f":"#REF!","v":{"$error":"#REF!"}},{"$f":"#REF!","v":{"$error":"#REF!"}},{"$f":"IFERROR(ROUND(#REF!*100,0),\"\")","v":""},{"$f":"IFERROR(ROUND(#REF!*100,0),\"\")","v":""},"",{"$f":"Inputs!D27","v":{"$error":"#REF!"}},"RCx Enhanced HVAC ",{"$f":"Inputs!S27","v":{"$error":"#REF!"}},{"$f":"Inputs!I104","v":{"$error":"#REF!"}},{"$f":"Inputs!H104","v":{"$error":"#REF!"}},{"$error":"#REF!"},{"$f":"Inputs!G104","v":{"$error":"#REF!"}},{"$f":"Inputs!F104","v":{"$error":"#REF!"}},{"$f":"Inputs!E104","v":{"$error":"#REF!"}},{"$f":"Inputs!D104","v":{"$error":"#REF!"}},5,1,{"$f":"#REF!","v":{"$error":"#REF!"}}]
["RCx Enhanced HVAC ",{"$f":"IF(OR(Inputs!I28=\"\",Inputs!H28<36),\"No\",\"Yes\")","v":{"$error":"#REF!"}},{"$f":"Inputs!C28","v":{"$error":"#REF!"}},{"$f":"#REF!","v":{"$error":"#REF!"}},{"$f":"#REF!","v":{"$error":"#REF!"}},{"$f":"#REF!","v":{"$error":"#REF!"}},{"$f":"#REF!","v":{"$error":"#REF!"}},{"$f":"Inputs!G28","v":{"$error":"#REF!"}},{"$f":"#REF!","v":{"$error":"#REF!"}},{"$f":"TEXT(IF(#REF!=\"\",\"\",#REF!),\"mm/dd/yyyy\")","v":{"$error":"#REF!"}},{"$f":"#REF!","v":{"$error":"#REF!"}},{"$f":"#REF!","v":{"$error":"#REF!"}},{"$f":"#REF!","v":{"$error":"#REF!"}},{"$f":"#REF!-#REF!","v":{"$error":"#REF!"}},{"$f":"#REF!-#REF!","v":{"$error":"#REF!"}},{"$f":"#REF!","v":{"$error":"#REF!"}},{"$f":"#REF!","v":{"$error":"#REF!"}},{"$f":"IFERROR(ROUND(#REF!*100,0),\"\")","v":""},{"$f":"IFERROR(ROUND(#REF!*100,0),\"\")","v":""},"",{"$f":"Inputs!D28","v":{"$error":"#REF!"}},"RCx Enhanced HVAC ",{"$f":"Inputs!S28","v":{"$error":"#REF!"}},{"$f":"Inputs!I105","v":{"$error":"#REF!"}},{"$f":"Inputs!H105","v":{"$error":"#REF!"}},{"$error":"#REF!"},{"$f":"Inputs!G105","v":{"$error":"#REF!"}},{"$f":"Inputs!F105","v":{"$error":"#REF!"}},{"$f":"Inputs!E105","v":{"$error":"#REF!"}},{"$f":"Inputs!D105","v":{"$error":"#REF!"}},5,1,{"$f":"#REF!","v":{"$error":"#REF!"}}]
["RCx Enhanced HVAC ",{"$f":"IF(OR(Inputs!I29=\"\",Inputs!H29<36),\"No\",\"Yes\")","v":{"$error":"#REF!"}},{"$f":"Inputs!C29","v":{"$error":"#REF!"}},{"$f":"#REF!","v":{"$error":"#REF!"}},{"$f":"#REF!","v":{"$error":"#REF!"}},{"$f":"#REF!","v":{"$error":"#REF!"}},{"$f":"#REF!","v":{"$error":"#REF!"}},{"$f":"Inputs!G29","v":{"$error":"#REF!"}},{"$f":"#REF!","v":{"$error":"#REF!"}},{"$f":"TEXT(IF(#REF!=\"\",\"\",#REF!),\"mm/dd/yyyy\")","v":{"$error":"#REF!"}},{"$f":"#REF!","v":{"$error":"#REF!"}},{"$f":"#REF!","v":{"$error":"#REF!"}},{"$f":"#REF!","v":{"$error":"#REF!"}},{"$f":"#REF!-#REF!","v":{"$error":"#REF!"}},{"$f":"#REF!-#REF!","v":{"$error":"#REF!"}},{"$f":"#REF!","v":{"$error":"#REF!"}},{"$f":"#REF!","v":{"$error":"#REF!"}},{"$f":"IFERROR(ROUND(#REF!*100,0),\"\")","v":""},{"$f":"IFERROR(ROUND(#REF!*100,0),\"\")","v":""},"",{"$f":"Inputs!D29","v":{"$error":"#REF!"}},"RCx Enhanced HVAC ",{"$f":"Inputs!S29","v":{"$error":"#REF!"}},{"$f":"Inputs!I106","v":{"$error":"#REF!"}},{"$f":"Inputs!H106","v":{"$error":"#REF!"}},{"$error":"#REF!"},{"$f":"Inputs!G106","v":{"$error":"#REF!"}},{"$f":"Inputs!F106","v":{"$error":"#REF!"}},{"$f":"Inputs!E106","v":{"$error":"#REF!"}},{"$f":"Inputs!D106","v":{"$error":"#REF!"}},5,1,{"$f":"#REF!","v":{"$error":"#REF!"}}]
["RCx Enhanced HVAC ",{"$f":"IF(OR(Inputs!I30=\"\",Inputs!H30<36),\"No\",\"Yes\")","v":{"$error":"#REF!"}},{"$f":"Inputs!C30","v":{"$error":"#REF!"}},{"$f":"#REF!","v":{"$error":"#REF!"}},{"$f":"#REF!","v":{"$error":"#REF!"}},{"$f":"#REF!","v":{"$error":"#REF!"}},{"$f":"#REF!","v":{"$error":"#REF!"}},{"$f":"Inputs!G30","v":{"$error":"#REF!"}},{"$f":"#REF!","v":{"$error":"#REF!"}},{"$f":"TEXT(IF(#REF!=\"\",\"\",#REF!),\"mm/dd/yyyy\")","v":{"$error":"#REF!"}},{"$f":"#REF!","v":{"$error":"#REF!"}},{"$f":"#REF!","v":{"$error":"#REF!"}},{"$f":"#REF!","v":{"$error":"#REF!"}},{"$f":"#REF!-#REF!","v":{"$error":"#REF!"}},{"$f":"#REF!-#REF!","v":{"$error":"#REF!"}},{"$f":"#REF!","v":{"$error":"#REF!"}},{"$f":"#REF!","v":{"$error":"#REF!"}},{"$f":"IFERROR(ROUND(#REF!*100,0),\"\")","v":""},{"$f":"IFERROR(ROUND(#REF!*100,0),\"\")","v":""},"",{"$f":"Inputs!D30","v":{"$error":"#REF!"}},"RCx Enhanced HVAC ",{"$f":"Inputs!S30","v":{"$error":"#REF!"}},{"$f":"Inputs!I107","v":{"$error":"#REF!"}},{"$f":"Inputs!H107","v":{"$error":"#REF!"}},{"$error":"#REF!"},{"$f":"Inputs!G107","v":{"$error":"#REF!"}},{"$f":"Inputs!F107","v":{"$error":"#REF!"}},{"$f":"Inputs!E107","v":{"$error":"#REF!"}},{"$f":"Inputs!D107","v":{"$error":"#REF!"}},5,1,{"$f":"#REF!","v":{"$error":"#REF!"}}]
["RCx Enhanced HVAC ",{"$f":"IF(OR(Inputs!I31=\"\",Inputs!H31<36),\"No\",\"Yes\")","v":{"$error":"#REF!"}},{"$f":"Inputs!C31","v":{"$error":"#REF!"}},{"$f":"#REF!","v":{"$error":"#REF!"}},{"$f":"#REF!","v":{"$error":"#REF!"}},{"$f":"#REF!","v":{"$error":"#REF!"}},{"$f":"#REF!","v":{"$error":"#REF!"}},{"$f":"Inputs!G31","v":{"$error":"#REF!"}},{"$f":"#REF!","v":{"$error":"#REF!"}},{"$f":"TEXT(IF(#REF!=\"\",\"\",#REF!),\"mm/dd/yyyy\")","v":{"$error":"#REF!"}},{"$f":"#REF!","v":{"$error":"#REF!"}},{"$f":"#REF!","v":{"$error":"#REF!"}},{"$f":"#REF!","v":{"$error":"#REF!"}},{"$f":"#REF!-#REF!","v":{"$error":"#REF!"}},{"$f":"#REF!-#REF!","v":{"$error":"#REF!"}},{"$f":"#REF!","v":{"$error":"#REF!"}},{"$f":"#REF!","v":{"$error":"#REF!"}},{"$f":"IFERROR(ROUND(#REF!*100,0),\"\")","v":""},{"$f":"IFERROR(ROUND(#REF!*100,0),\"\")","v":""},"",{"$f":"Inputs!D31","v":{"$error":"#REF!"}},"RCx Enhanced HVAC ",{"$f":"Inputs!S31","v":{"$error":"#REF!"}},{"$f":"Inputs!I108","v":{"$error":"#REF!"}},{"$f":"Inputs!H108","v":{"$error":"#REF!"}},{"$error":"#REF!"},{"$f":"Inputs!G108","v":{"$error":"#REF!"}},{"$f":"Inputs!F108","v":{"$error":"#REF!"}},{"$f":"Inputs!E108","v":{"$error":"#REF!"}},{"$f":"Inputs!D108","v":{"$error":"#REF!"}},5,1,{"$f":"#REF!","v":{"$error":"#REF!"}}]
["RCx Enhanced HVAC ",{"$f":"IF(OR(Inputs!I32=\"\",Inputs!H32<36),\"No\",\"Yes\")","v":{"$error":"#REF!"}},{"$f":"Inputs!C32","v":{"$error":"#REF!"}},{"$f":"#REF!","v":{"$error":"#REF!"}},{"$f":"#REF!","v":{"$error":"#REF!"}},{"$f":"#REF!","v":{"$error":"#REF!"}},{"$f":"#REF!","v":{"$error":"#REF!"}},{"$f":"Inputs!G32","v":{"$error":"#REF!"}},{"$f":"#REF!","v":{"$error":"#REF!"}},{"$f":"TEXT(IF(#REF!=\"\",\"\",#REF!),\"mm/dd/yyyy\")","v":{"$error":"#REF!"}},{"$f":"#REF!","v":{"$error":"#REF!"}},{"$f":"#REF!","v":{"$error":"#REF!"}},{"$f":"#REF!","v":{"$error":"#REF!"}},{"$f":"#REF!-#REF!","v":{"$error":"#REF!"}},{"$f":"#REF!-#REF!","v":{"$error":"#REF!"}},{"$f":"#REF!","v":{"$error":"#REF!"}},{"$f":"#REF!","v":{"$error":"#REF!"}},{"$f":"IFERROR(ROUND(#REF!*100,0),\"\")","v":""},{"$f":"IFERROR(ROUND(#REF!*100,0),\"\")","v":""},"",{"$f":"Inputs!D32","v":{"$error":"#REF!"}},"RCx Enhanced HVAC ",{"$f":"Inputs!S32","v":{"$error":"#REF!"}},{"$f":"Inputs!I109","v":{"$error":"#REF!"}},{"$f":"Inputs!H109","v":{"$error":"#REF!"}},{"$error":"#REF!"},{"$f":"Inputs!G109","v":{"$error":"#REF!"}},{"$f":"Inputs!F109","v":{"$error":"#REF!"}},{"$f":"Inputs!E109","v":{"$error":"#REF!"}},{"$f":"Inputs!D109","v":{"$error":"#REF!"}},5,1,{"$f":"#REF!","v":{"$error":"#REF!"}}]
["RCx Enhanced HVAC ",{"$f":"IF(OR(Inputs!I33=\"\",Inputs!H33<36),\"No\",\"Yes\")","v":{"$error":"#REF!"}},{"$f":"Inputs!C33","v":{"$error":"#REF!"}},{"$f":"#REF!","v":{"$error":"#REF!"}},{"$f":"#REF!","v":{"$error":"#REF!"}},{"$f":"#REF!","v":{"$error":"#REF!"}},{"$f":"#REF!","v":{"$error":"#REF!"}},{"$f":"Inputs!G33","v":{"$error":"#REF!"}},{"$f":"#REF!","v":{"$error":"#REF!"}},{"$f":"TEXT(IF(#REF!=\"\",\"\",#REF!),\"mm/dd/yyyy\")","v":{"$error":"#REF!"}},{"$f":"#REF!","v":{"$error":"#REF!"}},{"$f":"#REF!","v":{"$error":"#REF!"}},{"$f":"#REF!","v":{"$error":"#REF!"}},{"$f":"#REF!-#REF!","v":{"$error":"#REF!"}},{"$f":"#REF!-#REF!","v":{"$error":"#REF!"}},{"$f":"#REF!","v":{"$error":"#REF!"}},{"$f":"#REF!","v":{"$error":"#REF!"}},{"$f":"IFERROR(ROUND(#REF!*100,0),\"\")","v":""},{"$f":"IFERROR(ROUND(#REF!*100,0),\"\")","v":""},"",{"$f":"Inputs!D33","v":{"$error":"#REF!"}},"RCx Enhanced HVAC ",{"$f":"Inputs!S33","v":{"$error":"#REF!"}},{"$f":"Inputs!I110","v":{"$error":"#REF!"}},{"$f":"Inputs!H110","v":{"$error":"#REF!"}},{"$error":"#REF!"},{"$f":"Inputs!G110","v":{"$error":"#REF!"}},{"$f":"Inputs!F110","v":{"$error":"#REF!"}},{"$f":"Inputs!E110","v":{"$error":"#REF!"}},{"$f":"Inputs!D110","v":{"$error":"#REF!"}},5,1,{"$f":"#REF!","v":{"$error":"#REF!"}}]
["RCx Enhanced HVAC ",{"$f":"IF(OR(Inputs!I34=\"\",Inputs!H34<36),\"No\",\"Yes\")","v":{"$error":"#REF!"}},{"$f":"Inputs!C34","v":{"$error":"#REF!"}},{"$f":"#REF!","v":{"$error":"#REF!"}},{"$f":"#REF!","v":{"$error":"#REF!"}},{"$f":"#REF!","v":{"$error":"#REF!"}},{"$f":"#REF!","v":{"$error":"#REF!"}},{"$f":"Inputs!G34","v":{"$error":"#REF!"}},{"$f":"#REF!","v":{"$error":"#REF!"}},{"$f":"TEXT(IF(#REF!=\"\",\"\",#REF!),\"mm/dd/yyyy\")","v":{"$error":"#REF!"}},{"$f":"#REF!","v":{"$error":"#REF!"}},{"$f":"#REF!","v":{"$error":"#REF!"}},{"$f":"#REF!","v":{"$error":"#REF!"}},{"$f":"#REF!-#REF!","v":{"$error":"#REF!"}},{"$f":"#REF!-#REF!","v":{"$error":"#REF!"}},{"$f":"#REF!","v":{"$error":"#REF!"}},{"$f":"#REF!","v":{"$error":"#REF!"}},{"$f":"IFERROR(ROUND(#REF!*100,0),\"\")","v":""},{"$f":"IFERROR(ROUND(#REF!*100,0),\"\")","v":""},"",{"$f":"Inputs!D34","v":{"$error":"#REF!"}},"RCx Enhanced HVAC ",{"$f":"Inputs!S34","v":{"$error":"#REF!"}},{"$f":"Inputs!I111","v":{"$error":"#REF!"}},{"$f":"Inputs!H111","v":{"$error":"#REF!"}},{"$error":"#REF!"},{"$f":"Inputs!G111","v":{"$error":"#REF!"}},{"$f":"Inputs!F111","v":{"$error":"#REF!"}},{"$f":"Inputs!E111","v":{"$error":"#REF!"}},{"$f":"Inputs!D111","v":{"$error":"#REF!"}},5,1,{"$f":"#REF!","v":{"$error":"#REF!"}}]
["RCx Enhanced HVAC ",{"$f":"IF(OR(Inputs!I35=\"\",Inputs!H35<36),\"No\",\"Yes\")","v":{"$error":"#REF!"}},{"$f":"Inputs!C35","v":{"$error":"#REF!"}},{"$f":"#REF!","v":{"$error":"#REF!"}},{"$f":"#REF!","v":{"$error":"#REF!"}},{"$f":"#REF!","v":{"$error":"#REF!"}},{"$f":"#REF!","v":{"$error":"#REF!"}},{"$f":"Inputs!G35","v":{"$error":"#REF!"}},{"$f":"#REF!","v":{"$error":"#REF!"}},{"$f":"TEXT(IF(#REF!=\"\",\"\",#REF!),\"mm/dd/yyyy\")","v":{"$error":"#REF!"}},{"$f":"#REF!","v":{"$error":"#REF!"}},{"$f":"#REF!","v":{"$error":"#REF!"}},{"$f":"#REF!","v":{"$error":"#REF!"}},{"$f":"#REF!-#REF!","v":{"$error":"#REF!"}},{"$f":"#REF!-#REF!","v":{"$error":"#REF!"}},{"$f":"#REF!","v":{"$error":"#REF!"}},{"$f":"#REF!","v":{"$error":"#REF!"}},{"$f":"IFERROR(ROUND(#REF!*100,0),\"\")","v":""},{"$f":"IFERROR(ROUND(#REF!*100,0),\"\")","v":""},"",{"$f":"Inputs!D35","v":{"$error":"#REF!"}},"RCx Enhanced HVAC ",{"$f":"Inputs!S35","v":{"$error":"#REF!"}},{"$f":"Inputs!I112","v":{"$error":"#REF!"}},{"$f":"Inputs!H112","v":{"$error":"#REF!"}},{"$error":"#REF!"},{"$f":"Inputs!G112","v":{"$error":"#REF!"}},{"$f":"Inputs!F112","v":{"$error":"#REF!"}},{"$f":"Inputs!E112","v":{"$error":"#REF!"}},{"$f":"Inputs!D112","v":{"$error":"#REF!"}},5,1,{"$f":"#REF!","v":{"$error":"#REF!"}}]
["RCx Enhanced HVAC ",{"$f":"IF(OR(Inputs!I36=\"\",Inputs!H36<36),\"No\",\"Yes\")","v":{"$error":"#REF!"}},{"$f":"Inputs!C36","v":{"$error":"#REF!"}},{"$f":"#REF!","v":{"$error":"#REF!"}},{"$f":"#REF!","v":{"$error":"#REF!"}},{"$f":"#REF!","v":{"$error":"#REF!"}},{"$f":"#REF!","v":{"$error":"#REF!"}},{"$f":"Inputs!G36","v":{"$error":"#REF!"}},{"$f":"#REF!","v":{"$error":"#REF!"}},{"$f":"TEXT(IF(#REF!=\"\",\"\",#REF!),\"mm/dd/yyyy\")","v":{"$error":"#REF!"}},{"$f":"#REF!","v":{"$error":"#REF!"}},{"$f":"#REF!","v":{"$error":"#REF!"}},{"$f":"#REF!","v":{"$error":"#REF!"}},{"$f":"#REF!-#REF!","v":{"$error":"#REF!"}},{"$f":"#REF!-#REF!","v":{"$error":"#REF!"}},{"$f":"#REF!","v":{"$error":"#REF!"}},{"$f":"#REF!","v":{"$error":"#REF!"}},{"$f":"IFERROR(ROUND(#REF!*100,0),\"\")","v":""},{"$f":"IFERROR(ROUND(#REF!*100,0),\"\")","v":""},"",{"$f":"Inputs!D36","v":{"$error":"#REF!"}},"RCx Enhanced HVAC ",{"$f":"Inputs!S36","v":{"$error":"#REF!"}},{"$f":"Inputs!I113","v":{"$error":"#REF!"}},{"$f":"Inputs!H113","v":{"$error":"#REF!"}},{"$error":"#REF!"},{"$f":"Inputs!G113","v":{"$error":"#REF!"}},{"$f":"Inputs!F113","v":{"$error":"#REF!"}},{"$f":"Inputs!E113","v":{"$error":"#REF!"}},{"$f":"Inputs!D113","v":{"$error":"#REF!"}},5,1,{"$f":"#REF!","v":{"$error":"#REF!"}}]
["RCx Enhanced HVAC ",{"$f":"IF(OR(Inputs!I37=\"\",Inputs!H37<36),\"No\",\"Yes\")","v":{"$error":"#REF!"}},{"$f":"Inputs!C37","v":{"$error":"#REF!"}},{"$f":"#REF!","v":{"$error":"#REF!"}},{"$f":"#REF!","v":{"$error":"#REF!"}},{"$f":"#REF!","v":{"$error":"#REF!"}},{"$f":"#REF!","v":{"$error":"#REF!"}},{"$f":"Inputs!G37","v":{"$error":"#REF!"}},{"$f":"#REF!","v":{"$error":"#REF!"}},{"$f":"TEXT(IF(#REF!=\"\",\"\",#REF!),\"mm/dd/yyyy\")","v":{"$error":"#REF!"}},{"$f":"#REF!","v":{"$error":"#REF!"}},{"$f":"#REF!","v":{"$error":"#REF!"}},{"$f":"#REF!","v":{"$error":"#REF!"}},{"$f":"#REF!-#REF!","v":{"$error":"#REF!"}},{"$f":"#REF!-#REF!","v":{"$error":"#REF!"}},{"$f":"#REF!","v":{"$error":"#REF!"}},{"$f":"#REF!","v":{"$error":"#REF!"}},{"$f":"IFERROR(ROUND(#REF!*100,0),\"\")","v":""},{"$f":"IFERROR(ROUND(#REF!*100,0),\"\")","v":""},"",{"$f":"Inputs!D37","v":{"$error":"#REF!"}},"RCx Enhanced HVAC ",{"$f":"Inputs!S37","v":{"$error":"#REF!"}},{"$f":"Inputs!I114","v":{"$error":"#REF!"}},{"$f":"Inputs!H114","v":{"$error":"#REF!"}},{"$error":"#REF!"},{"$f":"Inputs!G114","v":{"$error":"#REF!"}},{"$f":"Inputs!F114","v":{"$error":"#REF!"}},{"$f":"Inputs!E114","v":{"$error":"#REF!"}},{"$f":"Inputs!D114","v":{"$error":"#REF!"}},5,1,{"$f":"#REF!","v":{"$error":"#REF!"}}]
["RCx Enhanced HVAC ",{"$f":"IF(OR(Inputs!I38=\"\",Inputs!H38<36),\"No\",\"Yes\")","v":{"$error":"#REF!"}},{"$f":"Inputs!C38","v":{"$error":"#REF!"}},{"$f":"#REF!","v":{"$error":"#REF!"}},{"$f":"#REF!","v":{"$error":"#REF!"}},{"$f":"#REF!","v":{"$error":"#REF!"}},{"$f":"#REF!","v":{"$error":"#REF!"}},{"$f":"Inputs!G38","v":{"$error":"#REF!"}},{"$f":"#REF!","v":{"$error":"#REF!"}},{"$f":"TEXT(IF(#REF!=\"\",\"\",#REF!),\"mm/dd/yyyy\")","v":{"$error":"#REF!"}},{"$f":"#REF!","v":{"$error":"#REF!"}},{"$f":"#REF!","v":{"$error":"#REF!"}},{"$f":"#REF!","v":{"$error":"#REF!"}},{"$f":"#REF!-#REF!","v":{"$error":"#REF!"}},{"$f":"#REF!-#REF!","v":{"$error":"#REF!"}},{"$f":"#REF!","v":{"$error":"#REF!"}},{"$f":"#REF!","v":{"$error":"#REF!"}},{"$f":"IFERROR(ROUND(#REF!*100,0),\"\")","v":""},{"$f":"IFERROR(ROUND(#REF!*100,0),\"\")","v":""},"",{"$f":"Inputs!D38","v":{"$error":"#REF!"}},"RCx Enhanced HVAC ",{"$f":"Inputs!S38","v":{"$error":"#REF!"}},{"$f":"Inputs!I115","v":{"$error":"#REF!"}},{"$f":"Inputs!H115","v":{"$error":"#REF!"}},{"$error":"#REF!"},{"$f":"Inputs!G115","v":{"$error":"#REF!"}},{"$f":"Inputs!F115","v":{"$error":"#REF!"}},{"$f":"Inputs!E115","v":{"$error":"#REF!"}},{"$f":"Inputs!D115","v":{"$error":"#REF!"}},5,1,{"$f":"#REF!","v":{"$error":"#REF!"}}]
["RCx Enhanced HVAC ",{"$f":"IF(OR(Inputs!I39=\"\",Inputs!H39<36),\"No\",\"Yes\")","v":{"$error":"#REF!"}},{"$f":"Inputs!C39","v":{"$error":"#REF!"}},{"$f":"#REF!","v":{"$error":"#REF!"}},{"$f":"#REF!","v":{"$error":"#REF!"}},{"$f":"#REF!","v":{"$error":"#REF!"}},{"$f":"#REF!","v":{"$error":"#REF!"}},{"$f":"Inputs!G39","v":{"$error":"#REF!"}},{"$f":"#REF!","v":{"$error":"#REF!"}},{"$f":"TEXT(IF(#REF!=\"\",\"\",#REF!),\"mm/dd/yyyy\")","v":{"$error":"#REF!"}},{"$f":"#REF!","v":{"$error":"#REF!"}},{"$f":"#REF!","v":{"$error":"#REF!"}},{"$f":"#REF!","v":{"$error":"#REF!"}},{"$f":"#REF!-#REF!","v":{"$error":"#REF!"}},{"$f":"#REF!-#REF!","v":{"$error":"#REF!"}},{"$f":"#REF!","v":{"$error":"#REF!"}},{"$f":"#REF!","v":{"$error":"#REF!"}},{"$f":"IFERROR(ROUND(#REF!*100,0),\"\")","v":""},{"$f":"IFERROR(ROUND(#REF!*100,0),\"\")","v":""},"",{"$f":"Inputs!D39","v":{"$error":"#REF!"}},"RCx Enhanced HVAC ",{"$f":"Inputs!S39","v":{"$error":"#REF!"}},{"$f":"Inputs!I116","v":{"$error":"#REF!"}},{"$f":"Inputs!H116","v":{"$error":"#REF!"}},{"$error":"#REF!"},{"$f":"Inputs!G116","v":{"$error":"#REF!"}},{"$f":"Inputs!F116","v":{"$error":"#REF!"}},{"$f":"Inputs!E116","v":{"$error":"#REF!"}},{"$f":"Inputs!D116","v":{"$error":"#REF!"}},5,1,{"$f":"#REF!","v":{"$error":"#REF!"}}]
["RCx Enhanced HVAC ",{"$f":"IF(OR(Inputs!I40=\"\",Inputs!H40<36),\"No\",\"Yes\")","v":{"$error":"#REF!"}},{"$f":"Inputs!C40","v":{"$error":"#REF!"}},{"$f":"#REF!","v":{"$error":"#REF!"}},{"$f":"#REF!","v":{"$error":"#REF!"}},{"$f":"#REF!","v":{"$error":"#REF!"}},{"$f":"#REF!","v":{"$error":"#REF!"}},{"$f":"Inputs!G40","v":{"$error":"#REF!"}},{"$f":"#REF!","v":{"$error":"#REF!"}},{"$f":"TEXT(IF(#REF!=\"\",\"\",#REF!),\"mm/dd/yyyy\")","v":{"$error":"#REF!"}},{"$f":"#REF!","v":{"$error":"#REF!"}},{"$f":"#REF!","v":{"$error":"#REF!"}},{"$f":"#REF!","v":{"$error":"#REF!"}},{"$f":"#REF!-#REF!","v":{"$error":"#REF!"}},{"$f":"#REF!-#REF!","v":{"$error":"#REF!"}},{"$f":"#REF!","v":{"$error":"#REF!"}},{"$f":"#REF!","v":{"$error":"#REF!"}},{"$f":"IFERROR(ROUND(#REF!*100,0),\"\")","v":""},{"$f":"IFERROR(ROUND(#REF!*100,0),\"\")","v":""},"",{"$f":"Inputs!D40","v":{"$error":"#REF!"}},"RCx Enhanced HVAC ",{"$f":"Inputs!S40","v":{"$error":"#REF!"}},{"$f":"Inputs!I117","v":{"$error":"#REF!"}},{"$f":"Inputs!H117","v":{"$error":"#REF!"}},{"$error":"#REF!"},{"$f":"Inputs!G117","v":{"$error":"#REF!"}},{"$f":"Inputs!F117","v":{"$error":"#REF!"}},{"$f":"Inputs!E117","v":{"$error":"#REF!"}},{"$f":"Inputs!D117","v":{"$error":"#REF!"}},5,1,{"$f":"#REF!","v":{"$error":"#REF!"}}]
["RCx Enhanced HVAC ",{"$f":"IF(OR(Inputs!I41=\"\",Inputs!H41<36),\"No\",\"Yes\")","v":{"$error":"#REF!"}},{"$f":"Inputs!C41","v":{"$error":"#REF!"}},{"$f":"#REF!","v":{"$error":"#REF!"}},{"$f":"#REF!","v":{"$error":"#REF!"}},{"$f":"#REF!","v":{"$error":"#REF!"}},{"$f":"#REF!","v":{"$error":"#REF!"}},{"$f":"Inputs!G41","v":{"$error":"#REF!"}},{"$f":"#REF!","v":{"$error":"#REF!"}},{"$f":"TEXT(IF(#REF!=\"\",\"\",#REF!),\"mm/dd/yyyy\")","v":{"$error":"#REF!"}},{"$f":"#REF!","v":{"$error":"#REF!"}},{"$f":"#REF!","v":{"$error":"#REF!"}},{"$f":"#REF!","v":{"$error":"#REF!"}},{"$f":"#REF!-#REF!","v":{"$error":"#REF!"}},{"$f":"#REF!-#REF!","v":{"$error":"#REF!"}},{"$f":"#REF!","v":{"$error":"#REF!"}},{"$f":"#REF!","v":{"$error":"#REF!"}},{"$f":"IFERROR(ROUND(#REF!*100,0),\"\")","v":""},{"$f":"IFERROR(ROUND(#REF!*100,0),\"\")","v":""},"",{"$f":"Inputs!D41","v":{"$error":"#REF!"}},"RCx Enhanced HVAC ",{"$f":"Inputs!S41","v":{"$error":"#REF!"}},{"$f":"Inputs!I118","v":{"$error":"#REF!"}},{"$f":"Inputs!H118","v":{"$error":"#REF!"}},{"$error":"#REF!"},{"$f":"Inputs!G118","v":{"$error":"#REF!"}},{"$f":"Inputs!F118","v":{"$error":"#REF!"}},{"$f":"Inputs!E118","v":{"$error":"#REF!"}},{"$f":"Inputs!D118","v":{"$error":"#REF!"}},5,1,{"$f":"#REF!","v":{"$error":"#REF!"}}]
["RCx Enhanced HVAC ",{"$f":"IF(OR(Inputs!I42=\"\",Inputs!H42<36),\"No\",\"Yes\")","v":{"$error":"#REF!"}},{"$f":"Inputs!C42","v":{"$error":"#REF!"}},{"$f":"#REF!","v":{"$error":"#REF!"}},{"$f":"#REF!","v":{"$error":"#REF!"}},{"$f":"#REF!","v":{"$error":"#REF!"}},{"$f":"#REF!","v":{"$error":"#REF!"}},{"$f":"Inputs!G42","v":{"$error":"#REF!"}},{"$f":"#REF!","v":{"$error":"#REF!"}},{"$f":"TEXT(IF(#REF!=\"\",\"\",#REF!),\"mm/dd/yyyy\")","v":{"$error":"#REF!"}},{"$f":"#REF!","v":{"$error":"#REF!"}},{"$f":"#REF!","v":{"$error":"#REF!"}},{"$f":"#REF!","v":{"$error":"#REF!"}},{"$f":"#REF!-#REF!","v":{"$error":"#REF!"}},{"$f":"#REF!-#REF!","v":{"$error":"#REF!"}},{"$f":"#REF!","v":{"$error":"#REF!"}},{"$f":"#REF!","v":{"$error":"#REF!"}},{"$f":"IFERROR(ROUND(#REF!*100,0),\"\")","v":""},{"$f":"IFERROR(ROUND(#REF!*100,0),\"\")","v":""},"",{"$f":"Inputs!D42","v":{"$error":"#REF!"}},"RCx Enhanced HVAC ",{"$f":"Inputs!S42","v":{"$error":"#REF!"}},{"$f":"Inputs!I119","v":{"$error":"#REF!"}},{"$f":"Inputs!H119","v":{"$error":"#REF!"}},{"$error":"#REF!"},{"$f":"Inputs!G119","v":{"$error":"#REF!"}},{"$f":"Inputs!F119","v":{"$error":"#REF!"}},{"$f":"Inputs!E119","v":{"$error":"#REF!"}},{"$f":"Inputs!D119","v":{"$error":"#REF!"}},5,1,{"$f":"#REF!","v":{"$error":"#REF!"}}]
["RCx Enhanced HVAC ",{"$f":"IF(OR(Inputs!I43=\"\",Inputs!H43<36),\"No\",\"Yes\")","v":{"$error":"#REF!"}},{"$f":"Inputs!C43","v":{"$error":"#REF!"}},{"$f":"#REF!","v":{"$error":"#REF!"}},{"$f":"#REF!","v":{"$error":"#REF!"}},{"$f":"#REF!","v":{"$error":"#REF!"}},{"$f":"#REF!","v":{"$error":"#REF!"}},{"$f":"Inputs!G43","v":{"$error":"#REF!"}},{"$f":"#REF!","v":{"$error":"#REF!"}},{"$f":"TEXT(IF(#REF!=\"\",\"\",#REF!),\"mm/dd/yyyy\")","v":{"$error":"#REF!"}},{"$f":"#REF!","v":{"$error":"#REF!"}},{"$f":"#REF!","v":{"$error":"#REF!"}},{"$f":"#REF!","v":{"$error":"#REF!"}},{"$f":"#REF!-#REF!","v":{"$error":"#REF!"}},{"$f":"#REF!-#REF!","v":{"$error":"#REF!"}},{"$f":"#REF!","v":{"$error":"#REF!"}},{"$f":"#REF!","v":{"$error":"#REF!"}},{"$f":"IFERROR(ROUND(#REF!*100,0),\"\")","v":""},{"$f":"IFERROR(ROUND(#REF!*100,0),\"\")","v":""},"",{"$f":"Inputs!D43","v":{"$error":"#REF!"}},"RCx Enhanced HVAC ",{"$f":"Inputs!S43","v":{"$error":"#REF!"}},{"$f":"Inputs!I120","v":{"$error":"#REF!"}},{"$f":"Inputs!H120","v":{"$error":"#REF!"}},{"$error":"#REF!"},{"$f":"Inputs!G120","v":{"$error":"#REF!"}},{"$f":"Inputs!F120","v":{"$error":"#REF!"}},{"$f":"Inputs!E120","v":{"$error":"#REF!"}},{"$f":"Inputs!D120","v":{"$error":"#REF!"}},5,1,{"$f":"#REF!","v":{"$error":"#REF!"}}]
["RCx Enhanced HVAC ",{"$f":"IF(OR(Inputs!I44=\"\",Inputs!H44<36),\"No\",\"Yes\")","v":{"$error":"#REF!"}},{"$f":"Inputs!C44","v":{"$error":"#REF!"}},{"$f":"#REF!","v":{"$error":"#REF!"}},{"$f":"#REF!","v":{"$error":"#REF!"}},{"$f":"#REF!","v":{"$error":"#REF!"}},{"$f":"#REF!","v":{"$error":"#REF!"}},{"$f":"Inputs!G44","v":{"$error":"#REF!"}},{"$f":"#REF!","v":{"$error":"#REF!"}},{"$f":"TEXT(IF(#REF!=\"\",\"\",#REF!),\"mm/dd/yyyy\")","v":{"$error":"#REF!"}},{"$f":"#REF!","v":{"$error":"#REF!"}},{"$f":"#REF!","v":{"$error":"#REF!"}},{"$f":"#REF!","v":{"$error":"#REF!"}},{"$f":"#REF!-#REF!","v":{"$error":"#REF!"}},{"$f":"#REF!-#REF!","v":{"$error":"#REF!"}},{"$f":"#REF!","v":{"$error":"#REF!"}},{"$f":"#REF!","v":{"$error":"#REF!"}},{"$f":"IFERROR(ROUND(#REF!*100,0),\"\")","v":""},{"$f":"IFERROR(ROUND(#REF!*100,0),\"\")","v":""},"",{"$f":"Inputs!D44","v":{"$error":"#REF!"}},"RCx Enhanced HVAC ",{"$f":"Inputs!S44","v":{"$error":"#REF!"}},{"$f":"Inputs!I121","v":{"$error":"#REF!"}},{"$f":"Inputs!H121","v":{"$error":"#REF!"}},{"$error":"#REF!"},{"$f":"Inputs!G121","v":{"$error":"#REF!"}},{"$f":"Inputs!F121","v":{"$error":"#REF!"}},{"$f":"Inputs!E121","v":{"$error":"#REF!"}},{"$f":"Inputs!D121","v":{"$error":"#REF!"}},5,1,{"$f":"#REF!","v":{"$error":"#REF!"}}]
["RCx Enhanced HVAC ",{"$f":"IF(OR(Inputs!I45=\"\",Inputs!H45<36),\"No\",\"Yes\")","v":{"$error":"#REF!"}},{"$f":"Inputs!C45","v":{"$error":"#REF!"}},{"$f":"#REF!","v":{"$error":"#REF!"}},{"$f":"#REF!","v":{"$error":"#REF!"}},{"$f":"#REF!","v":{"$error":"#REF!"}},{"$f":"#REF!","v":{"$error":"#REF!"}},{"$f":"Inputs!G45","v":{"$error":"#REF!"}},{"$f":"#REF!","v":{"$error":"#REF!"}},{"$f":"TEXT(IF(#REF!=\"\",\"\",#REF!),\"mm/dd/yyyy\")","v":{"$error":"#REF!"}},{"$f":"#REF!","v":{"$error":"#REF!"}},{"$f":"#REF!","v":{"$error":"#REF!"}},{"$f":"#REF!","v":{"$error":"#REF!"}},{"$f":"#REF!-#REF!","v":{"$error":"#REF!"}},{"$f":"#REF!-#REF!","v":{"$error":"#REF!"}},{"$f":"#REF!","v":{"$error":"#REF!"}},{"$f":"#REF!","v":{"$error":"#REF!"}},{"$f":"IFERROR(ROUND(#REF!*100,0),\"\")","v":""},{"$f":"IFERROR(ROUND(#REF!*100,0),\"\")","v":""},"",{"$f":"Inputs!D45","v":{"$error":"#REF!"}},"RCx Enhanced HVAC ",{"$f":"Inputs!S45","v":{"$error":"#REF!"}},{"$f":"Inputs!I122","v":{"$error":"#REF!"}},{"$f":"Inputs!H122","v":{"$error":"#REF!"}},{"$error":"#REF!"},{"$f":"Inputs!G122","v":{"$error":"#REF!"}},{"$f":"Inputs!F122","v":{"$error":"#REF!"}},{"$f":"Inputs!E122","v":{"$error":"#REF!"}},{"$f":"Inputs!D122","v":{"$error":"#REF!"}},5,1,{"$f":"#REF!","v":{"$error":"#REF!"}}]
["RCx Enhanced HVAC ",{"$f":"IF(OR(Inputs!I46=\"\",Inputs!H46<36),\"No\",\"Yes\")","v":{"$error":"#REF!"}},{"$f":"Inputs!C46","v":{"$error":"#REF!"}},{"$f":"#REF!","v":{"$error":"#REF!"}},{"$f":"#REF!","v":{"$error":"#REF!"}},{"$f":"#REF!","v":{"$error":"#REF!"}},{"$f":"#REF!","v":{"$error":"#REF!"}},{"$f":"Inputs!G46","v":{"$error":"#REF!"}},{"$f":"#REF!","v":{"$error":"#REF!"}},{"$f":"TEXT(IF(#REF!=\"\",\"\",#REF!),\"mm/dd/yyyy\")","v":{"$error":"#REF!"}},{"$f":"#REF!","v":{"$error":"#REF!"}},{"$f":"#REF!","v":{"$error":"#REF!"}},{"$f":"#REF!","v":{"$error":"#REF!"}},{"$f":"#REF!-#REF!","v":{"$error":"#REF!"}},{"$f":"#REF!-#REF!","v":{"$error":"#REF!"}},{"$f":"#REF!","v":{"$error":"#REF!"}},{"$f":"#REF!","v":{"$error":"#REF!"}},{"$f":"IFERROR(ROUND(#REF!*100,0),\"\")","v":""},{"$f":"IFERROR(ROUND(#REF!*100,0),\"\")","v":""},"",{"$f":"Inputs!D46","v":{"$error":"#REF!"}},"RCx Enhanced HVAC ",{"$f":"Inputs!S46","v":{"$error":"#REF!"}},{"$f":"Inputs!I123","v":{"$error":"#REF!"}},{"$f":"Inputs!H123","v":{"$error":"#REF!"}},{"$error":"#REF!"},{"$f":"Inputs!G123","v":{"$error":"#REF!"}},{"$f":"Inputs!F123","v":{"$error":"#REF!"}},{"$f":"Inputs!E123","v":{"$error":"#REF!"}},{"$f":"Inputs!D123","v":{"$error":"#REF!"}},5,1,{"$f":"#REF!","v":{"$error":"#REF!"}}]
["RCx Enhanced HVAC ",{"$f":"IF(OR(Inputs!I47=\"\",Inputs!H47<36),\"No\",\"Yes\")","v":{"$error":"#REF!"}},{"$f":"Inputs!C47","v":{"$error":"#REF!"}},{"$f":"#REF!","v":{"$error":"#REF!"}},{"$f":"#REF!","v":{"$error":"#REF!"}},{"$f":"#REF!","v":{"$error":"#REF!"}},{"$f":"#REF!","v":{"$error":"#REF!"}},{"$f":"Inputs!G47","v":{"$error":"#REF!"}},{"$f":"#REF!","v":{"$error":"#REF!"}},{"$f":"TEXT(IF(#REF!=\"\",\"\",#REF!),\"mm/dd/yyyy\")","v":{"$error":"#REF!"}},{"$f":"#REF!","v":{"$error":"#REF!"}},{"$f":"#REF!","v":{"$error":"#REF!"}},{"$f":"#REF!","v":{"$error":"#REF!"}},{"$f":"#REF!-#REF!","v":{"$error":"#REF!"}},{"$f":"#REF!-#REF!","v":{"$error":"#REF!"}},{"$f":"#REF!","v":{"$error":"#REF!"}},{"$f":"#REF!","v":{"$error":"#REF!"}},{"$f":"IFERROR(ROUND(#REF!*100,0),\"\")","v":""},{"$f":"IFERROR(ROUND(#REF!*100,0),\"\")","v":""},"",{"$f":"Inputs!D47","v":{"$error":"#REF!"}},"RCx Enhanced HVAC ",{"$f":"Inputs!S47","v":{"$error":"#REF!"}},{"$f":"Inputs!I124","v":{"$error":"#REF!"}},{"$f":"Inputs!H124","v":{"$error":"#REF!"}},{"$error":"#REF!"},{"$f":"Inputs!G124","v":{"$error":"#REF!"}},{"$f":"Inputs!F124","v":{"$error":"#REF!"}},{"$f":"Inputs!E124","v":{"$error":"#REF!"}},{"$f":"Inputs!D124","v":{"$error":"#REF!"}},5,1,{"$f":"#REF!","v":{"$error":"#REF!"}}]
["RCx Enhanced HVAC ",{"$f":"IF(OR(Inputs!I48=\"\",Inputs!H48<36),\"No\",\"Yes\")","v":{"$error":"#REF!"}},{"$f":"Inputs!C48","v":{"$error":"#REF!"}},{"$f":"#REF!","v":{"$error":"#REF!"}},{"$f":"#REF!","v":{"$error":"#REF!"}},{"$f":"#REF!","v":{"$error":"#REF!"}},{"$f":"#REF!","v":{"$error":"#REF!"}},{"$f":"Inputs!G48","v":{"$error":"#REF!"}},{"$f":"#REF!","v":{"$error":"#REF!"}},{"$f":"TEXT(IF(#REF!=\"\",\"\",#REF!),\"mm/dd/yyyy\")","v":{"$error":"#REF!"}},{"$f":"#REF!","v":{"$error":"#REF!"}},{"$f":"#REF!","v":{"$error":"#REF!"}},{"$f":"#REF!","v":{"$error":"#REF!"}},{"$f":"#REF!-#REF!","v":{"$error":"#REF!"}},{"$f":"#REF!-#REF!","v":{"$error":"#REF!"}},{"$f":"#REF!","v":{"$error":"#REF!"}},{"$f":"#REF!","v":{"$error":"#REF!"}},{"$f":"IFERROR(ROUND(#REF!*100,0),\"\")","v":""},{"$f":"IFERROR(ROUND(#REF!*100,0),\"\")","v":""},"",{"$f":"Inputs!D48","v":{"$error":"#REF!"}},"RCx Enhanced HVAC ",{"$f":"Inputs!S48","v":{"$error":"#REF!"}},{"$f":"Inputs!I125","v":{"$error":"#REF!"}},{"$f":"Inputs!H125","v":{"$error":"#REF!"}},{"$error":"#REF!"},{"$f":"Inputs!G125","v":{"$error":"#REF!"}},{"$f":"Inputs!F125","v":{"$error":"#REF!"}},{"$f":"Inputs!E125","v":{"$error":"#REF!"}},{"$f":"Inputs!D125","v":{"$error":"#REF!"}},5,1,{"$f":"#REF!","v":{"$error":"#REF!"}}]
["RCx Enhanced HVAC ",{"$f":"IF(OR(Inputs!I49=\"\",Inputs!H49<36),\"No\",\"Yes\")","v":{"$error":"#REF!"}},{"$f":"Inputs!C49","v":{"$error":"#REF!"}},{"$f":"#REF!","v":{"$error":"#REF!"}},{"$f":"#REF!","v":{"$error":"#REF!"}},{"$f":"#REF!","v":{"$error":"#REF!"}},{"$f":"#REF!","v":{"$error":"#REF!"}},{"$f":"Inputs!G49","v":{"$error":"#REF!"}},{"$f":"#REF!","v":{"$error":"#REF!"}},{"$f":"TEXT(IF(#REF!=\"\",\"\",#REF!),\"mm/dd/yyyy\")","v":{"$error":"#REF!"}},{"$f":"#REF!","v":{"$error":"#REF!"}},{"$f":"#REF!","v":{"$error":"#REF!"}},{"$f":"#REF!","v":{"$error":"#REF!"}},{"$f":"#REF!-#REF!","v":{"$error":"#REF!"}},{"$f":"#REF!-#REF!","v":{"$error":"#REF!"}},{"$f":"#REF!","v":{"$error":"#REF!"}},{"$f":"#REF!","v":{"$error":"#REF!"}},{"$f":"IFERROR(ROUND(#REF!*100,0),\"\")","v":""},{"$f":"IFERROR(ROUND(#REF!*100,0),\"\")","v":""},"",{"$f":"Inputs!D49","v":{"$error":"#REF!"}},"RCx Enhanced HVAC ",{"$f":"Inputs!S49","v":{"$error":"#REF!"}},{"$f":"Inputs!I126","v":{"$error":"#REF!"}},{"$f":"Inputs!H126","v":{"$error":"#REF!"}},{"$error":"#REF!"},{"$f":"Inputs!G126","v":{"$error":"#REF!"}},{"$f":"Inputs!F126","v":{"$error":"#REF!"}},{"$f":"Inputs!E126","v":{"$error":"#REF!"}},{"$f":"Inputs!D126","v":{"$error":"#REF!"}},5,1,{"$f":"#REF!","v":{"$error":"#REF!"}}]
["RCx Enhanced HVAC ",{"$f":"IF(OR(Inputs!I50=\"\",Inputs!H50<36),\"No\",\"Yes\")","v":{"$error":"#REF!"}},{"$f":"Inputs!C50","v":{"$error":"#REF!"}},{"$f":"#REF!","v":{"$error":"#REF!"}},{"$f":"#REF!","v":{"$error":"#REF!"}},{"$f":"#REF!","v":{"$error":"#REF!"}},{"$f":"#REF!","v":{"$error":"#REF!"}},{"$f":"Inputs!G50","v":{"$error":"#REF!"}},{"$f":"#REF!","v":{"$error":"#REF!"}},{"$f":"TEXT(IF(#REF!=\"\",\"\",#REF!),\"mm/dd/yyyy\")","v":{"$error":"#REF!"}},{"$f":"#REF!","v":{"$error":"#REF!"}},{"$f":"#REF!","v":{"$error":"#REF!"}},{"$f":"#REF!","v":{"$error":"#REF!"}},{"$f":"#REF!-#REF!","v":{"$error":"#REF!"}},{"$f":"#REF!-#REF!","v":{"$error":"#REF!"}},{"$f":"#REF!","v":{"$error":"#REF!"}},{"$f":"#REF!","v":{"$error":"#REF!"}},{"$f":"IFERROR(ROUND(#REF!*100,0),\"\")","v":""},{"$f":"IFERROR(ROUND(#REF!*100,0),\"\")","v":""},"",{"$f":"Inputs!D50","v":{"$error":"#REF!"}},"RCx Enhanced HVAC ",{"$f":"Inputs!S50","v":{"$error":"#REF!"}},{"$f":"Inputs!I127","v":{"$error":"#REF!"}},{"$f":"Inputs!H127","v":{"$error":"#REF!"}},{"$error":"#REF!"},{"$f":"Inputs!G127","v":{"$error":"#REF!"}},{"$f":"Inputs!F127","v":{"$error":"#REF!"}},{"$f":"Inputs!E127","v":{"$error":"#REF!"}},{"$f":"Inputs!D127","v":{"$error":"#REF!"}},5,1,{"$f":"#REF!","v":{"$error":"#REF!"}}]
["RCx Enhanced HVAC ",{"$f":"IF(OR(Inputs!I51=\"\",Inputs!H51<36),\"No\",\"Yes\")","v":{"$error":"#REF!"}},{"$f":"Inputs!C51","v":{"$error":"#REF!"}},{"$f":"#REF!","v":{"$error":"#REF!"}},{"$f":"#REF!","v":{"$error":"#REF!"}},{"$f":"#REF!","v":{"$error":"#REF!"}},{"$f":"#REF!","v":{"$error":"#REF!"}},{"$f":"Inputs!G51","v":{"$error":"#REF!"}},{"$f":"#REF!","v":{"$error":"#REF!"}},{"$f":"TEXT(IF(#REF!=\"\",\"\",#REF!),\"mm/dd/yyyy\")","v":{"$error":"#REF!"}},{"$f":"#REF!","v":{"$error":"#REF!"}},{"$f":"#REF!","v":{"$error":"#REF!"}},{"$f":"#REF!","v":{"$error":"#REF!"}},{"$f":"#REF!-#REF!","v":{"$error":"#REF!"}},{"$f":"#REF!-#REF!","v":{"$error":"#REF!"}},{"$f":"#REF!","v":{"$error":"#REF!"}},{"$f":"#REF!","v":{"$error":"#REF!"}},{"$f":"IFERROR(ROUND(#REF!*100,0),\"\")","v":""},{"$f":"IFERROR(ROUND(#REF!*100,0),\"\")","v":""},"",{"$f":"Inputs!D51","v":{"$error":"#REF!"}},"RCx Enhanced HVAC ",{"$f":"Inputs!S51","v":{"$error":"#REF!"}},{"$f":"Inputs!I128","v":{"$error":"#REF!"}},{"$f":"Inputs!H128","v":{"$error":"#REF!"}},{"$error":"#REF!"},{"$f":"Inputs!G128","v":{"$error":"#REF!"}},{"$f":"Inputs!F128","v":{"$error":"#REF!"}},{"$f":"Inputs!E128","v":{"$error":"#REF!"}},{"$f":"Inputs!D128","v":{"$error":"#REF!"}},5,1,{"$f":"#REF!","v":{"$error":"#REF!"}}]
["RCx Enhanced HVAC ",{"$f":"IF(OR(Inputs!I52=\"\",Inputs!H52<36),\"No\",\"Yes\")","v":{"$error":"#REF!"}},{"$f":"Inputs!C52","v":{"$error":"#REF!"}},{"$f":"#REF!","v":{"$error":"#REF!"}},{"$f":"#REF!","v":{"$error":"#REF!"}},{"$f":"#REF!","v":{"$error":"#REF!"}},{"$f":"#REF!","v":{"$error":"#REF!"}},{"$f":"Inputs!G52","v":{"$error":"#REF!"}},{"$f":"#REF!","v":{"$error":"#REF!"}},{"$f":"TEXT(IF(#REF!=\"\",\"\",#REF!),\"mm/dd/yyyy\")","v":{"$error":"#REF!"}},{"$f":"#REF!","v":{"$error":"#REF!"}},{"$f":"#REF!","v":{"$error":"#REF!"}},{"$f":"#REF!","v":{"$error":"#REF!"}},{"$f":"#REF!-#REF!","v":{"$error":"#REF!"}},{"$f":"#REF!-#REF!","v":{"$error":"#REF!"}},{"$f":"#REF!","v":{"$error":"#REF!"}},{"$f":"#REF!","v":{"$error":"#REF!"}},{"$f":"IFERROR(ROUND(#REF!*100,0),\"\")","v":""},{"$f":"IFERROR(ROUND(#REF!*100,0),\"\")","v":""},"",{"$f":"Inputs!D52","v":{"$error":"#REF!"}},"RCx Enhanced HVAC ",{"$f":"Inputs!S52","v":{"$error":"#REF!"}},{"$f":"Inputs!I129","v":{"$error":"#REF!"}},{"$f":"Inputs!H129","v":{"$error":"#REF!"}},{"$error":"#REF!"},{"$f":"Inputs!G129","v":{"$error":"#REF!"}},{"$f":"Inputs!F129","v":{"$error":"#REF!"}},{"$f":"Inputs!E129","v":{"$error":"#REF!"}},{"$f":"Inputs!D129","v":{"$error":"#REF!"}},5,1,{"$f":"#REF!","v":{"$error":"#REF!"}}]
["RCx Enhanced HVAC ",{"$f":"IF(OR(Inputs!I53=\"\",Inputs!H53<36),\"No\",\"Yes\")","v":{"$error":"#REF!"}},{"$f":"Inputs!C53","v":{"$error":"#REF!"}},{"$f":"#REF!","v":{"$error":"#REF!"}},{"$f":"#REF!","v":{"$error":"#REF!"}},{"$f":"#REF!","v":{"$error":"#REF!"}},{"$f":"#REF!","v":{"$error":"#REF!"}},{"$f":"Inputs!G53","v":{"$error":"#REF!"}},{"$f":"#REF!","v":{"$error":"#REF!"}},{"$f":"TEXT(IF(#REF!=\"\",\"\",#REF!),\"mm/dd/yyyy\")","v":{"$error":"#REF!"}},{"$f":"#REF!","v":{"$error":"#REF!"}},{"$f":"#REF!","v":{"$error":"#REF!"}},{"$f":"#REF!","v":{"$error":"#REF!"}},{"$f":"#REF!-#REF!","v":{"$error":"#REF!"}},{"$f":"#REF!-#REF!","v":{"$error":"#REF!"}},{"$f":"#REF!","v":{"$error":"#REF!"}},{"$f":"#REF!","v":{"$error":"#REF!"}},{"$f":"IFERROR(ROUND(#REF!*100,0),\"\")","v":""},{"$f":"IFERROR(ROUND(#REF!*100,0),\"\")","v":""},"",{"$f":"Inputs!D53","v":{"$error":"#REF!"}},"RCx Enhanced HVAC ",{"$f":"Inputs!S53","v":{"$error":"#REF!"}},{"$f":"Inputs!I130","v":{"$error":"#REF!"}},{"$f":"Inputs!H130","v":{"$error":"#REF!"}},{"$error":"#REF!"},{"$f":"Inputs!G130","v":{"$error":"#REF!"}},{"$f":"Inputs!F130","v":{"$error":"#REF!"}},{"$f":"Inputs!E130","v":{"$error":"#REF!"}},{"$f":"Inputs!D130","v":{"$error":"#REF!"}},5,1,{"$f":"#REF!","v":{"$error":"#REF!"}}]
["RCx Enhanced HVAC ",{"$f":"IF(OR(Inputs!I54=\"\",Inputs!H54<36),\"No\",\"Yes\")","v":{"$error":"#REF!"}},{"$f":"Inputs!C54","v":{"$error":"#REF!"}},{"$f":"#REF!","v":{"$error":"#REF!"}},{"$f":"#REF!","v":{"$error":"#REF!"}},{"$f":"#REF!","v":{"$error":"#REF!"}},{"$f":"#REF!","v":{"$error":"#REF!"}},{"$f":"Inputs!G54","v":{"$error":"#REF!"}},{"$f":"#REF!","v":{"$error":"#REF!"}},{"$f":"TEXT(IF(#REF!=\"\",\"\",#REF!),\"mm/dd/yyyy\")","v":{"$error":"#REF!"}},{"$f":"#REF!","v":{"$error":"#REF!"}},{"$f":"#REF!","v":{"$error":"#REF!"}},{"$f":"#REF!","v":{"$error":"#REF!"}},{"$f":"#REF!-#REF!","v":{"$error":"#REF!"}},{"$f":"#REF!-#REF!","v":{"$error":"#REF!"}},{"$f":"#REF!","v":{"$error":"#REF!"}},{"$f":"#REF!","v":{"$error":"#REF!"}},{"$f":"IFERROR(ROUND(#REF!*100,0),\"\")","v":""},{"$f":"IFERROR(ROUND(#REF!*100,0),\"\")","v":""},"",{"$f":"Inputs!D54","v":{"$error":"#REF!"}},"RCx Enhanced HVAC ",{"$f":"Inputs!S54","v":{"$error":"#REF!"}},{"$f":"Inputs!I131","v":{"$error":"#REF!"}},{"$f":"Inputs!H131","v":{"$error":"#REF!"}},{"$error":"#REF!"},{"$f":"Inputs!G131","v":{"$error":"#REF!"}},{"$f":"Inputs!F131","v":{"$error":"#REF!"}},{"$f":"Inputs!E131","v":{"$error":"#REF!"}},{"$f":"Inputs!D131","v":{"$error":"#REF!"}},5,1,{"$f":"#REF!","v":{"$error":"#REF!"}}]
["RCx Enhanced HVAC ",{"$f":"IF(OR(Inputs!I55=\"\",Inputs!H55<36),\"No\",\"Yes\")","v":{"$error":"#REF!"}},{"$f":"Inputs!C55","v":{"$error":"#REF!"}},{"$f":"#REF!","v":{"$error":"#REF!"}},{"$f":"#REF!","v":{"$error":"#REF!"}},{"$f":"#REF!","v":{"$error":"#REF!"}},{"$f":"#REF!","v":{"$error":"#REF!"}},{"$f":"Inputs!G55","v":{"$error":"#REF!"}},{"$f":"#REF!","v":{"$error":"#REF!"}},{"$f":"TEXT(IF(#REF!=\"\",\"\",#REF!),\"mm/dd/yyyy\")","v":{"$error":"#REF!"}},{"$f":"#REF!","v":{"$error":"#REF!"}},{"$f":"#REF!","v":{"$error":"#REF!"}},{"$f":"#REF!","v":{"$error":"#REF!"}},{"$f":"#REF!-#REF!","v":{"$error":"#REF!"}},{"$f":"#REF!-#REF!","v":{"$error":"#REF!"}},{"$f":"#REF!","v":{"$error":"#REF!"}},{"$f":"#REF!","v":{"$error":"#REF!"}},{"$f":"IFERROR(ROUND(#REF!*100,0),\"\")","v":""},{"$f":"IFERROR(ROUND(#REF!*100,0),\"\")","v":""},"",{"$f":"Inputs!D55","v":{"$error":"#REF!"}},"RCx Enhanced HVAC ",{"$f":"Inputs!S55","v":{"$error":"#REF!"}},{"$f":"Inputs!I132","v":{"$error":"#REF!"}},{"$f":"Inputs!H132","v":{"$error":"#REF!"}},{"$error":"#REF!"},{"$f":"Inputs!G132","v":{"$error":"#REF!"}},{"$f":"Inputs!F132","v":{"$error":"#REF!"}},{"$f":"Inputs!E132","v":{"$error":"#REF!"}},{"$f":"Inputs!D132","v":{"$error":"#REF!"}},5,1,{"$f":"#REF!","v":{"$error":"#REF!"}}]
["RCx Enhanced HVAC ",{"$f":"IF(OR(Inputs!I56=\"\",Inputs!H56<36),\"No\",\"Yes\")","v":{"$error":"#REF!"}},{"$f":"Inputs!C56","v":{"$error":"#REF!"}},{"$f":"#REF!","v":{"$error":"#REF!"}},{"$f":"#REF!","v":{"$error":"#REF!"}},{"$f":"#REF!","v":{"$error":"#REF!"}},{"$f":"#REF!","v":{"$error":"#REF!"}},{"$f":"Inputs!G56","v":{"$error":"#REF!"}},{"$f":"#REF!","v":{"$error":"#REF!"}},{"$f":"TEXT(IF(#REF!=\"\",\"\",#REF!),\"mm/dd/yyyy\")","v":{"$error":"#REF!"}},{"$f":"#REF!","v":{"$error":"#REF!"}},{"$f":"#REF!","v":{"$error":"#REF!"}},{"$f":"#REF!","v":{"$error":"#REF!"}},{"$f":"#REF!-#REF!","v":{"$error":"#REF!"}},{"$f":"#REF!-#REF!","v":{"$error":"#REF!"}},{"$f":"#REF!","v":{"$error":"#REF!"}},{"$f":"#REF!","v":{"$error":"#REF!"}},{"$f":"IFERROR(ROUND(#REF!*100,0),\"\")","v":""},{"$f":"IFERROR(ROUND(#REF!*100,0),\"\")","v":""},"",{"$f":"Inputs!D56","v":{"$error":"#REF!"}},"RCx Enhanced HVAC ",{"$f":"Inputs!S56","v":{"$error":"#REF!"}},{"$f":"Inputs!I133","v":{"$error":"#REF!"}},{"$f":"Inputs!H133","v":{"$error":"#REF!"}},{"$error":"#REF!"},{"$f":"Inputs!G133","v":{"$error":"#REF!"}},{"$f":"Inputs!F133","v":{"$error":"#REF!"}},{"$f":"Inputs!E133","v":{"$error":"#REF!"}},{"$f":"Inputs!D133","v":{"$error":"#REF!"}},5,1,{"$f":"#REF!","v":{"$error":"#REF!"}}]
["RCx Enhanced HVAC ",{"$f":"IF(OR(Inputs!I57=\"\",Inputs!H57<36),\"No\",\"Yes\")","v":{"$error":"#REF!"}},{"$f":"Inputs!C57","v":{"$error":"#REF!"}},{"$f":"#REF!","v":{"$error":"#REF!"}},{"$f":"#REF!","v":{"$error":"#REF!"}},{"$f":"#REF!","v":{"$error":"#REF!"}},{"$f":"#REF!","v":{"$error":"#REF!"}},{"$f":"Inputs!G57","v":{"$error":"#REF!"}},{"$f":"#REF!","v":{"$error":"#REF!"}},{"$f":"TEXT(IF(#REF!=\"\",\"\",#REF!),\"mm/dd/yyyy\")","v":{"$error":"#REF!"}},{"$f":"#REF!","v":{"$error":"#REF!"}},{"$f":"#REF!","v":{"$error":"#REF!"}},{"$f":"#REF!","v":{"$error":"#REF!"}},{"$f":"#REF!-#REF!","v":{"$error":"#REF!"}},{"$f":"#REF!-#REF!","v":{"$error":"#REF!"}},{"$f":"#REF!","v":{"$error":"#REF!"}},{"$f":"#REF!","v":{"$error":"#REF!"}},{"$f":"IFERROR(ROUND(#REF!*100,0),\"\")","v":""},{"$f":"IFERROR(ROUND(#REF!*100,0),\"\")","v":""},"",{"$f":"Inputs!D57","v":{"$error":"#REF!"}},"RCx Enhanced HVAC ",{"$f":"Inputs!S57","v":{"$error":"#REF!"}},{"$f":"Inputs!I134","v":{"$error":"#REF!"}},{"$f":"Inputs!H134","v":{"$error":"#REF!"}},{"$error":"#REF!"},{"$f":"Inputs!G134","v":{"$error":"#REF!"}},{"$f":"Inputs!F134","v":{"$error":"#REF!"}},{"$f":"Inputs!E134","v":{"$error":"#REF!"}},{"$f":"Inputs!D134","v":{"$error":"#REF!"}},5,1,{"$f":"#REF!","v":{"$error":"#REF!"}}]
["RCx Enhanced HVAC ",{"$f":"IF(OR(Inputs!I58=\"\",Inputs!H58<36),\"No\",\"Yes\")","v":{"$error":"#REF!"}},{"$f":"Inputs!C58","v":{"$error":"#REF!"}},{"$f":"#REF!","v":{"$error":"#REF!"}},{"$f":"#REF!","v":{"$error":"#REF!"}},{"$f":"#REF!","v":{"$error":"#REF!"}},{"$f":"#REF!","v":{"$error":"#REF!"}},{"$f":"Inputs!G58","v":{"$error":"#REF!"}},{"$f":"#REF!","v":{"$error":"#REF!"}},{"$f":"TEXT(IF(#REF!=\"\",\"\",#REF!),\"mm/dd/yyyy\")","v":{"$error":"#REF!"}},{"$f":"#REF!","v":{"$error":"#REF!"}},{"$f":"#REF!","v":{"$error":"#REF!"}},{"$f":"#REF!","v":{"$error":"#REF!"}},{"$f":"#REF!-#REF!","v":{"$error":"#REF!"}},{"$f":"#REF!-#REF!","v":{"$error":"#REF!"}},{"$f":"#REF!","v":{"$error":"#REF!"}},{"$f":"#REF!","v":{"$error":"#REF!"}},{"$f":"IFERROR(ROUND(#REF!*100,0),\"\")","v":""},{"$f":"IFERROR(ROUND(#REF!*100,0),\"\")","v":""},"",{"$f":"Inputs!D58","v":{"$error":"#REF!"}},"RCx Enhanced HVAC ",{"$f":"Inputs!S58","v":{"$error":"#REF!"}},{"$f":"Inputs!I135","v":{"$error":"#REF!"}},{"$f":"Inputs!H135","v":{"$error":"#REF!"}},{"$error":"#REF!"},{"$f":"Inputs!G135","v":{"$error":"#REF!"}},{"$f":"Inputs!F135","v":{"$error":"#REF!"}},{"$f":"Inputs!E135","v":{"$error":"#REF!"}},{"$f":"Inputs!D135","v":{"$error":"#REF!"}},5,1,{"$f":"#REF!","v":{"$error":"#REF!"}}]
["RCx Enhanced HVAC ",{"$f":"IF(OR(Inputs!I59=\"\",Inputs!H59<36),\"No\",\"Yes\")","v":{"$error":"#REF!"}},{"$f":"Inputs!C59","v":{"$error":"#REF!"}},{"$f":"#REF!","v":{"$error":"#REF!"}},{"$f":"#REF!","v":{"$error":"#REF!"}},{"$f":"#REF!","v":{"$error":"#REF!"}},{"$f":"#REF!","v":{"$error":"#REF!"}},{"$f":"Inputs!G59","v":{"$error":"#REF!"}},{"$f":"#REF!","v":{"$error":"#REF!"}},{"$f":"TEXT(IF(#REF!=\"\",\"\",#REF!),\"mm/dd/yyyy\")","v":{"$error":"#REF!"}},{"$f":"#REF!","v":{"$error":"#REF!"}},{"$f":"#REF!","v":{"$error":"#REF!"}},{"$f":"#REF!","v":{"$error":"#REF!"}},{"$f":"#REF!-#REF!","v":{"$error":"#REF!"}},{"$f":"#REF!-#REF!","v":{"$error":"#REF!"}},{"$f":"#REF!","v":{"$error":"#REF!"}},{"$f":"#REF!","v":{"$error":"#REF!"}},{"$f":"IFERROR(ROUND(#REF!*100,0),\"\")","v":""},{"$f":"IFERROR(ROUND(#REF!*100,0),\"\")","v":""},"",{"$f":"Inputs!D59","v":{"$error":"#REF!"}},"RCx Enhanced HVAC ",{"$f":"Inputs!S59","v":{"$error":"#REF!"}},{"$f":"Inputs!I136","v":{"$error":"#REF!"}},{"$f":"Inputs!H136","v":{"$error":"#REF!"}},{"$error":"#REF!"},{"$f":"Inputs!G136","v":{"$error":"#REF!"}},{"$f":"Inputs!F136","v":{"$error":"#REF!"}},{"$f":"Inputs!E136","v":{"$error":"#REF!"}},{"$f":"Inputs!D136","v":{"$error":"#REF!"}},5,1,{"$f":"#REF!","v":{"$error":"#REF!"}}]
["RCx Enhanced HVAC ",{"$f":"IF(OR(Inputs!I60=\"\",Inputs!H60<36),\"No\",\"Yes\")","v":{"$error":"#REF!"}},{"$f":"Inputs!C60","v":{"$error":"#REF!"}},{"$f":"#REF!","v":{"$error":"#REF!"}},{"$f":"#REF!","v":{"$error":"#REF!"}},{"$f":"#REF!","v":{"$error":"#REF!"}},{"$f":"#REF!","v":{"$error":"#REF!"}},{"$f":"Inputs!G60","v":{"$error":"#REF!"}},{"$f":"#REF!","v":{"$error":"#REF!"}},{"$f":"TEXT(IF(#REF!=\"\",\"\",#REF!),\"mm/dd/yyyy\")","v":{"$error":"#REF!"}},{"$f":"#REF!","v":{"$error":"#REF!"}},{"$f":"#REF!","v":{"$error":"#REF!"}},{"$f":"#REF!","v":{"$error":"#REF!"}},{"$f":"#REF!-#REF!","v":{"$error":"#REF!"}},{"$f":"#REF!-#REF!","v":{"$error":"#REF!"}},{"$f":"#REF!","v":{"$error":"#REF!"}},{"$f":"#REF!","v":{"$error":"#REF!"}},{"$f":"IFERROR(ROUND(#REF!*100,0),\"\")","v":""},{"$f":"IFERROR(ROUND(#REF!*100,0),\"\")","v":""},"",{"$f":"Inputs!D60","v":{"$error":"#REF!"}},"RCx Enhanced HVAC ",{"$f":"Inputs!S60","v":{"$error":"#REF!"}},{"$f":"Inputs!I137","v":{"$error":"#REF!"}},{"$f":"Inputs!H137","v":{"$error":"#REF!"}},{"$error":"#REF!"},{"$f":"Inputs!G137","v":{"$error":"#REF!"}},{"$f":"Inputs!F137","v":{"$error":"#REF!"}},{"$f":"Inputs!E137","v":{"$error":"#REF!"}},{"$f":"Inputs!D137","v":{"$error":"#REF!"}},5,1,{"$f":"#REF!","v":{"$error":"#REF!"}}]
["RCx Enhanced HVAC ",{"$f":"IF(OR(Inputs!I61=\"\",Inputs!H61<36),\"No\",\"Yes\")","v":{"$error":"#REF!"}},{"$f":"Inputs!C61","v":{"$error":"#REF!"}},{"$f":"#REF!","v":{"$error":"#REF!"}},{"$f":"#REF!","v":{"$error":"#REF!"}},{"$f":"#REF!","v":{"$error":"#REF!"}},{"$f":"#REF!","v":{"$error":"#REF!"}},{"$f":"Inputs!G61","v":{"$error":"#REF!"}},{"$f":"#REF!","v":{"$error":"#REF!"}},{"$f":"TEXT(IF(#REF!=\"\",\"\",#REF!),\"mm/dd/yyyy\")","v":{"$error":"#REF!"}},{"$f":"#REF!","v":{"$error":"#REF!"}},{"$f":"#REF!","v":{"$error":"#REF!"}},{"$f":"#REF!","v":{"$error":"#REF!"}},{"$f":"#REF!-#REF!","v":{"$error":"#REF!"}},{"$f":"#REF!-#REF!","v":{"$error":"#REF!"}},{"$f":"#REF!","v":{"$error":"#REF!"}},{"$f":"#REF!","v":{"$error":"#REF!"}},{"$f":"IFERROR(ROUND(#REF!*100,0),\"\")","v":""},{"$f":"IFERROR(ROUND(#REF!*100,0),\"\")","v":""},"",{"$f":"Inputs!D61","v":{"$error":"#REF!"}},"RCx Enhanced HVAC ",{"$f":"Inputs!S61","v":{"$error":"#REF!"}},{"$f":"Inputs!I138","v":{"$error":"#REF!"}},{"$f":"Inputs!H138","v":{"$error":"#REF!"}},{"$error":"#REF!"},{"$f":"Inputs!G138","v":{"$error":"#REF!"}},{"$f":"Inputs!F138","v":{"$error":"#REF!"}},{"$f":"Inputs!E138","v":{"$error":"#REF!"}},{"$f":"Inputs!D138","v":{"$error":"#REF!"}},5,1,{"$f":"#REF!","v":{"$error":"#REF!"}}]
["RCx Enhanced HVAC ",{"$f":"IF(OR(Inputs!I62=\"\",Inputs!H62<36),\"No\",\"Yes\")","v":{"$error":"#REF!"}},{"$f":"Inputs!C62","v":{"$error":"#REF!"}},{"$f":"#REF!","v":{"$error":"#REF!"}},{"$f":"#REF!","v":{"$error":"#REF!"}},{"$f":"#REF!","v":{"$error":"#REF!"}},{"$f":"#REF!","v":{"$error":"#REF!"}},{"$f":"Inputs!G62","v":{"$error":"#REF!"}},{"$f":"#REF!","v":{"$error":"#REF!"}},{"$f":"TEXT(IF(#REF!=\"\",\"\",#REF!),\"mm/dd/yyyy\")","v":{"$error":"#REF!"}},{"$f":"#REF!","v":{"$error":"#REF!"}},{"$f":"#REF!","v":{"$error":"#REF!"}},{"$f":"#REF!","v":{"$error":"#REF!"}},{"$f":"#REF!-#REF!","v":{"$error":"#REF!"}},{"$f":"#REF!-#REF!","v":{"$error":"#REF!"}},{"$f":"#REF!","v":{"$error":"#REF!"}},{"$f":"#REF!","v":{"$error":"#REF!"}},{"$f":"IFERROR(ROUND(#REF!*100,0),\"\")","v":""},{"$f":"IFERROR(ROUND(#REF!*100,0),\"\")","v":""},"",{"$f":"Inputs!D62","v":{"$error":"#REF!"}},"RCx Enhanced HVAC ",{"$f":"Inputs!S62","v":{"$error":"#REF!"}},{"$f":"Inputs!I139","v":{"$error":"#REF!"}},{"$f":"Inputs!H139","v":{"$error":"#REF!"}},{"$error":"#REF!"},{"$f":"Inputs!G139","v":{"$error":"#REF!"}},{"$f":"Inputs!F139","v":{"$error":"#REF!"}},{"$f":"Inputs!E139","v":{"$error":"#REF!"}},{"$f":"Inputs!D139","v":{"$error":"#REF!"}},5,1,{"$f":"#REF!","v":{"$error":"#REF!"}}]
["RCx Enhanced HVAC ",{"$f":"IF(OR(Inputs!I63=\"\",Inputs!H63<36),\"No\",\"Yes\")","v":{"$error":"#REF!"}},{"$f":"Inputs!C63","v":{"$error":"#REF!"}},{"$f":"#REF!","v":{"$error":"#REF!"}},{"$f":"#REF!","v":{"$error":"#REF!"}},{"$f":"#REF!","v":{"$error":"#REF!"}},{"$f":"#REF!","v":{"$error":"#REF!"}},{"$f":"Inputs!G63","v":{"$error":"#REF!"}},{"$f":"#REF!","v":{"$error":"#REF!"}},{"$f":"TEXT(IF(#REF!=\"\",\"\",#REF!),\"mm/dd/yyyy\")","v":{"$error":"#REF!"}},{"$f":"#REF!","v":{"$error":"#REF!"}},{"$f":"#REF!","v":{"$error":"#REF!"}},{"$f":"#REF!","v":{"$error":"#REF!"}},{"$f":"#REF!-#REF!","v":{"$error":"#REF!"}},{"$f":"#REF!-#REF!","v":{"$error":"#REF!"}},{"$f":"#REF!","v":{"$error":"#REF!"}},{"$f":"#REF!","v":{"$error":"#REF!"}},{"$f":"IFERROR(ROUND(#REF!*100,0),\"\")","v":""},{"$f":"IFERROR(ROUND(#REF!*100,0),\"\")","v":""},"",{"$f":"Inputs!D63","v":{"$error":"#REF!"}},"RCx Enhanced HVAC ",{"$f":"Inputs!S63","v":{"$error":"#REF!"}},{"$f":"Inputs!I140","v":{"$error":"#REF!"}},{"$f":"Inputs!H140","v":{"$error":"#REF!"}},{"$error":"#REF!"},{"$f":"Inputs!G140","v":{"$error":"#REF!"}},{"$f":"Inputs!F140","v":{"$error":"#REF!"}},{"$f":"Inputs!E140","v":{"$error":"#REF!"}},{"$f":"Inputs!D140","v":{"$error":"#REF!"}},5,1,{"$f":"#REF!","v":{"$error":"#REF!"}}]
["RCx Enhanced HVAC ",{"$f":"IF(OR(Inputs!I64=\"\",Inputs!H64<36),\"No\",\"Yes\")","v":{"$error":"#REF!"}},{"$f":"Inputs!C64","v":{"$error":"#REF!"}},{"$f":"#REF!","v":{"$error":"#REF!"}},{"$f":"#REF!","v":{"$error":"#REF!"}},{"$f":"#REF!","v":{"$error":"#REF!"}},{"$f":"#REF!","v":{"$error":"#REF!"}},{"$f":"Inputs!G64","v":{"$error":"#REF!"}},{"$f":"#REF!","v":{"$error":"#REF!"}},{"$f":"TEXT(IF(#REF!=\"\",\"\",#REF!),\"mm/dd/yyyy\")","v":{"$error":"#REF!"}},{"$f":"#REF!","v":{"$error":"#REF!"}},{"$f":"#REF!","v":{"$error":"#REF!"}},{"$f":"#REF!","v":{"$error":"#REF!"}},{"$f":"#REF!-#REF!","v":{"$error":"#REF!"}},{"$f":"#REF!-#REF!","v":{"$error":"#REF!"}},{"$f":"#REF!","v":{"$error":"#REF!"}},{"$f":"#REF!","v":{"$error":"#REF!"}},{"$f":"IFERROR(ROUND(#REF!*100,0),\"\")","v":""},{"$f":"IFERROR(ROUND(#REF!*100,0),\"\")","v":""},"",{"$f":"Inputs!D64","v":{"$error":"#REF!"}},"RCx Enhanced HVAC ",{"$f":"Inputs!S64","v":{"$error":"#REF!"}},{"$f":"Inputs!I141","v":{"$error":"#REF!"}},{"$f":"Inputs!H141","v":{"$error":"#REF!"}},{"$error":"#REF!"},{"$f":"Inputs!G141","v":{"$error":"#REF!"}},{"$f":"Inputs!F141","v":{"$error":"#REF!"}},{"$f":"Inputs!E141","v":{"$error":"#REF!"}},{"$f":"Inputs!D141","v":{"$error":"#REF!"}},5,1,{"$f":"#REF!","v":{"$error":"#REF!"}}]
["RCx Enhanced HVAC ",{"$f":"IF(OR(Inputs!I65=\"\",Inputs!H65<36),\"No\",\"Yes\")","v":{"$error":"#REF!"}},{"$f":"Inputs!C65","v":{"$error":"#REF!"}},{"$f":"#REF!","v":{"$error":"#REF!"}},{"$f":"#REF!","v":{"$error":"#REF!"}},{"$f":"#REF!","v":{"$error":"#REF!"}},{"$f":"#REF!","v":{"$error":"#REF!"}},{"$f":"Inputs!G65","v":{"$error":"#REF!"}},{"$f":"#REF!","v":{"$error":"#REF!"}},{"$f":"TEXT(IF(#REF!=\"\",\"\",#REF!),\"mm/dd/yyyy\")","v":{"$error":"#REF!"}},{"$f":"#REF!","v":{"$error":"#REF!"}},{"$f":"#REF!","v":{"$error":"#REF!"}},{"$f":"#REF!","v":{"$error":"#REF!"}},{"$f":"#REF!-#REF!","v":{"$error":"#REF!"}},{"$f":"#REF!-#REF!","v":{"$error":"#REF!"}},{"$f":"#REF!","v":{"$error":"#REF!"}},{"$f":"#REF!","v":{"$error":"#REF!"}},{"$f":"IFERROR(ROUND(#REF!*100,0),\"\")","v":""},{"$f":"IFERROR(ROUND(#REF!*100,0),\"\")","v":""},"",{"$f":"Inputs!D65","v":{"$error":"#REF!"}},"RCx Enhanced HVAC ",{"$f":"Inputs!S65","v":{"$error":"#REF!"}},{"$f":"Inputs!I142","v":{"$error":"#REF!"}},{"$f":"Inputs!H142","v":{"$error":"#REF!"}},{"$error":"#REF!"},{"$f":"Inputs!G142","v":{"$error":"#REF!"}},{"$f":"Inputs!F142","v":{"$error":"#REF!"}},{"$f":"Inputs!E142","v":{"$error":"#REF!"}},{"$f":"Inputs!D142","v":{"$error":"#REF!"}},5,1,{"$f":"#REF!","v":{"$error":"#REF!"}}]
["RCx Enhanced HVAC ",{"$f":"IF(OR(Inputs!I66=\"\",Inputs!H66<36),\"No\",\"Yes\")","v":{"$error":"#REF!"}},{"$f":"Inputs!C66","v":{"$error":"#REF!"}},{"$f":"#REF!","v":{"$error":"#REF!"}},{"$f":"#REF!","v":{"$error":"#REF!"}},{"$f":"#REF!","v":{"$error":"#REF!"}},{"$f":"#REF!","v":{"$error":"#REF!"}},{"$f":"Inputs!G66","v":{"$error":"#REF!"}},{"$f":"#REF!","v":{"$error":"#REF!"}},{"$f":"TEXT(IF(#REF!=\"\",\"\",#REF!),\"mm/dd/yyyy\")","v":{"$error":"#REF!"}},{"$f":"#REF!","v":{"$error":"#REF!"}},{"$f":"#REF!","v":{"$error":"#REF!"}},{"$f":"#REF!","v":{"$error":"#REF!"}},{"$f":"#REF!-#REF!","v":{"$error":"#REF!"}},{"$f":"#REF!-#REF!","v":{"$error":"#REF!"}},{"$f":"#REF!","v":{"$error":"#REF!"}},{"$f":"#REF!","v":{"$error":"#REF!"}},{"$f":"IFERROR(ROUND(#REF!*100,0),\"\")","v":""},{"$f":"IFERROR(ROUND(#REF!*100,0),\"\")","v":""},"",{"$f":"Inputs!D66","v":{"$error":"#REF!"}},"RCx Enhanced HVAC ",{"$f":"Inputs!S66","v":{"$error":"#REF!"}},{"$f":"Inputs!I143","v":{"$error":"#REF!"}},{"$f":"Inputs!H143","v":{"$error":"#REF!"}},{"$error":"#REF!"},{"$f":"Inputs!G143","v":{"$error":"#REF!"}},{"$f":"Inputs!F143","v":{"$error":"#REF!"}},{"$f":"Inputs!E143","v":{"$error":"#REF!"}},{"$f":"Inputs!D143","v":{"$error":"#REF!"}},5,1,{"$f":"#REF!","v":{"$error":"#REF!"}}]
["RCx Enhanced HVAC ",{"$f":"IF(OR(Inputs!I67=\"\",Inputs!H67<36),\"No\",\"Yes\")","v":{"$error":"#REF!"}},{"$f":"Inputs!C67","v":{"$error":"#REF!"}},{"$f":"#REF!","v":{"$error":"#REF!"}},{"$f":"#REF!","v":{"$error":"#REF!"}},{"$f":"#REF!","v":{"$error":"#REF!"}},{"$f":"#REF!","v":{"$error":"#REF!"}},{"$f":"Inputs!G67","v":{"$error":"#REF!"}},{"$f":"#REF!","v":{"$error":"#REF!"}},{"$f":"TEXT(IF(#REF!=\"\",\"\",#REF!),\"mm/dd/yyyy\")","v":{"$error":"#REF!"}},{"$f":"#REF!","v":{"$error":"#REF!"}},{"$f":"#REF!","v":{"$error":"#REF!"}},{"$f":"#REF!","v":{"$error":"#REF!"}},{"$f":"#REF!-#REF!","v":{"$error":"#REF!"}},{"$f":"#REF!-#REF!","v":{"$error":"#REF!"}},{"$f":"#REF!","v":{"$error":"#REF!"}},{"$f":"#REF!","v":{"$error":"#REF!"}},{"$f":"IFERROR(ROUND(#REF!*100,0),\"\")","v":""},{"$f":"IFERROR(ROUND(#REF!*100,0),\"\")","v":""},"",{"$f":"Inputs!D67","v":{"$error":"#REF!"}},"RCx Enhanced HVAC ",{"$f":"Inputs!S67","v":{"$error":"#REF!"}},{"$f":"Inputs!I144","v":{"$error":"#REF!"}},{"$f":"Inputs!H144","v":{"$error":"#REF!"}},{"$error":"#REF!"},{"$f":"Inputs!G144","v":{"$error":"#REF!"}},{"$f":"Inputs!F144","v":{"$error":"#REF!"}},{"$f":"Inputs!E144","v":{"$error":"#REF!"}},{"$f":"Inputs!D144","v":{"$error":"#REF!"}},5,1,{"$f":"#REF!","v":{"$error":"#REF!"}}]
["RCx Enhanced HVAC ",{"$f":"IF(OR(Inputs!I68=\"\",Inputs!H68<36),\"No\",\"Yes\")","v":{"$error":"#REF!"}},{"$f":"Inputs!C68","v":{"$error":"#REF!"}},{"$f":"#REF!","v":{"$error":"#REF!"}},{"$f":"#REF!","v":{"$error":"#REF!"}},{"$f":"#REF!","v":{"$error":"#REF!"}},{"$f":"#REF!","v":{"$error":"#REF!"}},{"$f":"Inputs!G68","v":{"$error":"#REF!"}},{"$f":"#REF!","v":{"$error":"#REF!"}},{"$f":"TEXT(IF(#REF!=\"\",\"\",#REF!),\"mm/dd/yyyy\")","v":{"$error":"#REF!"}},{"$f":"#REF!","v":{"$error":"#REF!"}},{"$f":"#REF!","v":{"$error":"#REF!"}},{"$f":"#REF!","v":{"$error":"#REF!"}},{"$f":"#REF!-#REF!","v":{"$error":"#REF!"}},{"$f":"#REF!-#REF!","v":{"$error":"#REF!"}},{"$f":"#REF!","v":{"$error":"#REF!"}},{"$f":"#REF!","v":{"$error":"#REF!"}},{"$f":"IFERROR(ROUND(#REF!*100,0),\"\")","v":""},{"$f":"IFERROR(ROUND(#REF!*100,0),\"\")","v":""},"",{"$f":"Inputs!D68","v":{"$error":"#REF!"}},"RCx Enhanced HVAC ",{"$f":"Inputs!S68","v":{"$error":"#REF!"}},{"$f":"Inputs!I145","v":{"$error":"#REF!"}},{"$f":"Inputs!H145","v":{"$error":"#REF!"}},{"$error":"#REF!"},{"$f":"Inputs!G145","v":{"$error":"#REF!"}},{"$f":"Inputs!F145","v":{"$error":"#REF!"}},{"$f":"Inputs!E145","v":{"$error":"#REF!"}},{"$f":"Inputs!D145","v":{"$error":"#REF!"}},5,1,{"$f":"#REF!","v":{"$error":"#REF!"}}]
["RCx Enhanced HVAC ",{"$f":"IF(OR(Inputs!I69=\"\",Inputs!H69<36),\"No\",\"Yes\")","v":{"$error":"#REF!"}},{"$f":"Inputs!C69","v":{"$error":"#REF!"}},{"$f":"#REF!","v":{"$error":"#REF!"}},{"$f":"#REF!","v":{"$error":"#REF!"}},{"$f":"#REF!","v":{"$error":"#REF!"}},{"$f":"#REF!","v":{"$error":"#REF!"}},{"$f":"Inputs!G69","v":{"$error":"#REF!"}},{"$f":"#REF!","v":{"$error":"#REF!"}},{"$f":"TEXT(IF(#REF!=\"\",\"\",#REF!),\"mm/dd/yyyy\")","v":{"$error":"#REF!"}},{"$f":"#REF!","v":{"$error":"#REF!"}},{"$f":"#REF!","v":{"$error":"#REF!"}},{"$f":"#REF!","v":{"$error":"#REF!"}},{"$f":"#REF!-#REF!","v":{"$error":"#REF!"}},{"$f":"#REF!-#REF!","v":{"$error":"#REF!"}},{"$f":"#REF!","v":{"$error":"#REF!"}},{"$f":"#REF!","v":{"$error":"#REF!"}},{"$f":"IFERROR(ROUND(#REF!*100,0),\"\")","v":""},{"$f":"IFERROR(ROUND(#REF!*100,0),\"\")","v":""},"",{"$f":"Inputs!D69","v":{"$error":"#REF!"}},"RCx Enhanced HVAC ",{"$f":"Inputs!S69","v":{"$error":"#REF!"}},{"$f":"Inputs!I146","v":{"$error":"#REF!"}},{"$f":"Inputs!H146","v":{"$error":"#REF!"}},{"$error":"#REF!"},{"$f":"Inputs!G146","v":{"$error":"#REF!"}},{"$f":"Inputs!F146","v":{"$error":"#REF!"}},{"$f":"Inputs!E146","v":{"$error":"#REF!"}},{"$f":"Inputs!D146","v":{"$error":"#REF!"}},5,1,{"$f":"#REF!","v":{"$error":"#REF!"}}]
["RCx Enhanced HVAC ",{"$f":"IF(OR(Inputs!I70=\"\",Inputs!H70<36),\"No\",\"Yes\")","v":{"$error":"#REF!"}},{"$f":"Inputs!C70","v":{"$error":"#REF!"}},{"$f":"#REF!","v":{"$error":"#REF!"}},{"$f":"#REF!","v":{"$error":"#REF!"}},{"$f":"#REF!","v":{"$error":"#REF!"}},{"$f":"#REF!","v":{"$error":"#REF!"}},{"$f":"Inputs!G70","v":{"$error":"#REF!"}},{"$f":"#REF!","v":{"$error":"#REF!"}},{"$f":"TEXT(IF(#REF!=\"\",\"\",#REF!),\"mm/dd/yyyy\")","v":{"$error":"#REF!"}},{"$f":"#REF!","v":{"$error":"#REF!"}},{"$f":"#REF!","v":{"$error":"#REF!"}},{"$f":"#REF!","v":{"$error":"#REF!"}},{"$f":"#REF!-#REF!","v":{"$error":"#REF!"}},{"$f":"#REF!-#REF!","v":{"$error":"#REF!"}},{"$f":"#REF!","v":{"$error":"#REF!"}},{"$f":"#REF!","v":{"$error":"#REF!"}},{"$f":"IFERROR(ROUND(#REF!*100,0),\"\")","v":""},{"$f":"IFERROR(ROUND(#REF!*100,0),\"\")","v":""},"",{"$f":"Inputs!D70","v":{"$error":"#REF!"}},"RCx Enhanced HVAC ",{"$f":"Inputs!S70","v":{"$error":"#REF!"}},{"$f":"Inputs!I147","v":{"$error":"#REF!"}},{"$f":"Inputs!H147","v":{"$error":"#REF!"}},{"$error":"#REF!"},{"$f":"Inputs!G147","v":{"$error":"#REF!"}},{"$f":"Inputs!F147","v":{"$error":"#REF!"}},{"$f":"Inputs!E147","v":{"$error":"#REF!"}},{"$f":"Inputs!D147","v":{"$error":"#REF!"}},5,1,{"$f":"#REF!","v":{"$error":"#REF!"}}]
["RCx Enhanced HVAC ",{"$f":"IF(OR(Inputs!I71=\"\",Inputs!H71<36),\"No\",\"Yes\")","v":{"$error":"#REF!"}},{"$f":"Inputs!C71","v":{"$error":"#REF!"}},{"$f":"#REF!","v":{"$error":"#REF!"}},{"$f":"#REF!","v":{"$error":"#REF!"}},{"$f":"#REF!","v":{"$error":"#REF!"}},{"$f":"#REF!","v":{"$error":"#REF!"}},{"$f":"Inputs!G71","v":{"$error":"#REF!"}},{"$f":"#REF!","v":{"$error":"#REF!"}},{"$f":"TEXT(IF(#REF!=\"\",\"\",#REF!),\"mm/dd/yyyy\")","v":{"$error":"#REF!"}},{"$f":"#REF!","v":{"$error":"#REF!"}},{"$f":"#REF!","v":{"$error":"#REF!"}},{"$f":"#REF!","v":{"$error":"#REF!"}},{"$f":"#REF!-#REF!","v":{"$error":"#REF!"}},{"$f":"#REF!-#REF!","v":{"$error":"#REF!"}},{"$f":"#REF!","v":{"$error":"#REF!"}},{"$f":"#REF!","v":{"$error":"#REF!"}},{"$f":"IFERROR(ROUND(#REF!*100,0),\"\")","v":""},{"$f":"IFERROR(ROUND(#REF!*100,0),\"\")","v":""},"",{"$f":"Inputs!D71","v":{"$error":"#REF!"}},"RCx Enhanced HVAC ",{"$f":"Inputs!S71","v":{"$error":"#REF!"}},{"$f":"Inputs!I148","v":{"$error":"#REF!"}},{"$f":"Inputs!H148","v":{"$error":"#REF!"}},{"$error":"#REF!"},{"$f":"Inputs!G148","v":{"$error":"#REF!"}},{"$f":"Inputs!F148","v":{"$error":"#REF!"}},{"$f":"Inputs!E148","v":{"$error":"#REF!"}},{"$f":"Inputs!D148","v":{"$error":"#REF!"}},5,1,{"$f":"#REF!","v":{"$error":"#REF!"}}]
["RCx Enhanced HVAC ",{"$f":"IF(OR(Inputs!I72=\"\",Inputs!H72<36),\"No\",\"Yes\")","v":{"$error":"#REF!"}},{"$f":"Inputs!C72","v":{"$error":"#REF!"}},{"$f":"#REF!","v":{"$error":"#REF!"}},{"$f":"#REF!","v":{"$error":"#REF!"}},{"$f":"#REF!","v":{"$error":"#REF!"}},{"$f":"#REF!","v":{"$error":"#REF!"}},{"$f":"Inputs!G72","v":{"$error":"#REF!"}},{"$f":"#REF!","v":{"$error":"#REF!"}},{"$f":"TEXT(IF(#REF!=\"\",\"\",#REF!),\"mm/dd/yyyy\")","v":{"$error":"#REF!"}},{"$f":"#REF!","v":{"$error":"#REF!"}},{"$f":"#REF!","v":{"$error":"#REF!"}},{"$f":"#REF!","v":{"$error":"#REF!"}},{"$f":"#REF!-#REF!","v":{"$error":"#REF!"}},{"$f":"#REF!-#REF!","v":{"$error":"#REF!"}},{"$f":"#REF!","v":{"$error":"#REF!"}},{"$f":"#REF!","v":{"$error":"#REF!"}},{"$f":"IFERROR(ROUND(#REF!*100,0),\"\")","v":""},{"$f":"IFERROR(ROUND(#REF!*100,0),\"\")","v":""},"",{"$f":"Inputs!D72","v":{"$error":"#REF!"}},"RCx Enhanced HVAC ",{"$f":"Inputs!S72","v":{"$error":"#REF!"}},{"$f":"Inputs!I149","v":{"$error":"#REF!"}},{"$f":"Inputs!H149","v":{"$error":"#REF!"}},{"$error":"#REF!"},{"$f":"Inputs!G149","v":{"$error":"#REF!"}},{"$f":"Inputs!F149","v":{"$error":"#REF!"}},{"$f":"Inputs!E149","v":{"$error":"#REF!"}},{"$f":"Inputs!D149","v":{"$error":"#REF!"}},5,1,{"$f":"#REF!","v":{"$error":"#REF!"}}]
["RCx Enhanced HVAC ",{"$f":"IF(OR(Inputs!I73=\"\",Inputs!H73<36),\"No\",\"Yes\")","v":{"$error":"#REF!"}},{"$f":"Inputs!C73","v":{"$error":"#REF!"}},{"$f":"#REF!","v":{"$error":"#REF!"}},{"$f":"#REF!","v":{"$error":"#REF!"}},{"$f":"#REF!","v":{"$error":"#REF!"}},{"$f":"#REF!","v":{"$error":"#REF!"}},{"$f":"Inputs!G73","v":{"$error":"#REF!"}},{"$f":"#REF!","v":{"$error":"#REF!"}},{"$f":"TEXT(IF(#REF!=\"\",\"\",#REF!),\"mm/dd/yyyy\")","v":{"$error":"#REF!"}},{"$f":"#REF!","v":{"$error":"#REF!"}},{"$f":"#REF!","v":{"$error":"#REF!"}},{"$f":"#REF!","v":{"$error":"#REF!"}},{"$f":"#REF!-#REF!","v":{"$error":"#REF!"}},{"$f":"#REF!-#REF!","v":{"$error":"#REF!"}},{"$f":"#REF!","v":{"$error":"#REF!"}},{"$f":"#REF!","v":{"$error":"#REF!"}},{"$f":"IFERROR(ROUND(#REF!*100,0),\"\")","v":""},{"$f":"IFERROR(ROUND(#REF!*100,0),\"\")","v":""},"",{"$f":"Inputs!D73","v":{"$error":"#REF!"}},"RCx Enhanced HVAC ",{"$f":"Inputs!S73","v":{"$error":"#REF!"}},{"$f":"Inputs!I150","v":{"$error":"#REF!"}},{"$f":"Inputs!H150","v":{"$error":"#REF!"}},{"$error":"#REF!"},{"$f":"Inputs!G150","v":{"$error":"#REF!"}},{"$f":"Inputs!F150","v":{"$error":"#REF!"}},{"$f":"Inputs!E150","v":{"$error":"#REF!"}},{"$f":"Inputs!D150","v":{"$error":"#REF!"}},5,1,{"$f":"#REF!","v":{"$error":"#REF!"}}]
["RCx Enhanced HVAC ",{"$f":"IF(OR(Inputs!I74=\"\",Inputs!H74<36),\"No\",\"Yes\")","v":{"$error":"#REF!"}},{"$f":"Inputs!C74","v":{"$error":"#REF!"}},{"$f":"#REF!","v":{"$error":"#REF!"}},{"$f":"#REF!","v":{"$error":"#REF!"}},{"$f":"#REF!","v":{"$error":"#REF!"}},{"$f":"#REF!","v":{"$error":"#REF!"}},{"$f":"Inputs!G74","v":{"$error":"#REF!"}},{"$f":"#REF!","v":{"$error":"#REF!"}},{"$f":"TEXT(IF(#REF!=\"\",\"\",#REF!),\"mm/dd/yyyy\")","v":{"$error":"#REF!"}},{"$f":"#REF!","v":{"$error":"#REF!"}},{"$f":"#REF!","v":{"$error":"#REF!"}},{"$f":"#REF!","v":{"$error":"#REF!"}},{"$f":"#REF!-#REF!","v":{"$error":"#REF!"}},{"$f":"#REF!-#REF!","v":{"$error":"#REF!"}},{"$f":"#REF!","v":{"$error":"#REF!"}},{"$f":"#REF!","v":{"$error":"#REF!"}},{"$f":"IFERROR(ROUND(#REF!*100,0),\"\")","v":""},{"$f":"IFERROR(ROUND(#REF!*100,0),\"\")","v":""},"",{"$f":"Inputs!D74","v":{"$error":"#REF!"}},"RCx Enhanced HVAC ",{"$f":"Inputs!S74","v":{"$error":"#REF!"}},{"$f":"Inputs!I151","v":{"$error":"#REF!"}},{"$f":"Inputs!H151","v":{"$error":"#REF!"}},{"$error":"#REF!"},{"$f":"Inputs!G151","v":{"$error":"#REF!"}},{"$f":"Inputs!F151","v":{"$error":"#REF!"}},{"$f":"Inputs!E151","v":{"$error":"#REF!"}},{"$f":"Inputs!D151","v":{"$error":"#REF!"}},5,1,{"$f":"#REF!","v":{"$error":"#REF!"}}]
["RCx Enhanced HVAC ",{"$f":"IF(OR(Inputs!I75=\"\",Inputs!H75<36),\"No\",\"Yes\")","v":{"$error":"#REF!"}},{"$f":"Inputs!C75","v":{"$error":"#REF!"}},{"$f":"#REF!","v":{"$error":"#REF!"}},{"$f":"#REF!","v":{"$error":"#REF!"}},{"$f":"#REF!","v":{"$error":"#REF!"}},{"$f":"#REF!","v":{"$error":"#REF!"}},{"$f":"Inputs!G75","v":{"$error":"#REF!"}},{"$f":"#REF!","v":{"$error":"#REF!"}},{"$f":"TEXT(IF(#REF!=\"\",\"\",#REF!),\"mm/dd/yyyy\")","v":{"$error":"#REF!"}},{"$f":"#REF!","v":{"$error":"#REF!"}},{"$f":"#REF!","v":{"$error":"#REF!"}},{"$f":"#REF!","v":{"$error":"#REF!"}},{"$f":"#REF!-#REF!","v":{"$error":"#REF!"}},{"$f":"#REF!-#REF!","v":{"$error":"#REF!"}},{"$f":"#REF!","v":{"$error":"#REF!"}},{"$f":"#REF!","v":{"$error":"#REF!"}},{"$f":"IFERROR(ROUND(#REF!*100,0),\"\")","v":""},{"$f":"IFERROR(ROUND(#REF!*100,0),\"\")","v":""},"",{"$f":"Inputs!D75","v":{"$error":"#REF!"}},"RCx Enhanced HVAC ",{"$f":"Inputs!S75","v":{"$error":"#REF!"}},{"$f":"Inputs!I152","v":{"$error":"#REF!"}},{"$f":"Inputs!H152","v":{"$error":"#REF!"}},{"$error":"#REF!"},{"$f":"Inputs!G152","v":{"$error":"#REF!"}},{"$f":"Inputs!F152","v":{"$error":"#REF!"}},{"$f":"Inputs!E152","v":{"$error":"#REF!"}},{"$f":"Inputs!D152","v":{"$error":"#REF!"}},5,1,{"$f":"#REF!","v":{"$error":"#REF!"}}]
["RCx Enhanced HVAC ",{"$f":"IF(OR(Inputs!I76=\"\",Inputs!H76<36),\"No\",\"Yes\")","v":{"$error":"#REF!"}},{"$f":"Inputs!C76","v":{"$error":"#REF!"}},{"$f":"#REF!","v":{"$error":"#REF!"}},{"$f":"#REF!","v":{"$error":"#REF!"}},{"$f":"#REF!","v":{"$error":"#REF!"}},{"$f":"#REF!","v":{"$error":"#REF!"}},{"$f":"Inputs!G76","v":{"$error":"#REF!"}},{"$f":"#REF!","v":{"$error":"#REF!"}},{"$f":"TEXT(IF(#REF!=\"\",\"\",#REF!),\"mm/dd/yyyy\")","v":{"$error":"#REF!"}},{"$f":"#REF!","v":{"$error":"#REF!"}},{"$f":"#REF!","v":{"$error":"#REF!"}},{"$f":"#REF!","v":{"$error":"#REF!"}},{"$f":"#REF!-#REF!","v":{"$error":"#REF!"}},{"$f":"#REF!-#REF!","v":{"$error":"#REF!"}},{"$f":"#REF!","v":{"$error":"#REF!"}},{"$f":"#REF!","v":{"$error":"#REF!"}},{"$f":"IFERROR(ROUND(#REF!*100,0),\"\")","v":""},{"$f":"IFERROR(ROUND(#REF!*100,0),\"\")","v":""},"",{"$f":"Inputs!D76","v":{"$error":"#REF!"}},"RCx Enhanced HVAC ",{"$f":"Inputs!S76","v":{"$error":"#REF!"}},{"$f":"Inputs!I153","v":{"$error":"#REF!"}},{"$f":"Inputs!H153","v":{"$error":"#REF!"}},{"$error":"#REF!"},{"$f":"Inputs!G153","v":{"$error":"#REF!"}},{"$f":"Inputs!F153","v":{"$error":"#REF!"}},{"$f":"Inputs!E153","v":{"$error":"#REF!"}},{"$f":"Inputs!D153","v":{"$error":"#REF!"}},5,1,{"$f":"#REF!","v":{"$error":"#REF!"}}]
["RCx Enhanced HVAC ",{"$f":"IF(OR(Inputs!I77=\"\",Inputs!H77<36),\"No\",\"Yes\")","v":{"$error":"#REF!"}},{"$f":"Inputs!C77","v":{"$error":"#REF!"}},{"$f":"#REF!","v":{"$error":"#REF!"}},{"$f":"#REF!","v":{"$error":"#REF!"}},{"$f":"#REF!","v":{"$error":"#REF!"}},{"$f":"#REF!","v":{"$error":"#REF!"}},{"$f":"Inputs!G77","v":{"$error":"#REF!"}},{"$f":"#REF!","v":{"$error":"#REF!"}},{"$f":"TEXT(IF(#REF!=\"\",\"\",#REF!),\"mm/dd/yyyy\")","v":{"$error":"#REF!"}},{"$f":"#REF!","v":{"$error":"#REF!"}},{"$f":"#REF!","v":{"$error":"#REF!"}},{"$f":"#REF!","v":{"$error":"#REF!"}},{"$f":"#REF!-#REF!","v":{"$error":"#REF!"}},{"$f":"#REF!-#REF!","v":{"$error":"#REF!"}},{"$f":"#REF!","v":{"$error":"#REF!"}},{"$f":"#REF!","v":{"$error":"#REF!"}},{"$f":"IFERROR(ROUND(#REF!*100,0),\"\")","v":""},{"$f":"IFERROR(ROUND(#REF!*100,0),\"\")","v":""},"",{"$f":"Inputs!D77","v":{"$error":"#REF!"}},"RCx Enhanced HVAC ",{"$f":"Inputs!S77","v":{"$error":"#REF!"}},{"$f":"Inputs!I154","v":{"$error":"#REF!"}},{"$f":"Inputs!H154","v":{"$error":"#REF!"}},{"$error":"#REF!"},{"$f":"Inputs!G154","v":{"$error":"#REF!"}},{"$f":"Inputs!F154","v":{"$error":"#REF!"}},{"$f":"Inputs!E154","v":{"$error":"#REF!"}},{"$f":"Inputs!D154","v":{"$error":"#REF!"}},5,1,{"$f":"#REF!","v":{"$error":"#REF!"}}]
["RCx Enhanced HVAC ",{"$f":"IF(OR(Inputs!I78=\"\",Inputs!H78<36),\"No\",\"Yes\")","v":{"$error":"#REF!"}},{"$f":"Inputs!C78","v":{"$error":"#REF!"}},{"$f":"#REF!","v":{"$error":"#REF!"}},{"$f":"#REF!","v":{"$error":"#REF!"}},{"$f":"#REF!","v":{"$error":"#REF!"}},{"$f":"#REF!","v":{"$error":"#REF!"}},{"$f":"Inputs!G78","v":{"$error":"#REF!"}},{"$f":"#REF!","v":{"$error":"#REF!"}},{"$f":"TEXT(IF(#REF!=\"\",\"\",#REF!),\"mm/dd/yyyy\")","v":{"$error":"#REF!"}},{"$f":"#REF!","v":{"$error":"#REF!"}},{"$f":"#REF!","v":{"$error":"#REF!"}},{"$f":"#REF!","v":{"$error":"#REF!"}},{"$f":"#REF!-#REF!","v":{"$error":"#REF!"}},{"$f":"#REF!-#REF!","v":{"$error":"#REF!"}},{"$f":"#REF!","v":{"$error":"#REF!"}},{"$f":"#REF!","v":{"$error":"#REF!"}},{"$f":"IFERROR(ROUND(#REF!*100,0),\"\")","v":""},{"$f":"IFERROR(ROUND(#REF!*100,0),\"\")","v":""},"",{"$f":"Inputs!D78","v":{"$error":"#REF!"}},"RCx Enhanced HVAC ",{"$f":"Inputs!S78","v":{"$error":"#REF!"}},{"$f":"Inputs!I155","v":{"$error":"#REF!"}},{"$f":"Inputs!H155","v":{"$error":"#REF!"}},{"$error":"#REF!"},{"$f":"Inputs!G155","v":{"$error":"#REF!"}},{"$f":"Inputs!F155","v":{"$error":"#REF!"}},{"$f":"Inputs!E155","v":{"$error":"#REF!"}},{"$f":"Inputs!D155","v":{"$error":"#REF!"}},5,1,{"$f":"#REF!","v":{"$error":"#REF!"}}]
["RCx Enhanced HVAC ",{"$f":"IF(OR(Inputs!I79=\"\",Inputs!H79<36),\"No\",\"Yes\")","v":{"$error":"#REF!"}},{"$f":"Inputs!C79","v":{"$error":"#REF!"}},{"$f":"#REF!","v":{"$error":"#REF!"}},{"$f":"#REF!","v":{"$error":"#REF!"}},{"$f":"#REF!","v":{"$error":"#REF!"}},{"$f":"#REF!","v":{"$error":"#REF!"}},{"$f":"Inputs!G79","v":{"$error":"#REF!"}},{"$f":"#REF!","v":{"$error":"#REF!"}},{"$f":"TEXT(IF(#REF!=\"\",\"\",#REF!),\"mm/dd/yyyy\")","v":{"$error":"#REF!"}},{"$f":"#REF!","v":{"$error":"#REF!"}},{"$f":"#REF!","v":{"$error":"#REF!"}},{"$f":"#REF!","v":{"$error":"#REF!"}},{"$f":"#REF!-#REF!","v":{"$error":"#REF!"}},{"$f":"#REF!-#REF!","v":{"$error":"#REF!"}},{"$f":"#REF!","v":{"$error":"#REF!"}},{"$f":"#REF!","v":{"$error":"#REF!"}},{"$f":"IFERROR(ROUND(#REF!*100,0),\"\")","v":""},{"$f":"IFERROR(ROUND(#REF!*100,0),\"\")","v":""},"",{"$f":"Inputs!D79","v":{"$error":"#REF!"}},"RCx Enhanced HVAC ",{"$f":"Inputs!S79","v":{"$error":"#REF!"}},{"$f":"Inputs!I156","v":{"$error":"#REF!"}},{"$f":"Inputs!H156","v":{"$error":"#REF!"}},{"$error":"#REF!"},{"$f":"Inputs!G156","v":{"$error":"#REF!"}},{"$f":"Inputs!F156","v":{"$error":"#REF!"}},{"$f":"Inputs!E156","v":{"$error":"#REF!"}},{"$f":"Inputs!D156","v":{"$error":"#REF!"}},5,1,{"$f":"#REF!","v":{"$error":"#REF!"}}]
["RCx Enhanced HVAC ",{"$f":"IF(OR(Inputs!I80=\"\",Inputs!H80<36),\"No\",\"Yes\")","v":{"$error":"#REF!"}},{"$f":"Inputs!C80","v":{"$error":"#REF!"}},{"$f":"#REF!","v":{"$error":"#REF!"}},{"$f":"#REF!","v":{"$error":"#REF!"}},{"$f":"#REF!","v":{"$error":"#REF!"}},{"$f":"#REF!","v":{"$error":"#REF!"}},{"$f":"Inputs!G80","v":{"$error":"#REF!"}},{"$f":"#REF!","v":{"$error":"#REF!"}},{"$f":"TEXT(IF(#REF!=\"\",\"\",#REF!),\"mm/dd/yyyy\")","v":{"$error":"#REF!"}},{"$f":"#REF!","v":{"$error":"#REF!"}},{"$f":"#REF!","v":{"$error":"#REF!"}},{"$f":"#REF!","v":{"$error":"#REF!"}},{"$f":"#REF!-#REF!","v":{"$error":"#REF!"}},{"$f":"#REF!-#REF!","v":{"$error":"#REF!"}},{"$f":"#REF!","v":{"$error":"#REF!"}},{"$f":"#REF!","v":{"$error":"#REF!"}},{"$f":"IFERROR(ROUND(#REF!*100,0),\"\")","v":""},{"$f":"IFERROR(ROUND(#REF!*100,0),\"\")","v":""},"",{"$f":"Inputs!D80","v":{"$error":"#REF!"}},"RCx Enhanced HVAC ",{"$f":"Inputs!S80","v":{"$error":"#REF!"}},{"$f":"Inputs!I157","v":{"$error":"#REF!"}},{"$f":"Inputs!H157","v":{"$error":"#REF!"}},{"$error":"#REF!"},{"$f":"Inputs!G157","v":{"$error":"#REF!"}},{"$f":"Inputs!F157","v":{"$error":"#REF!"}},{"$f":"Inputs!E157","v":{"$error":"#REF!"}},{"$f":"Inputs!D157","v":{"$error":"#REF!"}},5,1,{"$f":"#REF!","v":{"$error":"#REF!"}}]
["RCx Enhanced HVAC ",{"$f":"IF(OR(Inputs!I81=\"\",Inputs!H81<36),\"No\",\"Yes\")","v":{"$error":"#REF!"}},{"$f":"Inputs!C81","v":{"$error":"#REF!"}},{"$f":"#REF!","v":{"$error":"#REF!"}},{"$f":"#REF!","v":{"$error":"#REF!"}},{"$f":"#REF!","v":{"$error":"#REF!"}},{"$f":"#REF!","v":{"$error":"#REF!"}},{"$f":"Inputs!G81","v":{"$error":"#REF!"}},{"$f":"#REF!","v":{"$error":"#REF!"}},{"$f":"TEXT(IF(#REF!=\"\",\"\",#REF!),\"mm/dd/yyyy\")","v":{"$error":"#REF!"}},{"$f":"#REF!","v":{"$error":"#REF!"}},{"$f":"#REF!","v":{"$error":"#REF!"}},{"$f":"#REF!","v":{"$error":"#REF!"}},{"$f":"#REF!-#REF!","v":{"$error":"#REF!"}},{"$f":"#REF!-#REF!","v":{"$error":"#REF!"}},{"$f":"#REF!","v":{"$error":"#REF!"}},{"$f":"#REF!","v":{"$error":"#REF!"}},{"$f":"IFERROR(ROUND(#REF!*100,0),\"\")","v":""},{"$f":"IFERROR(ROUND(#REF!*100,0),\"\")","v":""},"",{"$f":"Inputs!D81","v":{"$error":"#REF!"}},"RCx Enhanced HVAC ",{"$f":"Inputs!S81","v":{"$error":"#REF!"}},{"$f":"Inputs!I158","v":{"$error":"#REF!"}},{"$f":"Inputs!H158","v":{"$error":"#REF!"}},{"$error":"#REF!"},{"$f":"Inputs!G158","v":{"$error":"#REF!"}},{"$f":"Inputs!F158","v":{"$error":"#REF!"}},{"$f":"Inputs!E158","v":{"$error":"#REF!"}},{"$f":"Inputs!D158","v":{"$error":"#REF!"}},5,1,{"$f":"#REF!","v":{"$error":"#REF!"}}]
["RCx Enhanced HVAC ",{"$f":"IF(OR(Inputs!I82=\"\",Inputs!H82<36),\"No\",\"Yes\")","v":{"$error":"#REF!"}},{"$f":"Inputs!C82","v":{"$error":"#REF!"}},{"$f":"#REF!","v":{"$error":"#REF!"}},{"$f":"#REF!","v":{"$error":"#REF!"}},{"$f":"#REF!","v":{"$error":"#REF!"}},{"$f":"#REF!","v":{"$error":"#REF!"}},{"$f":"Inputs!G82","v":{"$error":"#REF!"}},{"$f":"#REF!","v":{"$error":"#REF!"}},{"$f":"TEXT(IF(#REF!=\"\",\"\",#REF!),\"mm/dd/yyyy\")","v":{"$error":"#REF!"}},{"$f":"#REF!","v":{"$error":"#REF!"}},{"$f":"#REF!","v":{"$error":"#REF!"}},{"$f":"#REF!","v":{"$error":"#REF!"}},{"$f":"#REF!-#REF!","v":{"$error":"#REF!"}},{"$f":"#REF!-#REF!","v":{"$error":"#REF!"}},{"$f":"#REF!","v":{"$error":"#REF!"}},{"$f":"#REF!","v":{"$error":"#REF!"}},{"$f":"IFERROR(ROUND(#REF!*100,0),\"\")","v":""},{"$f":"IFERROR(ROUND(#REF!*100,0),\"\")","v":""},"",{"$f":"Inputs!D82","v":{"$error":"#REF!"}},{"$f":"A66","v":"RCx Enhanced HVAC "},{"$f":"Inputs!S82","v":{"$error":"#REF!"}},{"$f":"Inputs!I159","v":{"$error":"#REF!"}},{"$f":"Inputs!H159","v":{"$error":"#REF!"}},{"$error":"#REF!"},{"$f":"Inputs!G159","v":{"$error":"#REF!"}},{"$f":"Inputs!F159","v":{"$error":"#REF!"}},{"$f":"Inputs!E159","v":{"$error":"#REF!"}},{"$f":"Inputs!D159","v":{"$error":"#REF!"}},5,1,{"$f":"#REF!","v":{"$error":"#REF!"}}]
["RCx Enhanced HVAC ",{"$f":"IF(OR(Inputs!I83=\"\",Inputs!H83<36),\"No\",\"Yes\")","v":{"$error":"#REF!"}},{"$f":"Inputs!C83","v":{"$error":"#REF!"}},{"$f":"#REF!","v":{"$error":"#REF!"}},{"$f":"#REF!","v":{"$error":"#REF!"}},{"$f":"#REF!","v":{"$error":"#REF!"}},{"$f":"#REF!","v":{"$error":"#REF!"}},{"$f":"Inputs!G83","v":{"$error":"#REF!"}},{"$f":"#REF!","v":{"$error":"#REF!"}},{"$f":"TEXT(IF(#REF!=\"\",\"\",#REF!),\"mm/dd/yyyy\")","v":{"$error":"#REF!"}},{"$f":"#REF!","v":{"$error":"#REF!"}},{"$f":"#REF!","v":{"$error":"#REF!"}},{"$f":"#REF!","v":{"$error":"#REF!"}},{"$f":"#REF!-#REF!","v":{"$error":"#REF!"}},{"$f":"#REF!-#REF!","v":{"$error":"#REF!"}},{"$f":"#REF!","v":{"$error":"#REF!"}},{"$f":"#REF!","v":{"$error":"#REF!"}},{"$f":"IFERROR(ROUND(#REF!*100,0),\"\")","v":""},{"$f":"IFERROR(ROUND(#REF!*100,0),\"\")","v":""},{"$f":"IF(R67=\"\",\"\",S67-R67)","v":""},{"$f":"Inputs!D83","v":{"$error":"#REF!"}},"RCx Enhanced HVAC ",{"$f":"Inputs!S83","v":{"$error":"#REF!"}},{"$f":"Inputs!I160","v":{"$error":"#REF!"}},{"$f":"Inputs!H160","v":{"$error":"#REF!"}},{"$f":"SUM(AA67,AB67,AC67,AD67)","v":{"$error":"#REF!"}},{"$f":"Inputs!G160","v":{"$error":"#REF!"}},{"$f":"Inputs!F160","v":{"$error":"#REF!"}},{"$f":"Inputs!E160","v":{"$error":"#REF!"}},{"$f":"Inputs!D160","v":{"$error":"#REF!"}},5,1,{"$f":"#REF!","v":{"$error":"#REF!"}}]
["RCx Enhanced HVAC ",{"$f":"IF(OR(Inputs!I84=\"\",Inputs!H84<36),\"No\",\"Yes\")","v":{"$error":"#REF!"}},{"$f":"Inputs!C84","v":{"$error":"#REF!"}},{"$f":"#REF!","v":{"$error":"#REF!"}},{"$f":"#REF!","v":{"$error":"#REF!"}},{"$f":"#REF!","v":{"$error":"#REF!"}},{"$f":"#REF!","v":{"$error":"#REF!"}},{"$f":"Inputs!G84","v":{"$error":"#REF!"}},{"$f":"#REF!","v":{"$error":"#REF!"}},{"$f":"TEXT(IF(#REF!=\"\",\"\",#REF!),\"mm/dd/yyyy\")","v":{"$error":"#REF!"}},{"$f":"#REF!","v":{"$error":"#REF!"}},{"$f":"#REF!","v":{"$error":"#REF!"}},{"$f":"#REF!","v":{"$error":"#REF!"}},{"$f":"#REF!-#REF!","v":{"$error":"#REF!"}},{"$f":"#REF!-#REF!","v":{"$error":"#REF!"}},{"$f":"#REF!","v":{"$error":"#REF!"}},{"$f":"#REF!","v":{"$error":"#REF!"}},{"$f":"IFERROR(ROUND(#REF!*100,0),\"\")","v":""},{"$f":"IFERROR(ROUND(#REF!*100,0),\"\")","v":""},{"$f":"IF(R68=\"\",\"\",S68-R68)","v":""},{"$f":"Inputs!D84","v":{"$error":"#REF!"}},"RCx Enhanced HVAC ",{"$f":"Inputs!S84","v":{"$error":"#REF!"}},{"$f":"Inputs!I161","v":{"$error":"#REF!"}},{"$f":"Inputs!H161","v":{"$error":"#REF!"}},{"$error":"#REF!"},{"$f":"Inputs!G161","v":{"$error":"#REF!"}},{"$f":"Inputs!F161","v":{"$error":"#REF!"}},{"$f":"Inputs!E161","v":{"$error":"#REF!"}},{"$f":"Inputs!D161","v":{"$error":"#REF!"}},5,1,{"$f":"#REF!","v":{"$error":"#REF!"}}]
["RCx Enhanced HVAC ",{"$f":"IF(OR(Inputs!I85=\"\",Inputs!H85<36),\"No\",\"Yes\")","v":{"$error":"#REF!"}},{"$f":"Inputs!C85","v":{"$error":"#REF!"}},{"$f":"#REF!","v":{"$error":"#REF!"}},{"$f":"#REF!","v":{"$error":"#REF!"}},{"$f":"#REF!","v":{"$error":"#REF!"}},{"$f":"#REF!","v":{"$error":"#REF!"}},{"$f":"Inputs!G85","v":{"$error":"#REF!"}},{"$f":"#REF!","v":{"$error":"#REF!"}},{"$f":"TEXT(IF(#REF!=\"\",\"\",#REF!),\"mm/dd/yyyy\")","v":{"$error":"#REF!"}},{"$f":"#REF!","v":{"$error":"#REF!"}},{"$f":"#REF!","v":{"$error":"#REF!"}},{"$f":"#REF!","v":{"$error":"#REF!"}},{"$f":"#REF!-#REF!","v":{"$error":"#REF!"}},{"$f":"#REF!-#REF!","v":{"$error":"#REF!"}},{"$f":"#REF!","v":{"$error":"#REF!"}},{"$f":"#REF!","v":{"$error":"#REF!"}},{"$f":"IFERROR(ROUND(#REF!*100,0),\"\")","v":""},{"$f":"IFERROR(ROUND(#REF!*100,0),\"\")","v":""},{"$f":"IF(R69=\"\",\"\",S69-R69)","v":""},{"$f":"Inputs!D85","v":{"$error":"#REF!"}},"RCx Enhanced HVAC ",{"$f":"Inputs!S85","v":{"$error":"#REF!"}},{"$f":"Inputs!I162","v":{"$error":"#REF!"}},{"$f":"Inputs!H162","v":{"$error":"#REF!"}},{"$error":"#REF!"},{"$f":"Inputs!G162","v":{"$error":"#REF!"}},{"$f":"Inputs!F162","v":{"$error":"#REF!"}},{"$f":"Inputs!E162","v":{"$error":"#REF!"}},{"$f":"Inputs!D162","v":{"$error":"#REF!"}},5,1,{"$f":"#REF!","v":{"$error":"#REF!"}}]
["RCx Enhanced HVAC ",{"$f":"IF(OR(Inputs!I86=\"\",Inputs!H86<36),\"No\",\"Yes\")","v":{"$error":"#REF!"}},{"$f":"Inputs!C86","v":{"$error":"#REF!"}},{"$f":"#REF!","v":{"$error":"#REF!"}},{"$f":"#REF!","v":{"$error":"#REF!"}},{"$f":"#REF!","v":{"$error":"#REF!"}},{"$f":"#REF!","v":{"$error":"#REF!"}},{"$f":"Inputs!G86","v":{"$error":"#REF!"}},{"$f":"#REF!","v":{"$error":"#REF!"}},{"$f":"TEXT(IF(#REF!=\"\",\"\",#REF!),\"mm/dd/yyyy\")","v":{"$error":"#REF!"}},{"$f":"#REF!","v":{"$error":"#REF!"}},{"$f":"#REF!","v":{"$error":"#REF!"}},{"$f":"#REF!","v":{"$error":"#REF!"}},{"$f":"#REF!-#REF!","v":{"$error":"#REF!"}},{"$f":"#REF!-#REF!","v":{"$error":"#REF!"}},{"$f":"#REF!","v":{"$error":"#REF!"}},{"$f":"#REF!","v":{"$error":"#REF!"}},{"$f":"IFERROR(ROUND(#REF!*100,0),\"\")","v":""},{"$f":"IFERROR(ROUND(#REF!*100,0),\"\")","v":""},{"$f":"IF(R70=\"\",\"\",S70-R70)","v":""},{"$f":"Inputs!D86","v":{"$error":"#REF!"}},"RCx Enhanced HVAC ",{"$f":"Inputs!S86","v":{"$error":"#REF!"}},{"$f":"Inputs!I163","v":{"$error":"#REF!"}},{"$f":"Inputs!H163","v":{"$error":"#REF!"}},{"$error":"#REF!"},{"$f":"Inputs!G163","v":{"$error":"#REF!"}},{"$f":"Inputs!F163","v":{"$error":"#REF!"}},{"$f":"Inputs!E163","v":{"$error":"#REF!"}},{"$f":"Inputs!D163","v":{"$error":"#REF!"}},5,1,{"$f":"#REF!","v":{"$error":"#REF!"}}]
["RCx Enhanced HVAC ",{"$f":"IF(OR(Inputs!I87=\"\",Inputs!H87<36),\"No\",\"Yes\")","v":{"$error":"#REF!"}},{"$f":"Inputs!C87","v":{"$error":"#REF!"}},{"$f":"#REF!","v":{"$error":"#REF!"}},{"$f":"#REF!","v":{"$error":"#REF!"}},{"$f":"#REF!","v":{"$error":"#REF!"}},{"$f":"#REF!","v":{"$error":"#REF!"}},{"$f":"Inputs!G87","v":{"$error":"#REF!"}},{"$f":"#REF!","v":{"$error":"#REF!"}},{"$f":"TEXT(IF(#REF!=\"\",\"\",#REF!),\"mm/dd/yyyy\")","v":{"$error":"#REF!"}},{"$f":"#REF!","v":{"$error":"#REF!"}},{"$f":"#REF!","v":{"$error":"#REF!"}},{"$f":"#REF!","v":{"$error":"#REF!"}},{"$f":"#REF!-#REF!","v":{"$error":"#REF!"}},{"$f":"#REF!-#REF!","v":{"$error":"#REF!"}},{"$f":"#REF!","v":{"$error":"#REF!"}},{"$f":"#REF!","v":{"$error":"#REF!"}},{"$f":"IFERROR(ROUND(#REF!*100,0),\"\")","v":""},{"$f":"IFERROR(ROUND(#REF!*100,0),\"\")","v":""},{"$f":"IF(R71=\"\",\"\",S71-R71)","v":""},{"$f":"Inputs!D87","v":{"$error":"#REF!"}},"RCx Enhanced HVAC ",{"$f":"Inputs!S87","v":{"$error":"#REF!"}},{"$f":"Inputs!I164","v":{"$error":"#REF!"}},{"$f":"Inputs!H164","v":{"$error":"#REF!"}},{"$error":"#REF!"},{"$f":"Inputs!G164","v":{"$error":"#REF!"}},{"$f":"Inputs!F164","v":{"$error":"#REF!"}},{"$f":"Inputs!E164","v":{"$error":"#REF!"}},{"$f":"Inputs!D164","v":{"$error":"#REF!"}},5,1,{"$f":"#REF!","v":{"$error":"#REF!"}}]
["RCx Enhanced HVAC ",{"$f":"IF('Equipment Information'!AJ20=0,\"No\",\"Yes\")","v":"No"},{"$f":"'Equipment Information'!C20","v":0},0,{"$f":"'Equipment Information'!I20","v":0},{"$f":"'Equipment Information'!J20/12000","v":0},{"$f":"'Equipment Information'!L20/12000","v":0},"Single",{"$f":"'Equipment Information'!Q20","v":0},{"$f":"TEXT(IF('Equipment Information'!P20=\"\",\"\",'Equipment Information'!P20),\"mm/dd/yyyy\")","v":""},{"$f":"'Equipment Information'!O20","v":0},1,"NA",0,0,0,0,0,0,0,{"$f":"'Equipment Information'!$D$13","v":0},"RCx Enhanced HVAC ",{"$f":"30*('Equipment Information'!J20/12000)","v":0},{"$f":"IFERROR(' Calculations'!X7/AF72,\"-\")","v":"-"},{"$f":"IFERROR(' Calculations'!W7/AF72,\"-\")","v":"-"},0,{"$f":"IFERROR(' Calculations'!AF7/AF72,\"-\")","v":"-"},{"$f":"IFERROR(' Calculations'!AE7/AF72,\"-\")","v":"-"},{"$f":"IFERROR(' Calculations'!AD7/AF72,\"-\")","v":"-"},{"$f":"IFERROR(' Calculations'!AC7/AF72,\"-\")","v":"-"},5,{"$f":"'Equipment Information'!N20","v":0},{"$f":"#REF!","v":{"$error":"#REF!"}},{"$f":"'Equipment Information'!AI20","v":0},{"$f":"' Calculations'!X7","v":0},{"$f":"' Calculations'!W7","v":0},{"$f":"SUM(AL72,AM72,AN72,AO72)","v":{"$error":"#N/A"}},{"$f":"' Calculations'!AF7","v":{"$error":"#N/A"}},{"$f":"' Calculations'!AE7","v":{"$error":"#N/A"}},{"$f":"' Calculations'!AD7","v":{"$error":"#N/A"}},{"$f":"' Calculations'!S7","v":{"$error":"#N/A"}}]
["RCx Enhanced HVAC ",{"$f":"IF('Equipment Information'!AJ21=0,\"No\",\"Yes\")","v":"No"},{"$f":"'Equipment Information'!C21","v":0},0,{"$f":"'Equipment Information'!I21","v":0},{"$f":"'Equipment Information'!J21/12000","v":0},{"$f":"'Equipment Information'!L21/12000","v":0},"Single",{"$f":"'Equipment Information'!Q21","v":0},{"$f":"TEXT(IF('Equipment Information'!P21=\"\",\"\",'Equipment Information'!P21),\"mm/dd/yyyy\")","v":""},{"$f":"'Equipment Information'!O21","v":0},1,"NA",0,0,0,0,0,0,0,{"$f":"'Equipment Information'!$D$13","v":0},"RCx Enhanced HVAC ",{"$f":"30*('Equipment Information'!J21/12000)","v":0},{"$f":"IFERROR(' Calculations'!X8/AF73,\"-\")","v":"-"},{"$f":"IFERROR(' Calculations'!W8/AF73,\"-\")","v":"-"},0,{"$f":"IFERROR(' Calculations'!AF8/AF73,\"-\")","v":"-"},{"$f":"IFERROR(' Calculations'!AE8/AF73,\"-\")","v":"-"},{"$f":"IFERROR(' Calculations'!AD8/AF73,\"-\")","v":"-"},{"$f":"IFERROR(' Calculations'!AC8/AF73,\"-\")","v":"-"},5,{"$f":"'Equipment Information'!N21","v":0},{"$f":"#REF!","v":{"$error":"#REF!"}},{"$f":"'Equipment Information'!AI21","v":0},{"$f":"' Calculations'!X8","v":0},{"$f":"' Calculations'!W8","v":0},{"$f":"SUM(AL73,AM73,AN73,AO73)","v":{"$error":"#N/A"}},{"$f":"' Calculations'!AF8","v":{"$error":"#N/A"}},{"$f":"' Calculations'!AE8","v":{"$error":"#N/A"}},{"$f":"' Calculations'!AD8","v":{"$error":"#N/A"}},{"$f":"' Calculations'!S8","v":{"$error":"#N/A"}}]
["RCx Enhanced HVAC ",{"$f":"IF('Equipment Information'!AJ22=0,\"No\",\"Yes\")","v":"No"},{"$f":"'Equipment Information'!C22","v":0},0,{"$f":"'Equipment Information'!I22","v":0},{"$f":"'Equipment Information'!J22/12000","v":0},{"$f":"'Equipment Information'!L22/12000","v":0},"Single",{"$f":"'Equipment Information'!Q22","v":0},{"$f":"TEXT(IF('Equipment Information'!P22=\"\",\"\",'Equipment Information'!P22),\"mm/dd/yyyy\")","v":""},{"$f":"'Equipment Information'!O22","v":0},1,"NA",0,0,0,0,0,0,0,{"$f":"'Equipment Information'!$D$13","v":0},"RCx Enhanced HVAC ",{"$f":"30*('Equipment Information'!J22/12000)","v":0},{"$f":"IFERROR(' Calculations'!X9/AF74,\"-\")","v":"-"},{"$f":"IFERROR(' Calculations'!W9/AF74,\"-\")","v":"-"},0,{"$f":"IFERROR(' Calculations'!AF9/AF74,\"-\")","v":"-"},{"$f":"IFERROR(' Calculations'!AE9/AF74,\"-\")","v":"-"},{"$f":"IFERROR(' Calculations'!AD9/AF74,\"-\")","v":"-"},{"$f":"IFERROR(' Calculations'!AC9/AF74,\"-\")","v":"-"},5,{"$f":"'Equipment Information'!N22","v":0},{"$f":"#REF!","v":{"$error":"#REF!"}},{"$f":"'Equipment Information'!AI22","v":0},{"$f":"' Calculations'!X9","v":0},{"$f":"' Calculations'!W9","v":0},{"$error":"#N/A"},{"$f":"' Calculations'!AF9","v":{"$error":"#N/A"}},{"$f":"' Calculations'!AE9","v":{"$error":"#N/A"}},{"$f":"' Calculations'!AD9","v":{"$error":"#N/A"}},{"$f":"' Calculations'!S9","v":{"$error":"#N/A"}}]
["RCx Enhanced HVAC ",{"$f":"IF('Equipment Information'!AJ23=0,\"No\",\"Yes\")","v":"No"},{"$f":"'Equipment Information'!C23","v":0},0,{"$f":"'Equipment Information'!I23","v":0},{"$f":"'Equipment Information'!J23/12000","v":0},{"$f":"'Equipment Information'!L23/12000","v":0},"Single",{"$f":"'Equipment Information'!Q23","v":0},{"$f":"TEXT(IF('Equipment Information'!P23=\"\",\"\",'Equipment Information'!P23),\"mm/dd/yyyy\")","v":""},{"$f":"'Equipment Information'!O23","v":0},1,"NA",0,0,0,0,0,0,0,{"$f":"'Equipment Information'!$D$13","v":0},"RCx Enhanced HVAC ",{"$f":"30*('Equipment Information'!J23/12000)","v":0},{"$f":"IFERROR(' Calculations'!X10/AF75,\"-\")","v":"-"},{"$f":"IFERROR(' Calculations'!W10/AF75,\"-\")","v":"-"},0,{"$f":"IFERROR(' Calculations'!AF10/AF75,\"-\")","v":"-"},{"$f":"IFERROR(' Calculations'!AE10/AF75,\"-\")","v":"-"},{"$f":"IFERROR(' Calculations'!AD10/AF75,\"-\")","v":"-"},{"$f":"IFERROR(' Calculations'!AC10/AF75,\"-\")","v":"-"},5,{"$f":"'Equipment Information'!N23","v":0},{"$f":"#REF!","v":{"$error":"#REF!"}},{"$f":"'Equipment Information'!AI23","v":0},{"$f":"' Calculations'!X10","v":0},{"$f":"' Calculations'!W10","v":0},{"$error":"#N/A"},{"$f":"' Calculations'!AF10","v":{"$error":"#N/A"}},{"$f":"' Calculations'!AE10","v":{"$error":"#N/A"}},{"$f":"' Calculations'!AD10","v":{"$error":"#N/A"}},{"$f":"' Calculations'!S10","v":{"$error":"#N/A"}}]
["RCx Enhanced HVAC ",{"$f":"IF('Equipment Information'!AJ24=0,\"No\",\"Yes\")","v":"No"},{"$f":"'Equipment Information'!C24","v":0},0,{"$f":"'Equipment Information'!I24","v":0},{"$f":"'Equipment Information'!J24/12000","v":0},{"$f":"'Equipment Information'!L24/12000","v":0},"Single",{"$f":"'Equipment Information'!#REF!","v":{"$error":"#REF!"}},{"$f":"TEXT(IF('Equipment Information'!Q24=\"\",\"\",'Equipment Information'!Q24),\"mm/dd/yyyy\")","v":""},{"$f":"'Equipment Information'!O24","v":0},1,"NA",0,0,0,0,0,0,0,{"$f":"'Equipment Information'!$D$13","v":0},"RCx Enhanced HVAC ",{"$f":"30*('Equipment Information'!J24/12000)","v":0},{"$f":"IFERROR(' Calculations'!X11/AF76,\"-\")","v":"-"},{"$f":"IFERROR(' Calculations'!W11/AF76,\"-\")","v":"-"},0,{"$f":"IFERROR(' Calculations'!AF11/AF76,\"-\")","v":"-"},{"$f":"IFERROR(' Calculations'!AE11/AF76,\"-\")","v":"-"},{"$f":"IFERROR(' Calculations'!AD11/AF76,\"-\")","v":"-"},{"$f":"IFERROR(' Calculations'!AC11/AF76,\"-\")","v":"-"},5,{"$f":"'Equipment Information'!N24","v":0},{"$f":"#REF!","v":{"$error":"#REF!"}},{"$f":"'Equipment Information'!AI24","v":0},{"$f":"' Calculations'!X11","v":0},{"$f":"' Calculations'!W11","v":0},{"$error":"#N/A"},{"$f":"' Calculations'!AF11","v":{"$error":"#N/A"}},{"$f":"' Calculations'!AE11","v":{"$error":"#N/A"}},{"$f":"' Calculations'!AD11","v":{"$error":"#N/A"}},{"$f":"' Calculations'!S11","v":{"$error":"#N/A"}}]
["RCx Enhanced HVAC ",{"$f":"IF('Equipment Information'!AJ25=0,\"No\",\"Yes\")","v":"No"},{"$f":"'Equipment Information'!C25","v":0},0,{"$f":"'Equipment Information'!I25","v":0},{"$f":"'Equipment Information'!J25/12000","v":0},{"$f":"'Equipment Information'!L25/12000","v":0},"Single",{"$f":"'Equipment Information'!Q25","v":0},{"$f":"TEXT(IF('Equipment Information'!P25=\"\",\"\",'Equipment Information'!P25),\"mm/dd/yyyy\")","v":""},{"$f":"'Equipment Information'!O25","v":0},1,"NA",0,0,0,0,0,0,0,{"$f":"'Equipment Information'!$D$13","v":0},"RCx Enhanced HVAC ",{"$f":"30*('Equipment Information'!J25/12000)","v":0},{"$f":"IFERROR(' Calculations'!X12/AF77,\"-\")","v":"-"},{"$f":"IFERROR(' Calculations'!W12/AF77,\"-\")","v":"-"},0,{"$f":"IFERROR(' Calculations'!AF12/AF77,\"-\")","v":"-"},{"$f":"IFERROR(' Calculations'!AE12/AF77,\"-\")","v":"-"},{"$f":"IFERROR(' Calculations'!AD12/AF77,\"-\")","v":"-"},{"$f":"IFERROR(' Calculations'!AC12/AF77,\"-\")","v":"-"},5,{"$f":"'Equipment Information'!N25","v":0},{"$f":"#REF!","v":{"$error":"#REF!"}},{"$f":"'Equipment Information'!AI25","v":0},{"$f":"' Calculations'!X12","v":0},{"$f":"' Calculations'!W12","v":0},{"$error":"#N/A"},{"$f":"' Calculations'!AF12","v":{"$error":"#N/A"}},{"$f":"' Calculations'!AE12","v":{"$error":"#N/A"}},{"$f":"' Calculations'!AD12","v":{"$error":"#N/A"}},{"$f":"' Calculations'!S12","v":{"$error":"#N/A"}}]
["RCx Enhanced HVAC ",{"$f":"IF('Equipment Information'!AJ26=0,\"No\",\"Yes\")","v":"No"},{"$f":"'Equipment Information'!C26","v":0},0,{"$f":"'Equipment Information'!I26","v":0},{"$f":"'Equipment Information'!J26/12000","v":0},{"$f":"'Equipment Information'!L26/12000","v":0},"Single",{"$f":"'Equipment Information'!Q26","v":0},{"$f":"TEXT(IF('Equipment Information'!P26=\"\",\"\",'Equipment Information'!P26),\"mm/dd/yyyy\")","v":""},{"$f":"'Equipment Information'!O26","v":0},1,"NA",0,0,0,0,0,0,0,{"$f":"'Equipment Information'!$D$13","v":0},"RCx Enhanced HVAC ",{"$f":"30*('Equipment Information'!J26/12000)","v":0},{"$f":"IFERROR(' Calculations'!X13/AF78,\"-\")","v":"-"},{"$f":"IFERROR(' Calculations'!W13/AF78,\"-\")","v":"-"},0,{"$f":"IFERROR(' Calculations'!AF13/AF78,\"-\")","v":"-"},{"$f":"IFERROR(' Calculations'!AE13/AF78,\"-\")","v":"-"},{"$f":"IFERROR(' Calculations'!AD13/AF78,\"-\")","v":"-"},{"$f":"IFERROR(' Calculations'!AC13/AF78,\"-\")","v":"-"},5,{"$f":"'Equipment Information'!N26","v":0},{"$f":"#REF!","v":{"$error":"#REF!"}},{"$f":"'Equipment Information'!AI26","v":0},{"$f":"' Calculations'!X13","v":0},{"$f":"' Calculations'!W13","v":0},{"$error":"#N/A"},{"$f":"' Calculations'!AF13","v":{"$error":"#N/A"}},{"$f":"' Calculations'!AE13","v":{"$error":"#N/A"}},{"$f":"' Calculations'!AD13","v":{"$error":"#N/A"}},{"$f":"' Calculations'!S13","v":{"$error":"#N/A"}}]
["RCx Enhanced HVAC ",{"$f":"IF('Equipment Information'!AJ27=0,\"No\",\"Yes\")","v":"No"},{"$f":"'Equipment Information'!C27","v":0},0,{"$f":"'Equipment Information'!I27","v":0},{"$f":"'Equipment Information'!J27/12000","v":0},{"$f":"'Equipment Information'!L27/12000","v":0},"Single",{"$f":"'Equipment Information'!Q27","v":0},{"$f":"TEXT(IF('Equipment Information'!P27=\"\",\"\",'Equipment Information'!P27),\"mm/dd/yyyy\")","v":""},{"$f":"'Equipment Information'!O27","v":0},1,"NA",0,0,0,0,0,0,0,{"$f":"'Equipment Information'!$D$13","v":0},"RCx Enhanced HVAC ",{"$f":"30*('Equipment Information'!J27/12000)","v":0},{"$f":"IFERROR(' Calculations'!X14/AF79,\"-\")","v":"-"},{"$f":"IFERROR(' Calculations'!W14/AF79,\"-\")","v":"-"},0,{"$f":"IFERROR(' Calculations'!AF14/AF79,\"-\")","v":"-"},{"$f":"IFERROR(' Calculations'!AE14/AF79,\"-\")","v":"-"},{"$f":"IFERROR(' Calculations'!AD14/AF79,\"-\")","v":"-"},{"$f":"IFERROR(' Calculations'!AC14/AF79,\"-\")","v":"-"},5,{"$f":"'Equipment Information'!N27","v":0},{"$f":"#REF!","v":{"$error":"#REF!"}},{"$f":"'Equipment Information'!AI27","v":0},{"$f":"' Calculations'!X14","v":0},{"$f":"' Calculations'!W14","v":0},{"$error":"#N/A"},{"$f":"' Calculations'!AF14","v":{"$error":"#N/A"}},{"$f":"' Calculations'!AE14","v":{"$error":"#N/A"}},{"$f":"' Calculations'!AD14","v":{"$error":"#N/A"}},{"$f":"' Calculations'!S14","v":{"$error":"#N/A"}}]
["RCx Enhanced HVAC ",{"$f":"IF('Equipment Information'!AJ28=0,\"No\",\"Yes\")","v":"No"},{"$f":"'Equipment Information'!C28","v":0},0,{"$f":"'Equipment Information'!I28","v":0},{"$f":"'Equipment Information'!J28/12000","v":0},{"$f":"'Equipment Information'!L28/12000","v":0},"Single",{"$f":"'Equipment Information'!Q28","v":0},{"$f":"TEXT(IF('Equipment Information'!P28=\"\",\"\",'Equipment Information'!P28),\"mm/dd/yyyy\")","v":""},{"$f":"'Equipment Information'!O28","v":0},1,"NA",0,0,0,0,0,0,0,{"$f":"'Equipment Information'!$D$13","v":0},"RCx Enhanced HVAC ",{"$f":"30*('Equipment Information'!J28/12000)","v":0},{"$f":"IFERROR(' Calculations'!X15/AF80,\"-\")","v":"-"},{"$f":"IFERROR(' Calculations'!W15/AF80,\"-\")","v":"-"},0,{"$f":"IFERROR(' Calculations'!AF15/AF80,\"-\")","v":"-"},{"$f":"IFERROR(' Calculations'!AE15/AF80,\"-\")","v":"-"},{"$f":"IFERROR(' Calculations'!AD15/AF80,\"-\")","v":"-"},{"$f":"IFERROR(' Calculations'!AC15/AF80,\"-\")","v":"-"},5,{"$f":"'Equipment Information'!N28","v":0},{"$f":"#REF!","v":{"$error":"#REF!"}},{"$f":"'Equipment Information'!AI28","v":0},{"$f":"' Calculations'!X15","v":0},{"$f":"' Calculations'!W15","v":0},{"$error":"#N/A"},{"$f":"' Calculations'!AF15","v":{"$error":"#N/A"}},{"$f":"' Calculations'!AE15","v":{"$error":"#N/A"}},{"$f":"' Calculations'!AD15","v":{"$error":"#N/A"}},{"$f":"' Calculations'!S15","v":{"$error":"#N/A"}}]
["RCx Enhanced HVAC ",{"$f":"IF('Equipment Information'!AJ29=0,\"No\",\"Yes\")","v":"No"},{"$f":"'Equipment Information'!C29","v":0},0,{"$f":"'Equipment Information'!I29","v":0},{"$f":"'Equipment Information'!J29/12000","v":0},{"$f":"'Equipment Information'!L29/12000","v":0},"Single",{"$f":"'Equipment Information'!Q29","v":0},{"$f":"TEXT(IF('Equipment Information'!P29=\"\",\"\",'Equipment Information'!P29),\"mm/dd/yyyy\")","v":""},{"$f":"'Equipment Information'!O29","v":0},1,"NA",0,0,0,0,0,0,0,{"$f":"'Equipment Information'!$D$13","v":0},"RCx Enhanced HVAC ",{"$f":"30*('Equipment Information'!J29/12000)","v":0},{"$f":"IFERROR(' Calculations'!X16/AF81,\"-\")","v":"-"},{"$f":"IFERROR(' Calculations'!W16/AF81,\"-\")","v":"-"},0,{"$f":"IFERROR(' Calculations'!AF16/AF81,\"-\")","v":"-"},{"$f":"IFERROR(' Calculations'!AE16/AF81,\"-\")","v":"-"},{"$f":"IFERROR(' Calculations'!AD16/AF81,\"-\")","v":"-"},{"$f":"IFERROR(' Calculations'!AC16/AF81,\"-\")","v":"-"},5,{"$f":"'Equipment Information'!N29","v":0},{"$f":"#REF!","v":{"$error":"#REF!"}},{"$f":"'Equipment Information'!AI29","v":0},{"$f":"' Calculations'!X16","v":0},{"$f":"' Calculations'!W16","v":0},{"$error":"#N/A"},{"$f":"' Calculations'!AF16","v":{"$error":"#N/A"}},{"$f":"' Calculations'!AE16","v":{"$error":"#N/A"}},{"$f":"' Calculations'!AD16","v":{"$error":"#N/A"}},{"$f":"' Calculations'!S16","v":{"$error":"#N/A"}}]
["RCx Enhanced HVAC ",{"$f":"IF('Equipment Information'!AJ30=0,\"No\",\"Yes\")","v":"No"},{"$f":"'Equipment Information'!C30","v":0},0,{"$f":"'Equipment Information'!I30","v":0},{"$f":"'Equipment Information'!J30/12000","v":0},{"$f":"'Equipment Information'!L30/12000","v":0},"Single",{"$f":"'Equipment Information'!Q30","v":0},{"$f":"TEXT(IF('Equipment Information'!P30=\"\",\"\",'Equipment Information'!P30),\"mm/dd/yyyy\")","v":""},{"$f":"'Equipment Information'!O30","v":0},1,"NA",0,0,0,0,0,0,0,{"$f":"'Equipment Information'!$D$13","v":0},"RCx Enhanced HVAC ",{"$f":"30*('Equipment Information'!J30/12000)","v":0},{"$f":"IFERROR(' Calculations'!X17/AF82,\"-\")","v":"-"},{"$f":"IFERROR(' Calculations'!W17/AF82,\"-\")","v":"-"},0,{"$f":"IFERROR(' Calculations'!AF17/AF82,\"-\")","v":"-"},{"$f":"IFERROR(' Calculations'!AE17/AF82,\"-\")","v":"-"},{"$f":"IFERROR(' Calculations'!AD17/AF82,\"-\")","v":"-"},{"$f":"IFERROR(' Calculations'!AC17/AF82,\"-\")","v":"-"},5,{"$f":"'Equipment Information'!N30","v":0},{"$f":"#REF!","v":{"$error":"#REF!"}},{"$f":"'Equipment Information'!AI30","v":0},{"$f":"' Calculations'!X17","v":0},{"$f":"' Calculations'!W17","v":0},{"$error":"#N/A"},{"$f":"' Calculations'!AF17","v":{"$error":"#N/A"}},{"$f":"' Calculations'!AE17","v":{"$error":"#N/A"}},{"$f":"' Calculations'!AD17","v":{"$error":"#N/A"}},{"$f":"' Calculations'!S17","v":{"$error":"#N/A"}}]
["RCx Enhanced HVAC ",{"$f":"IF('Equipment Information'!AJ31=0,\"No\",\"Yes\")","v":"No"},{"$f":"'Equipment Information'!C31","v":0},0,{"$f":"'Equipment Information'!I31","v":0},{"$f":"'Equipment Information'!J31/12000","v":0},{"$f":"'Equipment Information'!L31/12000","v":0},"Single",{"$f":"'Equipment Information'!Q31","v":0},{"$f":"TEXT(IF('Equipment Information'!P31=\"\",\"\",'Equipment Information'!P31),\"mm/dd/yyyy\")","v":""},{"$f":"'Equipment Information'!O31","v":0},1,"NA",0,0,0,0,0,0,0,{"$f":"'Equipment Information'!$D$13","v":0},"RCx Enhanced HVAC ",{"$f":"30*('Equipment Information'!J31/12000)","v":0},{"$f":"IFERROR(' Calculations'!X18/AF83,\"-\")","v":"-"},{"$f":"IFERROR(' Calculations'!W18/AF83,\"-\")","v":"-"},0,{"$f":"IFERROR(' Calculations'!AF18/AF83,\"-\")","v":"-"},{"$f":"IFERROR(' Calculations'!AE18/AF83,\"-\")","v":"-"},{"$f":"IFERROR(' Calculations'!AD18/AF83,\"-\")","v":"-"},{"$f":"IFERROR(' Calculations'!AC18/AF83,\"-\")","v":"-"},5,{"$f":"'Equipment Information'!N31","v":0},{"$f":"#REF!","v":{"$error":"#REF!"}},{"$f":"'Equipment Information'!AI31","v":0},{"$f":"' Calculations'!X18","v":0},{"$f":"' Calculations'!W18","v":0},{"$error":"#N/A"},{"$f":"' Calculations'!AF18","v":{"$error":"#N/A"}},{"$f":"' Calculations'!AE18","v":{"$error":"#N/A"}},{"$f":"' Calculations'!AD18","v":{"$error":"#N/A"}},{"$f":"' Calculations'!S18","v":{"$error":"#N/A"}}]
["RCx Enhanced HVAC ",{"$f":"IF('Equipment Information'!AJ32=0,\"No\",\"Yes\")","v":"No"},{"$f":"'Equipment Information'!C32","v":0},0,{"$f":"'Equipment Information'!I32","v":0},{"$f":"'Equipment Information'!J32/12000","v":0},{"$f":"'Equipment Information'!L32/12000","v":0},"Single",{"$f":"'Equipment Information'!Q32","v":0},{"$f":"TEXT(IF('Equipment Information'!P32=\"\",\"\",'Equipment Information'!P32),\"mm/dd/yyyy\")","v":""},{"$f":"'Equipment Information'!O32","v":0},1,"NA",0,0,0,0,0,0,0,{"$f":"'Equipment Information'!$D$13","v":0},"RCx Enhanced HVAC ",{"$f":"30*('Equipment Information'!J32/12000)","v":0},{"$f":"IFERROR(' Calculations'!X19/AF84,\"-\")","v":"-"},{"$f":"IFERROR(' Calculations'!W19/AF84,\"-\")","v":"-"},0,{"$f":"IFERROR(' Calculations'!AF19/AF84,\"-\")","v":"-"},{"$f":"IFERROR(' Calculations'!AE19/AF84,\"-\")","v":"-"},{"$f":"IFERROR(' Calculations'!AD19/AF84,\"-\")","v":"-"},{"$f":"IFERROR(' Calculations'!AC19/AF84,\"-\")","v":"-"},5,{"$f":"'Equipment Information'!N32","v":0},{"$f":"#REF!","v":{"$error":"#REF!"}},{"$f":"'Equipment Information'!AI32","v":0},{"$f":"' Calculations'!X19","v":0},{"$f":"' Calculations'!W19","v":0},{"$error":"#N/A"},{"$f":"' Calculations'!AF19","v":{"$error":"#N/A"}},{"$f":"' Calculations'!AE19","v":{"$error":"#N/A"}},{"$f":"' Calculations'!AD19","v":{"$error":"#N/A"}},{"$f":"' Calculations'!S19","v":{"$error":"#N/A"}}]
["RCx Enhanced HVAC ",{"$f":"IF('Equipment Information'!AJ33=0,\"No\",\"Yes\")","v":"No"},{"$f":"'Equipment Information'!C33","v":0},0,{"$f":"'Equipment Information'!I33","v":0},{"$f":"'Equipment Information'!J33/12000","v":0},{"$f":"'Equipment Information'!L33/12000","v":0},"Single",{"$f":"'Equipment Information'!Q33","v":0},{"$f":"TEXT(IF('Equipment Information'!P33=\"\",\"\",'Equipment Information'!P33),\"mm/dd/yyyy\")","v":""},{"$f":"'Equipment Information'!O33","v":0},1,"NA",0,0,0,0,0,0,0,{"$f":"'Equipment Information'!$D$13","v":0},"RCx Enhanced HVAC ",{"$f":"30*('Equipment Information'!J33/12000)","v":0},{"$f":"IFERROR(' Calculations'!X20/AF85,\"-\")","v":"-"},{"$f":"IFERROR(' Calculations'!W20/AF85,\"-\")","v":"-"},0,{"$f":"IFERROR(' Calculations'!AF20/AF85,\"-\")","v":"-"},{"$f":"IFERROR(' Calculations'!AE20/AF85,\"-\")","v":"-"},{"$f":"IFERROR(' Calculations'!AD20/AF85,\"-\")","v":"-"},{"$f":"IFERROR(' Calculations'!AC20/AF85,\"-\")","v":"-"},5,{"$f":"'Equipment Information'!N33","v":0},{"$f":"#REF!","v":{"$error":"#REF!"}},{"$f":"'Equipment Information'!AI33","v":0},{"$f":"' Calculations'!X20","v":0},{"$f":"' Calculations'!W20","v":0},{"$error":"#N/A"},{"$f":"' Calculations'!AF20","v":{"$error":"#N/A"}},{"$f":"' Calculations'!AE20","v":{"$error":"#N/A"}},{"$f":"' Calculations'!AD20","v":{"$error":"#N/A"}},{"$f":"' Calculations'!S20","v":{"$error":"#N/A"}}]
["RCx Enhanced HVAC ",{"$f":"IF('Equipment Information'!AJ34=0,\"No\",\"Yes\")","v":"No"},{"$f":"'Equipment Information'!C34","v":0},0,{"$f":"'Equipment Information'!I34","v":0},{"$f":"'Equipment Information'!J34/12000","v":0},{"$f":"'Equipment Information'!L34/12000","v":0},"Single",{"$f":"'Equipment Information'!Q34","v":0},{"$f":"TEXT(IF('Equipment Information'!P34=\"\",\"\",'Equipment Information'!P34),\"mm/dd/yyyy\")","v":""},{"$f":"'Equipment Information'!O34","v":0},1,"NA",0,0,0,0,0,0,0,{"$f":"'Equipment Information'!$D$13","v":0},"RCx Enhanced HVAC ",{"$f":"30*('Equipment Information'!J34/12000)","v":0},{"$f":"IFERROR(' Calculations'!X21/AF86,\"-\")","v":"-"},{"$f":"IFERROR(' Calculations'!W21/AF86,\"-\")","v":"-"},0,{"$f":"IFERROR(' Calculations'!AF21/AF86,\"-\")","v":"-"},{"$f":"IFERROR(' Calculations'!AE21/AF86,\"-\")","v":"-"},{"$f":"IFERROR(' Calculations'!AD21/AF86,\"-\")","v":"-"},{"$f":"IFERROR(' Calculations'!AC21/AF86,\"-\")","v":"-"},5,{"$f":"'Equipment Information'!N34","v":0},{"$f":"#REF!","v":{"$error":"#REF!"}},{"$f":"'Equipment Information'!AI34","v":0},{"$f":"' Calculations'!X21","v":0},{"$f":"' Calculations'!W21","v":0},{"$error":"#N/A"},{"$f":"' Calculations'!AF21","v":{"$error":"#N/A"}},{"$f":"' Calculations'!AE21","v":{"$error":"#N/A"}},{"$f":"' Calculations'!AD21","v":{"$error":"#N/A"}},{"$f":"' Calculations'!S21","v":{"$error":"#N/A"}}]
["RCx Enhanced HVAC ",{"$f":"IF('Equipment Information'!AJ35=0,\"No\",\"Yes\")","v":"No"},{"$f":"'Equipment Information'!C35","v":0},0,{"$f":"'Equipment Information'!I35","v":0},{"$f":"'Equipment Information'!J35/12000","v":0},{"$f":"'Equipment Information'!L35/12000","v":0},"Single",{"$f":"'Equipment Information'!Q35","v":0},{"$f":"TEXT(IF('Equipment Information'!P35=\"\",\"\",'Equipment Information'!P35),\"mm/dd/yyyy\")","v":""},{"$f":"'Equipment Information'!O35","v":0},1,"NA",0,0,0,0,0,0,0,{"$f":"'Equipment Information'!$D$13","v":0},"RCx Enhanced HVAC ",{"$f":"30*('Equipment Information'!J35/12000)","v":0},{"$f":"IFERROR(' Calculations'!X22/AF87,\"-\")","v":"-"},{"$f":"IFERROR(' Calculations'!W22/AF87,\"-\")","v":"-"},0,{"$f":"IFERROR(' Calculations'!AF22/AF87,\"-\")","v":"-"},{"$f":"IFERROR(' Calculations'!AE22/AF87,\"-\")","v":"-"},{"$f":"IFERROR(' Calculations'!AD22/AF87,\"-\")","v":"-"},{"$f":"IFERROR(' Calculations'!AC22/AF87,\"-\")","v":"-"},5,{"$f":"'Equipment Information'!N35","v":0},{"$f":"#REF!","v":{"$error":"#REF!"}},{"$f":"'Equipment Information'!AI35","v":0},{"$f":"' Calculations'!X22","v":0},{"$f":"' Calculations'!W22","v":0},{"$error":"#N/A"},{"$f":"' Calculations'!AF22","v":{"$error":"#N/A"}},{"$f":"' Calculations'!AE22","v":{"$error":"#N/A"}},{"$f":"' Calculations'!AD22","v":{"$error":"#N/A"}},{"$f":"' Calculations'!S22","v":{"$error":"#N/A"}}]
["RCx Enhanced HVAC ",{"$f":"IF('Equipment Information'!AJ36=0,\"No\",\"Yes\")","v":"No"},{"$f":"'Equipment Information'!C36","v":0},0,{"$f":"'Equipment Information'!I36","v":0},{"$f":"'Equipment Information'!J36/12000","v":0},{"$f":"'Equipment Information'!L36/12000","v":0},"Single",{"$f":"'Equipment Information'!Q36","v":0},{"$f":"TEXT(IF('Equipment Information'!P36=\"\",\"\",'Equipment Information'!P36),\"mm/dd/yyyy\")","v":""},{"$f":"'Equipment Information'!O36","v":0},1,"NA",0,0,0,0,0,0,0,{"$f":"'Equipment Information'!$D$13","v":0},"RCx Enhanced HVAC ",{"$f":"30*('Equipment Information'!J36/12000)","v":0},{"$f":"IFERROR(' Calculations'!X23/AF88,\"-\")","v":"-"},{"$f":"IFERROR(' Calculations'!W23/AF88,\"-\")","v":"-"},0,{"$f":"IFERROR(' Calculations'!AF23/AF88,\"-\")","v":"-"},{"$f":"IFERROR(' Calculations'!AE23/AF88,\"-\")","v":"-"},{"$f":"IFERROR(' Calculations'!AD23/AF88,\"-\")","v":"-"},{"$f":"IFERROR(' Calculations'!AC23/AF88,\"-\")","v":"-"},5,{"$f":"'Equipment Information'!N36","v":0},{"$f":"#REF!","v":{"$error":"#REF!"}},{"$f":"'Equipment Information'!AI36","v":0},{"$f":"' Calculations'!X23","v":0},{"$f":"' Calculations'!W23","v":0},{"$error":"#N/A"},{"$f":"' Calculations'!AF23","v":{"$error":"#N/A"}},{"$f":"' Calculations'!AE23","v":{"$error":"#N/A"}},{"$f":"' Calculations'!AD23","v":{"$error":"#N/A"}},{"$f":"' Calculations'!S23","v":{"$error":"#N/A"}}]
["RCx Enhanced HVAC ",{"$f":"IF('Equipment Information'!AJ37=0,\"No\",\"Yes\")","v":"No"},{"$f":"'Equipment Information'!C37","v":0},0,{"$f":"'Equipment Information'!I37","v":0},{"$f":"'Equipment Information'!J37/12000","v":0},{"$f":"'Equipment Information'!L37/12000","v":0},"Single",{"$f":"'Equipment Information'!Q37","v":0},{"$f":"TEXT(IF('Equipment Information'!P37=\"\",\"\",'Equipment Information'!P37),\"mm/dd/yyyy\")","v":""},{"$f":"'Equipment Information'!O37","v":0},1,"NA",0,0,0,0,0,0,0,{"$f":"'Equipment Information'!$D$13","v":0},"RCx Enhanced HVAC ",{"$f":"30*('Equipment Information'!J37/12000)","v":0},{"$f":"IFERROR(' Calculations'!X24/AF89,\"-\")","v":"-"},{"$f":"IFERROR(' Calculations'!W24/AF89,\"-\")","v":"-"},0,{"$f":"IFERROR(' Calculations'!AF24/AF89,\"-\")","v":"-"},{"$f":"IFERROR(' Calculations'!AE24/AF89,\"-\")","v":"-"},{"$f":"IFERROR(' Calculations'!AD24/AF89,\"-\")","v":"-"},{"$f":"IFERROR(' Calculations'!AC24/AF89,\"-\")","v":"-"},5,{"$f":"'Equipment Information'!N37","v":0},{"$f":"#REF!","v":{"$error":"#REF!"}},{"$f":"'Equipment Information'!AI37","v":0},{"$f":"' Calculations'!X24","v":0},{"$f":"' Calculations'!W24","v":0},{"$error":"#N/A"},{"$f":"' Calculations'!AF24","v":{"$error":"#N/A"}},{"$f":"' Calculations'!AE24","v":{"$error":"#N/A"}},{"$f":"' Calculations'!AD24","v":{"$error":"#N/A"}},{"$f":"' Calculations'!S24","v":{"$error":"#N/A"}}]
["RCx Enhanced HVAC ",{"$f":"IF('Equipment Information'!AJ38=0,\"No\",\"Yes\")","v":"No"},{"$f":"'Equipment Information'!C38","v":0},0,{"$f":"'Equipment Information'!I38","v":0},{"$f":"'Equipment Information'!J38/12000","v":0},{"$f":"'Equipment Information'!L38/12000","v":0},"Single",{"$f":"'Equipment Information'!Q38","v":0},{"$f":"TEXT(IF('Equipment Information'!P38=\"\",\"\",'Equipment Information'!P38),\"mm/dd/yyyy\")","v":""},{"$f":"'Equipment Information'!O38","v":0},1,"NA",0,0,0,0,0,0,0,{"$f":"'Equipment Information'!$D$13","v":0},"RCx Enhanced HVAC ",{"$f":"30*('Equipment Information'!J38/12000)","v":0},{"$f":"IFERROR(' Calculations'!X25/AF90,\"-\")","v":"-"},{"$f":"IFERROR(' Calculations'!W25/AF90,\"-\")","v":"-"},0,{"$f":"IFERROR(' Calculations'!AF25/AF90,\"-\")","v":"-"},{"$f":"IFERROR(' Calculations'!AE25/AF90,\"-\")","v":"-"},{"$f":"IFERROR(' Calculations'!AD25/AF90,\"-\")","v":"-"},{"$f":"IFERROR(' Calculations'!AC25/AF90,\"-\")","v":"-"},5,{"$f":"'Equipment Information'!N38","v":0},{"$f":"#REF!","v":{"$error":"#REF!"}},{"$f":"'Equipment Information'!AI38","v":0},{"$f":"' Calculations'!X25","v":0},{"$f":"' Calculations'!W25","v":0},{"$error":"#N/A"},{"$f":"' Calculations'!AF25","v":{"$error":"#N/A"}},{"$f":"' Calculations'!AE25","v":{"$error":"#N/A"}},{"$f":"' Calculations'!AD25","v":{"$error":"#N/A"}},{"$f":"' Calculations'!S25","v":{"$error":"#N/A"}}]
["RCx Enhanced HVAC ",{"$f":"IF('Equipment Information'!AJ39=0,\"No\",\"Yes\")","v":"No"},{"$f":"'Equipment Information'!C39","v":0},0,{"$f":"'Equipment Information'!I39","v":0},{"$f":"'Equipment Information'!J39/12000","v":0},{"$f":"'Equipment Information'!L39/12000","v":0},"Single",{"$f":"'Equipment Information'!Q39","v":0},{"$f":"TEXT(IF('Equipment Information'!P39=\"\",\"\",'Equipment Information'!P39),\"mm/dd/yyyy\")","v":""},{"$f":"'Equipment Information'!O39","v":0},1,"NA",0,0,0,0,0,0,0,{"$f":"'Equipment Information'!$D$13","v":0},"RCx Enhanced HVAC ",{"$f":"30*('Equipment Information'!J39/12000)","v":0},{"$f":"IFERROR(' Calculations'!X26/AF91,\"-\")","v":"-"},{"$f":"IFERROR(' Calculations'!W26/AF91,\"-\")","v":"-"},0,{"$f":"IFERROR(' Calculations'!AF26/AF91,\"-\")","v":"-"},{"$f":"IFERROR(' Calculations'!AE26/AF91,\"-\")","v":"-"},{"$f":"IFERROR(' Calculations'!AD26/AF91,\"-\")","v":"-"},{"$f":"IFERROR(' Calculations'!AC26/AF91,\"-\")","v":"-"},5,{"$f":"'Equipment Information'!N39","v":0},{"$f":"#REF!","v":{"$error":"#REF!"}},{"$f":"'Equipment Information'!AI39","v":0},{"$f":"' Calculations'!X26","v":0},{"$f":"' Calculations'!W26","v":0},{"$error":"#N/A"},{"$f":"' Calculations'!AF26","v":{"$error":"#N/A"}},{"$f":"' Calculations'!AE26","v":{"$error":"#N/A"}},{"$f":"' Calculations'!AD26","v":{"$error":"#N/A"}},{"$f":"' Calculations'!S26","v":{"$error":"#N/A"}}]
["RCx Enhanced HVAC ",{"$f":"IF('Equipment Information'!AJ40=0,\"No\",\"Yes\")","v":"No"},{"$f":"'Equipment Information'!C40","v":0},0,{"$f":"'Equipment Information'!I40","v":0},{"$f":"'Equipment Information'!J40/12000","v":0},{"$f":"'Equipment Information'!L40/12000","v":0},"Single",{"$f":"'Equipment Information'!Q40","v":0},{"$f":"TEXT(IF('Equipment Information'!P40=\"\",\"\",'Equipment Information'!P40),\"mm/dd/yyyy\")","v":""},{"$f":"'Equipment Information'!O40","v":0},1,"NA",0,0,0,0,0,0,0,{"$f":"'Equipment Information'!$D$13","v":0},"RCx Enhanced HVAC ",{"$f":"30*('Equipment Information'!J40/12000)","v":0},{"$f":"IFERROR(' Calculations'!X27/AF92,\"-\")","v":"-"},{"$f":"IFERROR(' Calculations'!W27/AF92,\"-\")","v":"-"},0,{"$f":"IFERROR(' Calculations'!AF27/AF92,\"-\")","v":"-"},{"$f":"IFERROR(' Calculations'!AE27/AF92,\"-\")","v":"-"},{"$f":"IFERROR(' Calculations'!AD27/AF92,\"-\")","v":"-"},{"$f":"IFERROR(' Calculations'!AC27/AF92,\"-\")","v":"-"},5,{"$f":"'Equipment Information'!N40","v":0},{"$f":"#REF!","v":{"$error":"#REF!"}},{"$f":"'Equipment Information'!AI40","v":0},{"$f":"' Calculations'!X27","v":0},{"$f":"' Calculations'!W27","v":0},{"$error":"#N/A"},{"$f":"' Calculations'!AF27","v":{"$error":"#N/A"}},{"$f":"' Calculations'!AE27","v":{"$error":"#N/A"}},{"$f":"' Calculations'!AD27","v":{"$error":"#N/A"}},{"$f":"' Calculations'!S27","v":{"$error":"#N/A"}}]
["RCx Enhanced HVAC ",{"$f":"IF('Equipment Information'!AJ41=0,\"No\",\"Yes\")","v":"No"},{"$f":"'Equipment Information'!C41","v":0},0,{"$f":"'Equipment Information'!I41","v":0},{"$f":"'Equipment Information'!J41/12000","v":0},{"$f":"'Equipment Information'!L41/12000","v":0},"Single",{"$f":"'Equipment Information'!Q41","v":0},{"$f":"TEXT(IF('Equipment Information'!P41=\"\",\"\",'Equipment Information'!P41),\"mm/dd/yyyy\")","v":""},{"$f":"'Equipment Information'!O41","v":0},1,"NA",0,0,0,0,0,0,0,{"$f":"'Equipment Information'!$D$13","v":0},"RCx Enhanced HVAC ",{"$f":"30*('Equipment Information'!J41/12000)","v":0},{"$f":"IFERROR(' Calculations'!X28/AF93,\"-\")","v":"-"},{"$f":"IFERROR(' Calculations'!W28/AF93,\"-\")","v":"-"},0,{"$f":"IFERROR(' Calculations'!AF28/AF93,\"-\")","v":"-"},{"$f":"IFERROR(' Calculations'!AE28/AF93,\"-\")","v":"-"},{"$f":"IFERROR(' Calculations'!AD28/AF93,\"-\")","v":"-"},{"$f":"IFERROR(' Calculations'!AC28/AF93,\"-\")","v":"-"},5,{"$f":"'Equipment Information'!N41","v":0},{"$f":"#REF!","v":{"$error":"#REF!"}},{"$f":"'Equipment Information'!AI41","v":0},{"$f":"' Calculations'!X28","v":0},{"$f":"' Calculations'!W28","v":0},{"$error":"#N/A"},{"$f":"' Calculations'!AF28","v":{"$error":"#N/A"}},{"$f":"' Calculations'!AE28","v":{"$error":"#N/A"}},{"$f":"' Calculations'!AD28","v":{"$error":"#N/A"}},{"$f":"' Calculations'!S28","v":{"$error":"#N/A"}}]
["RCx Enhanced HVAC ",{"$f":"IF('Equipment Information'!AJ42=0,\"No\",\"Yes\")","v":"No"},{"$f":"'Equipment Information'!C42","v":0},0,{"$f":"'Equipment Information'!I42","v":0},{"$f":"'Equipment Information'!J42/12000","v":0},{"$f":"'Equipment Information'!L42/12000","v":0},"Single",{"$f":"'Equipment Information'!Q42","v":0},{"$f":"TEXT(IF('Equipment Information'!P42=\"\",\"\",'Equipment Information'!P42),\"mm/dd/yyyy\")","v":""},{"$f":"'Equipment Information'!O42","v":0},1,"NA",0,0,0,0,0,0,0,{"$f":"'Equipment Information'!$D$13","v":0},"RCx Enhanced HVAC ",{"$f":"30*('Equipment Information'!J42/12000)","v":0},{"$f":"IFERROR(' Calculations'!X29/AF94,\"-\")","v":"-"},{"$f":"IFERROR(' Calculations'!W29/AF94,\"-\")","v":"-"},0,{"$f":"IFERROR(' Calculations'!AF29/AF94,\"-\")","v":"-"},{"$f":"IFERROR(' Calculations'!AE29/AF94,\"-\")","v":"-"},{"$f":"IFERROR(' Calculations'!AD29/AF94,\"-\")","v":"-"},{"$f":"IFERROR(' Calculations'!AC29/AF94,\"-\")","v":"-"},5,{"$f":"'Equipment Information'!N42","v":0},{"$f":"#REF!","v":{"$error":"#REF!"}},{"$f":"'Equipment Information'!AI42","v":0},{"$f":"' Calculations'!X29","v":0},{"$f":"' Calculations'!W29","v":0},{"$error":"#N/A"},{"$f":"' Calculations'!AF29","v":{"$error":"#N/A"}},{"$f":"' Calculations'!AE29","v":{"$error":"#N/A"}},{"$f":"' Calculations'!AD29","v":{"$error":"#N/A"}},{"$f":"' Calculations'!S29","v":{"$error":"#N/A"}}]
["RCx Enhanced HVAC ",{"$f":"IF('Equipment Information'!AJ43=0,\"No\",\"Yes\")","v":"No"},{"$f":"'Equipment Information'!C43","v":0},0,{"$f":"'Equipment Information'!I43","v":0},{"$f":"'Equipment Information'!J43/12000","v":0},{"$f":"'Equipment Information'!L43/12000","v":0},"Single",{"$f":"'Equipment Information'!Q43","v":0},{"$f":"TEXT(IF('Equipment Information'!P43=\"\",\"\",'Equipment Information'!P43),\"mm/dd/yyyy\")","v":""},{"$f":"'Equipment Information'!O43","v":0},1,"NA",0,0,0,0,0,0,0,{"$f":"'Equipment Information'!$D$13","v":0},"RCx Enhanced HVAC ",{"$f":"30*('Equipment Information'!J43/12000)","v":0},{"$f":"IFERROR(' Calculations'!X30/AF95,\"-\")","v":"-"},{"$f":"IFERROR(' Calculations'!W30/AF95,\"-\")","v":"-"},0,{"$f":"IFERROR(' Calculations'!AF30/AF95,\"-\")","v":"-"},{"$f":"IFERROR(' Calculations'!AE30/AF95,\"-\")","v":"-"},{"$f":"IFERROR(' Calculations'!AD30/AF95,\"-\")","v":"-"},{"$f":"IFERROR(' Calculations'!AC30/AF95,\"-\")","v":"-"},5,{"$f":"'Equipment Information'!N43","v":0},{"$f":"#REF!","v":{"$error":"#REF!"}},{"$f":"'Equipment Information'!AI43","v":0},{"$f":"' Calculations'!X30","v":0},{"$f":"' Calculations'!W30","v":0},{"$error":"#N/A"},{"$f":"' Calculations'!AF30","v":{"$error":"#N/A"}},{"$f":"' Calculations'!AE30","v":{"$error":"#N/A"}},{"$f":"' Calculations'!AD30","v":{"$error":"#N/A"}},{"$f":"' Calculations'!S30","v":{"$error":"#N/A"}}]
["RCx Enhanced HVAC ",{"$f":"IF('Equipment Information'!AJ44=0,\"No\",\"Yes\")","v":"No"},{"$f":"'Equipment Information'!C44","v":0},0,{"$f":"'Equipment Information'!I44","v":0},{"$f":"'Equipment Information'!J44/12000","v":0},{"$f":"'Equipment Information'!L44/12000","v":0},"Single",{"$f":"'Equipment Information'!Q44","v":0},{"$f":"TEXT(IF('Equipment Information'!P44=\"\",\"\",'Equipment Information'!P44),\"mm/dd/yyyy\")","v":""},{"$f":"'Equipment Information'!O44","v":0},1,"NA",0,0,0,0,0,0,0,{"$f":"'Equipment Information'!$D$13","v":0},"RCx Enhanced HVAC ",{"$f":"30*('Equipment Information'!J44/12000)","v":0},{"$f":"IFERROR(' Calculations'!X31/AF96,\"-\")","v":"-"},{"$f":"IFERROR(' Calculations'!W31/AF96,\"-\")","v":"-"},0,{"$f":"IFERROR(' Calculations'!AF31/AF96,\"-\")","v":"-"},{"$f":"IFERROR(' Calculations'!AE31/AF96,\"-\")","v":"-"},{"$f":"IFERROR(' Calculations'!AD31/AF96,\"-\")","v":"-"},{"$f":"IFERROR(' Calculations'!AC31/AF96,\"-\")","v":"-"},5,{"$f":"'Equipment Information'!N44","v":0},{"$f":"#REF!","v":{"$error":"#REF!"}},{"$f":"'Equipment Information'!AI44","v":0},{"$f":"' Calculations'!X31","v":0},{"$f":"' Calculations'!W31","v":0},{"$error":"#N/A"},{"$f":"' Calculations'!AF31","v":{"$error":"#N/A"}},{"$f":"' Calculations'!AE31","v":{"$error":"#N/A"}},{"$f":"' Calculations'!AD31","v":{"$error":"#N/A"}},{"$f":"' Calculations'!S31","v":{"$error":"#N/A"}}]

{"sheet":"Tune-up","index":9,"n_rows":130,"n_cols":10,"rows_kept":130,"cut":false,"hidden":true,"merged":[[107,2,107,6],[102,2,102,6],[106,2,106,6],[97,2,97,6],[98,2,98,6],[103,2,103,6],[104,2,104,6],[91,2,91,6],[100,2,100,6],[101,2,101,6],[92,2,92,6],[99,2,99,6],[93,2,93,6],[93,8,93,9],[94,2,94,6],[95,2,95,6],[96,2,96,6],[105,2,105,6],[77,4,77,5],[77,6,77,7],[59,6,59,7],[60,6,60,7],[83,6,83,7],[78,4,78,5],[78,6,78,7],[79,8,79,9],[82,6,82,7],[53,4,53,5],[43,4,43,5],[46,6,46,7],[53,6,53,7],[78,8,78,9],[54,4,54,5],[55,4,55,5],[54,6,54,7],[46,8,46,9],[53,8,53,9],[76,4,76,5],[76,6,76,7],[55,6,55,7],[54,8,54,9],[41,4,41,5],[27,8,27,9],[40,8,40,9],[27,6,27,7],[36,6,36,7],[40,6,40,7],[25,6,25,7],[77,8,77,9],[76,8,76,9],[55,8,55,9],[56,8,56,9],[9,6,9,7],[9,8,9,9],[20,6,20,7],[21,6,21,8],[24,6,24,7]]}
[]
[null,"Condenser/Outdoor Unit",null,"Manufacturer:",null,null,"Tonnage:"]
[null,"Year Manufactured or installed:",null,"Model Number:",null,null,"SEER:"]
[null,null,null,"Serial Number:",null,null,"EER:"]
[null,null,null,"Cooling Capacity (Btuh):",null,null,"HSPF or COP:"]
[null,null,null,"Heat Pump Heating Capacity (Btuh) @ 47 F:"]
[null,"Coil/Indoor Unit",null,"Manufacturer:"]
[null,"Year Manufactured or installed:",null,"Model Number (if available):",null,null,"Serial Number (if available):"]
[]
[null,"Test Summary (from Pre and Post Calculation Worksheets)",null,null,null,null,"Before",null,"After"]
[null,null,null,null,"System Watts (watts = measured volts x measured amps)",null,20935.2,"Watts",19946,"Watts"]
[null,null,null,null,null,null,"DB","WB","DB","WB"]
[null,null,null,null,"Coil Entering DB/WB Temperatures",null,null,61.8]
[null,null,null,null,"Coil Leaving DB/WB Temperatures",null,null,49.2]
[null,null,null,null,"Coil Capacity",null,134452,"Btuh",null,"Btuh"]
[null,null,null,null,"Equipment Nominal Btu (manufacturer’s rated Cooling Btuh)",null,180000,"Btuh",null,"Btuh"]
[null,null,null,null,"System Effective Efficiency (“After” should exceed 90%)",null,75,"%",null,"%"]
[]
[null,"System Airflow Performance Test Data",null,null,null,null,"Before CFM","Before IWC","After CFM","After IWC"]
[null,null,null,null,"Fan Airflow (CFM measured/verified)",null,3811,null,3985]
[null,null,null,null,"Fan Speed Setting",null,"Belt Drive"]
[null,null,null,null,"Method of Airflow Measurement",null,"Anemometer"]
[]
[null,"Refrigerant Charge Verification ",null,null,null,null,null,null,"Lb.","Oz."]
[null,null,null,null,"Refrigerant Charge (indicate quantity added or removed)"]
[null,null,null,null,"Refrigerant Type",null,null,null,"Other:"]
[]
[null,"Refrigerant System Test Results",null,null,null,null,"Before",null,"After"]
[null,null,null,null,null,null,"DB","WB","DB","WB"]
[null,null,null,null,"Coil Entering DB/WB Temperatures ( measure to1 decimal point)",null,78,76,77,76]
[null,null,null,null,"Coil Leaving DB/WB Temperatures ( measure to1 decimal point)"]
[null,null,null,null,"Condenser Entering Air DB (outdoor air temperature at condenser)",null,null,"F",null,"F"]
[null,null,null,null,"Suction Pressure (required to check refrigerant charge)",null,null,"psi",null,"psi"]
[null,null,null,null,"Discharge Pressure (required to check refrigerant charge)",null,null,"psi",null,"psi"]
[null,null,null,null,"Suction Line Temperature (required to check refrigerant charge)",null,null,"F",null,"F"]
[null,null,null,null,"Liquid Line Temperature (required to check refrigerant charge)",null,null,"F",null,"F"]
[null,null,null,null,"OEM Specified Charging Method"]
[null,null,null,null,"OEM Specified Value",null,null,"F",null,"F"]
[null,null,null,null,"Actual Results (indicate before and after results)",null,null,"F",null,"F"]
[]
[null,"Electrical Measurements",null,null,"Phase",null,"Before",null,"After"]
[null,null,null,"Packaged or Condensing Unit Voltage",null,null,null,"Voltage",null,"Voltage"]
[null,null,null,"Packaged or Condensing Unit Amps (Avg. of all3 legs for 3Φ)",null,null,null,"Amps",null,"Amps"]
[null,null,null,"Indoor Unit Voltage (if Applicable)",null,null,null,"Voltage",null,"Voltage"]
[null,null,null,"Indoor Unit Amps (Avg. of all 3 legs for 3Φ)",null,null,null,"Amps",null,"Amps"]
[]
[null,"Ventilation Test Results",null,null,null,null,"Before",null,"After"]
[null,null,null,null,"Indoor Air CO2 Reading (PPM) – Economizer Closed",null,400,"PPM",null,"PPM"]
[null,null,null,null,"Outdoor Air Temp (OAT)",null,90,"OAT",null,"OAT"]
[null,null,null,null,"Return Air Temp (RAT)",null,59,"RAT",null,"RAT"]
[null,null,null,null,"Mixed Air Temp (MAT)",null,62,"MAT",null,"MAT"]
[]
[null,"Pre-Test Calculation Worksheet"]
[null,"System Watts (Power)",null,"Volts","Amps",null," 1Φ = 1, 3 Φ = 1.73",null,"Watts"]
[null,null,"Packaged Unit or Condensing Unit  ",488,27.5,null,1.56,null,{"$f":"D55*E55*G55","v":20935.2}]
[null,null,"Indoor Unit (if applicable)  ",null,null,null,null,null,{"$f":"D56*E56*G56","v":0}]
[null,null,null,null,null,null,null,"Total System Watts  (Add blower motor and compressor/condenser fan watts to get total)",{"$f":"I55+I56","v":20935.2}]
[]
[null,"Converting Wet Bulb (WB) to Enthalpy – Utilize the Wet Bulb Temperature to Enthalpy Conversion Table (Record Enthalpy to 2 decimal places)"]
[null,null,"Entering Coil WB  ",61.8,"F",null,28.57,null,"Btu/Lb Enthalpy (A)"]
[null,null,"Leaving Coil WB  ",49.2,"F",null,27,null,"Btu/Lb Enthalpy (B)"]
[null,null,"Coil Capacity  ",5125,"System CFM",null,null,{"$f":"D62*4.5*(G60-G61)","v":36208.125000000007},"Btuh"]
[null,null,"System Efficiency  ",180000,"Equipment Nominal Capacity (Btuh)",null,null,{"$f":"IF(H62=0,0,H62/D63)","v":0.20115625000000004},"System Effective Efficiency (%)"]
[]
[null,null,"Ventilation Air Quantity (OA CFM)",{"$f":"IF(OR(D62=0,(G$49-G$50)=0,(G$50-G$49)=0),0,IF(G$49>G$50,(G$51-G$50)/(G$49-G$50)*D62,(G$50-G$51)/(G$50-G$49)*D62))","v":495.96774193548384}]
[]
[null,"Tune-Up Procedures Performed"]
[null,null,"* Changed or cleaned air filter"]
[null,null,"* Checked/Cleaned condenser coil"]
[null,null,"* Checked/Cleaned evaporator coil"]
[null,null,"* Adjusted air flow"]
[null,null,"* Adjusted refrigerant charge"]
[null,null,"* Repaired Economizer"]
[null,null,"* Adjust Ventilation Air Quantity"]
[]
[null,"Post-Test Calculation Worksheet"]
[null,"System Watts (Power)",null,"Volts","Amps",null," 1Φ = 1, 3 Φ = 1.73",null,"Watts"]
[null,null,"Packaged Unit or Condensing Unit  ",488,26.2,null,1.56,null,{"$f":"D78*E78*G78","v":19945.536}]
[null,null,"Indoor Unit (if applicable)  ",null,null,null,null,null,{"$f":"D79*E79*G79","v":0}]
[null,null,null,null,null,null,null,"Total System Watts  (Add blower motor and compressor/condenser fan watts to get total)",{"$f":"I78+I79","v":19945.536}]
[]
[null,"Converting Wet Bulb (WB) to Enthalpy – Utilize the Wet Bulb Temperature to Enthalpy Conversion Table (Record Enthalpy to 2 decimal places)"]
[null,null,"Entering Coil WB  ",62.1,"F",null,27.92,null,"Btu/Lb Enthalpy (A)"]
[null,null,"Leaving Coil WB  ",47.1,"F",null,18.73,null,"Btu/Lb Enthalpy (B)"]
[null,null,"Coil Capacity  ",3985,"System CFM",null,null,{"$f":"D85*4.5*(G83-G84)","v":164799.67500000002},"Btuh"]
[null,null,"System Efficiency  ",180000,"Equipment Nominal Capacity (Btuh)",null,null,{"$f":"IF(H85=0,0,H85/D86)","v":0.91555375000000006},"System Effective Efficiency (%)"]
[]
[null,null,"Ventilation Air Quantity (OA CFM)",{"$f":"IF(OR(D85=0,(I$49-I$50)=0,(I$50-I$49)=0),0,IF(I$49>I$50,(I$51-I$50)/(I$49-I$50)*D85,(I$50-I$51)/(I$50-I$49)*D85))","v":0}]
[]
[null,"HVAC EOM Incentives"]
[null,"Measure","Requirements",null,null,null,null,null,"Per HVAC Unit Incentives"]
[null,"Enhanced Tune-Up","Requires completion of  Unitary HVAC Diagnostic Tune-up Performance Worksheet for each unit",null,null,null,null,175,"for single compressor units"]
[null,null,"Pretest unit air flow and refrigerant system",null,null,null,null,250,"for multiple compressor units"]
[null,null,"Perform necessary maintenance and adjustments to achieve a minimum System Effective Efficiency (SEE) of 90% as confirmed by post-testing.",null,null,null,null,35,"if pretest results indicate SEE >95% or unable to achieve SEE > 90% in post testing"]
[null,"Economizer Testing","Perform functional testing of economizer",null,null,null,null,50]
[null,null,"If functional, optimize economizer setpoints"]
[null,"Economizer Repair","Place Economizer into functional condition",null,null,null,null,150]
[null,null,"Optimize economizer setpoints"]
[null,"Dual-enthalpy Economizer Upgrade","For existing economizers with single sensor electronic controls capable of accepting dual-enthalpy control",null,null,null,null,150]
[null,null,"Mechanical cooling must be capable of operating during economizer operation"]
[null,null,"For units without economizers use the Custom Application to be considered for economizer installation incentives"]
[null,"Ventilation Air Quantity Optimization","For units with interior CO2 concentration less than 825 ppm when economizer is not operating",null,null,null,null,150]
[null,null,"Adjust minimum ventilation air damper to optimize ventilation air quantity to ASHRAE 62 requirements"]
[null,null,"In no instance shall final interior CO2 concentration exceed 1100 ppm without customer approval."]
[null,null,"May not be combined with Demand Control Ventilation incentive"]
[null,"Demand Controlled Ventilation","For existing units with electronic controls capable of accepting CO2 sensor input for ventilation air quantity control",null,null,null,null,200]
[null,null,"For units serving a single control zone only"]
[null,null,"For VAV or units serving multiple control zones use the Custom Application to be considered for DCV installation incentives"]
[]
[null,null,null,"Code","Incentive"]
[null,null,"TU = Enhanced Tune-Up","TU",{"$f":"IF(Inputs!H17=\"Single\",$H$92,0)+IF(Inputs!H17=\"Multiple\",$H$93,0)+IF(Inputs!P18=\"No\",$H$94,IF(K17=0,0,IF(' Calculations'!#REF!/Inputs!L18>95%,$H$94,0)))","v":{"$error":"#REF!"}},1]
[null,null,null,"TU",{"$f":"IF(Inputs!H18=\"Single\",$H$92,0)+IF(Inputs!H18=\"Multiple\",$H$93,0)+IF(Inputs!P19=\"No\",$H$94,IF(K18=0,0,IF(' Calculations'!#REF!/Inputs!L19>95%,$H$94,0)))","v":{"$error":"#REF!"}},2]
[null,null,null,"TU",{"$f":"IF(Inputs!H19=\"Single\",$H$92,0)+IF(Inputs!H19=\"Multiple\",$H$93,0)+IF(Inputs!#REF!=\"No\",$H$94,IF(K19=0,0,IF(' Calculations'!#REF!/Inputs!#REF!>95%,$H$94,0)))","v":{"$error":"#REF!"}},3]
[null,null,null,"TU",{"$f":"IF(Inputs!#REF!=\"Single\",$H$92,0)+IF(Inputs!#REF!=\"Multiple\",$H$93,0)+IF(Inputs!P21=\"No\",$H$94,IF(K20=0,0,IF(' Calculations'!#REF!/Inputs!L21>95%,$H$94,0)))","v":{"$error":"#REF!"}},4]
[null,null,null,"TU",{"$f":"IF(Inputs!H21=\"Single\",$H$92,0)+IF(Inputs!H21=\"Multiple\",$H$93,0)+IF(Inputs!P33=\"No\",$H$94,IF(K21=0,0,IF(' Calculations'!#REF!/Inputs!L33>95%,$H$94,0)))","v":{"$error":"#REF!"}},5]
[null,null,null,"TU",{"$f":"IF(Inputs!H33=\"Single\",$H$92,0)+IF(Inputs!H33=\"Multiple\",$H$93,0)+IF(Inputs!P34=\"No\",$H$94,IF(K22=0,0,IF(' Calculations'!#REF!/Inputs!L34>95%,$H$94,0)))","v":{"$error":"#REF!"}},6]
[null,null,null,"TU",{"$f":"IF(Inputs!H34=\"Single\",$H$92,0)+IF(Inputs!H34=\"Multiple\",$H$93,0)+IF(Inputs!P35=\"No\",$H$94,IF(K23=0,0,IF(' Calculations'!#REF!/Inputs!L35>95%,$H$94,0)))","v":{"$error":"#REF!"}},7]
[null,null,null,"TU",{"$f":"IF(Inputs!H35=\"Single\",$H$92,0)+IF(Inputs!H35=\"Multiple\",$H$93,0)+IF(Inputs!P36=\"No\",$H$94,IF(K24=0,0,IF(' Calculations'!#REF!/Inputs!L36>95%,$H$94,0)))","v":{"$error":"#REF!"}},8]
[null,null,null,"TU",{"$f":"IF(Inputs!H36=\"Single\",$H$92,0)+IF(Inputs!H36=\"Multiple\",$H$93,0)+IF(Inputs!P86=\"No\",$H$94,IF(K25=0,0,IF(' Calculations'!#REF!/Inputs!L86>95%,$H$94,0)))","v":{"$error":"#REF!"}},9]
[null,null,null,"TU",{"$f":"IF(Inputs!H86=\"Single\",$H$92,0)+IF(Inputs!H86=\"Multiple\",$H$93,0)+IF(Inputs!P87=\"No\",$H$94,IF(K26=0,0,IF(' Calculations'!#REF!/Inputs!L87>95%,$H$94,0)))","v":{"$error":"#REF!"}},10]
[null,null,"ET = Economizer Testing","ET",{"$f":"H95","v":50}]
[null,null,"ER = Economizer Repair","ER",{"$f":"H97","v":150}]
[null,null,"EU = Dual-enthalpy Economizer Upgrade","EU",{"$f":"H99","v":150}]
[null,null,"AQO = Ventilation Air Quantity Optimization","AQO",{"$f":"H102","v":150}]
[null,null,"DCV = Demand Controlled Ventilation","DCV",{"$f":"H106","v":200}]
[]
[null,"Commercial Cooling Equipment Performance Curve"]
[null,{"$f":"0.2229+0.3134*B130+0.4637*B130^2","v":0.71878124999999993}]
[null,"Part Load Factor"]
[null,0.75]

{"sheet":"Tune-up incentives.","index":10,"n_rows":5,"n_cols":7,"rows_kept":5,"cut":false,"hidden":true,"merged":[]}
[]
[null,"Incentives",null,null,"Single","Multiple","Pre test results indicate SEE >95% or unable to achieve SEE >90% in post test"]
[null,250,null,null,175,250,35]
[null,175]
[null,35]

{"sheet":"Incentives","index":11,"n_rows":26,"n_cols":20,"rows_kept":26,"cut":false,"hidden":true,"merged":[[3,11,4,11],[3,12,4,12],[15,11,16,11],[15,12,16,12],[15,1,16,1],[15,2,16,2],[3,1,4,1],[3,2,4,2]]}
[]
[]
[null,null,null,"AC w/ Gas Heating - Split","AC w/ Gas Heating - Pkg","Heat pump w/ Gas Backup - Split","Heat pump w/ Gas Backup - Pkg","Water Cooled - split or packaged",null,"PTAC",null,null,null,"AC w/ Gas Heating - Split","AC w/ Gas Heating - Pkg","Heat pump w/ Gas Backup - Split","Heat pump w/ Gas Backup - Pkg",null,null,"PTAC"]
[null,"Btu/h","Tons","Incentives - Tier 1",null,null,null,null,null,null,null,"Btu/h","Tons","Incentives - Tier 1"]
[null,null,null,"S","U","H","<split versus unitary heatpump not specified in application form - assume higher requirement of split>","W","PTHP","PTAC",null,null,null,"S","U","H","<split versus unitary heatpump not specified in application form - assume higher requirement of split>","W","PTHP","PTAC"]
[null,null,null,"EER","EER","EER","EER","EER",null,null,null,null,null,"EER","EER","EER","EER"]
[null,0,{"$f":"B7/12000","v":0},12,11.6,12,11.6,14,11.5,11.8,null,0,{"$f":"L7/12000","v":0},25,25,25,25,50,null,30]
[null,9000,0.75,12,11.6,12,11.6,14,10.8,11,null,9000,0.75,25,25,25,25,50,null,40]
[null,12000,1,12,11.6,12,11.6,14,10.1,10.3,null,12000,1,25,25,25,25,50,null,50]
[null,65000,5.416666666666667,11.5,11.5,11.5,11.5,14,10.1,10.3,null,65000,5.416666666666667,25,25,25,25,50,null,50]
[null,135000,11.25,11.5,11.5,11.5,11.5,14,10.1,10.3,null,135000,11.25,25,25,25,25,50,null,50]
[null,240000,20,10.5,10.5,10.5,10.5,14,10.1,10.3,null,240000,20,25,25,25,25,50,null,50]
[null,760000,63.333333333333336,9.6999999999999993,9.6999999999999993,9.6999999999999993,9.6999999999999993,14,10.1,10.3,null,760000,63.333333333333336,15,15,15,15,50,null,50]
[null,"Incentive per Ton",null,null,null,null,null,null,null,null,null,"Incentive per Ton"]
[]
[null,"Btu/h","Tons","Incentives - Tier 2",null,null,null,null,null,null,null,"Btu/h","Tons","Incentives - Tier 2"]
[null,null,null,"S","U","H","<split versus unitary heatpump not specified in application form - assume higher requirement of split>","W","PTHP","PTAC",null,null,null,"S","U","H","<split versus unitary heatpump not specified in application form - assume higher requirement of split>","W","PTHP","PTAC"]
[null,null,null,"EER","EER","EER","EER",null,null,null,null,null,null,"EER","EER","EER","EER"]
[null,0,{"$f":"B19/12000","v":0},12.5,12,12.5,12,"-","-","-",null,0,{"$f":"L19/12000","v":0},70,70,70,70,"-","-","-"]
[null,9000,0.75,12.5,12,12.5,12,"-","-","-",null,9000,0.75,70,70,70,70,"-","-","-"]
[null,12000,1,12.5,12,12.5,12,"-","-","-",null,12000,1,70,70,70,70,"-","-","-"]
[null,65000,5.416666666666667,12,12,12,12,"-","-","-",null,65000,5.416666666666667,70,70,70,70,"-","-","-"]
[null,135000,11.25,12,12,12,12,"-","-","-",null,135000,11.25,70,70,70,70,"-","-","-"]
[null,240000,20,10.85,10.85,10.85,10.85,"-","-","-",null,240000,20,70,70,70,70,"-","-","-"]
[null,760000,63.333333333333336,10.199999999999999,10.199999999999999,10.199999999999999,10.199999999999999,"-","-","-",null,760000,63.333333333333336,50,50,50,50,"-","-","-"]
[null,"Incentive per Ton",null,null,null,null,null,null,null,null,null,"Incentive per Ton"]

{"sheet":"Validation","index":12,"n_rows":42,"n_cols":6,"rows_kept":42,"cut":false,"hidden":true,"merged":[]}
[]
[]
[null,null,null,null,"DX AC Split System","R134"]
[null,null,null,null,"DX AC Unitary","R404"]
[null,null,null,null,"Heat Pump Split System","R410"]
[null,null,null,null,"Heat Pump Unitary","R22"]
[null,null,null,null,"DX AC Unitary w/ Electric Heat","R507"]
[null,null,null,null,"DX AC Split w/ Electric Heat","R507A"]
[]
[]
[null,null,null,null,"YES"]
[null,null,null,null,"NO"]
[]
[null,null,null,null,"TXV"]
[null,null,null,null,"Manual Valve"]
[null,null,null,null,"Capillary Tubes"]
[null,null,null,null,"Automatic Valves"]
[null,null,null,null,"EXV"]
[null,null,null,null,"Low Pressure Float Valve"]
[null,"Building Type Entered","Assumption of Cooling Performance Curve modeled",null,"High Pressure Float Valve"]
[null,"Assembly","Elementary School"]
[null,"Education - Community College","Elementary School"]
[null,"Education - Primary School","Elementary School"]
[null,"Education - Relocatable Classroom","Elementary School"]
[null,"Education - Secondary School","Elementary School"]
[null,"Education - University","Elementary School"]
[null,"Grocery","Grocery"]
[null,"Health/Medical - Hospital","Healthcare"]
[null,"Health/Medical - Nursing Home","Healthcare"]
[null,"Lodging - Hotel","Hotel"]
[null,"Manufacturing – Bio Tech/High Tech","Warehouse"]
[null,"Manufacturing – 1 Shift/Light Industrial","Warehouse"]
[null,"Multi-Family (Common Areas)","Hotel"]
[null,"Office - Large","Small Office"]
[null,"Office - Small","Small Office"]
[null,"Restaurant - Fast-Food","Restaurant"]
[null,"Restaurant - Sit-Down","Restaurant"]
[null,"Retail - Multistory Large","Retail"]
[null,"Retail - Single-Story Large","Retail"]
[null,"Retail - Small","Retail"]
[null,"Storage - Conditioned","Warehouse"]
[null,"Warehouse - Refrigerated","Warehouse"]

{"sheet":"Lookups","index":13,"n_rows":176,"n_cols":65,"rows_kept":176,"cut":false,"hidden":true,"merged":[[115,2,116,6],[142,2,143,6],[87,12,87,19],[87,21,87,28],[87,30,87,37],[87,3,87,10],[117,8,117,10],[125,8,125,10],[132,8,132,10],[141,8,141,10],[58,1,61,1],[52,2,53,2],[54,1,57,1],[30,3,31,3],[30,2,31,2],[40,2,41,2],[40,3,41,3],[171,8,171,10],[147,8,147,10],[153,8,153,10],[159,8,159,10],[165,8,165,10]]}
[null,null,"References"]
[null,null,"Looked up from:","B:\\Projects - Utility DSM\\BGE Implementation\\Working Documents\\Unitary\\BGE PJM E+ Simulation 2009_03_16\\runs\\[BGE PJM EER Impact Existing v3 2009-03-24.xls]Archive"]
[null,null,"Looked up from:"]
[null,null,"Tables pasted from:","B:\\Projects - Utility DSM\\BGE Implementation\\Working Documents\\Unitary\\[Savings per ton V8 2009_04_07.xls]Existing"]
[]
[]
[]
[]
[null,null,"AC Savings Tables"]
[null,null,null,"Electricity Consumption / Ton",null,null,null,null,null,null,null,null,"Demand / Ton PJM Definition",null,null,null,null,null,null,null,null,"Demand / Ton Hottest Day"]
[null,null,null,"Small Office","Retail","Grocery","Restaurant","Elementary School","Warehouse","Hotel","Healthcare",null,"Small Office","Retail","Grocery","Restaurant","Elementary School","Warehouse","Hotel","Healthcare",null,"Small Office","Retail","Grocery","Restaurant","Elementary School","Warehouse","Hotel","Healthcare"]
[null,null,null,{"$f":"Lookups!$O$55","v":"Small Office"},{"$f":"Lookups!$O$56","v":"Retail"},{"$f":"Lookups!$O$57","v":"Grocery"},{"$f":"Lookups!$O$58","v":"Restaurant"},{"$f":"Lookups!$O$60","v":"Elementary School"},{"$f":"Lookups!$O$61","v":"Warehouse"},{"$f":"Lookups!$O$59","v":"Hotel"},{"$f":"Lookups!$O$62","v":"Healthcare"},null,{"$f":"Lookups!$O$55","v":"Small Office"},{"$f":"Lookups!$O$56","v":"Retail"},{"$f":"Lookups!$O$57","v":"Grocery"},{"$f":"Lookups!$O$58","v":"Restaurant"},{"$f":"Lookups!$O$60","v":"Elementary School"},{"$f":"Lookups!$O$61","v":"Warehouse"},{"$f":"Lookups!$O$59","v":"Hotel"},{"$f":"Lookups!$O$62","v":"Healthcare"},null,{"$f":"Lookups!$O$55","v":"Small Office"},{"$f":"Lookups!$O$56","v":"Retail"},{"$f":"Lookups!$O$57","v":"Grocery"},{"$f":"Lookups!$O$58","v":"Restaurant"},{"$f":"Lookups!$O$60","v":"Elementary School"},{"$f":"Lookups!$O$61","v":"Warehouse"},{"$f":"Lookups!$O$59","v":"Hotel"},{"$f":"Lookups!$O$62","v":"Healthcare"}]
[null,null,null,"y = 5.5439x2 - 188.54x + 6539.3","y = 6.1614x2 - 209.51x + 8816.4","y = 3.2142x2 - 109.3x + 13603","y = 8.559x2 - 291.08x + 20749","y = 7.1205x2 - 242.13x + 8662.5","y = 1.2384x2 - 42.098x + 2783.6","y = 9.2379x2 - 312.11x + 7705.8","y = 9.8018x2 - 333.29x + 9876.2",null,"y = 0.004x2 - 0.1368x + 2.4835","y = 0.0041x2 - 0.1392x + 3.0503","y = 0.0025x2 - 0.0836x + 3.1826","y = 0.005x2 - 0.1705x + 5.2477","y = 0.005x2 - 0.1709x + 2.8434","y = 0.0014x2 - 0.0472x + 0.9965","y = 0.0032x2 - 0.1079x + 1.7291","y = 0.0035x2 - 0.1193x + 2.1276",null,"y = 0.0069x2 - 0.2353x + 3.9647","y = 0.0067x2 - 0.229x + 4.2293","y = 0.0051x2 - 0.174x + 4.4568","y = 0.0083x2 - 0.281x + 7.2691","y = 0.0089x2 - 0.3024x + 4.3341","y = 0.0057x2 - 0.195x + 3.0407","y = 0.0045x2 - 0.1529x + 2.1788","y = 0.0053x2 - 0.1803x + 3.1906"]
[null,null,null,"R2 = 0.9999","R2 = 0.9999","R2 = 0.9999","R2 = 0.9999","R2 = 0.9999","R2 = 0.9999","R2 = 0.9999","R2 = 0.9999",null,"R2 = 0.9999","R2 = 0.9999","R2 = 0.9999","R2 = 0.9999","R2 = 0.9999","R2 = 0.9999","R2 = 0.9999","R2 = 0.9999",null,"R2 = 0.9999","R2 = 0.9999","R2 = 0.9999","R2 = 0.9999","R2 = 0.9999","R2 = 0.9999","R2 = 0.9999","R2 = 0.9999"]
[null,null,"Quadratic Coefficient",5.5438999999999998,6.1614000000000004,3.2141999999999999,8.5589999999999993,7.1204999999999998,1.2383999999999999,9.2378999999999998,9.8018000000000001,null,4.0000000000000001E-3,4.1000000000000003E-3,2.5000000000000001E-3,5.0000000000000001E-3,5.0000000000000001E-3,1.4E-3,3.2000000000000002E-3,3.5000000000000001E-3,null,6.8999999999999999E-3,6.7000000000000002E-3,5.1000000000000004E-3,8.3000000000000001E-3,8.8999999999999999E-3,5.7000000000000002E-3,4.4999999999999997E-3,5.3E-3]
[null,null,"Linear Coefficient",-188.54,-209.51,-109.3,-291.08,-242.13,-42.097999999999999,-312.11,-333.29,null,-0.1368,-0.13919999999999999,-8.3599999999999994E-2,-0.17050000000000001,-0.1709,-4.7199999999999999E-2,-0.1079,-0.1193,null,-0.23530000000000001,-0.22900000000000001,-0.17399999999999999,-0.28100000000000003,-0.3024,-0.19500000000000001,-0.15290000000000001,-0.18029999999999999]
[null,null,"Constant Coefficient",6539.3,8816.4,13603,20749,8662.5,2783.6,7705.8,9876.2000000000007,null,2.4834999999999998,3.0503,3.1825999999999999,5.2477,2.8433999999999999,0.99650000000000005,1.7291000000000001,2.1276000000000002,null,3.9647000000000001,4.2293000000000003,4.4568000000000003,7.2690999999999999,4.3341000000000003,3.0407000000000002,2.1787999999999998,3.1905999999999999]
[null,null,"Formulas pasted from graphs in:"]
[null,null,"B:\\Projects - Utility DSM\\BGE Implementation\\Working Documents\\Unitary\\[Savings per ton V8 2009_04_07.xls]Existing"]
[]
[null,null,null,null,null,null,null,null,null,null,null,null,null,"pasted from"]
[null,null,"HP Savings Table",null,null,null,null,null,null,null,null,null,null,"B:\\Projects - Utility DSM\\BGE Implementation\\Working Documents\\Unitary\\Heatpumps\\[Heat pump Heating Mode Calculations v3.xls]Calculations"]
[null,null,null,"Heat Pump Savings/Ton",null,null,null,null,null,null,null,null,null,"kWh / kBtuh","x2","x"]
[null,null,null,{"$f":"D12","v":"Small Office"},{"$f":"E12","v":"Retail"},"Grocery","Restaurant","Elementary School","Warehouse","Hotel","Healthcare",null,null,"Small Office",1.9787602677713025,-16.418069257216214,44.098722086236272]
[null,1,"Quadratic Coefficient",{"$f":"INDEX($O$24:$Q$31,MATCH(D$24,$N$24:$N$31,0),$B25)","v":1.9787602677713025},{"$f":"INDEX($O$24:$Q$31,MATCH(E$24,$N$24:$N$31,0),$B25)","v":3.5095340219368132},5.2477717968739119,12.82607745436729,0.75178692843977157,3.9927427609309811,null,1.9787602677713025,null,null,"Retail",3.5095340219368132,-29.119127552329935,78.21360071065935]
[null,2,"Linear Coefficient",{"$f":"INDEX($O$24:$Q$31,MATCH(D$24,$N$24:$N$31,0),$B26)","v":-16.418069257216214},-29.119127552329935,-43.541545790275208,-106.41987883726756,-6.2376883439730255,-33.128382575139668,null,-16.418069257216214,null,null,"Grocery",5.2477717968739119,-43.541545790275208,116.95202992072375]
[null,3,"Constant Coefficient",44.098722086236272,78.21360071065935,116.95202992072375,285.84242079700596,16.754350370432149,88.982407946992907,null,44.098722086236272,null,null,"Restaurant",12.82607745436729,-106.41987883726756,285.84242079700596]
[null,null,null,null,null,null,null,null,null,null,null,null,null,"Elementary School",0.75178692843977157,-6.2376883439730255,16.754350370432149]
[null,null,"Baseline Efficiencies",null,null,null,null,null,null,null,null,null,null,"Warehouse",3.9927427609309811,-33.128382575139668,88.982407946992907]
[null,null,"Cooling",null,"AC w/ Gas Heating - Split","AC w/ Gas Heating - Pkg","Heat pump w/ Gas Backup - Split","Heat pump w/ Gas Backup - Pkg","Water cooled","PTHP","PTAC",null,null,"Hotel"]
[null,null,"Btu/h","Tons","2009 Required EER",null,null,null,null,null,null,null,null,"Healthcare",1.9787602677713025,-16.418069257216214,44.098722086236272]
[null,null,null,null,"S","U","H","<split versus unitary heatpump not specified in application form - assume higher requirement of split>","W","PTHP","PTAC"]
[null,null,0,{"$f":"C33/12000","v":0},11.6,11.3,11.6,11.3,12.1,11.5,10.6]
[null,null,9000,0.75,11.6,11.3,11.6,11.3,12.1,10.8,9.9]
[null,null,12000,1,11.6,11.3,11.6,11.3,12.1,10.1,9.3000000000000007]
[null,null,65000,5.416666666666667,10.3,10.3,10.1,10.1,11.5,10.1,9.3000000000000007]
[null,null,135000,11.25,9.6999999999999993,9.6999999999999993,9.3000000000000007,9.3000000000000007,11,10.1,9.3000000000000007]
[null,null,240000,20,9.5,9.5,9,9,11,10.1,9.3000000000000007]
[null,null,760000,63.333333333333336,9.1999999999999993,9.1999999999999993,9,9,11,10.1,9.3000000000000007]
[null,null,"Heating"]
[null,null,"Btu/h","Tons","2009 Required EER"]
[null,null,null,null,"S","U","H","<split versus unitary heatpump not specified in application form - assume higher requirement of split>","W","PTHP","PTAC"]
[null,null,0,{"$f":"C43/12000","v":0},"NA","NA",{"$f":"8/3.412","v":2.3446658851113718},{"$f":"7.5/3.412","v":2.1981242672919108},"NA",3.3,"NA"]
[null,null,9000,0.75,"NA","NA",{"$f":"8/3.412","v":2.3446658851113718},{"$f":"7.5/3.412","v":2.1981242672919108},"NA",3.2,"NA"]
[null,null,12000,1,"NA","NA",{"$f":"8/3.412","v":2.3446658851113718},{"$f":"7.5/3.412","v":2.1981242672919108},"NA",3.1,"NA"]
[null,null,65000,5.416666666666667,"NA","NA",3.2,3.2,"NA",3.1,"NA"]
[null,null,135000,11.25,"NA","NA",3.1,3.1,"NA",3.1,"NA"]
[null,null,240000,20,"NA","NA",3.1,3.1,"NA",3.1,"NA"]
[null,null,760000,63.333333333333336,"NA","NA",3.1,3.1,"NA",3.1,"NA"]
[]
[null,null,"AC Seasons"]
[null,null,null,"Seasonal Distribution of cooling Savings"]
[null,null,"Binned Total Consumption from Simulations:","Small Office","Retail","Grocery","Restaurant","Elementary School","Warehouse","Hotel","Healthcare"]
[null,null,null,{"$f":"Lookups!$O$55","v":"Small Office"},{"$f":"Lookups!$O$56","v":"Retail"},{"$f":"Lookups!$O$57","v":"Grocery"},{"$f":"Lookups!$O$58","v":"Restaurant"},{"$f":"Lookups!$O$60","v":"Elementary School"},{"$f":"Lookups!$O$61","v":"Warehouse"},{"$f":"Lookups!$O$59","v":"Hotel"},{"$f":"Lookups!$O$62","v":"Healthcare"},null,null,null,"Building Types (simulated)"]
[null,"9.2 EER","Summer Peak Total",16484.131116041401,124814.011713416,407410.98536454898,65663.426894189601,317841.69967869401,73445.902248675004,63025.583777435197,1161067.5290699699,null,null,null,"Small Office"]
[null,null,"Summer Off-Peak Total",4169.4844295558196,44233.136264000903,300296.86177338997,41983.771933111602,118154.140645708,15406.328870286899,48015.018147465104,774670.47962057602,null,null,null,"Retail"]
[null,null,"Winter Peak Total",21604.919396507499,195731.33175942901,608542.771526539,90592.381463776503,513878.60794114397,116829.005206075,83856.976725054701,1746133.8012633701,null,null,null,"Grocery"]
[null,null,"Winter Off-Peak Total",6542.2223959658904,72410.837940012905,420916.259461582,65368.6637055436,209634.033449546,31054.586198891098,66937.893134453101,1193655.57846938,null,null,null,"Restaurant"]
[null,"13.5 EER","Summer Peak Total",14744.7506526745,115239.02287836,394094.69118459802,62310.388678256102,279643.03600320697,68229.377384025705,54839.870074017999,1037003.601351,null,null,null,"Hotel"]
[null,null,"Summer Off-Peak Total",3943.79215573908,41761.710010916002,295406.199146114,40404.886714505803,110838.255521046,15065.653854001001,42038.564552184303,704439.28842460096,null,null,null,"Elementary School"]
[null,null,"Winter Peak Total",21071.147979185,191150.509980628,606377.93933043699,89938.392907018293,503006.51488691499,116625.205624792,79737.018837256095,1678727.77262361,null,null,null,"Warehouse"]
[null,null,"Winter Off-Peak Total",6516.85961746052,71157.460584445202,419941.60491884901,65046.951456677103,208317.76043106799,31053.886887739001,64483.669279182701,1147722.5775358099,null,null,null,"Healthcare"]
[null,null,"Summer Peak Savings",{"$f":"D55-D59","v":1739.3804633669006},9574.9888350559922,13316.294179950957,3353.0382159334986,38198.663675487041,5216.5248646492983,8185.7137034171974,124063.92771896988]
[null,null,"Summer Off-Peak Savings",225.69227381673954,2471.426253084901,4890.662627275975,1578.8852186057993,7315.8851246620034,340.67501628589889,5976.4535952808001,70231.191195975058]
[null,null,"Winter Peak Savings",533.77141732249947,4580.8217788010079,2164.8321961020119,653.9885567582096,10872.093054228986,203.79958128300495,4119.957887798606,67406.028639760101]
[null,null,"Winter Off-Peak Savings",25.362778505370443,1253.3773555677035,974.65454273298383,321.71224886649725,1316.2730184780085,0.69931115209692507,2454.2238552704002,45933.000933570089]
[null,null,"Summer Peak %",{"$f":"D63/SUM(D$63:D$66)","v":0.6890799801788553},0.53549552134524547,0.62381792785372892,0.56757811255788559,0.66198845863601308,0.90537965795075714,0.39475192508235624,0.40328399278371507]
[null,null,"Summer Off-Peak %",8.9411161527663235E-2,0.13821819666427701,0.22910901372037792,0.26726229604643353,0.12678536501634272,5.9127529863318665E-2,0.28821146785497631,0.22829452302708775]
[null,null,"Winter Peak %",0.2114610376597304,0.25618928532300017,0.1014141859945278,0.1107024634897994,0.18841497137856575,3.5371439795661624E-2,0.19868289637198028,0.21911100887530094]
[null,null,"Winter Off-Peak %",1.0047820633751025E-2,7.0096996667477332E-2,4.5658872431365356E-2,5.4457127905881503E-2,2.281120496907852E-2,1.2137239026257942E-4,0.11835371069068717,0.14931047531389621]
[]
[]
[]
[null,null,"HP Seasons"]
[]
[null,null,null,{"$f":"Lookups!$O$55","v":"Small Office"},{"$f":"Lookups!$O$56","v":"Retail"},{"$f":"Lookups!$O$57","v":"Grocery"},{"$f":"Lookups!$O$58","v":"Restaurant"},{"$f":"Lookups!$O$60","v":"Elementary School"},{"$f":"Lookups!$O$61","v":"Warehouse"},{"$f":"Lookups!$O$59","v":"Hotel"},{"$f":"Lookups!$O$62","v":"Healthcare"}]
[null,null,"Summer Peak %",0,0,1.0419629695517024E-3,1.3838679263920085E-5,0,0,null,0,null,"pasted from"]
[null,null,"Summer Off-Peak %",0,4.5462449605435384E-3,2.328791785563767E-3,7.7742967707372483E-4,2.5827146235979381E-4,5.5056471184314008E-3,null,0,null,"B:\\Projects - Utility DSM\\BGE Implementation\\Working Documents\\Unitary\\Heatpumps\\[Heat pump Heating Mode Calculations v3.xls]Calculations"]
[null,null,"Winter Peak %",0.43907354163257006,0.35687657567709941,0.44431304727468773,0.42855286065644149,0.67865777170487063,0.49700427501395128,null,0.43907354163257006]
[null,null,"Winter Off-Peak %",0.56092645836742983,0.63857717936235714,0.55231619797019693,0.57065587098722093,0.32108395683276963,0.4974900778676174,null,0.56092645836742983]
[]
[]
[]
[]
["AC Reference Information"]
[]
[null,null,"Simulated AC Cooling and Demand Savings Calculations",null,null,null,null,null,null,null,null,null,null,null,null,null,null,null,null,null,null,null,null,null,null,null,null,null,null,null,null,null,null,null,null,null,null,null,null,"Simulated AC Cooling and Demand Savings Calculations (Normalized by Ton)"]
[null,null,null,"Tons",null,null,null,null,null,null,null,null,"Electricity Consumption (kWh)",null,null,null,null,null,null,null,null,"Demand PJM definition (kW)",null,null,null,null,null,null,null,null,"Demand coincident Demand (kW)",null,null,null,null,null,null,null,null,"Electricity Consumption / Ton",null,null,null,null,null,null,null,null,"Demand / Ton PJM Definition",null,null,null,null,null,null,null,null,"Demand / Ton Hottest Day"]
[null,null,"EER","Small Office","Retail","Grocery","Restaurant","Elementary School","Warehouse","Hotel","Healthcare",null,"Small Office","Retail","Grocery","Restaurant","Elementary School","Warehouse","Hotel","Healthcare",null,"Small Office","Retail","Grocery","Restaurant","Elementary School","Warehouse","Hotel","Healthcare",null,"Small Office","Retail","Grocery","Restaurant","Elementary School","Warehouse","Hotel","Healthcare",null,"Small Office","Retail","Grocery","Restaurant","Elementary School","Warehouse","Hotel","Healthcare",null,"Small Office","Retail","Grocery","Restaurant","Elementary School","Warehouse","Hotel","Healthcare",null,"Small Office","Retail","Grocery","Restaurant","Elementary School","Warehouse","Hotel","Healthcare"]
[null,null,null,null,null,null,null,null,null,null,null,null,null,null,null,null,null,null,null,null,null,null,null,null,null,null,null,null,null,null,null,null,null,null,null,null,null,null,null,{"$f":"Lookups!$O$55","v":"Small Office"},{"$f":"Lookups!$O$56","v":"Retail"},{"$f":"Lookups!$O$57","v":"Grocery"},{"$f":"Lookups!$O$58","v":"Restaurant"},{"$f":"Lookups!$O$60","v":"Elementary School"},{"$f":"Lookups!$O$61","v":"Warehouse"},{"$f":"Lookups!$O$59","v":"Hotel"},{"$f":"Lookups!$O$62","v":"Healthcare"},null,{"$f":"Lookups!$O$55","v":"Small Office"},{"$f":"Lookups!$O$56","v":"Retail"},{"$f":"Lookups!$O$57","v":"Grocery"},{"$f":"Lookups!$O$58","v":"Restaurant"},{"$f":"Lookups!$O$60","v":"Elementary School"},{"$f":"Lookups!$O$61","v":"Warehouse"},{"$f":"Lookups!$O$59","v":"Hotel"},{"$f":"Lookups!$O$62","v":"Healthcare"},null,{"$f":"Lookups!$O$55","v":"Small Office"},{"$f":"Lookups!$O$56","v":"Retail"},{"$f":"Lookups!$O$57","v":"Grocery"},{"$f":"Lookups!$O$58","v":"Restaurant"},{"$f":"Lookups!$O$60","v":"Elementary School"},{"$f":"Lookups!$O$61","v":"Warehouse"},{"$f":"Lookups!$O$59","v":"Hotel"},{"$f":"Lookups!$O$62","v":"Healthcare"}]
[null,null,9.1,null,null,null,null,null,null,46.604159558739909,null,null,null,null,null,null,null,null,262550,null,null,null,null,null,null,null,null,47.141902482158471,null,null,null,null,null,null,null,null,54.148495751315551]
[null,null,9.1999999999999993,9.2497384282952346,58.979767997270557,134.97578187194358,14.02279369953372,164.70030990560673,94.637273967929033,46.604159558739909,637.91281417036282,null,48800,437188.88888888893,1737166.6666666667,263608.33333333337,1159508.3333333333,236736.11111111112,261836.11111111112,4875527.777777778,null,14.491837805532029,124.89619167328648,353.9976307408549,57.56832023598777,279.64755276143308,64.385171864427434,46.890885276625738,847.21007956425001,null,22.090016827224638,158.93327540259696,444.14897076498056,75.525908112835552,380.11564676158059,164.13638061439724,53.7927511628925,1264.552891315225,null,{"$f":"M92/D92","v":5275.8248655680145},{"$f":"N92/E92","v":7412.5230351723494},{"$f":"O92/F92","v":12870.2100671273},{"$f":"P92/G92","v":18798.560328395815},{"$f":"Q92/H92","v":7040.1102098585743},{"$f":"R92/I92","v":2501.5102526234746},{"$f":"S92/J92","v":5618.299173083311},{"$f":"T92/K92","v":7642.9375135199989},null,{"$f":"V92/D92","v":1.5667294721763214},{"$f":"W92/E92","v":2.1176107657640562},{"$f":"X92/F92","v":2.6226751631393053},{"$f":"Y92/G92","v":4.1053388839273879},{"$f":"Z92/H92","v":1.6979175869292842},{"$f":"AA92/I92","v":0.6803362899722416},{"$f":"AB92/J92","v":1.0061523632353984},{"$f":"AC92/K92","v":1.328096976177048},null,{"$f":"AE92/D92","v":2.3881774602026145},{"$f":"AF92/E92","v":2.6947083855933789},{"$f":"AG92/F92","v":3.2905826853172875},{"$f":"AH92/G92","v":5.3859387602162974},{"$f":"AI92/H92","v":2.3079230815013827},{"$f":"AJ92/I92","v":1.7343735056233791},{"$f":"AK92/J92","v":1.15424785410178},{"$f":"AL92/K92","v":1.9823287183215446}]
[null,null,9.4,9.2497384282952346,58.979767997270557,134.97578187194358,14.02279369953372,164.70030990560673,94.637273967929033,46.604159558739909,637.91281417036282,null,48633.333333333336,435994.44444444444,1735741.6666666667,263213.88888888893,1155652.777777778,236350,260450,4854977.7777777771,null,14.369522902861874,124.10267064306571,352.90754665087258,57.337258980512537,276.92624128839554,63.953518764582192,46.404873240381519,839.85320057368835,null,21.879670497353835,157.62769100110333,441.87832444637496,75.144985021435559,375.30207835183057,162.35307140613418,53.103969087435281,1253.4343705537999,null,5257.8063380216754,7392.2712694397378,12859.652617633494,18770.431522332186,7016.7006876921323,2497.4303473713221,5588.5569542720468,7610.7230799116587,null,1.5535058655177816,2.1041566431527654,2.6145990173680844,4.0888613359846468,1.6813947796886837,0.6757751579600122,0.99572385125608354,1.3165642418799175,null,2.3654366733683245,2.672572245594421,3.2737600650878314,5.3587741951829644,2.278696855925312,1.7155298816104201,1.1394684420926635,1.9648991879618429]
[null,null,9.6,9.2497384282952346,58.979767997270557,134.97578187194358,14.02279369953372,164.70030990560673,94.637273967929033,46.604159558739909,637.91281417036282,null,48469.444444444445,434850,1734375,262836.11111111112,1151961.1111111112,235983.33333333334,259122.22222222225,4835283.333333334,null,14.252304454469652,123.34221298910398,351.8628827313064,57.11582527734879,274.31831779340155,63.53985121056381,45.939111705647427,832.80285820773281,null,21.678088597894305,156.37650594967167,439.70228839104169,74.77993372551056,370.68907529248332,160.64406674821529,52.443886265122217,1242.7791214907668,null,5240.0881192677753,7372.8672520401205,12849.527344434755,18743.491257369838,6994.2862388742606,2493.5559049735953,5560.0664120039428,7579.8498257506544,null,1.5408332424700155,2.0912631089836089,2.6068593776706659,4.0730703525395215,1.6655604227497764,0.67140407311495875,0.98572986060923906,1.3055120381784995,null,2.3436434193187954,2.6513584447620819,3.2576383873679147,5.3327414870260208,2.2506883897482233,1.6974714085979996,1.1253048389172626,1.9481958880337942]
[null,null,9.8000000000000007,9.2497384282952346,58.979767997270557,134.97578187194358,14.02279369953372,164.70030990560673,94.637273967929033,46.604159558739909,637.91281417036282,null,48316.666666666664,433752.77777777781,1733063.8888888888,262472.22222222225,1148416.6666666667,235627.77777777778,257850,4816394.444444445,null,14.139870432542416,122.6127944230592,350.86085815539604,56.903429684518258,271.81684015534563,63.143068046505391,45.492360845800476,826.04028491793974,null,21.484734531065804,155.17638967584972,437.61507013388615,74.429782482480277,366.26435807229444,159.00481738245611,51.810745598821661,1232.5587805527555,null,5223.5711356836309,7354.2638858438859,12839.813667707511,18717.541443325226,6972.7656695051082,2489.7988699212538,5532.7679426340846,7550.2393704199285,null,1.5286778693425662,2.0788958415152368,2.5994356416343671,4.0579238990309321,1.6503723660940874,0.66721139989623435,0.97614378794798085,1.2949109448322433,null,2.3227396858427194,2.6310105133514754,3.2421747373100414,5.3077713383856731,2.2238231262722481,1.6801500161166958,1.1117193419939131,1.9321743554497477]
[null,null,10,9.2497384282952346,58.979767997270557,134.97578187194358,14.02279369953372,164.70030990560673,94.637273967929033,46.604159558739909,637.91281417036282,null,48166.666666666672,432697.22222222225,1731805.5555555555,262125,1145016.6666666667,235288.88888888888,256627.77777777778,4798261.1111111119,null,14.031933771492257,121.91255259965608,349.89891456252184,56.699529915400952,269.41542162281223,62.762156209009312,45.063480020347427,819.54821455973786,null,21.299114626910416,154.02427805298058,435.6113406070167,74.093637289171397,362.01662954091393,157.43113799132752,51.202930559173332,1222.7472532522638,null,5207.3544608919274,7336.3669765918112,12830.491007628185,18692.780170381888,6952.122113934699,2486.2179458869905,5506.5423388726495,7521.8133333024325,null,1.5170087111402135,2.0670232647455973,2.5923088550395184,4.0433833036626856,1.6357918317046274,0.66318643360625906,0.9669411581931735,1.2847338952198364,null,2.3026721017056837,2.6114764991972916,3.2273296332544823,5.2837999956909529,2.1980324733353167,1.6635214793346462,1.0986772649475016,1.9167936841690618]
[null,null,10.199999999999999,9.2497384282952346,58.979767997270557,134.97578187194358,14.02279369953372,164.70030990560673,94.637273967929033,46.604159558739909,637.91281417036282,null,48025,431686.11111111112,1730597.2222222222,261788.88888888891,1141747.2222222222,234961.11111111112,255452.77777777778,4780838.888888889,null,13.928229920679378,121.23977123991587,348.9746942477999,56.503626215660759,267.10817636606419,62.396182090630695,44.651418050794483,813.31073519597521,null,21.120773934682695,152.91734727806693,433.68618870865276,73.770674260306109,357.93547859899996,155.91917151749806,50.618951403432781,1213.320491728264,null,5192.0387124775389,7319.2236214135082,12821.538784373204,18668.811258172744,6932.2712439131537,2482.7544291981135,5481.3299970747239,7494.5020427385625,null,1.5057971669850136,2.0556162792218267,2.5854615502719209,4.0294129277206432,1.6217830829774977,0.65931930913157644,0.95809941587973091,1.2749559455922297,null,2.2833914816524539,2.5927085248138577,3.2130666901422846,5.2607687056509365,2.1732532185527789,1.6475450420342457,1.0861466419029107,1.9020161764680135]
[null,null,10.4,9.2497384282952346,58.979767997270557,134.97578187194358,14.02279369953372,164.70030990560673,94.637273967929033,46.604159558739909,637.91281417036282,null,47886.111111111109,430711.11111111112,1729433.3333333335,261469.44444444444,1138605.5555555555,234650,254325,4764086.111111111,null,13.828514679513143,120.59286608631938,348.08602086825937,56.315257273602874,264.88967131149866,62.044283899882025,44.255204618531977,807.31315888466497,null,20.949292499848337,151.85299076372723,431.83508111407218,73.460132886396948,354.01129500100274,154.46535760035445,50.057432984451388,1204.256297955186,null,5177.0232728555893,7302.6925289201445,12812.915838295417,18646.030887064873,6913.1961937904953,2479.4670235273143,5457.130917240308,7468.2401815474432,null,1.4950168360665519,2.0446480239105065,2.5788776033799987,4.0159798739302177,1.6083131322783339,0.65560092021361249,0.94959774057834245,1.2655540709503001,null,2.264852423908962,2.5746623955990233,3.1993523217651725,5.2386232344585952,2.1494270120310897,1.6321830830915538,1.0740979658984939,1.8878070344477731]
[null,null,10.6,9.2497384282952346,58.979767997270557,134.97578187194358,14.02279369953372,164.70030990560673,94.637273967929033,46.604159558739909,637.91281417036282,null,47752.777777777781,429775,1728316.6666666665,261158.33333333334,1135580.5555555557,234347.22222222222,253236.11111111112,4747963.888888889,null,13.732562277636202,119.97037244795327,347.23088233322983,56.133996593509487,262.75488342880385,61.705664886142756,43.873942636543603,801.5419062077442,null,20.784282062554919,150.82879864615472,430.05382663626665,73.161310054899715,350.23519380293334,153.06640458574444,49.517103939771111,1195.5341492301502,null,5162.6084508185186,7286.8207962413308,12804.642749218398,18623.844786507645,6894.8295009668245,2476.2676733655549,5433.7662884346664,7442.966787026925,null,1.4846433100884098,2.0340936650260342,2.5725421073141872,4.0030537278299994,1.5953514816055556,0.65202284785859066,0.94141688321285699,1.2565069840307082,null,2.2470129532501328,2.5572972523922903,3.1861554767230338,5.2173134414244746,2.126499907642315,1.6174008207127357,1.0625039569131105,1.8741340864660345]
[null,null,10.8,9.2497384282952346,58.979767997270557,134.97578187194358,14.02279369953372,164.70030990560673,94.637273967929033,46.604159558739909,637.91281417036282,null,47627.777777777781,428872.22222222225,1727238.888888889,260861.11111111112,1132669.4444444445,234055.55555555556,252191.66666666666,4732441.666666667,null,13.640163668421367,119.37093412952636,346.40741559579391,55.959449271938027,260.69916176398647,61.379587317356794,43.506801468702932,795.98440362996791,null,20.625383122938999,149.84253956997387,428.33854454653056,72.873554735680003,346.59894820479167,151.71926464574972,48.996787081930833,1187.1350430504833,null,5149.0945551587647,7271.5142291178463,12796.657777671428,18602.649136868153,6877.1542997921597,2473.1857305491812,5411.3553179476212,7418.6339599110288,null,1.4746539887761243,2.0239302083224633,2.5664412592508126,3.9906063278816379,1.5828698920688051,0.64857729670190301,0.93353902056461147,1.2477949744044334,null,2.2298342037268122,2.5405752626376596,3.1734474037195124,5.1967928999841995,2.1044219552679344,1.6031660495331344,1.051339355667926,1.8609675439650968]
[null,null,11,9.2497384282952346,58.979767997270557,134.97578187194358,14.02279369953372,164.70030990560673,94.637273967929033,46.604159558739909,637.91281417036282,null,47502.777777777774,428002.77777777775,1726200,260572.22222222222,1129863.888888889,233775,251183.33333333334,4717483.333333333,null,13.551125008632528,118.79329356813334,345.61389310335574,55.791249125696417,258.71819361425344,61.065367114708522,43.153010888783719,790.62899205502038,null,20.472262326581887,148.89214446019972,426.68563635096393,72.596263246250004,343.09492971930837,150.42111161266359,48.495390837103052,1179.0413589137138,null,5135.5806594990099,7256.7728275496893,12788.9609236545,18582.047757779299,6860.1199933165772,2470.221195078193,5389.719194844437,7395.1850919763283,null,1.4650279155115586,2.0141363318626619,2.560562260207925,3.9786115606586701,1.5708421785152096,0.64525703831454972,0.92594762564902899,1.2393997651282056,null,2.2132801360043444,2.5244613452377447,3.1612014424615524,5.1770185600508363,2.0831468375253417,1.5894489063964243,1.0405807399225693,1.8482797848278301]
[null,null,11.2,9.2497384282952346,58.979767997270557,134.97578187194358,14.02279369953372,164.70030990560673,94.637273967929033,46.604159558739909,637.91281417036282,null,47386.111111111117,427163.88888888888,1725200,260297.22222222225,1127158.3333333333,233505.55555555556,250211.11111111112,4703058.333333333,null,13.465266300978991,118.23628302678992,344.84871069993341,55.629056127534973,256.80797432701064,60.762369062154789,42.811855686718758,785.46484517917804,null,20.324610130094637,147.97569203291749,425.09176059095557,72.32887502429972,339.71605475116394,149.16932118790223,48.011901601019169,1171.2367349246888,null,5122.9676902165738,7242.5494944072516,12781.552187167619,18562.436829608178,6843.6928502401224,2467.3740669525905,5368.8579191251138,7372.5722839568489,null,1.4557456305778687,2.0046922367049937,2.5548932254165706,3.9670451779793869,1.5592440261599556,0.64205536058388712,0.91862735198043155,1.2313043847547003,null,2.1973172849862466,2.5089229248878269,3.1493928369628228,5.1579504465436701,2.0626315454164139,1.5762216612288851,1.0302063604538334,1.8360451599454701]
[null,null,11.4,9.2497384282952346,58.979767997270557,134.97578187194358,14.02279369953372,164.70030990560673,94.637273967929033,46.604159558739909,637.91281417036282,null,47272.222222222226,426355.55555555562,1724233.3333333333,260027.77777777778,1124547.2222222222,233244.44444444444,249272.22222222222,4689138.888888889,null,13.382420179558929,117.69881671496739,344.11037680189395,55.472554111765064,254.96478027791701,60.470002520217022,42.482670842621019,780.48189643932972,null,20.182138712431527,147.0913958311539,423.55381029620833,72.070868845224723,336.45573679944721,147.96145323418529,47.545376899534723,1163.7059573914166,null,5110.6550297265749,7228.8442296905332,12774.390408563633,18543.22208180415,6827.8391392628482,2464.6149943360269,5348.7118871447383,7350.75199106534,null,1.4467890398523804,1.9955795133072449,2.5494231041266642,3.9558846332888442,1.5480528265189226,0.63896602242272194,0.91156393001950475,1.2234930528153523,null,2.1819145340038744,2.4939297122694843,3.1379985684991194,5.1395513896507792,2.0428360881183356,1.5634585299268755,1.02019599429979,1.8242398201466981]
[null,null,11.6,9.2497384282952346,58.979767997270557,134.97578187194358,14.02279369953372,164.70030990560673,94.637273967929033,46.604159558739909,637.91281417036282,null,47161.111111111109,425575,1723300,259772.22222222222,1122027.7777777778,232994.44444444444,248366.66666666669,4675700,null,13.302430820946453,117.1798837242422,343.39750269344222,55.32144871722862,253.1851446443093,60.187717583173601,42.164837200043884,775.67077351809758,null,20.044580102274001,146.23759260186472,422.0688927702472,71.821759430945832,333.30784360468334,146.79523589956165,47.094939256721943,1156.4348618420529,null,5098.6426780290149,7215.6099362699188,12767.475587842546,18524.997784917854,6812.5419947347755,2461.9733290648492,5329.2810989033114,7329.6850229932743,null,1.4381412970829432,1.9867810217507977,2.5441416077088248,3.9451089349669419,1.5372475303137871,0.63598321316366524,0.90474407433309256,1.2159510771497761,null,2.1670429123657176,2.4794535069828054,3.1269972058445217,5.1217867829956036,2.0237232327960353,1.551135506600793,1.0105308131855366,1.8128415610306459]
[null,null,11.8,9.2497384282952346,58.979767997270557,134.97578187194358,14.02279369953372,164.70030990560673,94.637273967929033,46.604159558739909,637.91281417036282,null,47055.555555555562,424819.44444444444,1722400,259522.22222222222,1119591.6666666667,232750,247491.66666666669,4662716.666666666,null,13.225152966015754,116.67854168235532,342.70879380900607,55.17546553945612,251.46583564234939,59.915001627046955,41.857777579248989,771.02273950944948,null,19.911684495850665,145.41273185492471,420.63431143160557,71.581094403591393,330.26665865381108,145.6685513559425,46.659770686547219,1149.4102441079194,null,5087.2309439163346,7202.7995170158019,12760.807725004352,18507.169668398656,6797.7508197059778,2459.3903674663648,5310.5059507559199,7309.3321894321243,null,1.4297866981361986,1.9782807841454195,2.5390391450678638,3.934698514554257,1.5268085153359447,0.63310151608288223,0.89815540019537143,1.2086647616762531,null,2.1526754134949599,2.4654680205194106,3.116368770737528,5.1046243663965178,2.0052582708744993,1.5392302128789879,1.0011932653294009,1.8018296835795411]
[null,null,12,9.2497384282952346,58.979767997270557,134.97578187194358,14.02279369953372,164.70030990560673,94.637273967929033,46.604159558739909,637.91281417036282,null,46952.777777777781,424091.66666666669,1721530.5555555557,259280.55555555556,1117238.888888889,232513.88888888888,246644.44444444444,4650166.666666666,null,13.150451039582736,116.19391104186438,342.04304188738428,55.034348467609448,249.80383694045463,59.651376202791177,41.560953279147299,766.529639967756,null,19.783218742974778,144.61536646621585,419.24754947091941,71.348451543815273,327.3268465346361,144.5794229637772,46.239107735378056,1142.6197802982583,null,5076.1195185960923,7190.4600690577936,12754.366240225481,18489.935822430096,6783.4656141764544,2456.8954613769188,5292.3268390576523,7289.6586545520922,null,1.4217105858210111,1.9700638877935492,2.5341067645149327,3.9246351081553335,1.5167174675240294,0.63031587557145841,0.8917863485289087,1.2016213233851802,null,2.1387868312532281,2.4519487169381251,3.1060946168007737,5.0880340303507223,1.98740880768369,1.5277217622812416,0.99216696906846391,1.7911848687101417]
[null,null,12.2,9.2497384282952346,58.979767997270557,134.97578187194358,14.02279369953372,164.70030990560673,94.637273967929033,46.604159558739909,637.91281417036282,null,46852.777777777774,423386.11111111112,1720686.1111111112,259047.22222222225,1114961.1111111112,232288.88888888891,245827.77777777778,4638027.777777778,null,13.078198356639332,115.72516993057,341.39911789761874,54.89785818500355,248.19632999927774,59.396394235068392,41.273860923311233,762.18385516513479,null,19.658964981996444,143.84414420500556,417.9062551155028,71.123436318786105,324.48342169805551,143.52600369922391,45.832237012116117,1136.051954646289,null,5065.3084020682882,7178.4973981366702,12748.109973858782,18473.296247012175,6769.6357811962789,2454.5179626328595,5274.8033674534208,7270.6295825233774,null,1.4138992640735353,1.9621163978794471,2.5293361013571789,3.9149016495071871,1.506957273738734,0.62762156753581921,0.8856261182285593,1.1948088174970941,null,2.125353612363682,2.4388726692119631,3.0961573203701507,5.0719876397490662,1.9701445727942097,1.5165906379326017,0.98343661694723061,1.780889064164326]
[null,null,12.4,9.2497384282952346,58.979767997270557,134.97578187194358,14.02279369953372,164.70030990560673,94.637273967929033,46.604159558739909,637.91281417036282,null,46755.555555555555,422702.77777777781,1719872.2222222222,258822.22222222222,1112758.3333333333,232066.66666666669,245036.11111111112,4626280.555555556,null,13.008276405403784,115.27154950028505,340.77596564945861,54.765770814739781,246.6406781207194,59.149637492110834,40.99602961121181,757.97825696904874,null,19.538719406856114,143.09780008125361,416.60822831993613,70.905679649403055,321.7317202433,142.50656570126915,45.438491150895004,1129.6959943379334,null,5054.7975943329238,7166.9115042524327,12742.080085551403,18457.250942144892,6756.2613207654485,2452.1698157251458,5257.8163286534,7252.2144919949014,null,1.4063399204469464,1.9544252786077345,2.5247193305593525,3.9054821733960781,1.4975119249142546,0.6250141726626196,0.8796646050346727,1.1882160698634607,null,2.1123537231157337,2.4262184294769664,3.0865405818888862,5.0564588746506898,1.9534372487076153,1.5058185821113381,0.97498788908797518,1.7709253823457973]
[null,null,12.6,9.2497384282952346,58.979767997270557,134.97578187194358,14.02279369953372,164.70030990560673,94.637273967929033,46.604159558739909,637.91281417036282,null,46661.111111111109,422041.66666666663,1719083.3333333333,258602.77777777778,1110625,231855.55555555556,244269.44444444444,4614908.333333333,null,12.940574198651898,114.8323297185807,340.17259601235139,54.637876694325705,245.13441201608381,58.910714296548775,40.727018340766286,753.90616982680763,null,19.422291151561502,142.37514942174806,415.35140872423051,70.694835890159169,319.06737439028336,141.51949081436055,45.057245158283891,1123.5418105473029,null,5044.5870953899985,7155.7023874050792,12736.235415656194,18441.601817644707,6743.3085015840161,2449.9390761628179,5241.3657226575897,7234.3872560943137,null,1.3990205559831057,1.9469783218525862,2.5202491239138403,3.8963617282726268,1.4883664284334108,0.62248955222983937,0.87389234622789258,1.1818326158054999,null,2.0997665287645448,2.4139659116383241,3.0772291366927544,5.0414230862221041,1.9372603158618686,1.4953884963161461,0.96680737481154899,1.7612780078865866]
[null,null,12.8,9.2497384282952346,58.979767997270557,134.97578187194358,14.02279369953372,164.70030990560673,94.637273967929033,46.604159558739909,637.91281417036282,null,46572.222222222219,421400,1718319.4444444445,258391.66666666669,1108558.3333333333,231647.22222222222,243525,4603888.888888889,null,12.874987685861017,114.40683555505444,339.58808167640404,54.513979265174548,243.67521672721796,58.679257450847992,40.466413672522286,749.96133540776145,null,19.309501279244891,141.67508159535166,414.1338647408889,70.490580998391664,316.48628934517501,140.56326201766777,44.687913102941941,1117.5799450001307,null,5034.977214031951,7144.8229504650035,12730.575964173162,18426.54696369516,6730.7604580020025,2447.7376884368364,5225.3919458210794,7217.1130389918162,null,1.3919299216587611,1.9397640824960336,2.5159186112260019,3.8875262970592819,1.4795067287175927,0.62004382618558307,0.86830047050882653,1.1756486446868499,null,2.0875726842368354,2.4020962849821323,3.0682086741589889,5.0268571661819133,1.9215889121675611,1.485284350702053,0.95888250160626265,1.7519321138792276]
[null,null,13,9.2497384282952346,58.979767997270557,134.97578187194358,14.02279369953372,164.70030990560673,94.637273967929033,46.604159558739909,637.91281417036282,null,46483.333333333336,420780.55555555556,1717577.7777777778,258186.11111111112,1106552.7777777778,231447.22222222225,242805.55555555556,4593208.333333333,null,12.811419219617548,113.99443351963681,339.02155239694673,54.393894064612695,242.26091975493267,58.454922354245731,40.213827609454938,746.13788050930111,null,19.200181864537974,140.99655431745998,412.95378364934442,70.292610872524449,313.98462230145276,139.63645564548861,44.329945110841386,1111.8015214697944,null,5025.3673326739045,7134.3202905618127,12725.081151278724,18411.888290112707,6718.5834587194577,2445.6243562198947,5209.9546017887806,7200.3700682937806,null,1.3850574606982422,1.9327718197350692,2.5117213450823996,3.8789627252678884,1.4709196351468774,0.6176733532503812,0.86288065250419133,1.1696549496026198,null,2.075754034925358,2.3905918776076733,3.0594657643185847,5.0127394282967872,1.9063997055099899,1.4754911018760857,0.95120147065344884,1.7428737858413257]
[null,null,13.2,9.2497384282952346,58.979767997270557,134.97578187194358,14.02279369953372,164.70030990560673,94.637273967929033,46.604159558739909,637.91281417036282,null,46400,420177.77777777781,1716858.3333333333,257988.88888888891,1104611.111111111,231255.55555555556,242108.33333333334,4582852.777777778,null,12.749777070532962,113.59452851559546,338.47219067141282,54.277447809522364,240.88948026665577,58.237385290873839,39.968895669510843,742.43028788049173,null,19.094175159367666,140.33858847223166,411.80946259087773,70.100639841380826,311.5587633499639,138.73773431489084,43.982824633652776,1106.1982016828001,null,5016.3580689007349,7124.1002134362861,12719.750976972884,18397.823887080893,6706.7943693863554,2443.5990795119919,5194.9940869157799,7184.1365716065839,null,1.3783932561304655,1.9259914437244368,2.5076512688219408,3.8706586556519884,1.4625927565328485,0.6153747128283672,0.85762507140878752,1.1638428816421553,null,2.0642935265021114,2.3794360886385006,3.0509877911400158,4.9990495006506288,1.8916707778420385,1.465994618166059,0.94375319821435244,1.7340899525924489]
[null,null,13.4,9.2497384282952346,58.979767997270557,134.97578187194358,14.02279369953372,164.70030990560673,94.637273967929033,46.604159558739909,637.91281417036282,null,46316.666666666672,419594.44444444444,1716161.1111111112,257794.44444444444,1102727.7777777778,231066.66666666669,241430.55555555556,4572805.555555555,null,12.689974985600156,113.20656097436127,337.93922780335697,54.164477562046677,239.5589792705662,58.026341871184684,39.731275130759165,738.83336965851129,null,18.991332833456141,139.70026339850278,410.69930036997499,69.914399288778611,309.20531809852224,137.8658404866986,43.646065961753607,1100.7621451730306,null,5007.3488051275654,7114.2098162180337,12714.585441255644,18383.957574232623,6695.3594587027474,2441.6031546404356,5180.450797557166,7168.3864220578716,null,1.3719279830423239,1.9194134669977032,2.5037026873752222,3.8626024687111906,1.4545144414595368,0.61314468853835358,0.85252637333115822,1.1582043082476727,null,2.0531751228079131,2.3686133082952749,3.0427628917876564,4.9857682275610582,1.8773815196567294,1.4567816115817009,0.93652726226598038,1.7255683233211521]
[null,null,13.5,9.2497384282952346,58.979767997270557,134.97578187194358,14.02279369953372,164.70030990560673,94.637273967929033,46.604159558739909,637.91281417036282,null,46277.777777777781,419308.33333333331,1715819.4444444445,257700,1101805.5555555555,230975,241100,4567894.444444444,null,12.660738410744113,113.01688795420239,337.67866817897425,54.109247663280769,238.90851211692276,57.923165088225588,39.615105089591687,737.07487630554351,null,18.941054363010529,139.38819336245751,410.15655439531116,69.823348351950841,308.05474486448054,137.43958128180472,43.481428388825002,1098.1045175460306,null,5003.14448203342,7109.3588118681291,12712.054122955959,18377.222507992035,6689.7600629107728,2440.6345440410032,5173.3579638125957,7160.6877036718834,null,1.3687671828658985,1.9161975672646345,2.5017722697790501,3.8586638884290214,1.4505650429792534,0.61205445444101403,0.85003367649320627,1.1554476723659264,null,2.0477394587796409,2.3633221712385857,3.0387418298820568,4.9792751607172665,1.8703956600994456,1.452277475029349,0.9329945824689958,1.7214021934551822]
[]
[null,null,"Full Load Cooling Hours by Location and Building Type "]
[]
[null,null,"Space and/or Building Type","Baltimore MD","Patuxent River, MD","Salisbury, MD","Washington D.C.",null,"Deemed EER ratings for AC only based on ASHRAE 90.1           "]
[null,null,"Assembly",945,1103,909,1143,null,"Capacity (Tons)","EER as of 2010","EER before 2010"]
[null,null,"Education - Community College",718,839,691,869,null,"<5.4",11.8,11.2]
[null,null,"Education - Primary School",295,344,284,357,null,"≥ 5.4 and < 11.25",11.2,10.3]
[null,null,"Education - Relocatable Classroom",351,409,337,424,null,"≥ 11.25 and < 20 ",11,9.6999999999999993]
[null,null,"Education - Secondary School",340,396,327,411,null,"≥ 20 and < 63.3",10,9.5]
[null,null,"Education - University",793,926,763,960,null,"≥ 63.3",9.6999999999999993,9.1999999999999993]
[null,null,"Grocery",678,791,652,820]
[null,null,"Health/Medical - Hospital",1223,1427,1176,1480,null,"Deemed EER for Air Source Heat Pumps based on ASHRAE 90.1              "]
[null,null,"Health/Medical - Nursing Home",650,758,625,786,null,"Capacity (Tons)","EER as of 2010","EER before 2010"]
[null,null,"Lodging - Hotel",1831,2137,1760,2215,null,"< 5.4",11.8,11.2]
[null,null,"Manufacturing – Bio Tech/High Tech",874,1020,840,1057,null,"≥ 5.4 and < 11.25",11,10.1]
[null,null,"Manufacturing – 1 Shift/Light Industrial",460,537,442,557,null,"≥ 11.25 < 20",10.6,9.3000000000000007]
[null,null,"Multi-Family (Common Areas)",1521,1776,1463,1841,null,"≥ 20",9.5,9]
[null,null,"Office - Large",733,856,705,887]
[null,null,"Office - Small",634,740,609,767,null,"Deemed  COP ratings for Air Source Heat Pumps based on ASHRAE 90.1           "]
[null,null,"Restaurant - Fast-Food",730,851,701,883,null,"Capacity (Tons)","COP as of 2010","COP before 2010"]
[null,null,"Restaurant - Sit-Down",768,897,739,930,null,"< 5.4",2.4,2.2999999999999998]
[null,null,"Retail - Multistory Large",887,1035,853,1074,null,"≥ 5.4 and < 11.25",3.3,3.2]
[null,null,"Retail - Single-Story Large",911,1064,876,1103,null,"≥ 11.25 < 20",3.2,3.1]
[null,null,"Retail - Small",923,1077,887,1116,null,"≥ 20",3.2,3.1]
[null,null,"Storage - Conditioned",245,286,235,296]
[null,null,"Warehouse - Refrigerated",3917,4572,3767,4740]
[]
[null,null,null,null,null,null,null,null,"Deemed EER for PTAC based on ASHRAE 90.1              "]
[null,null,"Full Load Heating Hours by Location and Building Type ",null,null,null,null,null,"Capacity (Tons)","EER as of 2010","EER before 2010"]
[null,null,null,null,null,null,null,null,"< 0.75",9.3000000000000007,9.3000000000000007]
[null,null,"Space and/or Building Type","Baltimore MD","Patuxent River, MD","Salisbury, MD","Washington D.C.",null,"≥ 0.75 and < 1",9.3000000000000007,9.3000000000000007]
[null,null,"Assembly",1114,1064,1079,1040,null,"≥ 1",9.3000000000000007,9.3000000000000007]
[null,null,"Education - Community College",713,681,691,666]
[null,null,"Education - Primary School",668,638,647,623,null,"Deemed EER for PTHP based on ASHRAE 90.1              "]
[null,null,"Education - Relocatable Classroom",647,618,627,604,null,"Capacity (Tons)","EER as of 2010","EER before 2010"]
[null,null,"Education - Secondary School",719,687,697,671,null,"< 0.75",9.5,9.5]
[null,null,"Education - University",530,506,513,494,null,"≥ 0.75 and < 1",9.5,9.5]
[null,null,"Grocery",984,939,953,918,null,"≥ 1",9.5,9.5]
[null,null,"Health/Medical - Hospital",214,204,207,200]
[null,null,"Health/Medical - Nursing Home",932,890,903,870,null,"Deemed COP for PTHP based on ASHRAE 90.1              "]
[null,null,"Lodging - Hotel",2242,2140,2172,2092,null,"Capacity (Tons)","COP as of 2010","COP before 2010"]
[null,null,"Manufacturing – Bio Tech/High Tech",146,139,141,136,null,"< 0.75"]
[null,null,"Manufacturing – 1 Shift/Light Industrial",585,558,567,546,null,"≥ 0.75 and < 1"]
[null,null,"Multi-Family (Common Areas)",256,244,248,239,null,"≥ 1"]
[null,null,"Office - Large",221,211,214,206]
[null,null,"Office - Small",440,420,426,411,null,"Deemed EER for Ductless, Mini-Split AC based on ASHRAE 90.1              "]
[null,null,"Restaurant - Fast-Food",1226,1170,1188,1144,null,"Capacity (Tons)","EER as of 2010","EER before 2010"]
[null,null,"Restaurant - Sit-Down",1131,1079,1096,1055,null,"< 0.75",11.8,11.2]
[null,null,"Retail - Multistory Large",591,564,572,551,null,"≥ 0.75 and < 1",11.8,11.2]
[null,null,"Retail - Single-Story Large",739,705,716,689,null,"≥ 1",11.8,11.2]
[null,null,"Retail - Small",623,594,603,581]
[null,null,"Storage - Conditioned",854,815,828,797,null,"Deemed ERR for Ductless, Mini-Split HP based on ASHRAE 90.1                "]
[null,null,"Warehouse - Refrigerated",343,327,332,320,null,"Capacity (Tons)","EER as of 2010","EER before 2010"]
[null,null,null,null,null,null,null,null,"< 0.75",11.8,11.2]
[null,null,null,null,null,null,null,null,"≥ 0.75 and < 1",11.8,11.2]
[null,null,null,null,null,null,null,null,"≥ 1",11.8,11.2]
[]
[null,null,null,null,null,null,null,null,"Deemed COP for Ductless, Mini-Split HP based on ASHRAE 90.1                "]
[null,null,null,null,null,null,null,null,"Capacity (Tons)","COP as of 2010","COP before 2010"]
[null,null,null,null,null,null,null,null,"< 0.75"]
[null,null,null,null,null,null,null,null,"≥ 0.75 and < 1"]
[null,null,null,null,null,null,null,null,"≥ 1"]

{"sheet":" Calculations","index":14,"n_rows":82,"n_cols":32,"rows_kept":82,"cut":false,"hidden":true,"merged":[[3,2,3,6],[3,18,3,31],[4,18,4,23],[4,24,4,27],[4,28,4,31]]}
[]
[]
[]
[null,null,"Three tons or greater Air Conditioning",null,null,null,null,null,null,null,"AC Seasonal, Peak Split",null,null,null,"Heat Pump Seasonal, Peak Split",null,null,null,"SAVINGS ANALYSIS"]
[null,null,null,null,null,null,null,"Elec/Ton","Elec/Ton","Elec/Ton","Summer Peak %","Summer Off-Peak %","Winter Peak %","Winter Off-Peak %","Summer Peak %","Summer Off-Peak %","Winter Peak %","Winter Off-Peak %","Cooling savings break down",null,null,null,null,null,"Heating savings break down",null,null,null,"Total savings break down"]
[null,null,"Building Type Selected"," Building Type used for savings split","Device Type","Cooling tonnage","Cooling Operating Hours","Quadratic Coefficient","Linear Coefficient","Constant Coefficient","Time in season","Time in season","Time in season","Time in season","Time in season","Time in season","Time in season","Time in season","Summer Peak (kWh)","Summer \nOff-Peak \n(kWh)","Winter \nPeak \n(kWh)","Winter \nOff-Peak \n(kWh)","Summer PJM Peak (kW)","Coincident Summer Peak \n(kW)","Summer Peak (kWh)","Summer \nOff-Peak \n(kWh)","Winter \nPeak \n(kWh)","Winter \nOff-Peak \n(kWh)","Summer Peak (kWh)","Summer \nOff-Peak \n(kWh)","Winter \nPeak \n(kWh)","Winter \nOff-Peak \n(kWh)"]
[null,null,{"$f":"'Equipment Information'!$D$13","v":0},{"$f":"VLOOKUP(C7,Validation!$B$21:$C$42,2,0)","v":{"$error":"#N/A"}},{"$f":"'Equipment Information'!I20","v":0},{"$f":"'Equipment Information'!J20","v":0},{"$f":"VLOOKUP($C$7,Lookups!$C$119:$G$140,5,FALSE)","v":{"$error":"#N/A"}},{"$f":"INDEX(HPCurves,MATCH(' Calculations'!H$6,Lookups!$C$25:$C$27,0),MATCH(' Calculations'!$D7,HPBuilding,0))","v":{"$error":"#N/A"}},{"$f":"INDEX(HPCurves,MATCH(' Calculations'!I$6,Lookups!$C$25:$C$27,0),MATCH(' Calculations'!$D7,HPBuilding,0))","v":{"$error":"#N/A"}},{"$f":"INDEX(HPCurves,MATCH(' Calculations'!J$6,Lookups!$C$25:$C$27,0),MATCH(' Calculations'!$D7,HPBuilding,0))","v":{"$error":"#N/A"}},{"$f":"INDEX(Lookups!$D$67:$K$70,MATCH(' Calculations'!K$5,Lookups!$C$67:$C$70,0),MATCH(' Calculations'!$D7,Lookups!$D$54:$K$54,0))","v":{"$error":"#N/A"}},{"$f":"INDEX(Lookups!$D$67:$K$70,MATCH(' Calculations'!L$5,Lookups!$C$67:$C$70,0),MATCH(' Calculations'!$D7,Lookups!$D$54:$K$54,0))","v":{"$error":"#N/A"}},{"$f":"INDEX(Lookups!$D$67:$K$70,MATCH(' Calculations'!M$5,Lookups!$C$67:$C$70,0),MATCH(' Calculations'!$D7,Lookups!$D$54:$K$54,0))","v":{"$error":"#N/A"}},{"$f":"INDEX(Lookups!$D$67:$K$70,MATCH(' Calculations'!N$5,Lookups!$C$67:$C$70,0),MATCH(' Calculations'!$D7,Lookups!$D$54:$K$54,0))","v":{"$error":"#N/A"}},{"$f":"INDEX(Lookups!$D$77:$K$80,MATCH(' Calculations'!O$5,Lookups!$C$77:$C$80,0),MATCH(' Calculations'!$D7,Lookups!$D$76:$K$76,0))","v":{"$error":"#N/A"}},{"$f":"INDEX(Lookups!$D$77:$K$80,MATCH(' Calculations'!P$5,Lookups!$C$77:$C$80,0),MATCH(' Calculations'!$D7,Lookups!$D$76:$K$76,0))","v":{"$error":"#N/A"}},{"$f":"INDEX(Lookups!$D$77:$K$80,MATCH(' Calculations'!Q$5,Lookups!$C$77:$C$80,0),MATCH(' Calculations'!$D7,Lookups!$D$76:$K$76,0))","v":{"$error":"#N/A"}},{"$f":"INDEX(Lookups!$D$77:$K$80,MATCH(' Calculations'!R$5,Lookups!$C$77:$C$80,0),MATCH(' Calculations'!$D7,Lookups!$D$76:$K$76,0))","v":{"$error":"#N/A"}},{"$f":"'Equipment Information'!AE20*' Calculations'!K7","v":{"$error":"#N/A"}},{"$f":"'Equipment Information'!AE20*' Calculations'!L7","v":{"$error":"#N/A"}},{"$f":"'Equipment Information'!AE20*' Calculations'!M7","v":{"$error":"#N/A"}},{"$f":"'Equipment Information'!AE20*' Calculations'!N7","v":{"$error":"#N/A"}},{"$f":"'Equipment Information'!AG20","v":0},{"$f":"'Equipment Information'!AH20","v":0},{"$f":"'Equipment Information'!AF20*' Calculations'!O7","v":{"$error":"#N/A"}},{"$f":"'Equipment Information'!AF20*' Calculations'!P7","v":{"$error":"#N/A"}},{"$f":"'Equipment Information'!AF20*' Calculations'!Q7","v":{"$error":"#N/A"}},{"$f":"'Equipment Information'!AF20*' Calculations'!R7","v":{"$error":"#N/A"}},{"$f":"S7","v":{"$error":"#N/A"}},{"$f":"T7","v":{"$error":"#N/A"}},{"$f":"U7","v":{"$error":"#N/A"}},{"$f":"V7","v":{"$error":"#N/A"}}]
[null,null,{"$f":"'Equipment Information'!$D$13","v":0},{"$f":"VLOOKUP(C8,Validation!$B$21:$C$42,2,0)","v":{"$error":"#N/A"}},{"$f":"'Equipment Information'!I21","v":0},{"$f":"'Equipment Information'!J21","v":0},{"$f":"VLOOKUP($C$7,Lookups!$C$119:$G$140,5,FALSE)","v":{"$error":"#N/A"}},{"$f":"INDEX(HPCurves,MATCH(' Calculations'!H$6,Lookups!$C$25:$C$27,0),MATCH(' Calculations'!$D8,HPBuilding,0))","v":{"$error":"#N/A"}},{"$f":"INDEX(HPCurves,MATCH(' Calculations'!I$6,Lookups!$C$25:$C$27,0),MATCH(' Calculations'!$D8,HPBuilding,0))","v":{"$error":"#N/A"}},{"$f":"INDEX(HPCurves,MATCH(' Calculations'!J$6,Lookups!$C$25:$C$27,0),MATCH(' Calculations'!$D8,HPBuilding,0))","v":{"$error":"#N/A"}},{"$f":"INDEX(Lookups!$D$67:$K$70,MATCH(' Calculations'!K$5,Lookups!$C$67:$C$70,0),MATCH(' Calculations'!$D8,Lookups!$D$54:$K$54,0))","v":{"$error":"#N/A"}},{"$f":"INDEX(Lookups!$D$67:$K$70,MATCH(' Calculations'!L$5,Lookups!$C$67:$C$70,0),MATCH(' Calculations'!$D8,Lookups!$D$54:$K$54,0))","v":{"$error":"#N/A"}},{"$f":"INDEX(Lookups!$D$67:$K$70,MATCH(' Calculations'!M$5,Lookups!$C$67:$C$70,0),MATCH(' Calculations'!$D8,Lookups!$D$54:$K$54,0))","v":{"$error":"#N/A"}},{"$f":"INDEX(Lookups!$D$67:$K$70,MATCH(' Calculations'!N$5,Lookups!$C$67:$C$70,0),MATCH(' Calculations'!$D8,Lookups!$D$54:$K$54,0))","v":{"$error":"#N/A"}},{"$f":"INDEX(Lookups!$D$77:$K$80,MATCH(' Calculations'!O$5,Lookups!$C$77:$C$80,0),MATCH(' Calculations'!$D8,Lookups!$D$76:$K$76,0))","v":{"$error":"#N/A"}},{"$f":"INDEX(Lookups!$D$77:$K$80,MATCH(' Calculations'!P$5,Lookups!$C$77:$C$80,0),MATCH(' Calculations'!$D8,Lookups!$D$76:$K$76,0))","v":{"$error":"#N/A"}},{"$f":"INDEX(Lookups!$D$77:$K$80,MATCH(' Calculations'!Q$5,Lookups!$C$77:$C$80,0),MATCH(' Calculations'!$D8,Lookups!$D$76:$K$76,0))","v":{"$error":"#N/A"}},{"$f":"INDEX(Lookups!$D$77:$K$80,MATCH(' Calculations'!R$5,Lookups!$C$77:$C$80,0),MATCH(' Calculations'!$D8,Lookups!$D$76:$K$76,0))","v":{"$error":"#N/A"}},{"$f":"'Equipment Information'!AE21*' Calculations'!K8","v":{"$error":"#N/A"}},{"$f":"'Equipment Information'!AE21*' Calculations'!L8","v":{"$error":"#N/A"}},{"$f":"'Equipment Information'!AE21*' Calculations'!M8","v":{"$error":"#N/A"}},{"$f":"'Equipment Information'!AE21*' Calculations'!N8","v":{"$error":"#N/A"}},{"$f":"'Equipment Information'!AG21","v":0},{"$f":"'Equipment Information'!AH21","v":0},{"$f":"'Equipment Information'!AF21*' Calculations'!O8","v":{"$error":"#N/A"}},{"$f":"'Equipment Information'!AF21*' Calculations'!P8","v":{"$error":"#N/A"}},{"$f":"'Equipment Information'!AF21*' Calculations'!Q8","v":{"$error":"#N/A"}},{"$f":"'Equipment Information'!AF21*' Calculations'!R8","v":{"$error":"#N/A"}},{"$f":"S8","v":{"$error":"#N/A"}},{"$f":"T8","v":{"$error":"#N/A"}},{"$f":"U8","v":{"$error":"#N/A"}},{"$f":"V8","v":{"$error":"#N/A"}}]
[null,null,{"$f":"'Equipment Information'!$D$13","v":0},{"$f":"VLOOKUP(C9,Validation!$B$21:$C$42,2,0)","v":{"$error":"#N/A"}},{"$f":"'Equipment Information'!I22","v":0},{"$f":"'Equipment Information'!J22","v":0},{"$f":"VLOOKUP($C$7,Lookups!$C$119:$G$140,5,FALSE)","v":{"$error":"#N/A"}},{"$f":"INDEX(HPCurves,MATCH(' Calculations'!H$6,Lookups!$C$25:$C$27,0),MATCH(' Calculations'!$D9,HPBuilding,0))","v":{"$error":"#N/A"}},{"$f":"INDEX(HPCurves,MATCH(' Calculations'!I$6,Lookups!$C$25:$C$27,0),MATCH(' Calculations'!$D9,HPBuilding,0))","v":{"$error":"#N/A"}},{"$f":"INDEX(HPCurves,MATCH(' Calculations'!J$6,Lookups!$C$25:$C$27,0),MATCH(' Calculations'!$D9,HPBuilding,0))","v":{"$error":"#N/A"}},{"$f":"INDEX(Lookups!$D$67:$K$70,MATCH(' Calculations'!K$5,Lookups!$C$67:$C$70,0),MATCH(' Calculations'!$D9,Lookups!$D$54:$K$54,0))","v":{"$error":"#N/A"}},{"$f":"INDEX(Lookups!$D$67:$K$70,MATCH(' Calculations'!L$5,Lookups!$C$67:$C$70,0),MATCH(' Calculations'!$D9,Lookups!$D$54:$K$54,0))","v":{"$error":"#N/A"}},{"$f":"INDEX(Lookups!$D$67:$K$70,MATCH(' Calculations'!M$5,Lookups!$C$67:$C$70,0),MATCH(' Calculations'!$D9,Lookups!$D$54:$K$54,0))","v":{"$error":"#N/A"}},{"$f":"INDEX(Lookups!$D$67:$K$70,MATCH(' Calculations'!N$5,Lookups!$C$67:$C$70,0),MATCH(' Calculations'!$D9,Lookups!$D$54:$K$54,0))","v":{"$error":"#N/A"}},{"$f":"INDEX(Lookups!$D$77:$K$80,MATCH(' Calculations'!O$5,Lookups!$C$77:$C$80,0),MATCH(' Calculations'!$D9,Lookups!$D$76:$K$76,0))","v":{"$error":"#N/A"}},{"$f":"INDEX(Lookups!$D$77:$K$80,MATCH(' Calculations'!P$5,Lookups!$C$77:$C$80,0),MATCH(' Calculations'!$D9,Lookups!$D$76:$K$76,0))","v":{"$error":"#N/A"}},{"$f":"INDEX(Lookups!$D$77:$K$80,MATCH(' Calculations'!Q$5,Lookups!$C$77:$C$80,0),MATCH(' Calculations'!$D9,Lookups!$D$76:$K$76,0))","v":{"$error":"#N/A"}},{"$f":"INDEX(Lookups!$D$77:$K$80,MATCH(' Calculations'!R$5,Lookups!$C$77:$C$80,0),MATCH(' Calculations'!$D9,Lookups!$D$76:$K$76,0))","v":{"$error":"#N/A"}},{"$f":"'Equipment Information'!AE22*' Calculations'!K9","v":{"$error":"#N/A"}},{"$f":"'Equipment Information'!AE22*' Calculations'!L9","v":{"$error":"#N/A"}},{"$f":"'Equipment Information'!AE22*' Calculations'!M9","v":{"$error":"#N/A"}},{"$f":"'Equipment Information'!AE22*' Calculations'!N9","v":{"$error":"#N/A"}},{"$f":"'Equipment Information'!AG22","v":0},{"$f":"'Equipment Information'!AH22","v":0},{"$f":"'Equipment Information'!AF22*' Calculations'!O9","v":{"$error":"#N/A"}},{"$f":"'Equipment Information'!AF22*' Calculations'!P9","v":{"$error":"#N/A"}},{"$f":"'Equipment Information'!AF22*' Calculations'!Q9","v":{"$error":"#N/A"}},{"$f":"'Equipment Information'!AF22*' Calculations'!R9","v":{"$error":"#N/A"}},{"$error":"#N/A"},{"$error":"#N/A"},{"$error":"#N/A"},{"$error":"#N/A"}]
[null,null,{"$f":"'Equipment Information'!$D$13","v":0},{"$f":"VLOOKUP(C10,Validation!$B$21:$C$42,2,0)","v":{"$error":"#N/A"}},{"$f":"'Equipment Information'!I23","v":0},{"$f":"'Equipment Information'!J23","v":0},{"$f":"VLOOKUP($C$7,Lookups!$C$119:$G$140,5,FALSE)","v":{"$error":"#N/A"}},{"$f":"INDEX(HPCurves,MATCH(' Calculations'!H$6,Lookups!$C$25:$C$27,0),MATCH(' Calculations'!$D10,HPBuilding,0))","v":{"$error":"#N/A"}},{"$f":"INDEX(HPCurves,MATCH(' Calculations'!I$6,Lookups!$C$25:$C$27,0),MATCH(' Calculations'!$D10,HPBuilding,0))","v":{"$error":"#N/A"}},{"$f":"INDEX(HPCurves,MATCH(' Calculations'!J$6,Lookups!$C$25:$C$27,0),MATCH(' Calculations'!$D10,HPBuilding,0))","v":{"$error":"#N/A"}},{"$f":"INDEX(Lookups!$D$67:$K$70,MATCH(' Calculations'!K$5,Lookups!$C$67:$C$70,0),MATCH(' Calculations'!$D10,Lookups!$D$54:$K$54,0))","v":{"$error":"#N/A"}},{"$f":"INDEX(Lookups!$D$67:$K$70,MATCH(' Calculations'!L$5,Lookups!$C$67:$C$70,0),MATCH(' Calculations'!$D10,Lookups!$D$54:$K$54,0))","v":{"$error":"#N/A"}},{"$f":"INDEX(Lookups!$D$67:$K$70,MATCH(' Calculations'!M$5,Lookups!$C$67:$C$70,0),MATCH(' Calculations'!$D10,Lookups!$D$54:$K$54,0))","v":{"$error":"#N/A"}},{"$f":"INDEX(Lookups!$D$67:$K$70,MATCH(' Calculations'!N$5,Lookups!$C$67:$C$70,0),MATCH(' Calculations'!$D10,Lookups!$D$54:$K$54,0))","v":{"$error":"#N/A"}},{"$f":"INDEX(Lookups!$D$77:$K$80,MATCH(' Calculations'!O$5,Lookups!$C$77:$C$80,0),MATCH(' Calculations'!$D10,Lookups!$D$76:$K$76,0))","v":{"$error":"#N/A"}},{"$f":"INDEX(Lookups!$D$77:$K$80,MATCH(' Calculations'!P$5,Lookups!$C$77:$C$80,0),MATCH(' Calculations'!$D10,Lookups!$D$76:$K$76,0))","v":{"$error":"#N/A"}},{"$f":"INDEX(Lookups!$D$77:$K$80,MATCH(' Calculations'!Q$5,Lookups!$C$77:$C$80,0),MATCH(' Calculations'!$D10,Lookups!$D$76:$K$76,0))","v":{"$error":"#N/A"}},{"$f":"INDEX(Lookups!$D$77:$K$80,MATCH(' Calculations'!R$5,Lookups!$C$77:$C$80,0),MATCH(' Calculations'!$D10,Lookups!$D$76:$K$76,0))","v":{"$error":"#N/A"}},{"$f":"'Equipment Information'!AE23*' Calculations'!K10","v":{"$error":"#N/A"}},{"$f":"'Equipment Information'!AE23*' Calculations'!L10","v":{"$error":"#N/A"}},{"$f":"'Equipment Information'!AE23*' Calculations'!M10","v":{"$error":"#N/A"}},{"$f":"'Equipment Information'!AE23*' Calculations'!N10","v":{"$error":"#N/A"}},{"$f":"'Equipment Information'!AG23","v":0},{"$f":"'Equipment Information'!AH23","v":0},{"$f":"'Equipment Information'!AF23*' Calculations'!O10","v":{"$error":"#N/A"}},{"$f":"'Equipment Information'!AF23*' Calculations'!P10","v":{"$error":"#N/A"}},{"$f":"'Equipment Information'!AF23*' Calculations'!Q10","v":{"$error":"#N/A"}},{"$f":"'Equipment Information'!AF23*' Calculations'!R10","v":{"$error":"#N/A"}},{"$error":"#N/A"},{"$error":"#N/A"},{"$error":"#N/A"},{"$error":"#N/A"}]
[null,null,{"$f":"'Equipment Information'!$D$13","v":0},{"$f":"VLOOKUP(C11,Validation!$B$21:$C$42,2,0)","v":{"$error":"#N/A"}},{"$f":"'Equipment Information'!I24","v":0},{"$f":"'Equipment Information'!J24","v":0},{"$f":"VLOOKUP($C$7,Lookups!$C$119:$G$140,5,FALSE)","v":{"$error":"#N/A"}},{"$f":"INDEX(HPCurves,MATCH(' Calculations'!H$6,Lookups!$C$25:$C$27,0),MATCH(' Calculations'!$D11,HPBuilding,0))","v":{"$error":"#N/A"}},{"$f":"INDEX(HPCurves,MATCH(' Calculations'!I$6,Lookups!$C$25:$C$27,0),MATCH(' Calculations'!$D11,HPBuilding,0))","v":{"$error":"#N/A"}},{"$f":"INDEX(HPCurves,MATCH(' Calculations'!J$6,Lookups!$C$25:$C$27,0),MATCH(' Calculations'!$D11,HPBuilding,0))","v":{"$error":"#N/A"}},{"$f":"INDEX(Lookups!$D$67:$K$70,MATCH(' Calculations'!K$5,Lookups!$C$67:$C$70,0),MATCH(' Calculations'!$D11,Lookups!$D$54:$K$54,0))","v":{"$error":"#N/A"}},{"$f":"INDEX(Lookups!$D$67:$K$70,MATCH(' Calculations'!L$5,Lookups!$C$67:$C$70,0),MATCH(' Calculations'!$D11,Lookups!$D$54:$K$54,0))","v":{"$error":"#N/A"}},{"$f":"INDEX(Lookups!$D$67:$K$70,MATCH(' Calculations'!M$5,Lookups!$C$67:$C$70,0),MATCH(' Calculations'!$D11,Lookups!$D$54:$K$54,0))","v":{"$error":"#N/A"}},{"$f":"INDEX(Lookups!$D$67:$K$70,MATCH(' Calculations'!N$5,Lookups!$C$67:$C$70,0),MATCH(' Calculations'!$D11,Lookups!$D$54:$K$54,0))","v":{"$error":"#N/A"}},{"$f":"INDEX(Lookups!$D$77:$K$80,MATCH(' Calculations'!O$5,Lookups!$C$77:$C$80,0),MATCH(' Calculations'!$D11,Lookups!$D$76:$K$76,0))","v":{"$error":"#N/A"}},{"$f":"INDEX(Lookups!$D$77:$K$80,MATCH(' Calculations'!P$5,Lookups!$C$77:$C$80,0),MATCH(' Calculations'!$D11,Lookups!$D$76:$K$76,0))","v":{"$error":"#N/A"}},{"$f":"INDEX(Lookups!$D$77:$K$80,MATCH(' Calculations'!Q$5,Lookups!$C$77:$C$80,0),MATCH(' Calculations'!$D11,Lookups!$D$76:$K$76,0))","v":{"$error":"#N/A"}},{"$f":"INDEX(Lookups!$D$77:$K$80,MATCH(' Calculations'!R$5,Lookups!$C$77:$C$80,0),MATCH(' Calculations'!$D11,Lookups!$D$76:$K$76,0))","v":{"$error":"#N/A"}},{"$f":"'Equipment Information'!AE24*' Calculations'!K11","v":{"$error":"#N/A"}},{"$f":"'Equipment Information'!AE24*' Calculations'!L11","v":{"$error":"#N/A"}},{"$f":"'Equipment Information'!AE24*' Calculations'!M11","v":{"$error":"#N/A"}},{"$f":"'Equipment Information'!AE24*' Calculations'!N11","v":{"$error":"#N/A"}},{"$f":"'Equipment Information'!AG24","v":0},{"$f":"'Equipment Information'!AH24","v":0},{"$f":"'Equipment Information'!AF24*' Calculations'!O11","v":{"$error":"#N/A"}},{"$f":"'Equipment Information'!AF24*' Calculations'!P11","v":{"$error":"#N/A"}},{"$f":"'Equipment Information'!AF24*' Calculations'!Q11","v":{"$error":"#N/A"}},{"$f":"'Equipment Information'!AF24*' Calculations'!R11","v":{"$error":"#N/A"}},{"$error":"#N/A"},{"$error":"#N/A"},{"$error":"#N/A"},{"$error":"#N/A"}]
[null,null,{"$f":"'Equipment Information'!$D$13","v":0},{"$f":"VLOOKUP(C12,Validation!$B$21:$C$42,2,0)","v":{"$error":"#N/A"}},{"$f":"'Equipment Information'!I25","v":0},{"$f":"'Equipment Information'!J25","v":0},{"$f":"VLOOKUP($C$7,Lookups!$C$119:$G$140,5,FALSE)","v":{"$error":"#N/A"}},{"$f":"INDEX(HPCurves,MATCH(' Calculations'!H$6,Lookups!$C$25:$C$27,0),MATCH(' Calculations'!$D12,HPBuilding,0))","v":{"$error":"#N/A"}},{"$f":"INDEX(HPCurves,MATCH(' Calculations'!I$6,Lookups!$C$25:$C$27,0),MATCH(' Calculations'!$D12,HPBuilding,0))","v":{"$error":"#N/A"}},{"$f":"INDEX(HPCurves,MATCH(' Calculations'!J$6,Lookups!$C$25:$C$27,0),MATCH(' Calculations'!$D12,HPBuilding,0))","v":{"$error":"#N/A"}},{"$f":"INDEX(Lookups!$D$67:$K$70,MATCH(' Calculations'!K$5,Lookups!$C$67:$C$70,0),MATCH(' Calculations'!$D12,Lookups!$D$54:$K$54,0))","v":{"$error":"#N/A"}},{"$f":"INDEX(Lookups!$D$67:$K$70,MATCH(' Calculations'!L$5,Lookups!$C$67:$C$70,0),MATCH(' Calculations'!$D12,Lookups!$D$54:$K$54,0))","v":{"$error":"#N/A"}},{"$f":"INDEX(Lookups!$D$67:$K$70,MATCH(' Calculations'!M$5,Lookups!$C$67:$C$70,0),MATCH(' Calculations'!$D12,Lookups!$D$54:$K$54,0))","v":{"$error":"#N/A"}},{"$f":"INDEX(Lookups!$D$67:$K$70,MATCH(' Calculations'!N$5,Lookups!$C$67:$C$70,0),MATCH(' Calculations'!$D12,Lookups!$D$54:$K$54,0))","v":{"$error":"#N/A"}},{"$f":"INDEX(Lookups!$D$77:$K$80,MATCH(' Calculations'!O$5,Lookups!$C$77:$C$80,0),MATCH(' Calculations'!$D12,Lookups!$D$76:$K$76,0))","v":{"$error":"#N/A"}},{"$f":"INDEX(Lookups!$D$77:$K$80,MATCH(' Calculations'!P$5,Lookups!$C$77:$C$80,0),MATCH(' Calculations'!$D12,Lookups!$D$76:$K$76,0))","v":{"$error":"#N/A"}},{"$f":"INDEX(Lookups!$D$77:$K$80,MATCH(' Calculations'!Q$5,Lookups!$C$77:$C$80,0),MATCH(' Calculations'!$D12,Lookups!$D$76:$K$76,0))","v":{"$error":"#N/A"}},{"$f":"INDEX(Lookups!$D$77:$K$80,MATCH(' Calculations'!R$5,Lookups!$C$77:$C$80,0),MATCH(' Calculations'!$D12,Lookups!$D$76:$K$76,0))","v":{"$error":"#N/A"}},{"$f":"'Equipment Information'!AE25*' Calculations'!K12","v":{"$error":"#N/A"}},{"$f":"'Equipment Information'!AE25*' Calculations'!L12","v":{"$error":"#N/A"}},{"$f":"'Equipment Information'!AE25*' Calculations'!M12","v":{"$error":"#N/A"}},{"$f":"'Equipment Information'!AE25*' Calculations'!N12","v":{"$error":"#N/A"}},{"$f":"'Equipment Information'!AG25","v":0},{"$f":"'Equipment Information'!AH25","v":0},{"$f":"'Equipment Information'!AF25*' Calculations'!O12","v":{"$error":"#N/A"}},{"$f":"'Equipment Information'!AF25*' Calculations'!P12","v":{"$error":"#N/A"}},{"$f":"'Equipment Information'!AF25*' Calculations'!Q12","v":{"$error":"#N/A"}},{"$f":"'Equipment Information'!AF25*' Calculations'!R12","v":{"$error":"#N/A"}},{"$error":"#N/A"},{"$error":"#N/A"},{"$error":"#N/A"},{"$error":"#N/A"}]
[null,null,{"$f":"'Equipment Information'!$D$13","v":0},{"$f":"VLOOKUP(C13,Validation!$B$21:$C$42,2,0)","v":{"$error":"#N/A"}},{"$f":"'Equipment Information'!I26","v":0},{"$f":"'Equipment Information'!J26","v":0},{"$f":"VLOOKUP($C$7,Lookups!$C$119:$G$140,5,FALSE)","v":{"$error":"#N/A"}},{"$f":"INDEX(HPCurves,MATCH(' Calculations'!H$6,Lookups!$C$25:$C$27,0),MATCH(' Calculations'!$D13,HPBuilding,0))","v":{"$error":"#N/A"}},{"$f":"INDEX(HPCurves,MATCH(' Calculations'!I$6,Lookups!$C$25:$C$27,0),MATCH(' Calculations'!$D13,HPBuilding,0))","v":{"$error":"#N/A"}},{"$f":"INDEX(HPCurves,MATCH(' Calculations'!J$6,Lookups!$C$25:$C$27,0),MATCH(' Calculations'!$D13,HPBuilding,0))","v":{"$error":"#N/A"}},{"$f":"INDEX(Lookups!$D$67:$K$70,MATCH(' Calculations'!K$5,Lookups!$C$67:$C$70,0),MATCH(' Calculations'!$D13,Lookups!$D$54:$K$54,0))","v":{"$error":"#N/A"}},{"$f":"INDEX(Lookups!$D$67:$K$70,MATCH(' Calculations'!L$5,Lookups!$C$67:$C$70,0),MATCH(' Calculations'!$D13,Lookups!$D$54:$K$54,0))","v":{"$error":"#N/A"}},{"$f":"INDEX(Lookups!$D$67:$K$70,MATCH(' Calculations'!M$5,Lookups!$C$67:$C$70,0),MATCH(' Calculations'!$D13,Lookups!$D$54:$K$54,0))","v":{"$error":"#N/A"}},{"$f":"INDEX(Lookups!$D$67:$K$70,MATCH(' Calculations'!N$5,Lookups!$C$67:$C$70,0),MATCH(' Calculations'!$D13,Lookups!$D$54:$K$54,0))","v":{"$error":"#N/A"}},{"$f":"INDEX(Lookups!$D$77:$K$80,MATCH(' Calculations'!O$5,Lookups!$C$77:$C$80,0),MATCH(' Calculations'!$D13,Lookups!$D$76:$K$76,0))","v":{"$error":"#N/A"}},{"$f":"INDEX(Lookups!$D$77:$K$80,MATCH(' Calculations'!P$5,Lookups!$C$77:$C$80,0),MATCH(' Calculations'!$D13,Lookups!$D$76:$K$76,0))","v":{"$error":"#N/A"}},{"$f":"INDEX(Lookups!$D$77:$K$80,MATCH(' Calculations'!Q$5,Lookups!$C$77:$C$80,0),MATCH(' Calculations'!$D13,Lookups!$D$76:$K$76,0))","v":{"$error":"#N/A"}},{"$f":"INDEX(Lookups!$D$77:$K$80,MATCH(' Calculations'!R$5,Lookups!$C$77:$C$80,0),MATCH(' Calculations'!$D13,Lookups!$D$76:$K$76,0))","v":{"$error":"#N/A"}},{"$f":"'Equipment Information'!AE26*' Calculations'!K13","v":{"$error":"#N/A"}},{"$f":"'Equipment Information'!AE26*' Calculations'!L13","v":{"$error":"#N/A"}},{"$f":"'Equipment Information'!AE26*' Calculations'!M13","v":{"$error":"#N/A"}},{"$f":"'Equipment Information'!AE26*' Calculations'!N13","v":{"$error":"#N/A"}},{"$f":"'Equipment Information'!AG26","v":0},{"$f":"'Equipment Information'!AH26","v":0},{"$f":"'Equipment Information'!AF26*' Calculations'!O13","v":{"$error":"#N/A"}},{"$f":"'Equipment Information'!AF26*' Calculations'!P13","v":{"$error":"#N/A"}},{"$f":"'Equipment Information'!AF26*' Calculations'!Q13","v":{"$error":"#N/A"}},{"$f":"'Equipment Information'!AF26*' Calculations'!R13","v":{"$error":"#N/A"}},{"$error":"#N/A"},{"$error":"#N/A"},{"$error":"#N/A"},{"$error":"#N/A"}]
[null,null,{"$f":"'Equipment Information'!$D$13","v":0},{"$f":"VLOOKUP(C14,Validation!$B$21:$C$42,2,0)","v":{"$error":"#N/A"}},{"$f":"'Equipment Information'!I27","v":0},{"$f":"'Equipment Information'!J27","v":0},{"$f":"VLOOKUP($C$7,Lookups!$C$119:$G$140,5,FALSE)","v":{"$error":"#N/A"}},{"$f":"INDEX(HPCurves,MATCH(' Calculations'!H$6,Lookups!$C$25:$C$27,0),MATCH(' Calculations'!$D14,HPBuilding,0))","v":{"$error":"#N/A"}},{"$f":"INDEX(HPCurves,MATCH(' Calculations'!I$6,Lookups!$C$25:$C$27,0),MATCH(' Calculations'!$D14,HPBuilding,0))","v":{"$error":"#N/A"}},{"$f":"INDEX(HPCurves,MATCH(' Calculations'!J$6,Lookups!$C$25:$C$27,0),MATCH(' Calculations'!$D14,HPBuilding,0))","v":{"$error":"#N/A"}},{"$f":"INDEX(Lookups!$D$67:$K$70,MATCH(' Calculations'!K$5,Lookups!$C$67:$C$70,0),MATCH(' Calculations'!$D14,Lookups!$D$54:$K$54,0))","v":{"$error":"#N/A"}},{"$f":"INDEX(Lookups!$D$67:$K$70,MATCH(' Calculations'!L$5,Lookups!$C$67:$C$70,0),MATCH(' Calculations'!$D14,Lookups!$D$54:$K$54,0))","v":{"$error":"#N/A"}},{"$f":"INDEX(Lookups!$D$67:$K$70,MATCH(' Calculations'!M$5,Lookups!$C$67:$C$70,0),MATCH(' Calculations'!$D14,Lookups!$D$54:$K$54,0))","v":{"$error":"#N/A"}},{"$f":"INDEX(Lookups!$D$67:$K$70,MATCH(' Calculations'!N$5,Lookups!$C$67:$C$70,0),MATCH(' Calculations'!$D14,Lookups!$D$54:$K$54,0))","v":{"$error":"#N/A"}},{"$f":"INDEX(Lookups!$D$77:$K$80,MATCH(' Calculations'!O$5,Lookups!$C$77:$C$80,0),MATCH(' Calculations'!$D14,Lookups!$D$76:$K$76,0))","v":{"$error":"#N/A"}},{"$f":"INDEX(Lookups!$D$77:$K$80,MATCH(' Calculations'!P$5,Lookups!$C$77:$C$80,0),MATCH(' Calculations'!$D14,Lookups!$D$76:$K$76,0))","v":{"$error":"#N/A"}},{"$f":"INDEX(Lookups!$D$77:$K$80,MATCH(' Calculations'!Q$5,Lookups!$C$77:$C$80,0),MATCH(' Calculations'!$D14,Lookups!$D$76:$K$76,0))","v":{"$error":"#N/A"}},{"$f":"INDEX(Lookups!$D$77:$K$80,MATCH(' Calculations'!R$5,Lookups!$C$77:$C$80,0),MATCH(' Calculations'!$D14,Lookups!$D$76:$K$76,0))","v":{"$error":"#N/A"}},{"$f":"'Equipment Information'!AE27*' Calculations'!K14","v":{"$error":"#N/A"}},{"$f":"'Equipment Information'!AE27*' Calculations'!L14","v":{"$error":"#N/A"}},{"$f":"'Equipment Information'!AE27*' Calculations'!M14","v":{"$error":"#N/A"}},{"$f":"'Equipment Information'!AE27*' Calculations'!N14","v":{"$error":"#N/A"}},{"$f":"'Equipment Information'!AG27","v":0},{"$f":"'Equipment Information'!AH27","v":0},{"$f":"'Equipment Information'!AF27*' Calculations'!O14","v":{"$error":"#N/A"}},{"$f":"'Equipment Information'!AF27*' Calculations'!P14","v":{"$error":"#N/A"}},{"$f":"'Equipment Information'!AF27*' Calculations'!Q14","v":{"$error":"#N/A"}},{"$f":"'Equipment Information'!AF27*' Calculations'!R14","v":{"$error":"#N/A"}},{"$error":"#N/A"},{"$error":"#N/A"},{"$error":"#N/A"},{"$error":"#N/A"}]
[null,null,{"$f":"'Equipment Information'!$D$13","v":0},{"$f":"VLOOKUP(C15,Validation!$B$21:$C$42,2,0)","v":{"$error":"#N/A"}},{"$f":"'Equipment Information'!I28","v":0},{"$f":"'Equipment Information'!J28","v":0},{"$f":"VLOOKUP($C$7,Lookups!$C$119:$G$140,5,FALSE)","v":{"$error":"#N/A"}},{"$f":"INDEX(HPCurves,MATCH(' Calculations'!H$6,Lookups!$C$25:$C$27,0),MATCH(' Calculations'!$D15,HPBuilding,0))","v":{"$error":"#N/A"}},{"$f":"INDEX(HPCurves,MATCH(' Calculations'!I$6,Lookups!$C$25:$C$27,0),MATCH(' Calculations'!$D15,HPBuilding,0))","v":{"$error":"#N/A"}},{"$f":"INDEX(HPCurves,MATCH(' Calculations'!J$6,Lookups!$C$25:$C$27,0),MATCH(' Calculations'!$D15,HPBuilding,0))","v":{"$error":"#N/A"}},{"$f":"INDEX(Lookups!$D$67:$K$70,MATCH(' Calculations'!K$5,Lookups!$C$67:$C$70,0),MATCH(' Calculations'!$D15,Lookups!$D$54:$K$54,0))","v":{"$error":"#N/A"}},{"$f":"INDEX(Lookups!$D$67:$K$70,MATCH(' Calculations'!L$5,Lookups!$C$67:$C$70,0),MATCH(' Calculations'!$D15,Lookups!$D$54:$K$54,0))","v":{"$error":"#N/A"}},{"$f":"INDEX(Lookups!$D$67:$K$70,MATCH(' Calculations'!M$5,Lookups!$C$67:$C$70,0),MATCH(' Calculations'!$D15,Lookups!$D$54:$K$54,0))","v":{"$error":"#N/A"}},{"$f":"INDEX(Lookups!$D$67:$K$70,MATCH(' Calculations'!N$5,Lookups!$C$67:$C$70,0),MATCH(' Calculations'!$D15,Lookups!$D$54:$K$54,0))","v":{"$error":"#N/A"}},{"$f":"INDEX(Lookups!$D$77:$K$80,MATCH(' Calculations'!O$5,Lookups!$C$77:$C$80,0),MATCH(' Calculations'!$D15,Lookups!$D$76:$K$76,0))","v":{"$error":"#N/A"}},{"$f":"INDEX(Lookups!$D$77:$K$80,MATCH(' Calculations'!P$5,Lookups!$C$77:$C$80,0),MATCH(' Calculations'!$D15,Lookups!$D$76:$K$76,0))","v":{"$error":"#N/A"}},{"$f":"INDEX(Lookups!$D$77:$K$80,MATCH(' Calculations'!Q$5,Lookups!$C$77:$C$80,0),MATCH(' Calculations'!$D15,Lookups!$D$76:$K$76,0))","v":{"$error":"#N/A"}},{"$f":"INDEX(Lookups!$D$77:$K$80,MATCH(' Calculations'!R$5,Lookups!$C$77:$C$80,0),MATCH(' Calculations'!$D15,Lookups!$D$76:$K$76,0))","v":{"$error":"#N/A"}},{"$f":"'Equipment Information'!AE28*' Calculations'!K15","v":{"$error":"#N/A"}},{"$f":"'Equipment Information'!AE28*' Calculations'!L15","v":{"$error":"#N/A"}},{"$f":"'Equipment Information'!AE28*' Calculations'!M15","v":{"$error":"#N/A"}},{"$f":"'Equipment Information'!AE28*' Calculations'!N15","v":{"$error":"#N/A"}},{"$f":"'Equipment Information'!AG28","v":0},{"$f":"'Equipment Information'!AH28","v":0},{"$f":"'Equipment Information'!AF28*' Calculations'!O15","v":{"$error":"#N/A"}},{"$f":"'Equipment Information'!AF28*' Calculations'!P15","v":{"$error":"#N/A"}},{"$f":"'Equipment Information'!AF28*' Calculations'!Q15","v":{"$error":"#N/A"}},{"$f":"'Equipment Information'!AF28*' Calculations'!R15","v":{"$error":"#N/A"}},{"$error":"#N/A"},{"$error":"#N/A"},{"$error":"#N/A"},{"$error":"#N/A"}]
[null,null,{"$f":"'Equipment Information'!$D$13","v":0},{"$f":"VLOOKUP(C16,Validation!$B$21:$C$42,2,0)","v":{"$error":"#N/A"}},{"$f":"'Equipment Information'!I29","v":0},{"$f":"'Equipment Information'!J29","v":0},{"$f":"VLOOKUP($C$7,Lookups!$C$119:$G$140,5,FALSE)","v":{"$error":"#N/A"}},{"$f":"INDEX(HPCurves,MATCH(' Calculations'!H$6,Lookups!$C$25:$C$27,0),MATCH(' Calculations'!$D16,HPBuilding,0))","v":{"$error":"#N/A"}},{"$f":"INDEX(HPCurves,MATCH(' Calculations'!I$6,Lookups!$C$25:$C$27,0),MATCH(' Calculations'!$D16,HPBuilding,0))","v":{"$error":"#N/A"}},{"$f":"INDEX(HPCurves,MATCH(' Calculations'!J$6,Lookups!$C$25:$C$27,0),MATCH(' Calculations'!$D16,HPBuilding,0))","v":{"$error":"#N/A"}},{"$f":"INDEX(Lookups!$D$67:$K$70,MATCH(' Calculations'!K$5,Lookups!$C$67:$C$70,0),MATCH(' Calculations'!$D16,Lookups!$D$54:$K$54,0))","v":{"$error":"#N/A"}},{"$f":"INDEX(Lookups!$D$67:$K$70,MATCH(' Calculations'!L$5,Lookups!$C$67:$C$70,0),MATCH(' Calculations'!$D16,Lookups!$D$54:$K$54,0))","v":{"$error":"#N/A"}},{"$f":"INDEX(Lookups!$D$67:$K$70,MATCH(' Calculations'!M$5,Lookups!$C$67:$C$70,0),MATCH(' Calculations'!$D16,Lookups!$D$54:$K$54,0))","v":{"$error":"#N/A"}},{"$f":"INDEX(Lookups!$D$67:$K$70,MATCH(' Calculations'!N$5,Lookups!$C$67:$C$70,0),MATCH(' Calculations'!$D16,Lookups!$D$54:$K$54,0))","v":{"$error":"#N/A"}},{"$f":"INDEX(Lookups!$D$77:$K$80,MATCH(' Calculations'!O$5,Lookups!$C$77:$C$80,0),MATCH(' Calculations'!$D16,Lookups!$D$76:$K$76,0))","v":{"$error":"#N/A"}},{"$f":"INDEX(Lookups!$D$77:$K$80,MATCH(' Calculations'!P$5,Lookups!$C$77:$C$80,0),MATCH(' Calculations'!$D16,Lookups!$D$76:$K$76,0))","v":{"$error":"#N/A"}},{"$f":"INDEX(Lookups!$D$77:$K$80,MATCH(' Calculations'!Q$5,Lookups!$C$77:$C$80,0),MATCH(' Calculations'!$D16,Lookups!$D$76:$K$76,0))","v":{"$error":"#N/A"}},{"$f":"INDEX(Lookups!$D$77:$K$80,MATCH(' Calculations'!R$5,Lookups!$C$77:$C$80,0),MATCH(' Calculations'!$D16,Lookups!$D$76:$K$76,0))","v":{"$error":"#N/A"}},{"$f":"'Equipment Information'!AE29*' Calculations'!K16","v":{"$error":"#N/A"}},{"$f":"'Equipment Information'!AE29*' Calculations'!L16","v":{"$error":"#N/A"}},{"$f":"'Equipment Information'!AE29*' Calculations'!M16","v":{"$error":"#N/A"}},{"$f":"'Equipment Information'!AE29*' Calculations'!N16","v":{"$error":"#N/A"}},{"$f":"'Equipment Information'!AG29","v":0},{"$f":"'Equipment Information'!AH29","v":0},{"$f":"'Equipment Information'!AF29*' Calculations'!O16","v":{"$error":"#N/A"}},{"$f":"'Equipment Information'!AF29*' Calculations'!P16","v":{"$error":"#N/A"}},{"$f":"'Equipment Information'!AF29*' Calculations'!Q16","v":{"$error":"#N/A"}},{"$f":"'Equipment Information'!AF29*' Calculations'!R16","v":{"$error":"#N/A"}},{"$error":"#N/A"},{"$error":"#N/A"},{"$error":"#N/A"},{"$error":"#N/A"}]
[null,null,{"$f":"'Equipment Information'!$D$13","v":0},{"$f":"VLOOKUP(C17,Validation!$B$21:$C$42,2,0)","v":{"$error":"#N/A"}},{"$f":"'Equipment Information'!I30","v":0},{"$f":"'Equipment Information'!J30","v":0},{"$f":"VLOOKUP($C$7,Lookups!$C$119:$G$140,5,FALSE)","v":{"$error":"#N/A"}},{"$f":"INDEX(HPCurves,MATCH(' Calculations'!H$6,Lookups!$C$25:$C$27,0),MATCH(' Calculations'!$D17,HPBuilding,0))","v":{"$error":"#N/A"}},{"$f":"INDEX(HPCurves,MATCH(' Calculations'!I$6,Lookups!$C$25:$C$27,0),MATCH(' Calculations'!$D17,HPBuilding,0))","v":{"$error":"#N/A"}},{"$f":"INDEX(HPCurves,MATCH(' Calculations'!J$6,Lookups!$C$25:$C$27,0),MATCH(' Calculations'!$D17,HPBuilding,0))","v":{"$error":"#N/A"}},{"$f":"INDEX(Lookups!$D$67:$K$70,MATCH(' Calculations'!K$5,Lookups!$C$67:$C$70,0),MATCH(' Calculations'!$D17,Lookups!$D$54:$K$54,0))","v":{"$error":"#N/A"}},{"$f":"INDEX(Lookups!$D$67:$K$70,MATCH(' Calculations'!L$5,Lookups!$C$67:$C$70,0),MATCH(' Calculations'!$D17,Lookups!$D$54:$K$54,0))","v":{"$error":"#N/A"}},{"$f":"INDEX(Lookups!$D$67:$K$70,MATCH(' Calculations'!M$5,Lookups!$C$67:$C$70,0),MATCH(' Calculations'!$D17,Lookups!$D$54:$K$54,0))","v":{"$error":"#N/A"}},{"$f":"INDEX(Lookups!$D$67:$K$70,MATCH(' Calculations'!N$5,Lookups!$C$67:$C$70,0),MATCH(' Calculations'!$D17,Lookups!$D$54:$K$54,0))","v":{"$error":"#N/A"}},{"$f":"INDEX(Lookups!$D$77:$K$80,MATCH(' Calculations'!O$5,Lookups!$C$77:$C$80,0),MATCH(' Calculations'!$D17,Lookups!$D$76:$K$76,0))","v":{"$error":"#N/A"}},{"$f":"INDEX(Lookups!$D$77:$K$80,MATCH(' Calculations'!P$5,Lookups!$C$77:$C$80,0),MATCH(' Calculations'!$D17,Lookups!$D$76:$K$76,0))","v":{"$error":"#N/A"}},{"$f":"INDEX(Lookups!$D$77:$K$80,MATCH(' Calculations'!Q$5,Lookups!$C$77:$C$80,0),MATCH(' Calculations'!$D17,Lookups!$D$76:$K$76,0))","v":{"$error":"#N/A"}},{"$f":"INDEX(Lookups!$D$77:$K$80,MATCH(' Calculations'!R$5,Lookups!$C$77:$C$80,0),MATCH(' Calculations'!$D17,Lookups!$D$76:$K$76,0))","v":{"$error":"#N/A"}},{"$f":"'Equipment Information'!AE30*' Calculations'!K17","v":{"$error":"#N/A"}},{"$f":"'Equipment Information'!AE30*' Calculations'!L17","v":{"$error":"#N/A"}},{"$f":"'Equipment Information'!AE30*' Calculations'!M17","v":{"$error":"#N/A"}},{"$f":"'Equipment Information'!AE30*' Calculations'!N17","v":{"$error":"#N/A"}},{"$f":"'Equipment Information'!AG30","v":0},{"$f":"'Equipment Information'!AH30","v":0},{"$f":"'Equipment Information'!AF30*' Calculations'!O17","v":{"$error":"#N/A"}},{"$f":"'Equipment Information'!AF30*' Calculations'!P17","v":{"$error":"#N/A"}},{"$f":"'Equipment Information'!AF30*' Calculations'!Q17","v":{"$error":"#N/A"}},{"$f":"'Equipment Information'!AF30*' Calculations'!R17","v":{"$error":"#N/A"}},{"$error":"#N/A"},{"$error":"#N/A"},{"$error":"#N/A"},{"$error":"#N/A"}]
[null,null,{"$f":"'Equipment Information'!$D$13","v":0},{"$f":"VLOOKUP(C18,Validation!$B$21:$C$42,2,0)","v":{"$error":"#N/A"}},{"$f":"'Equipment Information'!I31","v":0},{"$f":"'Equipment Information'!J31","v":0},{"$f":"VLOOKUP($C$7,Lookups!$C$119:$G$140,5,FALSE)","v":{"$error":"#N/A"}},{"$f":"INDEX(HPCurves,MATCH(' Calculations'!H$6,Lookups!$C$25:$C$27,0),MATCH(' Calculations'!$D18,HPBuilding,0))","v":{"$error":"#N/A"}},{"$f":"INDEX(HPCurves,MATCH(' Calculations'!I$6,Lookups!$C$25:$C$27,0),MATCH(' Calculations'!$D18,HPBuilding,0))","v":{"$error":"#N/A"}},{"$f":"INDEX(HPCurves,MATCH(' Calculations'!J$6,Lookups!$C$25:$C$27,0),MATCH(' Calculations'!$D18,HPBuilding,0))","v":{"$error":"#N/A"}},{"$f":"INDEX(Lookups!$D$67:$K$70,MATCH(' Calculations'!K$5,Lookups!$C$67:$C$70,0),MATCH(' Calculations'!$D18,Lookups!$D$54:$K$54,0))","v":{"$error":"#N/A"}},{"$f":"INDEX(Lookups!$D$67:$K$70,MATCH(' Calculations'!L$5,Lookups!$C$67:$C$70,0),MATCH(' Calculations'!$D18,Lookups!$D$54:$K$54,0))","v":{"$error":"#N/A"}},{"$f":"INDEX(Lookups!$D$67:$K$70,MATCH(' Calculations'!M$5,Lookups!$C$67:$C$70,0),MATCH(' Calculations'!$D18,Lookups!$D$54:$K$54,0))","v":{"$error":"#N/A"}},{"$f":"INDEX(Lookups!$D$67:$K$70,MATCH(' Calculations'!N$5,Lookups!$C$67:$C$70,0),MATCH(' Calculations'!$D18,Lookups!$D$54:$K$54,0))","v":{"$error":"#N/A"}},{"$f":"INDEX(Lookups!$D$77:$K$80,MATCH(' Calculations'!O$5,Lookups!$C$77:$C$80,0),MATCH(' Calculations'!$D18,Lookups!$D$76:$K$76,0))","v":{"$error":"#N/A"}},{"$f":"INDEX(Lookups!$D$77:$K$80,MATCH(' Calculations'!P$5,Lookups!$C$77:$C$80,0),MATCH(' Calculations'!$D18,Lookups!$D$76:$K$76,0))","v":{"$error":"#N/A"}},{"$f":"INDEX(Lookups!$D$77:$K$80,MATCH(' Calculations'!Q$5,Lookups!$C$77:$C$80,0),MATCH(' Calculations'!$D18,Lookups!$D$76:$K$76,0))","v":{"$error":"#N/A"}},{"$f":"INDEX(Lookups!$D$77:$K$80,MATCH(' Calculations'!R$5,Lookups!$C$77:$C$80,0),MATCH(' Calculations'!$D18,Lookups!$D$76:$K$76,0))","v":{"$error":"#N/A"}},{"$f":"'Equipment Information'!AE31*' Calculations'!K18","v":{"$error":"#N/A"}},{"$f":"'Equipment Information'!AE31*' Calculations'!L18","v":{"$error":"#N/A"}},{"$f":"'Equipment Information'!AE31*' Calculations'!M18","v":{"$error":"#N/A"}},{"$f":"'Equipment Information'!AE31*' Calculations'!N18","v":{"$error":"#N/A"}},{"$f":"'Equipment Information'!AG31","v":0},{"$f":"'Equipment Information'!AH31","v":0},{"$f":"'Equipment Information'!AF31*' Calculations'!O18","v":{"$error":"#N/A"}},{"$f":"'Equipment Information'!AF31*' Calculations'!P18","v":{"$error":"#N/A"}},{"$f":"'Equipment Information'!AF31*' Calculations'!Q18","v":{"$error":"#N/A"}},{"$f":"'Equipment Information'!AF31*' Calculations'!R18","v":{"$error":"#N/A"}},{"$error":"#N/A"},{"$error":"#N/A"},{"$error":"#N/A"},{"$error":"#N/A"}]
[null,null,{"$f":"'Equipment Information'!$D$13","v":0},{"$f":"VLOOKUP(C19,Validation!$B$21:$C$42,2,0)","v":{"$error":"#N/A"}},{"$f":"'Equipment Information'!I32","v":0},{"$f":"'Equipment Information'!J32","v":0},{"$f":"VLOOKUP($C$7,Lookups!$C$119:$G$140,5,FALSE)","v":{"$error":"#N/A"}},{"$f":"INDEX(HPCurves,MATCH(' Calculations'!H$6,Lookups!$C$25:$C$27,0),MATCH(' Calculations'!$D19,HPBuilding,0))","v":{"$error":"#N/A"}},{"$f":"INDEX(HPCurves,MATCH(' Calculations'!I$6,Lookups!$C$25:$C$27,0),MATCH(' Calculations'!$D19,HPBuilding,0))","v":{"$error":"#N/A"}},{"$f":"INDEX(HPCurves,MATCH(' Calculations'!J$6,Lookups!$C$25:$C$27,0),MATCH(' Calculations'!$D19,HPBuilding,0))","v":{"$error":"#N/A"}},{"$f":"INDEX(Lookups!$D$67:$K$70,MATCH(' Calculations'!K$5,Lookups!$C$67:$C$70,0),MATCH(' Calculations'!$D19,Lookups!$D$54:$K$54,0))","v":{"$error":"#N/A"}},{"$f":"INDEX(Lookups!$D$67:$K$70,MATCH(' Calculations'!L$5,Lookups!$C$67:$C$70,0),MATCH(' Calculations'!$D19,Lookups!$D$54:$K$54,0))","v":{"$error":"#N/A"}},{"$f":"INDEX(Lookups!$D$67:$K$70,MATCH(' Calculations'!M$5,Lookups!$C$67:$C$70,0),MATCH(' Calculations'!$D19,Lookups!$D$54:$K$54,0))","v":{"$error":"#N/A"}},{"$f":"INDEX(Lookups!$D$67:$K$70,MATCH(' Calculations'!N$5,Lookups!$C$67:$C$70,0),MATCH(' Calculations'!$D19,Lookups!$D$54:$K$54,0))","v":{"$error":"#N/A"}},{"$f":"INDEX(Lookups!$D$77:$K$80,MATCH(' Calculations'!O$5,Lookups!$C$77:$C$80,0),MATCH(' Calculations'!$D19,Lookups!$D$76:$K$76,0))","v":{"$error":"#N/A"}},{"$f":"INDEX(Lookups!$D$77:$K$80,MATCH(' Calculations'!P$5,Lookups!$C$77:$C$80,0),MATCH(' Calculations'!$D19,Lookups!$D$76:$K$76,0))","v":{"$error":"#N/A"}},{"$f":"INDEX(Lookups!$D$77:$K$80,MATCH(' Calculations'!Q$5,Lookups!$C$77:$C$80,0),MATCH(' Calculations'!$D19,Lookups!$D$76:$K$76,0))","v":{"$error":"#N/A"}},{"$f":"INDEX(Lookups!$D$77:$K$80,MATCH(' Calculations'!R$5,Lookups!$C$77:$C$80,0),MATCH(' Calculations'!$D19,Lookups!$D$76:$K$76,0))","v":{"$error":"#N/A"}},{"$f":"'Equipment Information'!AE32*' Calculations'!K19","v":{"$error":"#N/A"}},{"$f":"'Equipment Information'!AE32*' Calculations'!L19","v":{"$error":"#N/A"}},{"$f":"'Equipment Information'!AE32*' Calculations'!M19","v":{"$error":"#N/A"}},{"$f":"'Equipment Information'!AE32*' Calculations'!N19","v":{"$error":"#N/A"}},{"$f":"'Equipment Information'!AG32","v":0},{"$f":"'Equipment Information'!AH32","v":0},{"$f":"'Equipment Information'!AF32*' Calculations'!O19","v":{"$error":"#N/A"}},{"$f":"'Equipment Information'!AF32*' Calculations'!P19","v":{"$error":"#N/A"}},{"$f":"'Equipment Information'!AF32*' Calculations'!Q19","v":{"$error":"#N/A"}},{"$f":"'Equipment Information'!AF32*' Calculations'!R19","v":{"$error":"#N/A"}},{"$error":"#N/A"},{"$error":"#N/A"},{"$error":"#N/A"},{"$error":"#N/A"}]
[null,null,{"$f":"'Equipment Information'!$D$13","v":0},{"$f":"VLOOKUP(C20,Validation!$B$21:$C$42,2,0)","v":{"$error":"#N/A"}},{"$f":"'Equipment Information'!I33","v":0},{"$f":"'Equipment Information'!J33","v":0},{"$f":"VLOOKUP($C$7,Lookups!$C$119:$G$140,5,FALSE)","v":{"$error":"#N/A"}},{"$f":"INDEX(HPCurves,MATCH(' Calculations'!H$6,Lookups!$C$25:$C$27,0),MATCH(' Calculations'!$D20,HPBuilding,0))","v":{"$error":"#N/A"}},{"$f":"INDEX(HPCurves,MATCH(' Calculations'!I$6,Lookups!$C$25:$C$27,0),MATCH(' Calculations'!$D20,HPBuilding,0))","v":{"$error":"#N/A"}},{"$f":"INDEX(HPCurves,MATCH(' Calculations'!J$6,Lookups!$C$25:$C$27,0),MATCH(' Calculations'!$D20,HPBuilding,0))","v":{"$error":"#N/A"}},{"$f":"INDEX(Lookups!$D$67:$K$70,MATCH(' Calculations'!K$5,Lookups!$C$67:$C$70,0),MATCH(' Calculations'!$D20,Lookups!$D$54:$K$54,0))","v":{"$error":"#N/A"}},{"$f":"INDEX(Lookups!$D$67:$K$70,MATCH(' Calculations'!L$5,Lookups!$C$67:$C$70,0),MATCH(' Calculations'!$D20,Lookups!$D$54:$K$54,0))","v":{"$error":"#N/A"}},{"$f":"INDEX(Lookups!$D$67:$K$70,MATCH(' Calculations'!M$5,Lookups!$C$67:$C$70,0),MATCH(' Calculations'!$D20,Lookups!$D$54:$K$54,0))","v":{"$error":"#N/A"}},{"$f":"INDEX(Lookups!$D$67:$K$70,MATCH(' Calculations'!N$5,Lookups!$C$67:$C$70,0),MATCH(' Calculations'!$D20,Lookups!$D$54:$K$54,0))","v":{"$error":"#N/A"}},{"$f":"INDEX(Lookups!$D$77:$K$80,MATCH(' Calculations'!O$5,Lookups!$C$77:$C$80,0),MATCH(' Calculations'!$D20,Lookups!$D$76:$K$76,0))","v":{"$error":"#N/A"}},{"$f":"INDEX(Lookups!$D$77:$K$80,MATCH(' Calculations'!P$5,Lookups!$C$77:$C$80,0),MATCH(' Calculations'!$D20,Lookups!$D$76:$K$76,0))","v":{"$error":"#N/A"}},{"$f":"INDEX(Lookups!$D$77:$K$80,MATCH(' Calculations'!Q$5,Lookups!$C$77:$C$80,0),MATCH(' Calculations'!$D20,Lookups!$D$76:$K$76,0))","v":{"$error":"#N/A"}},{"$f":"INDEX(Lookups!$D$77:$K$80,MATCH(' Calculations'!R$5,Lookups!$C$77:$C$80,0),MATCH(' Calculations'!$D20,Lookups!$D$76:$K$76,0))","v":{"$error":"#N/A"}},{"$f":"'Equipment Information'!AE33*' Calculations'!K20","v":{"$error":"#N/A"}},{"$f":"'Equipment Information'!AE33*' Calculations'!L20","v":{"$error":"#N/A"}},{"$f":"'Equipment Information'!AE33*' Calculations'!M20","v":{"$error":"#N/A"}},{"$f":"'Equipment Information'!AE33*' Calculations'!N20","v":{"$error":"#N/A"}},{"$f":"'Equipment Information'!AG33","v":0},{"$f":"'Equipment Information'!AH33","v":0},{"$f":"'Equipment Information'!AF33*' Calculations'!O20","v":{"$error":"#N/A"}},{"$f":"'Equipment Information'!AF33*' Calculations'!P20","v":{"$error":"#N/A"}},{"$f":"'Equipment Information'!AF33*' Calculations'!Q20","v":{"$error":"#N/A"}},{"$f":"'Equipment Information'!AF33*' Calculations'!R20","v":{"$error":"#N/A"}},{"$error":"#N/A"},{"$error":"#N/A"},{"$error":"#N/A"},{"$error":"#N/A"}]
[null,null,{"$f":"'Equipment Information'!$D$13","v":0},{"$f":"VLOOKUP(C21,Validation!$B$21:$C$42,2,0)","v":{"$error":"#N/A"}},{"$f":"'Equipment Information'!I34","v":0},{"$f":"'Equipment Information'!J34","v":0},{"$f":"VLOOKUP($C$7,Lookups!$C$119:$G$140,5,FALSE)","v":{"$error":"#N/A"}},{"$f":"INDEX(HPCurves,MATCH(' Calculations'!H$6,Lookups!$C$25:$C$27,0),MATCH(' Calculations'!$D21,HPBuilding,0))","v":{"$error":"#N/A"}},{"$f":"INDEX(HPCurves,MATCH(' Calculations'!I$6,Lookups!$C$25:$C$27,0),MATCH(' Calculations'!$D21,HPBuilding,0))","v":{"$error":"#N/A"}},{"$f":"INDEX(HPCurves,MATCH(' Calculations'!J$6,Lookups!$C$25:$C$27,0),MATCH(' Calculations'!$D21,HPBuilding,0))","v":{"$error":"#N/A"}},{"$f":"INDEX(Lookups!$D$67:$K$70,MATCH(' Calculations'!K$5,Lookups!$C$67:$C$70,0),MATCH(' Calculations'!$D21,Lookups!$D$54:$K$54,0))","v":{"$error":"#N/A"}},{"$f":"INDEX(Lookups!$D$67:$K$70,MATCH(' Calculations'!L$5,Lookups!$C$67:$C$70,0),MATCH(' Calculations'!$D21,Lookups!$D$54:$K$54,0))","v":{"$error":"#N/A"}},{"$f":"INDEX(Lookups!$D$67:$K$70,MATCH(' Calculations'!M$5,Lookups!$C$67:$C$70,0),MATCH(' Calculations'!$D21,Lookups!$D$54:$K$54,0))","v":{"$error":"#N/A"}},{"$f":"INDEX(Lookups!$D$67:$K$70,MATCH(' Calculations'!N$5,Lookups!$C$67:$C$70,0),MATCH(' Calculations'!$D21,Lookups!$D$54:$K$54,0))","v":{"$error":"#N/A"}},{"$f":"INDEX(Lookups!$D$77:$K$80,MATCH(' Calculations'!O$5,Lookups!$C$77:$C$80,0),MATCH(' Calculations'!$D21,Lookups!$D$76:$K$76,0))","v":{"$error":"#N/A"}},{"$f":"INDEX(Lookups!$D$77:$K$80,MATCH(' Calculations'!P$5,Lookups!$C$77:$C$80,0),MATCH(' Calculations'!$D21,Lookups!$D$76:$K$76,0))","v":{"$error":"#N/A"}},{"$f":"INDEX(Lookups!$D$77:$K$80,MATCH(' Calculations'!Q$5,Lookups!$C$77:$C$80,0),MATCH(' Calculations'!$D21,Lookups!$D$76:$K$76,0))","v":{"$error":"#N/A"}},{"$f":"INDEX(Lookups!$D$77:$K$80,MATCH(' Calculations'!R$5,Lookups!$C$77:$C$80,0),MATCH(' Calculations'!$D21,Lookups!$D$76:$K$76,0))","v":{"$error":"#N/A"}},{"$f":"'Equipment Information'!AE34*' Calculations'!K21","v":{"$error":"#N/A"}},{"$f":"'Equipment Information'!AE34*' Calculations'!L21","v":{"$error":"#N/A"}},{"$f":"'Equipment Information'!AE34*' Calculations'!M21","v":{"$error":"#N/A"}},{"$f":"'Equipment Information'!AE34*' Calculations'!N21","v":{"$error":"#N/A"}},{"$f":"'Equipment Information'!AG34","v":0},{"$f":"'Equipment Information'!AH34","v":0},{"$f":"'Equipment Information'!AF34*' Calculations'!O21","v":{"$error":"#N/A"}},{"$f":"'Equipment Information'!AF34*' Calculations'!P21","v":{"$error":"#N/A"}},{"$f":"'Equipment Information'!AF34*' Calculations'!Q21","v":{"$error":"#N/A"}},{"$f":"'Equipment Information'!AF34*' Calculations'!R21","v":{"$error":"#N/A"}},{"$error":"#N/A"},{"$error":"#N/A"},{"$error":"#N/A"},{"$error":"#N/A"}]
[null,null,{"$f":"'Equipment Information'!$D$13","v":0},{"$f":"VLOOKUP(C22,Validation!$B$21:$C$42,2,0)","v":{"$error":"#N/A"}},{"$f":"'Equipment Information'!I35","v":0},{"$f":"'Equipment Information'!J35","v":0},{"$f":"VLOOKUP($C$7,Lookups!$C$119:$G$140,5,FALSE)","v":{"$error":"#N/A"}},{"$f":"INDEX(HPCurves,MATCH(' Calculations'!H$6,Lookups!$C$25:$C$27,0),MATCH(' Calculations'!$D22,HPBuilding,0))","v":{"$error":"#N/A"}},{"$f":"INDEX(HPCurves,MATCH(' Calculations'!I$6,Lookups!$C$25:$C$27,0),MATCH(' Calculations'!$D22,HPBuilding,0))","v":{"$error":"#N/A"}},{"$f":"INDEX(HPCurves,MATCH(' Calculations'!J$6,Lookups!$C$25:$C$27,0),MATCH(' Calculations'!$D22,HPBuilding,0))","v":{"$error":"#N/A"}},{"$f":"INDEX(Lookups!$D$67:$K$70,MATCH(' Calculations'!K$5,Lookups!$C$67:$C$70,0),MATCH(' Calculations'!$D22,Lookups!$D$54:$K$54,0))","v":{"$error":"#N/A"}},{"$f":"INDEX(Lookups!$D$67:$K$70,MATCH(' Calculations'!L$5,Lookups!$C$67:$C$70,0),MATCH(' Calculations'!$D22,Lookups!$D$54:$K$54,0))","v":{"$error":"#N/A"}},{"$f":"INDEX(Lookups!$D$67:$K$70,MATCH(' Calculations'!M$5,Lookups!$C$67:$C$70,0),MATCH(' Calculations'!$D22,Lookups!$D$54:$K$54,0))","v":{"$error":"#N/A"}},{"$f":"INDEX(Lookups!$D$67:$K$70,MATCH(' Calculations'!N$5,Lookups!$C$67:$C$70,0),MATCH(' Calculations'!$D22,Lookups!$D$54:$K$54,0))","v":{"$error":"#N/A"}},{"$f":"INDEX(Lookups!$D$77:$K$80,MATCH(' Calculations'!O$5,Lookups!$C$77:$C$80,0),MATCH(' Calculations'!$D22,Lookups!$D$76:$K$76,0))","v":{"$error":"#N/A"}},{"$f":"INDEX(Lookups!$D$77:$K$80,MATCH(' Calculations'!P$5,Lookups!$C$77:$C$80,0),MATCH(' Calculations'!$D22,Lookups!$D$76:$K$76,0))","v":{"$error":"#N/A"}},{"$f":"INDEX(Lookups!$D$77:$K$80,MATCH(' Calculations'!Q$5,Lookups!$C$77:$C$80,0),MATCH(' Calculations'!$D22,Lookups!$D$76:$K$76,0))","v":{"$error":"#N/A"}},{"$f":"INDEX(Lookups!$D$77:$K$80,MATCH(' Calculations'!R$5,Lookups!$C$77:$C$80,0),MATCH(' Calculations'!$D22,Lookups!$D$76:$K$76,0))","v":{"$error":"#N/A"}},{"$f":"'Equipment Information'!AE35*' Calculations'!K22","v":{"$error":"#N/A"}},{"$f":"'Equipment Information'!AE35*' Calculations'!L22","v":{"$error":"#N/A"}},{"$f":"'Equipment Information'!AE35*' Calculations'!M22","v":{"$error":"#N/A"}},{"$f":"'Equipment Information'!AE35*' Calculations'!N22","v":{"$error":"#N/A"}},{"$f":"'Equipment Information'!AG35","v":0},{"$f":"'Equipment Information'!AH35","v":0},{"$f":"'Equipment Information'!AF35*' Calculations'!O22","v":{"$error":"#N/A"}},{"$f":"'Equipment Information'!AF35*' Calculations'!P22","v":{"$error":"#N/A"}},{"$f":"'Equipment Information'!AF35*' Calculations'!Q22","v":{"$error":"#N/A"}},{"$f":"'Equipment Information'!AF35*' Calculations'!R22","v":{"$error":"#N/A"}},{"$error":"#N/A"},{"$error":"#N/A"},{"$error":"#N/A"},{"$error":"#N/A"}]
[null,null,{"$f":"'Equipment Information'!$D$13","v":0},{"$f":"VLOOKUP(C23,Validation!$B$21:$C$42,2,0)","v":{"$error":"#N/A"}},{"$f":"'Equipment Information'!I36","v":0},{"$f":"'Equipment Information'!J36","v":0},{"$f":"VLOOKUP($C$7,Lookups!$C$119:$G$140,5,FALSE)","v":{"$error":"#N/A"}},{"$f":"INDEX(HPCurves,MATCH(' Calculations'!H$6,Lookups!$C$25:$C$27,0),MATCH(' Calculations'!$D23,HPBuilding,0))","v":{"$error":"#N/A"}},{"$f":"INDEX(HPCurves,MATCH(' Calculations'!I$6,Lookups!$C$25:$C$27,0),MATCH(' Calculations'!$D23,HPBuilding,0))","v":{"$error":"#N/A"}},{"$f":"INDEX(HPCurves,MATCH(' Calculations'!J$6,Lookups!$C$25:$C$27,0),MATCH(' Calculations'!$D23,HPBuilding,0))","v":{"$error":"#N/A"}},{"$f":"INDEX(Lookups!$D$67:$K$70,MATCH(' Calculations'!K$5,Lookups!$C$67:$C$70,0),MATCH(' Calculations'!$D23,Lookups!$D$54:$K$54,0))","v":{"$error":"#N/A"}},{"$f":"INDEX(Lookups!$D$67:$K$70,MATCH(' Calculations'!L$5,Lookups!$C$67:$C$70,0),MATCH(' Calculations'!$D23,Lookups!$D$54:$K$54,0))","v":{"$error":"#N/A"}},{"$f":"INDEX(Lookups!$D$67:$K$70,MATCH(' Calculations'!M$5,Lookups!$C$67:$C$70,0),MATCH(' Calculations'!$D23,Lookups!$D$54:$K$54,0))","v":{"$error":"#N/A"}},{"$f":"INDEX(Lookups!$D$67:$K$70,MATCH(' Calculations'!N$5,Lookups!$C$67:$C$70,0),MATCH(' Calculations'!$D23,Lookups!$D$54:$K$54,0))","v":{"$error":"#N/A"}},{"$f":"INDEX(Lookups!$D$77:$K$80,MATCH(' Calculations'!O$5,Lookups!$C$77:$C$80,0),MATCH(' Calculations'!$D23,Lookups!$D$76:$K$76,0))","v":{"$error":"#N/A"}},{"$f":"INDEX(Lookups!$D$77:$K$80,MATCH(' Calculations'!P$5,Lookups!$C$77:$C$80,0),MATCH(' Calculations'!$D23,Lookups!$D$76:$K$76,0))","v":{"$error":"#N/A"}},{"$f":"INDEX(Lookups!$D$77:$K$80,MATCH(' Calculations'!Q$5,Lookups!$C$77:$C$80,0),MATCH(' Calculations'!$D23,Lookups!$D$76:$K$76,0))","v":{"$error":"#N/A"}},{"$f":"INDEX(Lookups!$D$77:$K$80,MATCH(' Calculations'!R$5,Lookups!$C$77:$C$80,0),MATCH(' Calculations'!$D23,Lookups!$D$76:$K$76,0))","v":{"$error":"#N/A"}},{"$f":"'Equipment Information'!AE36*' Calculations'!K23","v":{"$error":"#N/A"}},{"$f":"'Equipment Information'!AE36*' Calculations'!L23","v":{"$error":"#N/A"}},{"$f":"'Equipment Information'!AE36*' Calculations'!M23","v":{"$error":"#N/A"}},{"$f":"'Equipment Information'!AE36*' Calculations'!N23","v":{"$error":"#N/A"}},{"$f":"'Equipment Information'!AG36","v":0},{"$f":"'Equipment Information'!AH36","v":0},{"$f":"'Equipment Information'!AF36*' Calculations'!O23","v":{"$error":"#N/A"}},{"$f":"'Equipment Information'!AF36*' Calculations'!P23","v":{"$error":"#N/A"}},{"$f":"'Equipment Information'!AF36*' Calculations'!Q23","v":{"$error":"#N/A"}},{"$f":"'Equipment Information'!AF36*' Calculations'!R23","v":{"$error":"#N/A"}},{"$error":"#N/A"},{"$error":"#N/A"},{"$error":"#N/A"},{"$error":"#N/A"}]
[null,null,{"$f":"'Equipment Information'!$D$13","v":0},{"$f":"VLOOKUP(C24,Validation!$B$21:$C$42,2,0)","v":{"$error":"#N/A"}},{"$f":"'Equipment Information'!I37","v":0},{"$f":"'Equipment Information'!J37","v":0},{"$f":"VLOOKUP($C$7,Lookups!$C$119:$G$140,5,FALSE)","v":{"$error":"#N/A"}},{"$f":"INDEX(HPCurves,MATCH(' Calculations'!H$6,Lookups!$C$25:$C$27,0),MATCH(' Calculations'!$D24,HPBuilding,0))","v":{"$error":"#N/A"}},{"$f":"INDEX(HPCurves,MATCH(' Calculations'!I$6,Lookups!$C$25:$C$27,0),MATCH(' Calculations'!$D24,HPBuilding,0))","v":{"$error":"#N/A"}},{"$f":"INDEX(HPCurves,MATCH(' Calculations'!J$6,Lookups!$C$25:$C$27,0),MATCH(' Calculations'!$D24,HPBuilding,0))","v":{"$error":"#N/A"}},{"$f":"INDEX(Lookups!$D$67:$K$70,MATCH(' Calculations'!K$5,Lookups!$C$67:$C$70,0),MATCH(' Calculations'!$D24,Lookups!$D$54:$K$54,0))","v":{"$error":"#N/A"}},{"$f":"INDEX(Lookups!$D$67:$K$70,MATCH(' Calculations'!L$5,Lookups!$C$67:$C$70,0),MATCH(' Calculations'!$D24,Lookups!$D$54:$K$54,0))","v":{"$error":"#N/A"}},{"$f":"INDEX(Lookups!$D$67:$K$70,MATCH(' Calculations'!M$5,Lookups!$C$67:$C$70,0),MATCH(' Calculations'!$D24,Lookups!$D$54:$K$54,0))","v":{"$error":"#N/A"}},{"$f":"INDEX(Lookups!$D$67:$K$70,MATCH(' Calculations'!N$5,Lookups!$C$67:$C$70,0),MATCH(' Calculations'!$D24,Lookups!$D$54:$K$54,0))","v":{"$error":"#N/A"}},{"$f":"INDEX(Lookups!$D$77:$K$80,MATCH(' Calculations'!O$5,Lookups!$C$77:$C$80,0),MATCH(' Calculations'!$D24,Lookups!$D$76:$K$76,0))","v":{"$error":"#N/A"}},{"$f":"INDEX(Lookups!$D$77:$K$80,MATCH(' Calculations'!P$5,Lookups!$C$77:$C$80,0),MATCH(' Calculations'!$D24,Lookups!$D$76:$K$76,0))","v":{"$error":"#N/A"}},{"$f":"INDEX(Lookups!$D$77:$K$80,MATCH(' Calculations'!Q$5,Lookups!$C$77:$C$80,0),MATCH(' Calculations'!$D24,Lookups!$D$76:$K$76,0))","v":{"$error":"#N/A"}},{"$f":"INDEX(Lookups!$D$77:$K$80,MATCH(' Calculations'!R$5,Lookups!$C$77:$C$80,0),MATCH(' Calculations'!$D24,Lookups!$D$76:$K$76,0))","v":{"$error":"#N/A"}},{"$f":"'Equipment Information'!AE37*' Calculations'!K24","v":{"$error":"#N/A"}},{"$f":"'Equipment Information'!AE37*' Calculations'!L24","v":{"$error":"#N/A"}},{"$f":"'Equipment Information'!AE37*' Calculations'!M24","v":{"$error":"#N/A"}},{"$f":"'Equipment Information'!AE37*' Calculations'!N24","v":{"$error":"#N/A"}},{"$f":"'Equipment Information'!AG37","v":0},{"$f":"'Equipment Information'!AH37","v":0},{"$f":"'Equipment Information'!AF37*' Calculations'!O24","v":{"$error":"#N/A"}},{"$f":"'Equipment Information'!AF37*' Calculations'!P24","v":{"$error":"#N/A"}},{"$f":"'Equipment Information'!AF37*' Calculations'!Q24","v":{"$error":"#N/A"}},{"$f":"'Equipment Information'!AF37*' Calculations'!R24","v":{"$error":"#N/A"}},{"$error":"#N/A"},{"$error":"#N/A"},{"$error":"#N/A"},{"$error":"#N/A"}]
[null,null,{"$f":"'Equipment Information'!$D$13","v":0},{"$f":"VLOOKUP(C25,Validation!$B$21:$C$42,2,0)","v":{"$error":"#N/A"}},{"$f":"'Equipment Information'!I38","v":0},{"$f":"'Equipment Information'!J38","v":0},{"$f":"VLOOKUP($C$7,Lookups!$C$119:$G$140,5,FALSE)","v":{"$error":"#N/A"}},{"$f":"INDEX(HPCurves,MATCH(' Calculations'!H$6,Lookups!$C$25:$C$27,0),MATCH(' Calculations'!$D25,HPBuilding,0))","v":{"$error":"#N/A"}},{"$f":"INDEX(HPCurves,MATCH(' Calculations'!I$6,Lookups!$C$25:$C$27,0),MATCH(' Calculations'!$D25,HPBuilding,0))","v":{"$error":"#N/A"}},{"$f":"INDEX(HPCurves,MATCH(' Calculations'!J$6,Lookups!$C$25:$C$27,0),MATCH(' Calculations'!$D25,HPBuilding,0))","v":{"$error":"#N/A"}},{"$f":"INDEX(Lookups!$D$67:$K$70,MATCH(' Calculations'!K$5,Lookups!$C$67:$C$70,0),MATCH(' Calculations'!$D25,Lookups!$D$54:$K$54,0))","v":{"$error":"#N/A"}},{"$f":"INDEX(Lookups!$D$67:$K$70,MATCH(' Calculations'!L$5,Lookups!$C$67:$C$70,0),MATCH(' Calculations'!$D25,Lookups!$D$54:$K$54,0))","v":{"$error":"#N/A"}},{"$f":"INDEX(Lookups!$D$67:$K$70,MATCH(' Calculations'!M$5,Lookups!$C$67:$C$70,0),MATCH(' Calculations'!$D25,Lookups!$D$54:$K$54,0))","v":{"$error":"#N/A"}},{"$f":"INDEX(Lookups!$D$67:$K$70,MATCH(' Calculations'!N$5,Lookups!$C$67:$C$70,0),MATCH(' Calculations'!$D25,Lookups!$D$54:$K$54,0))","v":{"$error":"#N/A"}},{"$f":"INDEX(Lookups!$D$77:$K$80,MATCH(' Calculations'!O$5,Lookups!$C$77:$C$80,0),MATCH(' Calculations'!$D25,Lookups!$D$76:$K$76,0))","v":{"$error":"#N/A"}},{"$f":"INDEX(Lookups!$D$77:$K$80,MATCH(' Calculations'!P$5,Lookups!$C$77:$C$80,0),MATCH(' Calculations'!$D25,Lookups!$D$76:$K$76,0))","v":{"$error":"#N/A"}},{"$f":"INDEX(Lookups!$D$77:$K$80,MATCH(' Calculations'!Q$5,Lookups!$C$77:$C$80,0),MATCH(' Calculations'!$D25,Lookups!$D$76:$K$76,0))","v":{"$error":"#N/A"}},{"$f":"INDEX(Lookups!$D$77:$K$80,MATCH(' Calculations'!R$5,Lookups!$C$77:$C$80,0),MATCH(' Calculations'!$D25,Lookups!$D$76:$K$76,0))","v":{"$error":"#N/A"}},{"$f":"'Equipment Information'!AE38*' Calculations'!K25","v":{"$error":"#N/A"}},{"$f":"'Equipment Information'!AE38*' Calculations'!L25","v":{"$error":"#N/A"}},{"$f":"'Equipment Information'!AE38*' Calculations'!M25","v":{"$error":"#N/A"}},{"$f":"'Equipment Information'!AE38*' Calculations'!N25","v":{"$error":"#N/A"}},{"$f":"'Equipment Information'!AG38","v":0},{"$f":"'Equipment Information'!AH38","v":0},{"$f":"'Equipment Information'!AF38*' Calculations'!O25","v":{"$error":"#N/A"}},{"$f":"'Equipment Information'!AF38*' Calculations'!P25","v":{"$error":"#N/A"}},{"$f":"'Equipment Information'!AF38*' Calculations'!Q25","v":{"$error":"#N/A"}},{"$f":"'Equipment Information'!AF38*' Calculations'!R25","v":{"$error":"#N/A"}},{"$error":"#N/A"},{"$error":"#N/A"},{"$error":"#N/A"},{"$error":"#N/A"}]
[null,null,{"$f":"'Equipment Information'!$D$13","v":0},{"$f":"VLOOKUP(C26,Validation!$B$21:$C$42,2,0)","v":{"$error":"#N/A"}},{"$f":"'Equipment Information'!I39","v":0},{"$f":"'Equipment Information'!J39","v":0},{"$f":"VLOOKUP($C$7,Lookups!$C$119:$G$140,5,FALSE)","v":{"$error":"#N/A"}},{"$f":"INDEX(HPCurves,MATCH(' Calculations'!H$6,Lookups!$C$25:$C$27,0),MATCH(' Calculations'!$D26,HPBuilding,0))","v":{"$error":"#N/A"}},{"$f":"INDEX(HPCurves,MATCH(' Calculations'!I$6,Lookups!$C$25:$C$27,0),MATCH(' Calculations'!$D26,HPBuilding,0))","v":{"$error":"#N/A"}},{"$f":"INDEX(HPCurves,MATCH(' Calculations'!J$6,Lookups!$C$25:$C$27,0),MATCH(' Calculations'!$D26,HPBuilding,0))","v":{"$error":"#N/A"}},{"$f":"INDEX(Lookups!$D$67:$K$70,MATCH(' Calculations'!K$5,Lookups!$C$67:$C$70,0),MATCH(' Calculations'!$D26,Lookups!$D$54:$K$54,0))","v":{"$error":"#N/A"}},{"$f":"INDEX(Lookups!$D$67:$K$70,MATCH(' Calculations'!L$5,Lookups!$C$67:$C$70,0),MATCH(' Calculations'!$D26,Lookups!$D$54:$K$54,0))","v":{"$error":"#N/A"}},{"$f":"INDEX(Lookups!$D$67:$K$70,MATCH(' Calculations'!M$5,Lookups!$C$67:$C$70,0),MATCH(' Calculations'!$D26,Lookups!$D$54:$K$54,0))","v":{"$error":"#N/A"}},{"$f":"INDEX(Lookups!$D$67:$K$70,MATCH(' Calculations'!N$5,Lookups!$C$67:$C$70,0),MATCH(' Calculations'!$D26,Lookups!$D$54:$K$54,0))","v":{"$error":"#N/A"}},{"$f":"INDEX(Lookups!$D$77:$K$80,MATCH(' Calculations'!O$5,Lookups!$C$77:$C$80,0),MATCH(' Calculations'!$D26,Lookups!$D$76:$K$76,0))","v":{"$error":"#N/A"}},{"$f":"INDEX(Lookups!$D$77:$K$80,MATCH(' Calculations'!P$5,Lookups!$C$77:$C$80,0),MATCH(' Calculations'!$D26,Lookups!$D$76:$K$76,0))","v":{"$error":"#N/A"}},{"$f":"INDEX(Lookups!$D$77:$K$80,MATCH(' Calculations'!Q$5,Lookups!$C$77:$C$80,0),MATCH(' Calculations'!$D26,Lookups!$D$76:$K$76,0))","v":{"$error":"#N/A"}},{"$f":"INDEX(Lookups!$D$77:$K$80,MATCH(' Calculations'!R$5,Lookups!$C$77:$C$80,0),MATCH(' Calculations'!$D26,Lookups!$D$76:$K$76,0))","v":{"$error":"#N/A"}},{"$f":"'Equipment Information'!AE39*' Calculations'!K26","v":{"$error":"#N/A"}},{"$f":"'Equipment Information'!AE39*' Calculations'!L26","v":{"$error":"#N/A"}},{"$f":"'Equipment Information'!AE39*' Calculations'!M26","v":{"$error":"#N/A"}},{"$f":"'Equipment Information'!AE39*' Calculations'!N26","v":{"$error":"#N/A"}},{"$f":"'Equipment Information'!AG39","v":0},{"$f":"'Equipment Information'!AH39","v":0},{"$f":"'Equipment Information'!AF39*' Calculations'!O26","v":{"$error":"#N/A"}},{"$f":"'Equipment Information'!AF39*' Calculations'!P26","v":{"$error":"#N/A"}},{"$f":"'Equipment Information'!AF39*' Calculations'!Q26","v":{"$error":"#N/A"}},{"$f":"'Equipment Information'!AF39*' Calculations'!R26","v":{"$error":"#N/A"}},{"$error":"#N/A"},{"$error":"#N/A"},{"$error":"#N/A"},{"$error":"#N/A"}]
[null,null,{"$f":"'Equipment Information'!$D$13","v":0},{"$f":"VLOOKUP(C27,Validation!$B$21:$C$42,2,0)","v":{"$error":"#N/A"}},{"$f":"'Equipment Information'!I40","v":0},{"$f":"'Equipment Information'!J40","v":0},{"$f":"VLOOKUP($C$7,Lookups!$C$119:$G$140,5,FALSE)","v":{"$error":"#N/A"}},{"$f":"INDEX(HPCurves,MATCH(' Calculations'!H$6,Lookups!$C$25:$C$27,0),MATCH(' Calculations'!$D27,HPBuilding,0))","v":{"$error":"#N/A"}},{"$f":"INDEX(HPCurves,MATCH(' Calculations'!I$6,Lookups!$C$25:$C$27,0),MATCH(' Calculations'!$D27,HPBuilding,0))","v":{"$error":"#N/A"}},{"$f":"INDEX(HPCurves,MATCH(' Calculations'!J$6,Lookups!$C$25:$C$27,0),MATCH(' Calculations'!$D27,HPBuilding,0))","v":{"$error":"#N/A"}},{"$f":"INDEX(Lookups!$D$67:$K$70,MATCH(' Calculations'!K$5,Lookups!$C$67:$C$70,0),MATCH(' Calculations'!$D27,Lookups!$D$54:$K$54,0))","v":{"$error":"#N/A"}},{"$f":"INDEX(Lookups!$D$67:$K$70,MATCH(' Calculations'!L$5,Lookups!$C$67:$C$70,0),MATCH(' Calculations'!$D27,Lookups!$D$54:$K$54,0))","v":{"$error":"#N/A"}},{"$f":"INDEX(Lookups!$D$67:$K$70,MATCH(' Calculations'!M$5,Lookups!$C$67:$C$70,0),MATCH(' Calculations'!$D27,Lookups!$D$54:$K$54,0))","v":{"$error":"#N/A"}},{"$f":"INDEX(Lookups!$D$67:$K$70,MATCH(' Calculations'!N$5,Lookups!$C$67:$C$70,0),MATCH(' Calculations'!$D27,Lookups!$D$54:$K$54,0))","v":{"$error":"#N/A"}},{"$f":"INDEX(Lookups!$D$77:$K$80,MATCH(' Calculations'!O$5,Lookups!$C$77:$C$80,0),MATCH(' Calculations'!$D27,Lookups!$D$76:$K$76,0))","v":{"$error":"#N/A"}},{"$f":"INDEX(Lookups!$D$77:$K$80,MATCH(' Calculations'!P$5,Lookups!$C$77:$C$80,0),MATCH(' Calculations'!$D27,Lookups!$D$76:$K$76,0))","v":{"$error":"#N/A"}},{"$f":"INDEX(Lookups!$D$77:$K$80,MATCH(' Calculations'!Q$5,Lookups!$C$77:$C$80,0),MATCH(' Calculations'!$D27,Lookups!$D$76:$K$76,0))","v":{"$error":"#N/A"}},{"$f":"INDEX(Lookups!$D$77:$K$80,MATCH(' Calculations'!R$5,Lookups!$C$77:$C$80,0),MATCH(' Calculations'!$D27,Lookups!$D$76:$K$76,0))","v":{"$error":"#N/A"}},{"$f":"'Equipment Information'!AE40*' Calculations'!K27","v":{"$error":"#N/A"}},{"$f":"'Equipment Information'!AE40*' Calculations'!L27","v":{"$error":"#N/A"}},{"$f":"'Equipment Information'!AE40*' Calculations'!M27","v":{"$error":"#N/A"}},{"$f":"'Equipment Information'!AE40*' Calculations'!N27","v":{"$error":"#N/A"}},{"$f":"'Equipment Information'!AG40","v":0},{"$f":"'Equipment Information'!AH40","v":0},{"$f":"'Equipment Information'!AF40*' Calculations'!O27","v":{"$error":"#N/A"}},{"$f":"'Equipment Information'!AF40*' Calculations'!P27","v":{"$error":"#N/A"}},{"$f":"'Equipment Information'!AF40*' Calculations'!Q27","v":{"$error":"#N/A"}},{"$f":"'Equipment Information'!AF40*' Calculations'!R27","v":{"$error":"#N/A"}},{"$error":"#N/A"},{"$error":"#N/A"},{"$error":"#N/A"},{"$error":"#N/A"}]
[null,null,{"$f":"'Equipment Information'!$D$13","v":0},{"$f":"VLOOKUP(C28,Validation!$B$21:$C$42,2,0)","v":{"$error":"#N/A"}},{"$f":"'Equipment Information'!I41","v":0},{"$f":"'Equipment Information'!J41","v":0},{"$f":"VLOOKUP($C$7,Lookups!$C$119:$G$140,5,FALSE)","v":{"$error":"#N/A"}},{"$f":"INDEX(HPCurves,MATCH(' Calculations'!H$6,Lookups!$C$25:$C$27,0),MATCH(' Calculations'!$D28,HPBuilding,0))","v":{"$error":"#N/A"}},{"$f":"INDEX(HPCurves,MATCH(' Calculations'!I$6,Lookups!$C$25:$C$27,0),MATCH(' Calculations'!$D28,HPBuilding,0))","v":{"$error":"#N/A"}},{"$f":"INDEX(HPCurves,MATCH(' Calculations'!J$6,Lookups!$C$25:$C$27,0),MATCH(' Calculations'!$D28,HPBuilding,0))","v":{"$error":"#N/A"}},{"$f":"INDEX(Lookups!$D$67:$K$70,MATCH(' Calculations'!K$5,Lookups!$C$67:$C$70,0),MATCH(' Calculations'!$D28,Lookups!$D$54:$K$54,0))","v":{"$error":"#N/A"}},{"$f":"INDEX(Lookups!$D$67:$K$70,MATCH(' Calculations'!L$5,Lookups!$C$67:$C$70,0),MATCH(' Calculations'!$D28,Lookups!$D$54:$K$54,0))","v":{"$error":"#N/A"}},{"$f":"INDEX(Lookups!$D$67:$K$70,MATCH(' Calculations'!M$5,Lookups!$C$67:$C$70,0),MATCH(' Calculations'!$D28,Lookups!$D$54:$K$54,0))","v":{"$error":"#N/A"}},{"$f":"INDEX(Lookups!$D$67:$K$70,MATCH(' Calculations'!N$5,Lookups!$C$67:$C$70,0),MATCH(' Calculations'!$D28,Lookups!$D$54:$K$54,0))","v":{"$error":"#N/A"}},{"$f":"INDEX(Lookups!$D$77:$K$80,MATCH(' Calculations'!O$5,Lookups!$C$77:$C$80,0),MATCH(' Calculations'!$D28,Lookups!$D$76:$K$76,0))","v":{"$error":"#N/A"}},{"$f":"INDEX(Lookups!$D$77:$K$80,MATCH(' Calculations'!P$5,Lookups!$C$77:$C$80,0),MATCH(' Calculations'!$D28,Lookups!$D$76:$K$76,0))","v":{"$error":"#N/A"}},{"$f":"INDEX(Lookups!$D$77:$K$80,MATCH(' Calculations'!Q$5,Lookups!$C$77:$C$80,0),MATCH(' Calculations'!$D28,Lookups!$D$76:$K$76,0))","v":{"$error":"#N/A"}},{"$f":"INDEX(Lookups!$D$77:$K$80,MATCH(' Calculations'!R$5,Lookups!$C$77:$C$80,0),MATCH(' Calculations'!$D28,Lookups!$D$76:$K$76,0))","v":{"$error":"#N/A"}},{"$f":"'Equipment Information'!AE41*' Calculations'!K28","v":{"$error":"#N/A"}},{"$f":"'Equipment Information'!AE41*' Calculations'!L28","v":{"$error":"#N/A"}},{"$f":"'Equipment Information'!AE41*' Calculations'!M28","v":{"$error":"#N/A"}},{"$f":"'Equipment Information'!AE41*' Calculations'!N28","v":{"$error":"#N/A"}},{"$f":"'Equipment Information'!AG41","v":0},{"$f":"'Equipment Information'!AH41","v":0},{"$f":"'Equipment Information'!AF41*' Calculations'!O28","v":{"$error":"#N/A"}},{"$f":"'Equipment Information'!AF41*' Calculations'!P28","v":{"$error":"#N/A"}},{"$f":"'Equipment Information'!AF41*' Calculations'!Q28","v":{"$error":"#N/A"}},{"$f":"'Equipment Information'!AF41*' Calculations'!R28","v":{"$error":"#N/A"}},{"$error":"#N/A"},{"$error":"#N/A"},{"$error":"#N/A"},{"$error":"#N/A"}]
[null,null,{"$f":"'Equipment Information'!$D$13","v":0},{"$f":"VLOOKUP(C29,Validation!$B$21:$C$42,2,0)","v":{"$error":"#N/A"}},{"$f":"'Equipment Information'!I42","v":0},{"$f":"'Equipment Information'!J42","v":0},{"$f":"VLOOKUP($C$7,Lookups!$C$119:$G$140,5,FALSE)","v":{"$error":"#N/A"}},{"$f":"INDEX(HPCurves,MATCH(' Calculations'!H$6,Lookups!$C$25:$C$27,0),MATCH(' Calculations'!$D29,HPBuilding,0))","v":{"$error":"#N/A"}},{"$f":"INDEX(HPCurves,MATCH(' Calculations'!I$6,Lookups!$C$25:$C$27,0),MATCH(' Calculations'!$D29,HPBuilding,0))","v":{"$error":"#N/A"}},{"$f":"INDEX(HPCurves,MATCH(' Calculations'!J$6,Lookups!$C$25:$C$27,0),MATCH(' Calculations'!$D29,HPBuilding,0))","v":{"$error":"#N/A"}},{"$f":"INDEX(Lookups!$D$67:$K$70,MATCH(' Calculations'!K$5,Lookups!$C$67:$C$70,0),MATCH(' Calculations'!$D29,Lookups!$D$54:$K$54,0))","v":{"$error":"#N/A"}},{"$f":"INDEX(Lookups!$D$67:$K$70,MATCH(' Calculations'!L$5,Lookups!$C$67:$C$70,0),MATCH(' Calculations'!$D29,Lookups!$D$54:$K$54,0))","v":{"$error":"#N/A"}},{"$f":"INDEX(Lookups!$D$67:$K$70,MATCH(' Calculations'!M$5,Lookups!$C$67:$C$70,0),MATCH(' Calculations'!$D29,Lookups!$D$54:$K$54,0))","v":{"$error":"#N/A"}},{"$f":"INDEX(Lookups!$D$67:$K$70,MATCH(' Calculations'!N$5,Lookups!$C$67:$C$70,0),MATCH(' Calculations'!$D29,Lookups!$D$54:$K$54,0))","v":{"$error":"#N/A"}},{"$f":"INDEX(Lookups!$D$77:$K$80,MATCH(' Calculations'!O$5,Lookups!$C$77:$C$80,0),MATCH(' Calculations'!$D29,Lookups!$D$76:$K$76,0))","v":{"$error":"#N/A"}},{"$f":"INDEX(Lookups!$D$77:$K$80,MATCH(' Calculations'!P$5,Lookups!$C$77:$C$80,0),MATCH(' Calculations'!$D29,Lookups!$D$76:$K$76,0))","v":{"$error":"#N/A"}},{"$f":"INDEX(Lookups!$D$77:$K$80,MATCH(' Calculations'!Q$5,Lookups!$C$77:$C$80,0),MATCH(' Calculations'!$D29,Lookups!$D$76:$K$76,0))","v":{"$error":"#N/A"}},{"$f":"INDEX(Lookups!$D$77:$K$80,MATCH(' Calculations'!R$5,Lookups!$C$77:$C$80,0),MATCH(' Calculations'!$D29,Lookups!$D$76:$K$76,0))","v":{"$error":"#N/A"}},{"$f":"'Equipment Information'!AE42*' Calculations'!K29","v":{"$error":"#N/A"}},{"$f":"'Equipment Information'!AE42*' Calculations'!L29","v":{"$error":"#N/A"}},{"$f":"'Equipment Information'!AE42*' Calculations'!M29","v":{"$error":"#N/A"}},{"$f":"'Equipment Information'!AE42*' Calculations'!N29","v":{"$error":"#N/A"}},{"$f":"'Equipment Information'!AG42","v":0},{"$f":"'Equipment Information'!AH42","v":0},{"$f":"'Equipment Information'!AF42*' Calculations'!O29","v":{"$error":"#N/A"}},{"$f":"'Equipment Information'!AF42*' Calculations'!P29","v":{"$error":"#N/A"}},{"$f":"'Equipment Information'!AF42*' Calculations'!Q29","v":{"$error":"#N/A"}},{"$f":"'Equipment Information'!AF42*' Calculations'!R29","v":{"$error":"#N/A"}},{"$error":"#N/A"},{"$error":"#N/A"},{"$error":"#N/A"},{"$error":"#N/A"}]
[null,null,{"$f":"'Equipment Information'!$D$13","v":0},{"$f":"VLOOKUP(C30,Validation!$B$21:$C$42,2,0)","v":{"$error":"#N/A"}},{"$f":"'Equipment Information'!I43","v":0},{"$f":"'Equipment Information'!J43","v":0},{"$f":"VLOOKUP($C$7,Lookups!$C$119:$G$140,5,FALSE)","v":{"$error":"#N/A"}},{"$f":"INDEX(HPCurves,MATCH(' Calculations'!H$6,Lookups!$C$25:$C$27,0),MATCH(' Calculations'!$D30,HPBuilding,0))","v":{"$error":"#N/A"}},{"$f":"INDEX(HPCurves,MATCH(' Calculations'!I$6,Lookups!$C$25:$C$27,0),MATCH(' Calculations'!$D30,HPBuilding,0))","v":{"$error":"#N/A"}},{"$f":"INDEX(HPCurves,MATCH(' Calculations'!J$6,Lookups!$C$25:$C$27,0),MATCH(' Calculations'!$D30,HPBuilding,0))","v":{"$error":"#N/A"}},{"$f":"INDEX(Lookups!$D$67:$K$70,MATCH(' Calculations'!K$5,Lookups!$C$67:$C$70,0),MATCH(' Calculations'!$D30,Lookups!$D$54:$K$54,0))","v":{"$error":"#N/A"}},{"$f":"INDEX(Lookups!$D$67:$K$70,MATCH(' Calculations'!L$5,Lookups!$C$67:$C$70,0),MATCH(' Calculations'!$D30,Lookups!$D$54:$K$54,0))","v":{"$error":"#N/A"}},{"$f":"INDEX(Lookups!$D$67:$K$70,MATCH(' Calculations'!M$5,Lookups!$C$67:$C$70,0),MATCH(' Calculations'!$D30,Lookups!$D$54:$K$54,0))","v":{"$error":"#N/A"}},{"$f":"INDEX(Lookups!$D$67:$K$70,MATCH(' Calculations'!N$5,Lookups!$C$67:$C$70,0),MATCH(' Calculations'!$D30,Lookups!$D$54:$K$54,0))","v":{"$error":"#N/A"}},{"$f":"INDEX(Lookups!$D$77:$K$80,MATCH(' Calculations'!O$5,Lookups!$C$77:$C$80,0),MATCH(' Calculations'!$D30,Lookups!$D$76:$K$76,0))","v":{"$error":"#N/A"}},{"$f":"INDEX(Lookups!$D$77:$K$80,MATCH(' Calculations'!P$5,Lookups!$C$77:$C$80,0),MATCH(' Calculations'!$D30,Lookups!$D$76:$K$76,0))","v":{"$error":"#N/A"}},{"$f":"INDEX(Lookups!$D$77:$K$80,MATCH(' Calculations'!Q$5,Lookups!$C$77:$C$80,0),MATCH(' Calculations'!$D30,Lookups!$D$76:$K$76,0))","v":{"$error":"#N/A"}},{"$f":"INDEX(Lookups!$D$77:$K$80,MATCH(' Calculations'!R$5,Lookups!$C$77:$C$80,0),MATCH(' Calculations'!$D30,Lookups!$D$76:$K$76,0))","v":{"$error":"#N/A"}},{"$f":"'Equipment Information'!AE43*' Calculations'!K30","v":{"$error":"#N/A"}},{"$f":"'Equipment Information'!AE43*' Calculations'!L30","v":{"$error":"#N/A"}},{"$f":"'Equipment Information'!AE43*' Calculations'!M30","v":{"$error":"#N/A"}},{"$f":"'Equipment Information'!AE43*' Calculations'!N30","v":{"$error":"#N/A"}},{"$f":"'Equipment Information'!AG43","v":0},{"$f":"'Equipment Information'!AH43","v":0},{"$f":"'Equipment Information'!AF43*' Calculations'!O30","v":{"$error":"#N/A"}},{"$f":"'Equipment Information'!AF43*' Calculations'!P30","v":{"$error":"#N/A"}},{"$f":"'Equipment Information'!AF43*' Calculations'!Q30","v":{"$error":"#N/A"}},{"$f":"'Equipment Information'!AF43*' Calculations'!R30","v":{"$error":"#N/A"}},{"$error":"#N/A"},{"$error":"#N/A"},{"$error":"#N/A"},{"$error":"#N/A"}]
[null,null,{"$f":"'Equipment Information'!$D$13","v":0},{"$f":"VLOOKUP(C31,Validation!$B$21:$C$42,2,0)","v":{"$error":"#N/A"}},{"$f":"'Equipment Information'!I44","v":0},{"$f":"'Equipment Information'!J44","v":0},{"$f":"VLOOKUP($C$7,Lookups!$C$119:$G$140,5,FALSE)","v":{"$error":"#N/A"}},{"$f":"INDEX(HPCurves,MATCH(' Calculations'!H$6,Lookups!$C$25:$C$27,0),MATCH(' Calculations'!$D31,HPBuilding,0))","v":{"$error":"#N/A"}},{"$f":"INDEX(HPCurves,MATCH(' Calculations'!I$6,Lookups!$C$25:$C$27,0),MATCH(' Calculations'!$D31,HPBuilding,0))","v":{"$error":"#N/A"}},{"$f":"INDEX(HPCurves,MATCH(' Calculations'!J$6,Lookups!$C$25:$C$27,0),MATCH(' Calculations'!$D31,HPBuilding,0))","v":{"$error":"#N/A"}},{"$f":"INDEX(Lookups!$D$67:$K$70,MATCH(' Calculations'!K$5,Lookups!$C$67:$C$70,0),MATCH(' Calculations'!$D31,Lookups!$D$54:$K$54,0))","v":{"$error":"#N/A"}},{"$f":"INDEX(Lookups!$D$67:$K$70,MATCH(' Calculations'!L$5,Lookups!$C$67:$C$70,0),MATCH(' Calculations'!$D31,Lookups!$D$54:$K$54,0))","v":{"$error":"#N/A"}},{"$f":"INDEX(Lookups!$D$67:$K$70,MATCH(' Calculations'!M$5,Lookups!$C$67:$C$70,0),MATCH(' Calculations'!$D31,Lookups!$D$54:$K$54,0))","v":{"$error":"#N/A"}},{"$f":"INDEX(Lookups!$D$67:$K$70,MATCH(' Calculations'!N$5,Lookups!$C$67:$C$70,0),MATCH(' Calculations'!$D31,Lookups!$D$54:$K$54,0))","v":{"$error":"#N/A"}},{"$f":"INDEX(Lookups!$D$77:$K$80,MATCH(' Calculations'!O$5,Lookups!$C$77:$C$80,0),MATCH(' Calculations'!$D31,Lookups!$D$76:$K$76,0))","v":{"$error":"#N/A"}},{"$f":"INDEX(Lookups!$D$77:$K$80,MATCH(' Calculations'!P$5,Lookups!$C$77:$C$80,0),MATCH(' Calculations'!$D31,Lookups!$D$76:$K$76,0))","v":{"$error":"#N/A"}},{"$f":"INDEX(Lookups!$D$77:$K$80,MATCH(' Calculations'!Q$5,Lookups!$C$77:$C$80,0),MATCH(' Calculations'!$D31,Lookups!$D$76:$K$76,0))","v":{"$error":"#N/A"}},{"$f":"INDEX(Lookups!$D$77:$K$80,MATCH(' Calculations'!R$5,Lookups!$C$77:$C$80,0),MATCH(' Calculations'!$D31,Lookups!$D$76:$K$76,0))","v":{"$error":"#N/A"}},{"$f":"'Equipment Information'!AE44*' Calculations'!K31","v":{"$error":"#N/A"}},{"$f":"'Equipment Information'!AE44*' Calculations'!L31","v":{"$error":"#N/A"}},{"$f":"'Equipment Information'!AE44*' Calculations'!M31","v":{"$error":"#N/A"}},{"$f":"'Equipment Information'!AE44*' Calculations'!N31","v":{"$error":"#N/A"}},{"$f":"'Equipment Information'!AG44","v":0},{"$f":"'Equipment Information'!AH44","v":0},{"$f":"'Equipment Information'!AF44*' Calculations'!O31","v":{"$error":"#N/A"}},{"$f":"'Equipment Information'!AF44*' Calculations'!P31","v":{"$error":"#N/A"}},{"$f":"'Equipment Information'!AF44*' Calculations'!Q31","v":{"$error":"#N/A"}},{"$f":"'Equipment Information'!AF44*' Calculations'!R31","v":{"$error":"#N/A"}},{"$error":"#N/A"},{"$error":"#N/A"},{"$error":"#N/A"},{"$error":"#N/A"}]
[null,null,{"$f":"'Equipment Information'!$D$13","v":0},{"$f":"VLOOKUP(C32,Validation!$B$21:$C$42,2,0)","v":{"$error":"#N/A"}},{"$f":"'Equipment Information'!I45","v":0},{"$f":"'Equipment Information'!J45","v":0},{"$f":"VLOOKUP($C$7,Lookups!$C$119:$G$140,5,FALSE)","v":{"$error":"#N/A"}},{"$f":"INDEX(HPCurves,MATCH(' Calculations'!H$6,Lookups!$C$25:$C$27,0),MATCH(' Calculations'!$D32,HPBuilding,0))","v":{"$error":"#N/A"}},{"$f":"INDEX(HPCurves,MATCH(' Calculations'!I$6,Lookups!$C$25:$C$27,0),MATCH(' Calculations'!$D32,HPBuilding,0))","v":{"$error":"#N/A"}},{"$f":"INDEX(HPCurves,MATCH(' Calculations'!J$6,Lookups!$C$25:$C$27,0),MATCH(' Calculations'!$D32,HPBuilding,0))","v":{"$error":"#N/A"}},{"$f":"INDEX(Lookups!$D$67:$K$70,MATCH(' Calculations'!K$5,Lookups!$C$67:$C$70,0),MATCH(' Calculations'!$D32,Lookups!$D$54:$K$54,0))","v":{"$error":"#N/A"}},{"$f":"INDEX(Lookups!$D$67:$K$70,MATCH(' Calculations'!L$5,Lookups!$C$67:$C$70,0),MATCH(' Calculations'!$D32,Lookups!$D$54:$K$54,0))","v":{"$error":"#N/A"}},{"$f":"INDEX(Lookups!$D$67:$K$70,MATCH(' Calculations'!M$5,Lookups!$C$67:$C$70,0),MATCH(' Calculations'!$D32,Lookups!$D$54:$K$54,0))","v":{"$error":"#N/A"}},{"$f":"INDEX(Lookups!$D$67:$K$70,MATCH(' Calculations'!N$5,Lookups!$C$67:$C$70,0),MATCH(' Calculations'!$D32,Lookups!$D$54:$K$54,0))","v":{"$error":"#N/A"}},{"$f":"INDEX(Lookups!$D$77:$K$80,MATCH(' Calculations'!O$5,Lookups!$C$77:$C$80,0),MATCH(' Calculations'!$D32,Lookups!$D$76:$K$76,0))","v":{"$error":"#N/A"}},{"$f":"INDEX(Lookups!$D$77:$K$80,MATCH(' Calculations'!P$5,Lookups!$C$77:$C$80,0),MATCH(' Calculations'!$D32,Lookups!$D$76:$K$76,0))","v":{"$error":"#N/A"}},{"$f":"INDEX(Lookups!$D$77:$K$80,MATCH(' Calculations'!Q$5,Lookups!$C$77:$C$80,0),MATCH(' Calculations'!$D32,Lookups!$D$76:$K$76,0))","v":{"$error":"#N/A"}},{"$f":"INDEX(Lookups!$D$77:$K$80,MATCH(' Calculations'!R$5,Lookups!$C$77:$C$80,0),MATCH(' Calculations'!$D32,Lookups!$D$76:$K$76,0))","v":{"$error":"#N/A"}}]
[null,null,{"$f":"'Equipment Information'!$D$13","v":0},{"$f":"VLOOKUP(C33,Validation!$B$21:$C$42,2,0)","v":{"$error":"#N/A"}},{"$f":"'Equipment Information'!I46","v":0},{"$f":"'Equipment Information'!J46","v":0},{"$f":"VLOOKUP($C$7,Lookups!$C$119:$G$140,5,FALSE)","v":{"$error":"#N/A"}},{"$f":"INDEX(HPCurves,MATCH(' Calculations'!H$6,Lookups!$C$25:$C$27,0),MATCH(' Calculations'!$D33,HPBuilding,0))","v":{"$error":"#N/A"}},{"$f":"INDEX(HPCurves,MATCH(' Calculations'!I$6,Lookups!$C$25:$C$27,0),MATCH(' Calculations'!$D33,HPBuilding,0))","v":{"$error":"#N/A"}},{"$f":"INDEX(HPCurves,MATCH(' Calculations'!J$6,Lookups!$C$25:$C$27,0),MATCH(' Calculations'!$D33,HPBuilding,0))","v":{"$error":"#N/A"}},{"$f":"INDEX(Lookups!$D$67:$K$70,MATCH(' Calculations'!K$5,Lookups!$C$67:$C$70,0),MATCH(' Calculations'!$D33,Lookups!$D$54:$K$54,0))","v":{"$error":"#N/A"}},{"$f":"INDEX(Lookups!$D$67:$K$70,MATCH(' Calculations'!L$5,Lookups!$C$67:$C$70,0),MATCH(' Calculations'!$D33,Lookups!$D$54:$K$54,0))","v":{"$error":"#N/A"}},{"$f":"INDEX(Lookups!$D$67:$K$70,MATCH(' Calculations'!M$5,Lookups!$C$67:$C$70,0),MATCH(' Calculations'!$D33,Lookups!$D$54:$K$54,0))","v":{"$error":"#N/A"}},{"$f":"INDEX(Lookups!$D$67:$K$70,MATCH(' Calculations'!N$5,Lookups!$C$67:$C$70,0),MATCH(' Calculations'!$D33,Lookups!$D$54:$K$54,0))","v":{"$error":"#N/A"}},{"$f":"INDEX(Lookups!$D$77:$K$80,MATCH(' Calculations'!O$5,Lookups!$C$77:$C$80,0),MATCH(' Calculations'!$D33,Lookups!$D$76:$K$76,0))","v":{"$error":"#N/A"}},{"$f":"INDEX(Lookups!$D$77:$K$80,MATCH(' Calculations'!P$5,Lookups!$C$77:$C$80,0),MATCH(' Calculations'!$D33,Lookups!$D$76:$K$76,0))","v":{"$error":"#N/A"}},{"$f":"INDEX(Lookups!$D$77:$K$80,MATCH(' Calculations'!Q$5,Lookups!$C$77:$C$80,0),MATCH(' Calculations'!$D33,Lookups!$D$76:$K$76,0))","v":{"$error":"#N/A"}},{"$f":"INDEX(Lookups!$D$77:$K$80,MATCH(' Calculations'!R$5,Lookups!$C$77:$C$80,0),MATCH(' Calculations'!$D33,Lookups!$D$76:$K$76,0))","v":{"$error":"#N/A"}}]
[null,null,{"$f":"'Equipment Information'!$D$13","v":0},{"$f":"VLOOKUP(C34,Validation!$B$21:$C$42,2,0)","v":{"$error":"#N/A"}},{"$f":"'Equipment Information'!I47","v":0},{"$f":"'Equipment Information'!J47","v":0},{"$f":"VLOOKUP($C$7,Lookups!$C$119:$G$140,5,FALSE)","v":{"$error":"#N/A"}},{"$f":"INDEX(HPCurves,MATCH(' Calculations'!H$6,Lookups!$C$25:$C$27,0),MATCH(' Calculations'!$D34,HPBuilding,0))","v":{"$error":"#N/A"}},{"$f":"INDEX(HPCurves,MATCH(' Calculations'!I$6,Lookups!$C$25:$C$27,0),MATCH(' Calculations'!$D34,HPBuilding,0))","v":{"$error":"#N/A"}},{"$f":"INDEX(HPCurves,MATCH(' Calculations'!J$6,Lookups!$C$25:$C$27,0),MATCH(' Calculations'!$D34,HPBuilding,0))","v":{"$error":"#N/A"}},{"$f":"INDEX(Lookups!$D$67:$K$70,MATCH(' Calculations'!K$5,Lookups!$C$67:$C$70,0),MATCH(' Calculations'!$D34,Lookups!$D$54:$K$54,0))","v":{"$error":"#N/A"}},{"$f":"INDEX(Lookups!$D$67:$K$70,MATCH(' Calculations'!L$5,Lookups!$C$67:$C$70,0),MATCH(' Calculations'!$D34,Lookups!$D$54:$K$54,0))","v":{"$error":"#N/A"}},{"$f":"INDEX(Lookups!$D$67:$K$70,MATCH(' Calculations'!M$5,Lookups!$C$67:$C$70,0),MATCH(' Calculations'!$D34,Lookups!$D$54:$K$54,0))","v":{"$error":"#N/A"}},{"$f":"INDEX(Lookups!$D$67:$K$70,MATCH(' Calculations'!N$5,Lookups!$C$67:$C$70,0),MATCH(' Calculations'!$D34,Lookups!$D$54:$K$54,0))","v":{"$error":"#N/A"}},{"$f":"INDEX(Lookups!$D$77:$K$80,MATCH(' Calculations'!O$5,Lookups!$C$77:$C$80,0),MATCH(' Calculations'!$D34,Lookups!$D$76:$K$76,0))","v":{"$error":"#N/A"}},{"$f":"INDEX(Lookups!$D$77:$K$80,MATCH(' Calculations'!P$5,Lookups!$C$77:$C$80,0),MATCH(' Calculations'!$D34,Lookups!$D$76:$K$76,0))","v":{"$error":"#N/A"}},{"$f":"INDEX(Lookups!$D$77:$K$80,MATCH(' Calculations'!Q$5,Lookups!$C$77:$C$80,0),MATCH(' Calculations'!$D34,Lookups!$D$76:$K$76,0))","v":{"$error":"#N/A"}},{"$f":"INDEX(Lookups!$D$77:$K$80,MATCH(' Calculations'!R$5,Lookups!$C$77:$C$80,0),MATCH(' Calculations'!$D34,Lookups!$D$76:$K$76,0))","v":{"$error":"#N/A"}}]
[null,null,{"$f":"'Equipment Information'!$D$13","v":0},{"$f":"VLOOKUP(C35,Validation!$B$21:$C$42,2,0)","v":{"$error":"#N/A"}},{"$f":"'Equipment Information'!I48","v":0},{"$f":"'Equipment Information'!J48","v":0},{"$f":"VLOOKUP($C$7,Lookups!$C$119:$G$140,5,FALSE)","v":{"$error":"#N/A"}},{"$f":"INDEX(HPCurves,MATCH(' Calculations'!H$6,Lookups!$C$25:$C$27,0),MATCH(' Calculations'!$D35,HPBuilding,0))","v":{"$error":"#N/A"}},{"$f":"INDEX(HPCurves,MATCH(' Calculations'!I$6,Lookups!$C$25:$C$27,0),MATCH(' Calculations'!$D35,HPBuilding,0))","v":{"$error":"#N/A"}},{"$f":"INDEX(HPCurves,MATCH(' Calculations'!J$6,Lookups!$C$25:$C$27,0),MATCH(' Calculations'!$D35,HPBuilding,0))","v":{"$error":"#N/A"}},{"$f":"INDEX(Lookups!$D$67:$K$70,MATCH(' Calculations'!K$5,Lookups!$C$67:$C$70,0),MATCH(' Calculations'!$D35,Lookups!$D$54:$K$54,0))","v":{"$error":"#N/A"}},{"$f":"INDEX(Lookups!$D$67:$K$70,MATCH(' Calculations'!L$5,Lookups!$C$67:$C$70,0),MATCH(' Calculations'!$D35,Lookups!$D$54:$K$54,0))","v":{"$error":"#N/A"}},{"$f":"INDEX(Lookups!$D$67:$K$70,MATCH(' Calculations'!M$5,Lookups!$C$67:$C$70,0),MATCH(' Calculations'!$D35,Lookups!$D$54:$K$54,0))","v":{"$error":"#N/A"}},{"$f":"INDEX(Lookups!$D$67:$K$70,MATCH(' Calculations'!N$5,Lookups!$C$67:$C$70,0),MATCH(' Calculations'!$D35,Lookups!$D$54:$K$54,0))","v":{"$error":"#N/A"}},{"$f":"INDEX(Lookups!$D$77:$K$80,MATCH(' Calculations'!O$5,Lookups!$C$77:$C$80,0),MATCH(' Calculations'!$D35,Lookups!$D$76:$K$76,0))","v":{"$error":"#N/A"}},{"$f":"INDEX(Lookups!$D$77:$K$80,MATCH(' Calculations'!P$5,Lookups!$C$77:$C$80,0),MATCH(' Calculations'!$D35,Lookups!$D$76:$K$76,0))","v":{"$error":"#N/A"}},{"$f":"INDEX(Lookups!$D$77:$K$80,MATCH(' Calculations'!Q$5,Lookups!$C$77:$C$80,0),MATCH(' Calculations'!$D35,Lookups!$D$76:$K$76,0))","v":{"$error":"#N/A"}},{"$f":"INDEX(Lookups!$D$77:$K$80,MATCH(' Calculations'!R$5,Lookups!$C$77:$C$80,0),MATCH(' Calculations'!$D35,Lookups!$D$76:$K$76,0))","v":{"$error":"#N/A"}}]
[null,null,{"$f":"'Equipment Information'!$D$13","v":0},{"$f":"VLOOKUP(C36,Validation!$B$21:$C$42,2,0)","v":{"$error":"#N/A"}},{"$f":"'Equipment Information'!I49","v":0},{"$f":"'Equipment Information'!J49","v":0},{"$f":"VLOOKUP($C$7,Lookups!$C$119:$G$140,5,FALSE)","v":{"$error":"#N/A"}},{"$f":"INDEX(HPCurves,MATCH(' Calculations'!H$6,Lookups!$C$25:$C$27,0),MATCH(' Calculations'!$D36,HPBuilding,0))","v":{"$error":"#N/A"}},{"$f":"INDEX(HPCurves,MATCH(' Calculations'!I$6,Lookups!$C$25:$C$27,0),MATCH(' Calculations'!$D36,HPBuilding,0))","v":{"$error":"#N/A"}},{"$f":"INDEX(HPCurves,MATCH(' Calculations'!J$6,Lookups!$C$25:$C$27,0),MATCH(' Calculations'!$D36,HPBuilding,0))","v":{"$error":"#N/A"}},{"$f":"INDEX(Lookups!$D$67:$K$70,MATCH(' Calculations'!K$5,Lookups!$C$67:$C$70,0),MATCH(' Calculations'!$D36,Lookups!$D$54:$K$54,0))","v":{"$error":"#N/A"}},{"$f":"INDEX(Lookups!$D$67:$K$70,MATCH(' Calculations'!L$5,Lookups!$C$67:$C$70,0),MATCH(' Calculations'!$D36,Lookups!$D$54:$K$54,0))","v":{"$error":"#N/A"}},{"$f":"INDEX(Lookups!$D$67:$K$70,MATCH(' Calculations'!M$5,Lookups!$C$67:$C$70,0),MATCH(' Calculations'!$D36,Lookups!$D$54:$K$54,0))","v":{"$error":"#N/A"}},{"$f":"INDEX(Lookups!$D$67:$K$70,MATCH(' Calculations'!N$5,Lookups!$C$67:$C$70,0),MATCH(' Calculations'!$D36,Lookups!$D$54:$K$54,0))","v":{"$error":"#N/A"}},{"$f":"INDEX(Lookups!$D$77:$K$80,MATCH(' Calculations'!O$5,Lookups!$C$77:$C$80,0),MATCH(' Calculations'!$D36,Lookups!$D$76:$K$76,0))","v":{"$error":"#N/A"}},{"$f":"INDEX(Lookups!$D$77:$K$80,MATCH(' Calculations'!P$5,Lookups!$C$77:$C$80,0),MATCH(' Calculations'!$D36,Lookups!$D$76:$K$76,0))","v":{"$error":"#N/A"}},{"$f":"INDEX(Lookups!$D$77:$K$80,MATCH(' Calculations'!Q$5,Lookups!$C$77:$C$80,0),MATCH(' Calculations'!$D36,Lookups!$D$76:$K$76,0))","v":{"$error":"#N/A"}},{"$f":"INDEX(Lookups!$D$77:$K$80,MATCH(' Calculations'!R$5,Lookups!$C$77:$C$80,0),MATCH(' Calculations'!$D36,Lookups!$D$76:$K$76,0))","v":{"$error":"#N/A"}}]
[null,null,{"$f":"'Equipment Information'!$D$13","v":0},{"$f":"VLOOKUP(C37,Validation!$B$21:$C$42,2,0)","v":{"$error":"#N/A"}},{"$f":"'Equipment Information'!I50","v":0},{"$f":"'Equipment Information'!J50","v":0},{"$f":"VLOOKUP($C$7,Lookups!$C$119:$G$140,5,FALSE)","v":{"$error":"#N/A"}},{"$f":"INDEX(HPCurves,MATCH(' Calculations'!H$6,Lookups!$C$25:$C$27,0),MATCH(' Calculations'!$D37,HPBuilding,0))","v":{"$error":"#N/A"}},{"$f":"INDEX(HPCurves,MATCH(' Calculations'!I$6,Lookups!$C$25:$C$27,0),MATCH(' Calculations'!$D37,HPBuilding,0))","v":{"$error":"#N/A"}},{"$f":"INDEX(HPCurves,MATCH(' Calculations'!J$6,Lookups!$C$25:$C$27,0),MATCH(' Calculations'!$D37,HPBuilding,0))","v":{"$error":"#N/A"}},{"$f":"INDEX(Lookups!$D$67:$K$70,MATCH(' Calculations'!K$5,Lookups!$C$67:$C$70,0),MATCH(' Calculations'!$D37,Lookups!$D$54:$K$54,0))","v":{"$error":"#N/A"}},{"$f":"INDEX(Lookups!$D$67:$K$70,MATCH(' Calculations'!L$5,Lookups!$C$67:$C$70,0),MATCH(' Calculations'!$D37,Lookups!$D$54:$K$54,0))","v":{"$error":"#N/A"}},{"$f":"INDEX(Lookups!$D$67:$K$70,MATCH(' Calculations'!M$5,Lookups!$C$67:$C$70,0),MATCH(' Calculations'!$D37,Lookups!$D$54:$K$54,0))","v":{"$error":"#N/A"}},{"$f":"INDEX(Lookups!$D$67:$K$70,MATCH(' Calculations'!N$5,Lookups!$C$67:$C$70,0),MATCH(' Calculations'!$D37,Lookups!$D$54:$K$54,0))","v":{"$error":"#N/A"}},{"$f":"INDEX(Lookups!$D$77:$K$80,MATCH(' Calculations'!O$5,Lookups!$C$77:$C$80,0),MATCH(' Calculations'!$D37,Lookups!$D$76:$K$76,0))","v":{"$error":"#N/A"}},{"$f":"INDEX(Lookups!$D$77:$K$80,MATCH(' Calculations'!P$5,Lookups!$C$77:$C$80,0),MATCH(' Calculations'!$D37,Lookups!$D$76:$K$76,0))","v":{"$error":"#N/A"}},{"$f":"INDEX(Lookups!$D$77:$K$80,MATCH(' Calculations'!Q$5,Lookups!$C$77:$C$80,0),MATCH(' Calculations'!$D37,Lookups!$D$76:$K$76,0))","v":{"$error":"#N/A"}},{"$f":"INDEX(Lookups!$D$77:$K$80,MATCH(' Calculations'!R$5,Lookups!$C$77:$C$80,0),MATCH(' Calculations'!$D37,Lookups!$D$76:$K$76,0))","v":{"$error":"#N/A"}}]
[null,null,{"$f":"'Equipment Information'!$D$13","v":0},{"$f":"VLOOKUP(C38,Validation!$B$21:$C$42,2,0)","v":{"$error":"#N/A"}},{"$f":"'Equipment Information'!I51","v":0},{"$f":"'Equipment Information'!J51","v":0},{"$f":"VLOOKUP($C$7,Lookups!$C$119:$G$140,5,FALSE)","v":{"$error":"#N/A"}},{"$f":"INDEX(HPCurves,MATCH(' Calculations'!H$6,Lookups!$C$25:$C$27,0),MATCH(' Calculations'!$D38,HPBuilding,0))","v":{"$error":"#N/A"}},{"$f":"INDEX(HPCurves,MATCH(' Calculations'!I$6,Lookups!$C$25:$C$27,0),MATCH(' Calculations'!$D38,HPBuilding,0))","v":{"$error":"#N/A"}},{"$f":"INDEX(HPCurves,MATCH(' Calculations'!J$6,Lookups!$C$25:$C$27,0),MATCH(' Calculations'!$D38,HPBuilding,0))","v":{"$error":"#N/A"}},{"$f":"INDEX(Lookups!$D$67:$K$70,MATCH(' Calculations'!K$5,Lookups!$C$67:$C$70,0),MATCH(' Calculations'!$D38,Lookups!$D$54:$K$54,0))","v":{"$error":"#N/A"}},{"$f":"INDEX(Lookups!$D$67:$K$70,MATCH(' Calculations'!L$5,Lookups!$C$67:$C$70,0),MATCH(' Calculations'!$D38,Lookups!$D$54:$K$54,0))","v":{"$error":"#N/A"}},{"$f":"INDEX(Lookups!$D$67:$K$70,MATCH(' Calculations'!M$5,Lookups!$C$67:$C$70,0),MATCH(' Calculations'!$D38,Lookups!$D$54:$K$54,0))","v":{"$error":"#N/A"}},{"$f":"INDEX(Lookups!$D$67:$K$70,MATCH(' Calculations'!N$5,Lookups!$C$67:$C$70,0),MATCH(' Calculations'!$D38,Lookups!$D$54:$K$54,0))","v":{"$error":"#N/A"}},{"$f":"INDEX(Lookups!$D$77:$K$80,MATCH(' Calculations'!O$5,Lookups!$C$77:$C$80,0),MATCH(' Calculations'!$D38,Lookups!$D$76:$K$76,0))","v":{"$error":"#N/A"}},{"$f":"INDEX(Lookups!$D$77:$K$80,MATCH(' Calculations'!P$5,Lookups!$C$77:$C$80,0),MATCH(' Calculations'!$D38,Lookups!$D$76:$K$76,0))","v":{"$error":"#N/A"}},{"$f":"INDEX(Lookups!$D$77:$K$80,MATCH(' Calculations'!Q$5,Lookups!$C$77:$C$80,0),MATCH(' Calculations'!$D38,Lookups!$D$76:$K$76,0))","v":{"$error":"#N/A"}},{"$f":"INDEX(Lookups!$D$77:$K$80,MATCH(' Calculations'!R$5,Lookups!$C$77:$C$80,0),MATCH(' Calculations'!$D38,Lookups!$D$76:$K$76,0))","v":{"$error":"#N/A"}}]
[null,null,{"$f":"'Equipment Information'!$D$13","v":0},{"$f":"VLOOKUP(C39,Validation!$B$21:$C$42,2,0)","v":{"$error":"#N/A"}},{"$f":"'Equipment Information'!I52","v":0},{"$f":"'Equipment Information'!J52","v":0},{"$f":"VLOOKUP($C$7,Lookups!$C$119:$G$140,5,FALSE)","v":{"$error":"#N/A"}},{"$f":"INDEX(HPCurves,MATCH(' Calculations'!H$6,Lookups!$C$25:$C$27,0),MATCH(' Calculations'!$D39,HPBuilding,0))","v":{"$error":"#N/A"}},{"$f":"INDEX(HPCurves,MATCH(' Calculations'!I$6,Lookups!$C$25:$C$27,0),MATCH(' Calculations'!$D39,HPBuilding,0))","v":{"$error":"#N/A"}},{"$f":"INDEX(HPCurves,MATCH(' Calculations'!J$6,Lookups!$C$25:$C$27,0),MATCH(' Calculations'!$D39,HPBuilding,0))","v":{"$error":"#N/A"}},{"$f":"INDEX(Lookups!$D$67:$K$70,MATCH(' Calculations'!K$5,Lookups!$C$67:$C$70,0),MATCH(' Calculations'!$D39,Lookups!$D$54:$K$54,0))","v":{"$error":"#N/A"}},{"$f":"INDEX(Lookups!$D$67:$K$70,MATCH(' Calculations'!L$5,Lookups!$C$67:$C$70,0),MATCH(' Calculations'!$D39,Lookups!$D$54:$K$54,0))","v":{"$error":"#N/A"}},{"$f":"INDEX(Lookups!$D$67:$K$70,MATCH(' Calculations'!M$5,Lookups!$C$67:$C$70,0),MATCH(' Calculations'!$D39,Lookups!$D$54:$K$54,0))","v":{"$error":"#N/A"}},{"$f":"INDEX(Lookups!$D$67:$K$70,MATCH(' Calculations'!N$5,Lookups!$C$67:$C$70,0),MATCH(' Calculations'!$D39,Lookups!$D$54:$K$54,0))","v":{"$error":"#N/A"}},{"$f":"INDEX(Lookups!$D$77:$K$80,MATCH(' Calculations'!O$5,Lookups!$C$77:$C$80,0),MATCH(' Calculations'!$D39,Lookups!$D$76:$K$76,0))","v":{"$error":"#N/A"}},{"$f":"INDEX(Lookups!$D$77:$K$80,MATCH(' Calculations'!P$5,Lookups!$C$77:$C$80,0),MATCH(' Calculations'!$D39,Lookups!$D$76:$K$76,0))","v":{"$error":"#N/A"}},{"$f":"INDEX(Lookups!$D$77:$K$80,MATCH(' Calculations'!Q$5,Lookups!$C$77:$C$80,0),MATCH(' Calculations'!$D39,Lookups!$D$76:$K$76,0))","v":{"$error":"#N/A"}},{"$f":"INDEX(Lookups!$D$77:$K$80,MATCH(' Calculations'!R$5,Lookups!$C$77:$C$80,0),MATCH(' Calculations'!$D39,Lookups!$D$76:$K$76,0))","v":{"$error":"#N/A"}}]
[null,null,{"$f":"'Equipment Information'!$D$13","v":0},{"$f":"VLOOKUP(C40,Validation!$B$21:$C$42,2,0)","v":{"$error":"#N/A"}},{"$f":"'Equipment Information'!I53","v":0},{"$f":"'Equipment Information'!J53","v":0},{"$f":"VLOOKUP($C$7,Lookups!$C$119:$G$140,5,FALSE)","v":{"$error":"#N/A"}},{"$f":"INDEX(HPCurves,MATCH(' Calculations'!H$6,Lookups!$C$25:$C$27,0),MATCH(' Calculations'!$D40,HPBuilding,0))","v":{"$error":"#N/A"}},{"$f":"INDEX(HPCurves,MATCH(' Calculations'!I$6,Lookups!$C$25:$C$27,0),MATCH(' Calculations'!$D40,HPBuilding,0))","v":{"$error":"#N/A"}},{"$f":"INDEX(HPCurves,MATCH(' Calculations'!J$6,Lookups!$C$25:$C$27,0),MATCH(' Calculations'!$D40,HPBuilding,0))","v":{"$error":"#N/A"}},{"$f":"INDEX(Lookups!$D$67:$K$70,MATCH(' Calculations'!K$5,Lookups!$C$67:$C$70,0),MATCH(' Calculations'!$D40,Lookups!$D$54:$K$54,0))","v":{"$error":"#N/A"}},{"$f":"INDEX(Lookups!$D$67:$K$70,MATCH(' Calculations'!L$5,Lookups!$C$67:$C$70,0),MATCH(' Calculations'!$D40,Lookups!$D$54:$K$54,0))","v":{"$error":"#N/A"}},{"$f":"INDEX(Lookups!$D$67:$K$70,MATCH(' Calculations'!M$5,Lookups!$C$67:$C$70,0),MATCH(' Calculations'!$D40,Lookups!$D$54:$K$54,0))","v":{"$error":"#N/A"}},{"$f":"INDEX(Lookups!$D$67:$K$70,MATCH(' Calculations'!N$5,Lookups!$C$67:$C$70,0),MATCH(' Calculations'!$D40,Lookups!$D$54:$K$54,0))","v":{"$error":"#N/A"}},{"$f":"INDEX(Lookups!$D$77:$K$80,MATCH(' Calculations'!O$5,Lookups!$C$77:$C$80,0),MATCH(' Calculations'!$D40,Lookups!$D$76:$K$76,0))","v":{"$error":"#N/A"}},{"$f":"INDEX(Lookups!$D$77:$K$80,MATCH(' Calculations'!P$5,Lookups!$C$77:$C$80,0),MATCH(' Calculations'!$D40,Lookups!$D$76:$K$76,0))","v":{"$error":"#N/A"}},{"$f":"INDEX(Lookups!$D$77:$K$80,MATCH(' Calculations'!Q$5,Lookups!$C$77:$C$80,0),MATCH(' Calculations'!$D40,Lookups!$D$76:$K$76,0))","v":{"$error":"#N/A"}},{"$f":"INDEX(Lookups!$D$77:$K$80,MATCH(' Calculations'!R$5,Lookups!$C$77:$C$80,0),MATCH(' Calculations'!$D40,Lookups!$D$76:$K$76,0))","v":{"$error":"#N/A"}}]
[null,null,{"$f":"'Equipment Information'!$D$13","v":0},{"$f":"VLOOKUP(C41,Validation!$B$21:$C$42,2,0)","v":{"$error":"#N/A"}},{"$f":"'Equipment Information'!I54","v":0},{"$f":"'Equipment Information'!J54","v":0},{"$f":"VLOOKUP($C$7,Lookups!$C$119:$G$140,5,FALSE)","v":{"$error":"#N/A"}},{"$f":"INDEX(HPCurves,MATCH(' Calculations'!H$6,Lookups!$C$25:$C$27,0),MATCH(' Calculations'!$D41,HPBuilding,0))","v":{"$error":"#N/A"}},{"$f":"INDEX(HPCurves,MATCH(' Calculations'!I$6,Lookups!$C$25:$C$27,0),MATCH(' Calculations'!$D41,HPBuilding,0))","v":{"$error":"#N/A"}},{"$f":"INDEX(HPCurves,MATCH(' Calculations'!J$6,Lookups!$C$25:$C$27,0),MATCH(' Calculations'!$D41,HPBuilding,0))","v":{"$error":"#N/A"}},{"$f":"INDEX(Lookups!$D$67:$K$70,MATCH(' Calculations'!K$5,Lookups!$C$67:$C$70,0),MATCH(' Calculations'!$D41,Lookups!$D$54:$K$54,0))","v":{"$error":"#N/A"}},{"$f":"INDEX(Lookups!$D$67:$K$70,MATCH(' Calculations'!L$5,Lookups!$C$67:$C$70,0),MATCH(' Calculations'!$D41,Lookups!$D$54:$K$54,0))","v":{"$error":"#N/A"}},{"$f":"INDEX(Lookups!$D$67:$K$70,MATCH(' Calculations'!M$5,Lookups!$C$67:$C$70,0),MATCH(' Calculations'!$D41,Lookups!$D$54:$K$54,0))","v":{"$error":"#N/A"}},{"$f":"INDEX(Lookups!$D$67:$K$70,MATCH(' Calculations'!N$5,Lookups!$C$67:$C$70,0),MATCH(' Calculations'!$D41,Lookups!$D$54:$K$54,0))","v":{"$error":"#N/A"}},{"$f":"INDEX(Lookups!$D$77:$K$80,MATCH(' Calculations'!O$5,Lookups!$C$77:$C$80,0),MATCH(' Calculations'!$D41,Lookups!$D$76:$K$76,0))","v":{"$error":"#N/A"}},{"$f":"INDEX(Lookups!$D$77:$K$80,MATCH(' Calculations'!P$5,Lookups!$C$77:$C$80,0),MATCH(' Calculations'!$D41,Lookups!$D$76:$K$76,0))","v":{"$error":"#N/A"}},{"$f":"INDEX(Lookups!$D$77:$K$80,MATCH(' Calculations'!Q$5,Lookups!$C$77:$C$80,0),MATCH(' Calculations'!$D41,Lookups!$D$76:$K$76,0))","v":{"$error":"#N/A"}},{"$f":"INDEX(Lookups!$D$77:$K$80,MATCH(' Calculations'!R$5,Lookups!$C$77:$C$80,0),MATCH(' Calculations'!$D41,Lookups!$D$76:$K$76,0))","v":{"$error":"#N/A"}}]
[null,null,{"$f":"'Equipment Information'!$D$13","v":0},{"$f":"VLOOKUP(C42,Validation!$B$21:$C$42,2,0)","v":{"$error":"#N/A"}},{"$f":"'Equipment Information'!I55","v":0},{"$f":"'Equipment Information'!J55","v":0},{"$f":"VLOOKUP($C$7,Lookups!$C$119:$G$140,5,FALSE)","v":{"$error":"#N/A"}},{"$f":"INDEX(HPCurves,MATCH(' Calculations'!H$6,Lookups!$C$25:$C$27,0),MATCH(' Calculations'!$D42,HPBuilding,0))","v":{"$error":"#N/A"}},{"$f":"INDEX(HPCurves,MATCH(' Calculations'!I$6,Lookups!$C$25:$C$27,0),MATCH(' Calculations'!$D42,HPBuilding,0))","v":{"$error":"#N/A"}},{"$f":"INDEX(HPCurves,MATCH(' Calculations'!J$6,Lookups!$C$25:$C$27,0),MATCH(' Calculations'!$D42,HPBuilding,0))","v":{"$error":"#N/A"}},{"$f":"INDEX(Lookups!$D$67:$K$70,MATCH(' Calculations'!K$5,Lookups!$C$67:$C$70,0),MATCH(' Calculations'!$D42,Lookups!$D$54:$K$54,0))","v":{"$error":"#N/A"}},{"$f":"INDEX(Lookups!$D$67:$K$70,MATCH(' Calculations'!L$5,Lookups!$C$67:$C$70,0),MATCH(' Calculations'!$D42,Lookups!$D$54:$K$54,0))","v":{"$error":"#N/A"}},{"$f":"INDEX(Lookups!$D$67:$K$70,MATCH(' Calculations'!M$5,Lookups!$C$67:$C$70,0),MATCH(' Calculations'!$D42,Lookups!$D$54:$K$54,0))","v":{"$error":"#N/A"}},{"$f":"INDEX(Lookups!$D$67:$K$70,MATCH(' Calculations'!N$5,Lookups!$C$67:$C$70,0),MATCH(' Calculations'!$D42,Lookups!$D$54:$K$54,0))","v":{"$error":"#N/A"}},{"$f":"INDEX(Lookups!$D$77:$K$80,MATCH(' Calculations'!O$5,Lookups!$C$77:$C$80,0),MATCH(' Calculations'!$D42,Lookups!$D$76:$K$76,0))","v":{"$error":"#N/A"}},{"$f":"INDEX(Lookups!$D$77:$K$80,MATCH(' Calculations'!P$5,Lookups!$C$77:$C$80,0),MATCH(' Calculations'!$D42,Lookups!$D$76:$K$76,0))","v":{"$error":"#N/A"}},{"$f":"INDEX(Lookups!$D$77:$K$80,MATCH(' Calculations'!Q$5,Lookups!$C$77:$C$80,0),MATCH(' Calculations'!$D42,Lookups!$D$76:$K$76,0))","v":{"$error":"#N/A"}},{"$f":"INDEX(Lookups!$D$77:$K$80,MATCH(' Calculations'!R$5,Lookups!$C$77:$C$80,0),MATCH(' Calculations'!$D42,Lookups!$D$76:$K$76,0))","v":{"$error":"#N/A"}}]
[null,null,{"$f":"'Equipment Information'!$D$13","v":0},{"$f":"VLOOKUP(C43,Validation!$B$21:$C$42,2,0)","v":{"$error":"#N/A"}},{"$f":"'Equipment Information'!I56","v":0},{"$f":"'Equipment Information'!J56","v":0},{"$f":"VLOOKUP($C$7,Lookups!$C$119:$G$140,5,FALSE)","v":{"$error":"#N/A"}},{"$f":"INDEX(HPCurves,MATCH(' Calculations'!H$6,Lookups!$C$25:$C$27,0),MATCH(' Calculations'!$D43,HPBuilding,0))","v":{"$error":"#N/A"}},{"$f":"INDEX(HPCurves,MATCH(' Calculations'!I$6,Lookups!$C$25:$C$27,0),MATCH(' Calculations'!$D43,HPBuilding,0))","v":{"$error":"#N/A"}},{"$f":"INDEX(HPCurves,MATCH(' Calculations'!J$6,Lookups!$C$25:$C$27,0),MATCH(' Calculations'!$D43,HPBuilding,0))","v":{"$error":"#N/A"}},{"$f":"INDEX(Lookups!$D$67:$K$70,MATCH(' Calculations'!K$5,Lookups!$C$67:$C$70,0),MATCH(' Calculations'!$D43,Lookups!$D$54:$K$54,0))","v":{"$error":"#N/A"}},{"$f":"INDEX(Lookups!$D$67:$K$70,MATCH(' Calculations'!L$5,Lookups!$C$67:$C$70,0),MATCH(' Calculations'!$D43,Lookups!$D$54:$K$54,0))","v":{"$error":"#N/A"}},{"$f":"INDEX(Lookups!$D$67:$K$70,MATCH(' Calculations'!M$5,Lookups!$C$67:$C$70,0),MATCH(' Calculations'!$D43,Lookups!$D$54:$K$54,0))","v":{"$error":"#N/A"}},{"$f":"INDEX(Lookups!$D$67:$K$70,MATCH(' Calculations'!N$5,Lookups!$C$67:$C$70,0),MATCH(' Calculations'!$D43,Lookups!$D$54:$K$54,0))","v":{"$error":"#N/A"}},{"$f":"INDEX(Lookups!$D$77:$K$80,MATCH(' Calculations'!O$5,Lookups!$C$77:$C$80,0),MATCH(' Calculations'!$D43,Lookups!$D$76:$K$76,0))","v":{"$error":"#N/A"}},{"$f":"INDEX(Lookups!$D$77:$K$80,MATCH(' Calculations'!P$5,Lookups!$C$77:$C$80,0),MATCH(' Calculations'!$D43,Lookups!$D$76:$K$76,0))","v":{"$error":"#N/A"}},{"$f":"INDEX(Lookups!$D$77:$K$80,MATCH(' Calculations'!Q$5,Lookups!$C$77:$C$80,0),MATCH(' Calculations'!$D43,Lookups!$D$76:$K$76,0))","v":{"$error":"#N/A"}},{"$f":"INDEX(Lookups!$D$77:$K$80,MATCH(' Calculations'!R$5,Lookups!$C$77:$C$80,0),MATCH(' Calculations'!$D43,Lookups!$D$76:$K$76,0))","v":{"$error":"#N/A"}}]
[null,null,{"$f":"'Equipment Information'!$D$13","v":0},{"$f":"VLOOKUP(C44,Validation!$B$21:$C$42,2,0)","v":{"$error":"#N/A"}},{"$f":"'Equipment Information'!I57","v":0},{"$f":"'Equipment Information'!J57","v":0},{"$f":"VLOOKUP($C$7,Lookups!$C$119:$G$140,5,FALSE)","v":{"$error":"#N/A"}},{"$f":"INDEX(HPCurves,MATCH(' Calculations'!H$6,Lookups!$C$25:$C$27,0),MATCH(' Calculations'!$D44,HPBuilding,0))","v":{"$error":"#N/A"}},{"$f":"INDEX(HPCurves,MATCH(' Calculations'!I$6,Lookups!$C$25:$C$27,0),MATCH(' Calculations'!$D44,HPBuilding,0))","v":{"$error":"#N/A"}},{"$f":"INDEX(HPCurves,MATCH(' Calculations'!J$6,Lookups!$C$25:$C$27,0),MATCH(' Calculations'!$D44,HPBuilding,0))","v":{"$error":"#N/A"}},{"$f":"INDEX(Lookups!$D$67:$K$70,MATCH(' Calculations'!K$5,Lookups!$C$67:$C$70,0),MATCH(' Calculations'!$D44,Lookups!$D$54:$K$54,0))","v":{"$error":"#N/A"}},{"$f":"INDEX(Lookups!$D$67:$K$70,MATCH(' Calculations'!L$5,Lookups!$C$67:$C$70,0),MATCH(' Calculations'!$D44,Lookups!$D$54:$K$54,0))","v":{"$error":"#N/A"}},{"$f":"INDEX(Lookups!$D$67:$K$70,MATCH(' Calculations'!M$5,Lookups!$C$67:$C$70,0),MATCH(' Calculations'!$D44,Lookups!$D$54:$K$54,0))","v":{"$error":"#N/A"}},{"$f":"INDEX(Lookups!$D$67:$K$70,MATCH(' Calculations'!N$5,Lookups!$C$67:$C$70,0),MATCH(' Calculations'!$D44,Lookups!$D$54:$K$54,0))","v":{"$error":"#N/A"}},{"$f":"INDEX(Lookups!$D$77:$K$80,MATCH(' Calculations'!O$5,Lookups!$C$77:$C$80,0),MATCH(' Calculations'!$D44,Lookups!$D$76:$K$76,0))","v":{"$error":"#N/A"}},{"$f":"INDEX(Lookups!$D$77:$K$80,MATCH(' Calculations'!P$5,Lookups!$C$77:$C$80,0),MATCH(' Calculations'!$D44,Lookups!$D$76:$K$76,0))","v":{"$error":"#N/A"}},{"$f":"INDEX(Lookups!$D$77:$K$80,MATCH(' Calculations'!Q$5,Lookups!$C$77:$C$80,0),MATCH(' Calculations'!$D44,Lookups!$D$76:$K$76,0))","v":{"$error":"#N/A"}},{"$f":"INDEX(Lookups!$D$77:$K$80,MATCH(' Calculations'!R$5,Lookups!$C$77:$C$80,0),MATCH(' Calculations'!$D44,Lookups!$D$76:$K$76,0))","v":{"$error":"#N/A"}}]
[null,null,{"$f":"'Equipment Information'!$D$13","v":0},{"$f":"VLOOKUP(C45,Validation!$B$21:$C$42,2,0)","v":{"$error":"#N/A"}},{"$f":"'Equipment Information'!I58","v":0},{"$f":"'Equipment Information'!J58","v":0},{"$f":"VLOOKUP($C$7,Lookups!$C$119:$G$140,5,FALSE)","v":{"$error":"#N/A"}},{"$f":"INDEX(HPCurves,MATCH(' Calculations'!H$6,Lookups!$C$25:$C$27,0),MATCH(' Calculations'!$D45,HPBuilding,0))","v":{"$error":"#N/A"}},{"$f":"INDEX(HPCurves,MATCH(' Calculations'!I$6,Lookups!$C$25:$C$27,0),MATCH(' Calculations'!$D45,HPBuilding,0))","v":{"$error":"#N/A"}},{"$f":"INDEX(HPCurves,MATCH(' Calculations'!J$6,Lookups!$C$25:$C$27,0),MATCH(' Calculations'!$D45,HPBuilding,0))","v":{"$error":"#N/A"}},{"$f":"INDEX(Lookups!$D$67:$K$70,MATCH(' Calculations'!K$5,Lookups!$C$67:$C$70,0),MATCH(' Calculations'!$D45,Lookups!$D$54:$K$54,0))","v":{"$error":"#N/A"}},{"$f":"INDEX(Lookups!$D$67:$K$70,MATCH(' Calculations'!L$5,Lookups!$C$67:$C$70,0),MATCH(' Calculations'!$D45,Lookups!$D$54:$K$54,0))","v":{"$error":"#N/A"}},{"$f":"INDEX(Lookups!$D$67:$K$70,MATCH(' Calculations'!M$5,Lookups!$C$67:$C$70,0),MATCH(' Calculations'!$D45,Lookups!$D$54:$K$54,0))","v":{"$error":"#N/A"}},{"$f":"INDEX(Lookups!$D$67:$K$70,MATCH(' Calculations'!N$5,Lookups!$C$67:$C$70,0),MATCH(' Calculations'!$D45,Lookups!$D$54:$K$54,0))","v":{"$error":"#N/A"}},{"$f":"INDEX(Lookups!$D$77:$K$80,MATCH(' Calculations'!O$5,Lookups!$C$77:$C$80,0),MATCH(' Calculations'!$D45,Lookups!$D$76:$K$76,0))","v":{"$error":"#N/A"}},{"$f":"INDEX(Lookups!$D$77:$K$80,MATCH(' Calculations'!P$5,Lookups!$C$77:$C$80,0),MATCH(' Calculations'!$D45,Lookups!$D$76:$K$76,0))","v":{"$error":"#N/A"}},{"$f":"INDEX(Lookups!$D$77:$K$80,MATCH(' Calculations'!Q$5,Lookups!$C$77:$C$80,0),MATCH(' Calculations'!$D45,Lookups!$D$76:$K$76,0))","v":{"$error":"#N/A"}},{"$f":"INDEX(Lookups!$D$77:$K$80,MATCH(' Calculations'!R$5,Lookups!$C$77:$C$80,0),MATCH(' Calculations'!$D45,Lookups!$D$76:$K$76,0))","v":{"$error":"#N/A"}}]
[null,null,{"$f":"'Equipment Information'!$D$13","v":0},{"$f":"VLOOKUP(C46,Validation!$B$21:$C$42,2,0)","v":{"$error":"#N/A"}},{"$f":"'Equipment Information'!I59","v":0},{"$f":"'Equipment Information'!J59","v":0},{"$f":"VLOOKUP($C$7,Lookups!$C$119:$G$140,5,FALSE)","v":{"$error":"#N/A"}},{"$f":"INDEX(HPCurves,MATCH(' Calculations'!H$6,Lookups!$C$25:$C$27,0),MATCH(' Calculations'!$D46,HPBuilding,0))","v":{"$error":"#N/A"}},{"$f":"INDEX(HPCurves,MATCH(' Calculations'!I$6,Lookups!$C$25:$C$27,0),MATCH(' Calculations'!$D46,HPBuilding,0))","v":{"$error":"#N/A"}},{"$f":"INDEX(HPCurves,MATCH(' Calculations'!J$6,Lookups!$C$25:$C$27,0),MATCH(' Calculations'!$D46,HPBuilding,0))","v":{"$error":"#N/A"}},{"$f":"INDEX(Lookups!$D$67:$K$70,MATCH(' Calculations'!K$5,Lookups!$C$67:$C$70,0),MATCH(' Calculations'!$D46,Lookups!$D$54:$K$54,0))","v":{"$error":"#N/A"}},{"$f":"INDEX(Lookups!$D$67:$K$70,MATCH(' Calculations'!L$5,Lookups!$C$67:$C$70,0),MATCH(' Calculations'!$D46,Lookups!$D$54:$K$54,0))","v":{"$error":"#N/A"}},{"$f":"INDEX(Lookups!$D$67:$K$70,MATCH(' Calculations'!M$5,Lookups!$C$67:$C$70,0),MATCH(' Calculations'!$D46,Lookups!$D$54:$K$54,0))","v":{"$error":"#N/A"}},{"$f":"INDEX(Lookups!$D$67:$K$70,MATCH(' Calculations'!N$5,Lookups!$C$67:$C$70,0),MATCH(' Calculations'!$D46,Lookups!$D$54:$K$54,0))","v":{"$error":"#N/A"}},{"$f":"INDEX(Lookups!$D$77:$K$80,MATCH(' Calculations'!O$5,Lookups!$C$77:$C$80,0),MATCH(' Calculations'!$D46,Lookups!$D$76:$K$76,0))","v":{"$error":"#N/A"}},{"$f":"INDEX(Lookups!$D$77:$K$80,MATCH(' Calculations'!P$5,Lookups!$C$77:$C$80,0),MATCH(' Calculations'!$D46,Lookups!$D$76:$K$76,0))","v":{"$error":"#N/A"}},{"$f":"INDEX(Lookups!$D$77:$K$80,MATCH(' Calculations'!Q$5,Lookups!$C$77:$C$80,0),MATCH(' Calculations'!$D46,Lookups!$D$76:$K$76,0))","v":{"$error":"#N/A"}},{"$f":"INDEX(Lookups!$D$77:$K$80,MATCH(' Calculations'!R$5,Lookups!$C$77:$C$80,0),MATCH(' Calculations'!$D46,Lookups!$D$76:$K$76,0))","v":{"$error":"#N/A"}}]
[null,null,{"$f":"'Equipment Information'!$D$13","v":0},{"$f":"VLOOKUP(C47,Validation!$B$21:$C$42,2,0)","v":{"$error":"#N/A"}},{"$f":"'Equipment Information'!I60","v":0},{"$f":"'Equipment Information'!J60","v":0},{"$f":"VLOOKUP($C$7,Lookups!$C$119:$G$140,5,FALSE)","v":{"$error":"#N/A"}},{"$f":"INDEX(HPCurves,MATCH(' Calculations'!H$6,Lookups!$C$25:$C$27,0),MATCH(' Calculations'!$D47,HPBuilding,0))","v":{"$error":"#N/A"}},{"$f":"INDEX(HPCurves,MATCH(' Calculations'!I$6,Lookups!$C$25:$C$27,0),MATCH(' Calculations'!$D47,HPBuilding,0))","v":{"$error":"#N/A"}},{"$f":"INDEX(HPCurves,MATCH(' Calculations'!J$6,Lookups!$C$25:$C$27,0),MATCH(' Calculations'!$D47,HPBuilding,0))","v":{"$error":"#N/A"}},{"$f":"INDEX(Lookups!$D$67:$K$70,MATCH(' Calculations'!K$5,Lookups!$C$67:$C$70,0),MATCH(' Calculations'!$D47,Lookups!$D$54:$K$54,0))","v":{"$error":"#N/A"}},{"$f":"INDEX(Lookups!$D$67:$K$70,MATCH(' Calculations'!L$5,Lookups!$C$67:$C$70,0),MATCH(' Calculations'!$D47,Lookups!$D$54:$K$54,0))","v":{"$error":"#N/A"}},{"$f":"INDEX(Lookups!$D$67:$K$70,MATCH(' Calculations'!M$5,Lookups!$C$67:$C$70,0),MATCH(' Calculations'!$D47,Lookups!$D$54:$K$54,0))","v":{"$error":"#N/A"}},{"$f":"INDEX(Lookups!$D$67:$K$70,MATCH(' Calculations'!N$5,Lookups!$C$67:$C$70,0),MATCH(' Calculations'!$D47,Lookups!$D$54:$K$54,0))","v":{"$error":"#N/A"}},{"$f":"INDEX(Lookups!$D$77:$K$80,MATCH(' Calculations'!O$5,Lookups!$C$77:$C$80,0),MATCH(' Calculations'!$D47,Lookups!$D$76:$K$76,0))","v":{"$error":"#N/A"}},{"$f":"INDEX(Lookups!$D$77:$K$80,MATCH(' Calculations'!P$5,Lookups!$C$77:$C$80,0),MATCH(' Calculations'!$D47,Lookups!$D$76:$K$76,0))","v":{"$error":"#N/A"}},{"$f":"INDEX(Lookups!$D$77:$K$80,MATCH(' Calculations'!Q$5,Lookups!$C$77:$C$80,0),MATCH(' Calculations'!$D47,Lookups!$D$76:$K$76,0))","v":{"$error":"#N/A"}},{"$f":"INDEX(Lookups!$D$77:$K$80,MATCH(' Calculations'!R$5,Lookups!$C$77:$C$80,0),MATCH(' Calculations'!$D47,Lookups!$D$76:$K$76,0))","v":{"$error":"#N/A"}}]
[null,null,{"$f":"'Equipment Information'!$D$13","v":0},{"$f":"VLOOKUP(C48,Validation!$B$21:$C$42,2,0)","v":{"$error":"#N/A"}},{"$f":"'Equipment Information'!I61","v":0},{"$f":"'Equipment Information'!J61","v":0},{"$f":"VLOOKUP($C$7,Lookups!$C$119:$G$140,5,FALSE)","v":{"$error":"#N/A"}},{"$f":"INDEX(HPCurves,MATCH(' Calculations'!H$6,Lookups!$C$25:$C$27,0),MATCH(' Calculations'!$D48,HPBuilding,0))","v":{"$error":"#N/A"}},{"$f":"INDEX(HPCurves,MATCH(' Calculations'!I$6,Lookups!$C$25:$C$27,0),MATCH(' Calculations'!$D48,HPBuilding,0))","v":{"$error":"#N/A"}},{"$f":"INDEX(HPCurves,MATCH(' Calculations'!J$6,Lookups!$C$25:$C$27,0),MATCH(' Calculations'!$D48,HPBuilding,0))","v":{"$error":"#N/A"}},{"$f":"INDEX(Lookups!$D$67:$K$70,MATCH(' Calculations'!K$5,Lookups!$C$67:$C$70,0),MATCH(' Calculations'!$D48,Lookups!$D$54:$K$54,0))","v":{"$error":"#N/A"}},{"$f":"INDEX(Lookups!$D$67:$K$70,MATCH(' Calculations'!L$5,Lookups!$C$67:$C$70,0),MATCH(' Calculations'!$D48,Lookups!$D$54:$K$54,0))","v":{"$error":"#N/A"}},{"$f":"INDEX(Lookups!$D$67:$K$70,MATCH(' Calculations'!M$5,Lookups!$C$67:$C$70,0),MATCH(' Calculations'!$D48,Lookups!$D$54:$K$54,0))","v":{"$error":"#N/A"}},{"$f":"INDEX(Lookups!$D$67:$K$70,MATCH(' Calculations'!N$5,Lookups!$C$67:$C$70,0),MATCH(' Calculations'!$D48,Lookups!$D$54:$K$54,0))","v":{"$error":"#N/A"}},{"$f":"INDEX(Lookups!$D$77:$K$80,MATCH(' Calculations'!O$5,Lookups!$C$77:$C$80,0),MATCH(' Calculations'!$D48,Lookups!$D$76:$K$76,0))","v":{"$error":"#N/A"}},{"$f":"INDEX(Lookups!$D$77:$K$80,MATCH(' Calculations'!P$5,Lookups!$C$77:$C$80,0),MATCH(' Calculations'!$D48,Lookups!$D$76:$K$76,0))","v":{"$error":"#N/A"}},{"$f":"INDEX(Lookups!$D$77:$K$80,MATCH(' Calculations'!Q$5,Lookups!$C$77:$C$80,0),MATCH(' Calculations'!$D48,Lookups!$D$76:$K$76,0))","v":{"$error":"#N/A"}},{"$f":"INDEX(Lookups!$D$77:$K$80,MATCH(' Calculations'!R$5,Lookups!$C$77:$C$80,0),MATCH(' Calculations'!$D48,Lookups!$D$76:$K$76,0))","v":{"$error":"#N/A"}}]
[null,null,{"$f":"'Equipment Information'!$D$13","v":0},{"$f":"VLOOKUP(C49,Validation!$B$21:$C$42,2,0)","v":{"$error":"#N/A"}},{"$f":"'Equipment Information'!I62","v":0},{"$f":"'Equipment Information'!J62","v":0},{"$f":"VLOOKUP($C$7,Lookups!$C$119:$G$140,5,FALSE)","v":{"$error":"#N/A"}},{"$f":"INDEX(HPCurves,MATCH(' Calculations'!H$6,Lookups!$C$25:$C$27,0),MATCH(' Calculations'!$D49,HPBuilding,0))","v":{"$error":"#N/A"}},{"$f":"INDEX(HPCurves,MATCH(' Calculations'!I$6,Lookups!$C$25:$C$27,0),MATCH(' Calculations'!$D49,HPBuilding,0))","v":{"$error":"#N/A"}},{"$f":"INDEX(HPCurves,MATCH(' Calculations'!J$6,Lookups!$C$25:$C$27,0),MATCH(' Calculations'!$D49,HPBuilding,0))","v":{"$error":"#N/A"}},{"$f":"INDEX(Lookups!$D$67:$K$70,MATCH(' Calculations'!K$5,Lookups!$C$67:$C$70,0),MATCH(' Calculations'!$D49,Lookups!$D$54:$K$54,0))","v":{"$error":"#N/A"}},{"$f":"INDEX(Lookups!$D$67:$K$70,MATCH(' Calculations'!L$5,Lookups!$C$67:$C$70,0),MATCH(' Calculations'!$D49,Lookups!$D$54:$K$54,0))","v":{"$error":"#N/A"}},{"$f":"INDEX(Lookups!$D$67:$K$70,MATCH(' Calculations'!M$5,Lookups!$C$67:$C$70,0),MATCH(' Calculations'!$D49,Lookups!$D$54:$K$54,0))","v":{"$error":"#N/A"}},{"$f":"INDEX(Lookups!$D$67:$K$70,MATCH(' Calculations'!N$5,Lookups!$C$67:$C$70,0),MATCH(' Calculations'!$D49,Lookups!$D$54:$K$54,0))","v":{"$error":"#N/A"}},{"$f":"INDEX(Lookups!$D$77:$K$80,MATCH(' Calculations'!O$5,Lookups!$C$77:$C$80,0),MATCH(' Calculations'!$D49,Lookups!$D$76:$K$76,0))","v":{"$error":"#N/A"}},{"$f":"INDEX(Lookups!$D$77:$K$80,MATCH(' Calculations'!P$5,Lookups!$C$77:$C$80,0),MATCH(' Calculations'!$D49,Lookups!$D$76:$K$76,0))","v":{"$error":"#N/A"}},{"$f":"INDEX(Lookups!$D$77:$K$80,MATCH(' Calculations'!Q$5,Lookups!$C$77:$C$80,0),MATCH(' Calculations'!$D49,Lookups!$D$76:$K$76,0))","v":{"$error":"#N/A"}},{"$f":"INDEX(Lookups!$D$77:$K$80,MATCH(' Calculations'!R$5,Lookups!$C$77:$C$80,0),MATCH(' Calculations'!$D49,Lookups!$D$76:$K$76,0))","v":{"$error":"#N/A"}}]
[null,null,{"$f":"'Equipment Information'!$D$13","v":0},{"$f":"VLOOKUP(C50,Validation!$B$21:$C$42,2,0)","v":{"$error":"#N/A"}},{"$f":"'Equipment Information'!I63","v":0},{"$f":"'Equipment Information'!J63","v":0},{"$f":"VLOOKUP($C$7,Lookups!$C$119:$G$140,5,FALSE)","v":{"$error":"#N/A"}},{"$f":"INDEX(HPCurves,MATCH(' Calculations'!H$6,Lookups!$C$25:$C$27,0),MATCH(' Calculations'!$D50,HPBuilding,0))","v":{"$error":"#N/A"}},{"$f":"INDEX(HPCurves,MATCH(' Calculations'!I$6,Lookups!$C$25:$C$27,0),MATCH(' Calculations'!$D50,HPBuilding,0))","v":{"$error":"#N/A"}},{"$f":"INDEX(HPCurves,MATCH(' Calculations'!J$6,Lookups!$C$25:$C$27,0),MATCH(' Calculations'!$D50,HPBuilding,0))","v":{"$error":"#N/A"}},{"$f":"INDEX(Lookups!$D$67:$K$70,MATCH(' Calculations'!K$5,Lookups!$C$67:$C$70,0),MATCH(' Calculations'!$D50,Lookups!$D$54:$K$54,0))","v":{"$error":"#N/A"}},{"$f":"INDEX(Lookups!$D$67:$K$70,MATCH(' Calculations'!L$5,Lookups!$C$67:$C$70,0),MATCH(' Calculations'!$D50,Lookups!$D$54:$K$54,0))","v":{"$error":"#N/A"}},{"$f":"INDEX(Lookups!$D$67:$K$70,MATCH(' Calculations'!M$5,Lookups!$C$67:$C$70,0),MATCH(' Calculations'!$D50,Lookups!$D$54:$K$54,0))","v":{"$error":"#N/A"}},{"$f":"INDEX(Lookups!$D$67:$K$70,MATCH(' Calculations'!N$5,Lookups!$C$67:$C$70,0),MATCH(' Calculations'!$D50,Lookups!$D$54:$K$54,0))","v":{"$error":"#N/A"}},{"$f":"INDEX(Lookups!$D$77:$K$80,MATCH(' Calculations'!O$5,Lookups!$C$77:$C$80,0),MATCH(' Calculations'!$D50,Lookups!$D$76:$K$76,0))","v":{"$error":"#N/A"}},{"$f":"INDEX(Lookups!$D$77:$K$80,MATCH(' Calculations'!P$5,Lookups!$C$77:$C$80,0),MATCH(' Calculations'!$D50,Lookups!$D$76:$K$76,0))","v":{"$error":"#N/A"}},{"$f":"INDEX(Lookups!$D$77:$K$80,MATCH(' Calculations'!Q$5,Lookups!$C$77:$C$80,0),MATCH(' Calculations'!$D50,Lookups!$D$76:$K$76,0))","v":{"$error":"#N/A"}},{"$f":"INDEX(Lookups!$D$77:$K$80,MATCH(' Calculations'!R$5,Lookups!$C$77:$C$80,0),MATCH(' Calculations'!$D50,Lookups!$D$76:$K$76,0))","v":{"$error":"#N/A"}}]
[null,null,{"$f":"'Equipment Information'!$D$13","v":0},{"$f":"VLOOKUP(C51,Validation!$B$21:$C$42,2,0)","v":{"$error":"#N/A"}},{"$f":"'Equipment Information'!I64","v":0},{"$f":"'Equipment Information'!J64","v":0},{"$f":"VLOOKUP($C$7,Lookups!$C$119:$G$140,5,FALSE)","v":{"$error":"#N/A"}},{"$f":"INDEX(HPCurves,MATCH(' Calculations'!H$6,Lookups!$C$25:$C$27,0),MATCH(' Calculations'!$D51,HPBuilding,0))","v":{"$error":"#N/A"}},{"$f":"INDEX(HPCurves,MATCH(' Calculations'!I$6,Lookups!$C$25:$C$27,0),MATCH(' Calculations'!$D51,HPBuilding,0))","v":{"$error":"#N/A"}},{"$f":"INDEX(HPCurves,MATCH(' Calculations'!J$6,Lookups!$C$25:$C$27,0),MATCH(' Calculations'!$D51,HPBuilding,0))","v":{"$error":"#N/A"}},{"$f":"INDEX(Lookups!$D$67:$K$70,MATCH(' Calculations'!K$5,Lookups!$C$67:$C$70,0),MATCH(' Calculations'!$D51,Lookups!$D$54:$K$54,0))","v":{"$error":"#N/A"}},{"$f":"INDEX(Lookups!$D$67:$K$70,MATCH(' Calculations'!L$5,Lookups!$C$67:$C$70,0),MATCH(' Calculations'!$D51,Lookups!$D$54:$K$54,0))","v":{"$error":"#N/A"}},{"$f":"INDEX(Lookups!$D$67:$K$70,MATCH(' Calculations'!M$5,Lookups!$C$67:$C$70,0),MATCH(' Calculations'!$D51,Lookups!$D$54:$K$54,0))","v":{"$error":"#N/A"}},{"$f":"INDEX(Lookups!$D$67:$K$70,MATCH(' Calculations'!N$5,Lookups!$C$67:$C$70,0),MATCH(' Calculations'!$D51,Lookups!$D$54:$K$54,0))","v":{"$error":"#N/A"}},{"$f":"INDEX(Lookups!$D$77:$K$80,MATCH(' Calculations'!O$5,Lookups!$C$77:$C$80,0),MATCH(' Calculations'!$D51,Lookups!$D$76:$K$76,0))","v":{"$error":"#N/A"}},{"$f":"INDEX(Lookups!$D$77:$K$80,MATCH(' Calculations'!P$5,Lookups!$C$77:$C$80,0),MATCH(' Calculations'!$D51,Lookups!$D$76:$K$76,0))","v":{"$error":"#N/A"}},{"$f":"INDEX(Lookups!$D$77:$K$80,MATCH(' Calculations'!Q$5,Lookups!$C$77:$C$80,0),MATCH(' Calculations'!$D51,Lookups!$D$76:$K$76,0))","v":{"$error":"#N/A"}},{"$f":"INDEX(Lookups!$D$77:$K$80,MATCH(' Calculations'!R$5,Lookups!$C$77:$C$80,0),MATCH(' Calculations'!$D51,Lookups!$D$76:$K$76,0))","v":{"$error":"#N/A"}}]
[null,null,{"$f":"'Equipment Information'!$D$13","v":0},{"$f":"VLOOKUP(C52,Validation!$B$21:$C$42,2,0)","v":{"$error":"#N/A"}},{"$f":"'Equipment Information'!I65","v":0},{"$f":"'Equipment Information'!J65","v":0},{"$f":"VLOOKUP($C$7,Lookups!$C$119:$G$140,5,FALSE)","v":{"$error":"#N/A"}},{"$f":"INDEX(HPCurves,MATCH(' Calculations'!H$6,Lookups!$C$25:$C$27,0),MATCH(' Calculations'!$D52,HPBuilding,0))","v":{"$error":"#N/A"}},{"$f":"INDEX(HPCurves,MATCH(' Calculations'!I$6,Lookups!$C$25:$C$27,0),MATCH(' Calculations'!$D52,HPBuilding,0))","v":{"$error":"#N/A"}},{"$f":"INDEX(HPCurves,MATCH(' Calculations'!J$6,Lookups!$C$25:$C$27,0),MATCH(' Calculations'!$D52,HPBuilding,0))","v":{"$error":"#N/A"}},{"$f":"INDEX(Lookups!$D$67:$K$70,MATCH(' Calculations'!K$5,Lookups!$C$67:$C$70,0),MATCH(' Calculations'!$D52,Lookups!$D$54:$K$54,0))","v":{"$error":"#N/A"}},{"$f":"INDEX(Lookups!$D$67:$K$70,MATCH(' Calculations'!L$5,Lookups!$C$67:$C$70,0),MATCH(' Calculations'!$D52,Lookups!$D$54:$K$54,0))","v":{"$error":"#N/A"}},{"$f":"INDEX(Lookups!$D$67:$K$70,MATCH(' Calculations'!M$5,Lookups!$C$67:$C$70,0),MATCH(' Calculations'!$D52,Lookups!$D$54:$K$54,0))","v":{"$error":"#N/A"}},{"$f":"INDEX(Lookups!$D$67:$K$70,MATCH(' Calculations'!N$5,Lookups!$C$67:$C$70,0),MATCH(' Calculations'!$D52,Lookups!$D$54:$K$54,0))","v":{"$error":"#N/A"}},{"$f":"INDEX(Lookups!$D$77:$K$80,MATCH(' Calculations'!O$5,Lookups!$C$77:$C$80,0),MATCH(' Calculations'!$D52,Lookups!$D$76:$K$76,0))","v":{"$error":"#N/A"}},{"$f":"INDEX(Lookups!$D$77:$K$80,MATCH(' Calculations'!P$5,Lookups!$C$77:$C$80,0),MATCH(' Calculations'!$D52,Lookups!$D$76:$K$76,0))","v":{"$error":"#N/A"}},{"$f":"INDEX(Lookups!$D$77:$K$80,MATCH(' Calculations'!Q$5,Lookups!$C$77:$C$80,0),MATCH(' Calculations'!$D52,Lookups!$D$76:$K$76,0))","v":{"$error":"#N/A"}},{"$f":"INDEX(Lookups!$D$77:$K$80,MATCH(' Calculations'!R$5,Lookups!$C$77:$C$80,0),MATCH(' Calculations'!$D52,Lookups!$D$76:$K$76,0))","v":{"$error":"#N/A"}}]
[null,null,{"$f":"'Equipment Information'!$D$13","v":0},{"$f":"VLOOKUP(C53,Validation!$B$21:$C$42,2,0)","v":{"$error":"#N/A"}},{"$f":"'Equipment Information'!I66","v":0},{"$f":"'Equipment Information'!J66","v":0},{"$f":"VLOOKUP($C$7,Lookups!$C$119:$G$140,5,FALSE)","v":{"$error":"#N/A"}},{"$f":"INDEX(HPCurves,MATCH(' Calculations'!H$6,Lookups!$C$25:$C$27,0),MATCH(' Calculations'!$D53,HPBuilding,0))","v":{"$error":"#N/A"}},{"$f":"INDEX(HPCurves,MATCH(' Calculations'!I$6,Lookups!$C$25:$C$27,0),MATCH(' Calculations'!$D53,HPBuilding,0))","v":{"$error":"#N/A"}},{"$f":"INDEX(HPCurves,MATCH(' Calculations'!J$6,Lookups!$C$25:$C$27,0),MATCH(' Calculations'!$D53,HPBuilding,0))","v":{"$error":"#N/A"}},{"$f":"INDEX(Lookups!$D$67:$K$70,MATCH(' Calculations'!K$5,Lookups!$C$67:$C$70,0),MATCH(' Calculations'!$D53,Lookups!$D$54:$K$54,0))","v":{"$error":"#N/A"}},{"$f":"INDEX(Lookups!$D$67:$K$70,MATCH(' Calculations'!L$5,Lookups!$C$67:$C$70,0),MATCH(' Calculations'!$D53,Lookups!$D$54:$K$54,0))","v":{"$error":"#N/A"}},{"$f":"INDEX(Lookups!$D$67:$K$70,MATCH(' Calculations'!M$5,Lookups!$C$67:$C$70,0),MATCH(' Calculations'!$D53,Lookups!$D$54:$K$54,0))","v":{"$error":"#N/A"}},{"$f":"INDEX(Lookups!$D$67:$K$70,MATCH(' Calculations'!N$5,Lookups!$C$67:$C$70,0),MATCH(' Calculations'!$D53,Lookups!$D$54:$K$54,0))","v":{"$error":"#N/A"}},{"$f":"INDEX(Lookups!$D$77:$K$80,MATCH(' Calculations'!O$5,Lookups!$C$77:$C$80,0),MATCH(' Calculations'!$D53,Lookups!$D$76:$K$76,0))","v":{"$error":"#N/A"}},{"$f":"INDEX(Lookups!$D$77:$K$80,MATCH(' Calculations'!P$5,Lookups!$C$77:$C$80,0),MATCH(' Calculations'!$D53,Lookups!$D$76:$K$76,0))","v":{"$error":"#N/A"}},{"$f":"INDEX(Lookups!$D$77:$K$80,MATCH(' Calculations'!Q$5,Lookups!$C$77:$C$80,0),MATCH(' Calculations'!$D53,Lookups!$D$76:$K$76,0))","v":{"$error":"#N/A"}},{"$f":"INDEX(Lookups!$D$77:$K$80,MATCH(' Calculations'!R$5,Lookups!$C$77:$C$80,0),MATCH(' Calculations'!$D53,Lookups!$D$76:$K$76,0))","v":{"$error":"#N/A"}}]
[null,null,{"$f":"'Equipment Information'!$D$13","v":0},{"$f":"VLOOKUP(C54,Validation!$B$21:$C$42,2,0)","v":{"$error":"#N/A"}},{"$f":"'Equipment Information'!I67","v":0},{"$f":"'Equipment Information'!J67","v":0},{"$f":"VLOOKUP($C$7,Lookups!$C$119:$G$140,5,FALSE)","v":{"$error":"#N/A"}},{"$f":"INDEX(HPCurves,MATCH(' Calculations'!H$6,Lookups!$C$25:$C$27,0),MATCH(' Calculations'!$D54,HPBuilding,0))","v":{"$error":"#N/A"}},{"$f":"INDEX(HPCurves,MATCH(' Calculations'!I$6,Lookups!$C$25:$C$27,0),MATCH(' Calculations'!$D54,HPBuilding,0))","v":{"$error":"#N/A"}},{"$f":"INDEX(HPCurves,MATCH(' Calculations'!J$6,Lookups!$C$25:$C$27,0),MATCH(' Calculations'!$D54,HPBuilding,0))","v":{"$error":"#N/A"}},{"$f":"INDEX(Lookups!$D$67:$K$70,MATCH(' Calculations'!K$5,Lookups!$C$67:$C$70,0),MATCH(' Calculations'!$D54,Lookups!$D$54:$K$54,0))","v":{"$error":"#N/A"}},{"$f":"INDEX(Lookups!$D$67:$K$70,MATCH(' Calculations'!L$5,Lookups!$C$67:$C$70,0),MATCH(' Calculations'!$D54,Lookups!$D$54:$K$54,0))","v":{"$error":"#N/A"}},{"$f":"INDEX(Lookups!$D$67:$K$70,MATCH(' Calculations'!M$5,Lookups!$C$67:$C$70,0),MATCH(' Calculations'!$D54,Lookups!$D$54:$K$54,0))","v":{"$error":"#N/A"}},{"$f":"INDEX(Lookups!$D$67:$K$70,MATCH(' Calculations'!N$5,Lookups!$C$67:$C$70,0),MATCH(' Calculations'!$D54,Lookups!$D$54:$K$54,0))","v":{"$error":"#N/A"}},{"$f":"INDEX(Lookups!$D$77:$K$80,MATCH(' Calculations'!O$5,Lookups!$C$77:$C$80,0),MATCH(' Calculations'!$D54,Lookups!$D$76:$K$76,0))","v":{"$error":"#N/A"}},{"$f":"INDEX(Lookups!$D$77:$K$80,MATCH(' Calculations'!P$5,Lookups!$C$77:$C$80,0),MATCH(' Calculations'!$D54,Lookups!$D$76:$K$76,0))","v":{"$error":"#N/A"}},{"$f":"INDEX(Lookups!$D$77:$K$80,MATCH(' Calculations'!Q$5,Lookups!$C$77:$C$80,0),MATCH(' Calculations'!$D54,Lookups!$D$76:$K$76,0))","v":{"$error":"#N/A"}},{"$f":"INDEX(Lookups!$D$77:$K$80,MATCH(' Calculations'!R$5,Lookups!$C$77:$C$80,0),MATCH(' Calculations'!$D54,Lookups!$D$76:$K$76,0))","v":{"$error":"#N/A"}}]
[null,null,{"$f":"'Equipment Information'!$D$13","v":0},{"$f":"VLOOKUP(C55,Validation!$B$21:$C$42,2,0)","v":{"$error":"#N/A"}},{"$f":"'Equipment Information'!I68","v":0},{"$f":"'Equipment Information'!J68","v":0},{"$f":"VLOOKUP($C$7,Lookups!$C$119:$G$140,5,FALSE)","v":{"$error":"#N/A"}},{"$f":"INDEX(HPCurves,MATCH(' Calculations'!H$6,Lookups!$C$25:$C$27,0),MATCH(' Calculations'!$D55,HPBuilding,0))","v":{"$error":"#N/A"}},{"$f":"INDEX(HPCurves,MATCH(' Calculations'!I$6,Lookups!$C$25:$C$27,0),MATCH(' Calculations'!$D55,HPBuilding,0))","v":{"$error":"#N/A"}},{"$f":"INDEX(HPCurves,MATCH(' Calculations'!J$6,Lookups!$C$25:$C$27,0),MATCH(' Calculations'!$D55,HPBuilding,0))","v":{"$error":"#N/A"}},{"$f":"INDEX(Lookups!$D$67:$K$70,MATCH(' Calculations'!K$5,Lookups!$C$67:$C$70,0),MATCH(' Calculations'!$D55,Lookups!$D$54:$K$54,0))","v":{"$error":"#N/A"}},{"$f":"INDEX(Lookups!$D$67:$K$70,MATCH(' Calculations'!L$5,Lookups!$C$67:$C$70,0),MATCH(' Calculations'!$D55,Lookups!$D$54:$K$54,0))","v":{"$error":"#N/A"}},{"$f":"INDEX(Lookups!$D$67:$K$70,MATCH(' Calculations'!M$5,Lookups!$C$67:$C$70,0),MATCH(' Calculations'!$D55,Lookups!$D$54:$K$54,0))","v":{"$error":"#N/A"}},{"$f":"INDEX(Lookups!$D$67:$K$70,MATCH(' Calculations'!N$5,Lookups!$C$67:$C$70,0),MATCH(' Calculations'!$D55,Lookups!$D$54:$K$54,0))","v":{"$error":"#N/A"}},{"$f":"INDEX(Lookups!$D$77:$K$80,MATCH(' Calculations'!O$5,Lookups!$C$77:$C$80,0),MATCH(' Calculations'!$D55,Lookups!$D$76:$K$76,0))","v":{"$error":"#N/A"}},{"$f":"INDEX(Lookups!$D$77:$K$80,MATCH(' Calculations'!P$5,Lookups!$C$77:$C$80,0),MATCH(' Calculations'!$D55,Lookups!$D$76:$K$76,0))","v":{"$error":"#N/A"}},{"$f":"INDEX(Lookups!$D$77:$K$80,MATCH(' Calculations'!Q$5,Lookups!$C$77:$C$80,0),MATCH(' Calculations'!$D55,Lookups!$D$76:$K$76,0))","v":{"$error":"#N/A"}},{"$f":"INDEX(Lookups!$D$77:$K$80,MATCH(' Calculations'!R$5,Lookups!$C$77:$C$80,0),MATCH(' Calculations'!$D55,Lookups!$D$76:$K$76,0))","v":{"$error":"#N/A"}}]
[null,null,{"$f":"'Equipment Information'!$D$13","v":0},{"$f":"VLOOKUP(C56,Validation!$B$21:$C$42,2,0)","v":{"$error":"#N/A"}},{"$f":"'Equipment Information'!I69","v":0},{"$f":"'Equipment Information'!J69","v":0},{"$f":"VLOOKUP($C$7,Lookups!$C$119:$G$140,5,FALSE)","v":{"$error":"#N/A"}},{"$f":"INDEX(HPCurves,MATCH(' Calculations'!H$6,Lookups!$C$25:$C$27,0),MATCH(' Calculations'!$D56,HPBuilding,0))","v":{"$error":"#N/A"}},{"$f":"INDEX(HPCurves,MATCH(' Calculations'!I$6,Lookups!$C$25:$C$27,0),MATCH(' Calculations'!$D56,HPBuilding,0))","v":{"$error":"#N/A"}},{"$f":"INDEX(HPCurves,MATCH(' Calculations'!J$6,Lookups!$C$25:$C$27,0),MATCH(' Calculations'!$D56,HPBuilding,0))","v":{"$error":"#N/A"}},{"$f":"INDEX(Lookups!$D$67:$K$70,MATCH(' Calculations'!K$5,Lookups!$C$67:$C$70,0),MATCH(' Calculations'!$D56,Lookups!$D$54:$K$54,0))","v":{"$error":"#N/A"}},{"$f":"INDEX(Lookups!$D$67:$K$70,MATCH(' Calculations'!L$5,Lookups!$C$67:$C$70,0),MATCH(' Calculations'!$D56,Lookups!$D$54:$K$54,0))","v":{"$error":"#N/A"}},{"$f":"INDEX(Lookups!$D$67:$K$70,MATCH(' Calculations'!M$5,Lookups!$C$67:$C$70,0),MATCH(' Calculations'!$D56,Lookups!$D$54:$K$54,0))","v":{"$error":"#N/A"}},{"$f":"INDEX(Lookups!$D$67:$K$70,MATCH(' Calculations'!N$5,Lookups!$C$67:$C$70,0),MATCH(' Calculations'!$D56,Lookups!$D$54:$K$54,0))","v":{"$error":"#N/A"}},{"$f":"INDEX(Lookups!$D$77:$K$80,MATCH(' Calculations'!O$5,Lookups!$C$77:$C$80,0),MATCH(' Calculations'!$D56,Lookups!$D$76:$K$76,0))","v":{"$error":"#N/A"}},{"$f":"INDEX(Lookups!$D$77:$K$80,MATCH(' Calculations'!P$5,Lookups!$C$77:$C$80,0),MATCH(' Calculations'!$D56,Lookups!$D$76:$K$76,0))","v":{"$error":"#N/A"}},{"$f":"INDEX(Lookups!$D$77:$K$80,MATCH(' Calculations'!Q$5,Lookups!$C$77:$C$80,0),MATCH(' Calculations'!$D56,Lookups!$D$76:$K$76,0))","v":{"$error":"#N/A"}},{"$f":"INDEX(Lookups!$D$77:$K$80,MATCH(' Calculations'!R$5,Lookups!$C$77:$C$80,0),MATCH(' Calculations'!$D56,Lookups!$D$76:$K$76,0))","v":{"$error":"#N/A"}}]
[null,null,{"$f":"'Equipment Information'!$D$13","v":0},{"$f":"VLOOKUP(C57,Validation!$B$21:$C$42,2,0)","v":{"$error":"#N/A"}},{"$f":"'Equipment Information'!I70","v":0},{"$f":"'Equipment Information'!J70","v":0},{"$f":"VLOOKUP($C$7,Lookups!$C$119:$G$140,5,FALSE)","v":{"$error":"#N/A"}},{"$f":"INDEX(HPCurves,MATCH(' Calculations'!H$6,Lookups!$C$25:$C$27,0),MATCH(' Calculations'!$D57,HPBuilding,0))","v":{"$error":"#N/A"}},{"$f":"INDEX(HPCurves,MATCH(' Calculations'!I$6,Lookups!$C$25:$C$27,0),MATCH(' Calculations'!$D57,HPBuilding,0))","v":{"$error":"#N/A"}},{"$f":"INDEX(HPCurves,MATCH(' Calculations'!J$6,Lookups!$C$25:$C$27,0),MATCH(' Calculations'!$D57,HPBuilding,0))","v":{"$error":"#N/A"}},{"$f":"INDEX(Lookups!$D$67:$K$70,MATCH(' Calculations'!K$5,Lookups!$C$67:$C$70,0),MATCH(' Calculations'!$D57,Lookups!$D$54:$K$54,0))","v":{"$error":"#N/A"}},{"$f":"INDEX(Lookups!$D$67:$K$70,MATCH(' Calculations'!L$5,Lookups!$C$67:$C$70,0),MATCH(' Calculations'!$D57,Lookups!$D$54:$K$54,0))","v":{"$error":"#N/A"}},{"$f":"INDEX(Lookups!$D$67:$K$70,MATCH(' Calculations'!M$5,Lookups!$C$67:$C$70,0),MATCH(' Calculations'!$D57,Lookups!$D$54:$K$54,0))","v":{"$error":"#N/A"}},{"$f":"INDEX(Lookups!$D$67:$K$70,MATCH(' Calculations'!N$5,Lookups!$C$67:$C$70,0),MATCH(' Calculations'!$D57,Lookups!$D$54:$K$54,0))","v":{"$error":"#N/A"}},{"$f":"INDEX(Lookups!$D$77:$K$80,MATCH(' Calculations'!O$5,Lookups!$C$77:$C$80,0),MATCH(' Calculations'!$D57,Lookups!$D$76:$K$76,0))","v":{"$error":"#N/A"}},{"$f":"INDEX(Lookups!$D$77:$K$80,MATCH(' Calculations'!P$5,Lookups!$C$77:$C$80,0),MATCH(' Calculations'!$D57,Lookups!$D$76:$K$76,0))","v":{"$error":"#N/A"}},{"$f":"INDEX(Lookups!$D$77:$K$80,MATCH(' Calculations'!Q$5,Lookups!$C$77:$C$80,0),MATCH(' Calculations'!$D57,Lookups!$D$76:$K$76,0))","v":{"$error":"#N/A"}},{"$f":"INDEX(Lookups!$D$77:$K$80,MATCH(' Calculations'!R$5,Lookups!$C$77:$C$80,0),MATCH(' Calculations'!$D57,Lookups!$D$76:$K$76,0))","v":{"$error":"#N/A"}}]
[null,null,{"$f":"'Equipment Information'!$D$13","v":0},{"$f":"VLOOKUP(C58,Validation!$B$21:$C$42,2,0)","v":{"$error":"#N/A"}},{"$f":"'Equipment Information'!I71","v":0},{"$f":"'Equipment Information'!J71","v":0},{"$f":"VLOOKUP($C$7,Lookups!$C$119:$G$140,5,FALSE)","v":{"$error":"#N/A"}},{"$f":"INDEX(HPCurves,MATCH(' Calculations'!H$6,Lookups!$C$25:$C$27,0),MATCH(' Calculations'!$D58,HPBuilding,0))","v":{"$error":"#N/A"}},{"$f":"INDEX(HPCurves,MATCH(' Calculations'!I$6,Lookups!$C$25:$C$27,0),MATCH(' Calculations'!$D58,HPBuilding,0))","v":{"$error":"#N/A"}},{"$f":"INDEX(HPCurves,MATCH(' Calculations'!J$6,Lookups!$C$25:$C$27,0),MATCH(' Calculations'!$D58,HPBuilding,0))","v":{"$error":"#N/A"}},{"$f":"INDEX(Lookups!$D$67:$K$70,MATCH(' Calculations'!K$5,Lookups!$C$67:$C$70,0),MATCH(' Calculations'!$D58,Lookups!$D$54:$K$54,0))","v":{"$error":"#N/A"}},{"$f":"INDEX(Lookups!$D$67:$K$70,MATCH(' Calculations'!L$5,Lookups!$C$67:$C$70,0),MATCH(' Calculations'!$D58,Lookups!$D$54:$K$54,0))","v":{"$error":"#N/A"}},{"$f":"INDEX(Lookups!$D$67:$K$70,MATCH(' Calculations'!M$5,Lookups!$C$67:$C$70,0),MATCH(' Calculations'!$D58,Lookups!$D$54:$K$54,0))","v":{"$error":"#N/A"}},{"$f":"INDEX(Lookups!$D$67:$K$70,MATCH(' Calculations'!N$5,Lookups!$C$67:$C$70,0),MATCH(' Calculations'!$D58,Lookups!$D$54:$K$54,0))","v":{"$error":"#N/A"}},{"$f":"INDEX(Lookups!$D$77:$K$80,MATCH(' Calculations'!O$5,Lookups!$C$77:$C$80,0),MATCH(' Calculations'!$D58,Lookups!$D$76:$K$76,0))","v":{"$error":"#N/A"}},{"$f":"INDEX(Lookups!$D$77:$K$80,MATCH(' Calculations'!P$5,Lookups!$C$77:$C$80,0),MATCH(' Calculations'!$D58,Lookups!$D$76:$K$76,0))","v":{"$error":"#N/A"}},{"$f":"INDEX(Lookups!$D$77:$K$80,MATCH(' Calculations'!Q$5,Lookups!$C$77:$C$80,0),MATCH(' Calculations'!$D58,Lookups!$D$76:$K$76,0))","v":{"$error":"#N/A"}},{"$f":"INDEX(Lookups!$D$77:$K$80,MATCH(' Calculations'!R$5,Lookups!$C$77:$C$80,0),MATCH(' Calculations'!$D58,Lookups!$D$76:$K$76,0))","v":{"$error":"#N/A"}}]
[null,null,{"$f":"'Equipment Information'!$D$13","v":0},{"$f":"VLOOKUP(C59,Validation!$B$21:$C$42,2,0)","v":{"$error":"#N/A"}},{"$f":"'Equipment Information'!I72","v":0},{"$f":"'Equipment Information'!J72","v":0},{"$f":"VLOOKUP($C$7,Lookups!$C$119:$G$140,5,FALSE)","v":{"$error":"#N/A"}},{"$f":"INDEX(HPCurves,MATCH(' Calculations'!H$6,Lookups!$C$25:$C$27,0),MATCH(' Calculations'!$D59,HPBuilding,0))","v":{"$error":"#N/A"}},{"$f":"INDEX(HPCurves,MATCH(' Calculations'!I$6,Lookups!$C$25:$C$27,0),MATCH(' Calculations'!$D59,HPBuilding,0))","v":{"$error":"#N/A"}},{"$f":"INDEX(HPCurves,MATCH(' Calculations'!J$6,Lookups!$C$25:$C$27,0),MATCH(' Calculations'!$D59,HPBuilding,0))","v":{"$error":"#N/A"}},{"$f":"INDEX(Lookups!$D$67:$K$70,MATCH(' Calculations'!K$5,Lookups!$C$67:$C$70,0),MATCH(' Calculations'!$D59,Lookups!$D$54:$K$54,0))","v":{"$error":"#N/A"}},{"$f":"INDEX(Lookups!$D$67:$K$70,MATCH(' Calculations'!L$5,Lookups!$C$67:$C$70,0),MATCH(' Calculations'!$D59,Lookups!$D$54:$K$54,0))","v":{"$error":"#N/A"}},{"$f":"INDEX(Lookups!$D$67:$K$70,MATCH(' Calculations'!M$5,Lookups!$C$67:$C$70,0),MATCH(' Calculations'!$D59,Lookups!$D$54:$K$54,0))","v":{"$error":"#N/A"}},{"$f":"INDEX(Lookups!$D$67:$K$70,MATCH(' Calculations'!N$5,Lookups!$C$67:$C$70,0),MATCH(' Calculations'!$D59,Lookups!$D$54:$K$54,0))","v":{"$error":"#N/A"}},{"$f":"INDEX(Lookups!$D$77:$K$80,MATCH(' Calculations'!O$5,Lookups!$C$77:$C$80,0),MATCH(' Calculations'!$D59,Lookups!$D$76:$K$76,0))","v":{"$error":"#N/A"}},{"$f":"INDEX(Lookups!$D$77:$K$80,MATCH(' Calculations'!P$5,Lookups!$C$77:$C$80,0),MATCH(' Calculations'!$D59,Lookups!$D$76:$K$76,0))","v":{"$error":"#N/A"}},{"$f":"INDEX(Lookups!$D$77:$K$80,MATCH(' Calculations'!Q$5,Lookups!$C$77:$C$80,0),MATCH(' Calculations'!$D59,Lookups!$D$76:$K$76,0))","v":{"$error":"#N/A"}},{"$f":"INDEX(Lookups!$D$77:$K$80,MATCH(' Calculations'!R$5,Lookups!$C$77:$C$80,0),MATCH(' Calculations'!$D59,Lookups!$D$76:$K$76,0))","v":{"$error":"#N/A"}}]
[null,null,{"$f":"'Equipment Information'!$D$13","v":0},{"$f":"VLOOKUP(C60,Validation!$B$21:$C$42,2,0)","v":{"$error":"#N/A"}},{"$f":"'Equipment Information'!I73","v":0},{"$f":"'Equipment Information'!J73","v":0},{"$f":"VLOOKUP($C$7,Lookups!$C$119:$G$140,5,FALSE)","v":{"$error":"#N/A"}},{"$f":"INDEX(HPCurves,MATCH(' Calculations'!H$6,Lookups!$C$25:$C$27,0),MATCH(' Calculations'!$D60,HPBuilding,0))","v":{"$error":"#N/A"}},{"$f":"INDEX(HPCurves,MATCH(' Calculations'!I$6,Lookups!$C$25:$C$27,0),MATCH(' Calculations'!$D60,HPBuilding,0))","v":{"$error":"#N/A"}},{"$f":"INDEX(HPCurves,MATCH(' Calculations'!J$6,Lookups!$C$25:$C$27,0),MATCH(' Calculations'!$D60,HPBuilding,0))","v":{"$error":"#N/A"}},{"$f":"INDEX(Lookups!$D$67:$K$70,MATCH(' Calculations'!K$5,Lookups!$C$67:$C$70,0),MATCH(' Calculations'!$D60,Lookups!$D$54:$K$54,0))","v":{"$error":"#N/A"}},{"$f":"INDEX(Lookups!$D$67:$K$70,MATCH(' Calculations'!L$5,Lookups!$C$67:$C$70,0),MATCH(' Calculations'!$D60,Lookups!$D$54:$K$54,0))","v":{"$error":"#N/A"}},{"$f":"INDEX(Lookups!$D$67:$K$70,MATCH(' Calculations'!M$5,Lookups!$C$67:$C$70,0),MATCH(' Calculations'!$D60,Lookups!$D$54:$K$54,0))","v":{"$error":"#N/A"}},{"$f":"INDEX(Lookups!$D$67:$K$70,MATCH(' Calculations'!N$5,Lookups!$C$67:$C$70,0),MATCH(' Calculations'!$D60,Lookups!$D$54:$K$54,0))","v":{"$error":"#N/A"}},{"$f":"INDEX(Lookups!$D$77:$K$80,MATCH(' Calculations'!O$5,Lookups!$C$77:$C$80,0),MATCH(' Calculations'!$D60,Lookups!$D$76:$K$76,0))","v":{"$error":"#N/A"}},{"$f":"INDEX(Lookups!$D$77:$K$80,MATCH(' Calculations'!P$5,Lookups!$C$77:$C$80,0),MATCH(' Calculations'!$D60,Lookups!$D$76:$K$76,0))","v":{"$error":"#N/A"}},{"$f":"INDEX(Lookups!$D$77:$K$80,MATCH(' Calculations'!Q$5,Lookups!$C$77:$C$80,0),MATCH(' Calculations'!$D60,Lookups!$D$76:$K$76,0))","v":{"$error":"#N/A"}},{"$f":"INDEX(Lookups!$D$77:$K$80,MATCH(' Calculations'!R$5,Lookups!$C$77:$C$80,0),MATCH(' Calculations'!$D60,Lookups!$D$76:$K$76,0))","v":{"$error":"#N/A"}}]
[null,null,{"$f":"'Equipment Information'!$D$13","v":0},{"$f":"VLOOKUP(C61,Validation!$B$21:$C$42,2,0)","v":{"$error":"#N/A"}},{"$f":"'Equipment Information'!I74","v":0},{"$f":"'Equipment Information'!J74","v":0},{"$f":"VLOOKUP($C$7,Lookups!$C$119:$G$140,5,FALSE)","v":{"$error":"#N/A"}},{"$f":"INDEX(HPCurves,MATCH(' Calculations'!H$6,Lookups!$C$25:$C$27,0),MATCH(' Calculations'!$D61,HPBuilding,0))","v":{"$error":"#N/A"}},{"$f":"INDEX(HPCurves,MATCH(' Calculations'!I$6,Lookups!$C$25:$C$27,0),MATCH(' Calculations'!$D61,HPBuilding,0))","v":{"$error":"#N/A"}},{"$f":"INDEX(HPCurves,MATCH(' Calculations'!J$6,Lookups!$C$25:$C$27,0),MATCH(' Calculations'!$D61,HPBuilding,0))","v":{"$error":"#N/A"}},{"$f":"INDEX(Lookups!$D$67:$K$70,MATCH(' Calculations'!K$5,Lookups!$C$67:$C$70,0),MATCH(' Calculations'!$D61,Lookups!$D$54:$K$54,0))","v":{"$error":"#N/A"}},{"$f":"INDEX(Lookups!$D$67:$K$70,MATCH(' Calculations'!L$5,Lookups!$C$67:$C$70,0),MATCH(' Calculations'!$D61,Lookups!$D$54:$K$54,0))","v":{"$error":"#N/A"}},{"$f":"INDEX(Lookups!$D$67:$K$70,MATCH(' Calculations'!M$5,Lookups!$C$67:$C$70,0),MATCH(' Calculations'!$D61,Lookups!$D$54:$K$54,0))","v":{"$error":"#N/A"}},{"$f":"INDEX(Lookups!$D$67:$K$70,MATCH(' Calculations'!N$5,Lookups!$C$67:$C$70,0),MATCH(' Calculations'!$D61,Lookups!$D$54:$K$54,0))","v":{"$error":"#N/A"}},{"$f":"INDEX(Lookups!$D$77:$K$80,MATCH(' Calculations'!O$5,Lookups!$C$77:$C$80,0),MATCH(' Calculations'!$D61,Lookups!$D$76:$K$76,0))","v":{"$error":"#N/A"}},{"$f":"INDEX(Lookups!$D$77:$K$80,MATCH(' Calculations'!P$5,Lookups!$C$77:$C$80,0),MATCH(' Calculations'!$D61,Lookups!$D$76:$K$76,0))","v":{"$error":"#N/A"}},{"$f":"INDEX(Lookups!$D$77:$K$80,MATCH(' Calculations'!Q$5,Lookups!$C$77:$C$80,0),MATCH(' Calculations'!$D61,Lookups!$D$76:$K$76,0))","v":{"$error":"#N/A"}},{"$f":"INDEX(Lookups!$D$77:$K$80,MATCH(' Calculations'!R$5,Lookups!$C$77:$C$80,0),MATCH(' Calculations'!$D61,Lookups!$D$76:$K$76,0))","v":{"$error":"#N/A"}}]
[null,null,{"$f":"'Equipment Information'!$D$13","v":0},{"$f":"VLOOKUP(C62,Validation!$B$21:$C$42,2,0)","v":{"$error":"#N/A"}},{"$f":"'Equipment Information'!I75","v":0},{"$f":"'Equipment Information'!J75","v":0},{"$f":"VLOOKUP($C$7,Lookups!$C$119:$G$140,5,FALSE)","v":{"$error":"#N/A"}},{"$f":"INDEX(HPCurves,MATCH(' Calculations'!H$6,Lookups!$C$25:$C$27,0),MATCH(' Calculations'!$D62,HPBuilding,0))","v":{"$error":"#N/A"}},{"$f":"INDEX(HPCurves,MATCH(' Calculations'!I$6,Lookups!$C$25:$C$27,0),MATCH(' Calculations'!$D62,HPBuilding,0))","v":{"$error":"#N/A"}},{"$f":"INDEX(HPCurves,MATCH(' Calculations'!J$6,Lookups!$C$25:$C$27,0),MATCH(' Calculations'!$D62,HPBuilding,0))","v":{"$error":"#N/A"}},{"$f":"INDEX(Lookups!$D$67:$K$70,MATCH(' Calculations'!K$5,Lookups!$C$67:$C$70,0),MATCH(' Calculations'!$D62,Lookups!$D$54:$K$54,0))","v":{"$error":"#N/A"}},{"$f":"INDEX(Lookups!$D$67:$K$70,MATCH(' Calculations'!L$5,Lookups!$C$67:$C$70,0),MATCH(' Calculations'!$D62,Lookups!$D$54:$K$54,0))","v":{"$error":"#N/A"}},{"$f":"INDEX(Lookups!$D$67:$K$70,MATCH(' Calculations'!M$5,Lookups!$C$67:$C$70,0),MATCH(' Calculations'!$D62,Lookups!$D$54:$K$54,0))","v":{"$error":"#N/A"}},{"$f":"INDEX(Lookups!$D$67:$K$70,MATCH(' Calculations'!N$5,Lookups!$C$67:$C$70,0),MATCH(' Calculations'!$D62,Lookups!$D$54:$K$54,0))","v":{"$error":"#N/A"}},{"$f":"INDEX(Lookups!$D$77:$K$80,MATCH(' Calculations'!O$5,Lookups!$C$77:$C$80,0),MATCH(' Calculations'!$D62,Lookups!$D$76:$K$76,0))","v":{"$error":"#N/A"}},{"$f":"INDEX(Lookups!$D$77:$K$80,MATCH(' Calculations'!P$5,Lookups!$C$77:$C$80,0),MATCH(' Calculations'!$D62,Lookups!$D$76:$K$76,0))","v":{"$error":"#N/A"}},{"$f":"INDEX(Lookups!$D$77:$K$80,MATCH(' Calculations'!Q$5,Lookups!$C$77:$C$80,0),MATCH(' Calculations'!$D62,Lookups!$D$76:$K$76,0))","v":{"$error":"#N/A"}},{"$f":"INDEX(Lookups!$D$77:$K$80,MATCH(' Calculations'!R$5,Lookups!$C$77:$C$80,0),MATCH(' Calculations'!$D62,Lookups!$D$76:$K$76,0))","v":{"$error":"#N/A"}}]
[null,null,{"$f":"'Equipment Information'!$D$13","v":0},{"$f":"VLOOKUP(C63,Validation!$B$21:$C$42,2,0)","v":{"$error":"#N/A"}},{"$f":"'Equipment Information'!I76","v":0},{"$f":"'Equipment Information'!J76","v":0},{"$f":"VLOOKUP($C$7,Lookups!$C$119:$G$140,5,FALSE)","v":{"$error":"#N/A"}},{"$f":"INDEX(HPCurves,MATCH(' Calculations'!H$6,Lookups!$C$25:$C$27,0),MATCH(' Calculations'!$D63,HPBuilding,0))","v":{"$error":"#N/A"}},{"$f":"INDEX(HPCurves,MATCH(' Calculations'!I$6,Lookups!$C$25:$C$27,0),MATCH(' Calculations'!$D63,HPBuilding,0))","v":{"$error":"#N/A"}},{"$f":"INDEX(HPCurves,MATCH(' Calculations'!J$6,Lookups!$C$25:$C$27,0),MATCH(' Calculations'!$D63,HPBuilding,0))","v":{"$error":"#N/A"}},{"$f":"INDEX(Lookups!$D$67:$K$70,MATCH(' Calculations'!K$5,Lookups!$C$67:$C$70,0),MATCH(' Calculations'!$D63,Lookups!$D$54:$K$54,0))","v":{"$error":"#N/A"}},{"$f":"INDEX(Lookups!$D$67:$K$70,MATCH(' Calculations'!L$5,Lookups!$C$67:$C$70,0),MATCH(' Calculations'!$D63,Lookups!$D$54:$K$54,0))","v":{"$error":"#N/A"}},{"$f":"INDEX(Lookups!$D$67:$K$70,MATCH(' Calculations'!M$5,Lookups!$C$67:$C$70,0),MATCH(' Calculations'!$D63,Lookups!$D$54:$K$54,0))","v":{"$error":"#N/A"}},{"$f":"INDEX(Lookups!$D$67:$K$70,MATCH(' Calculations'!N$5,Lookups!$C$67:$C$70,0),MATCH(' Calculations'!$D63,Lookups!$D$54:$K$54,0))","v":{"$error":"#N/A"}},{"$f":"INDEX(Lookups!$D$77:$K$80,MATCH(' Calculations'!O$5,Lookups!$C$77:$C$80,0),MATCH(' Calculations'!$D63,Lookups!$D$76:$K$76,0))","v":{"$error":"#N/A"}},{"$f":"INDEX(Lookups!$D$77:$K$80,MATCH(' Calculations'!P$5,Lookups!$C$77:$C$80,0),MATCH(' Calculations'!$D63,Lookups!$D$76:$K$76,0))","v":{"$error":"#N/A"}},{"$f":"INDEX(Lookups!$D$77:$K$80,MATCH(' Calculations'!Q$5,Lookups!$C$77:$C$80,0),MATCH(' Calculations'!$D63,Lookups!$D$76:$K$76,0))","v":{"$error":"#N/A"}},{"$f":"INDEX(Lookups!$D$77:$K$80,MATCH(' Calculations'!R$5,Lookups!$C$77:$C$80,0),MATCH(' Calculations'!$D63,Lookups!$D$76:$K$76,0))","v":{"$error":"#N/A"}}]
[null,null,{"$f":"'Equipment Information'!$D$13","v":0},{"$f":"VLOOKUP(C64,Validation!$B$21:$C$42,2,0)","v":{"$error":"#N/A"}},{"$f":"'Equipment Information'!I77","v":0},{"$f":"'Equipment Information'!J77","v":0},{"$f":"VLOOKUP($C$7,Lookups!$C$119:$G$140,5,FALSE)","v":{"$error":"#N/A"}},{"$f":"INDEX(HPCurves,MATCH(' Calculations'!H$6,Lookups!$C$25:$C$27,0),MATCH(' Calculations'!$D64,HPBuilding,0))","v":{"$error":"#N/A"}},{"$f":"INDEX(HPCurves,MATCH(' Calculations'!I$6,Lookups!$C$25:$C$27,0),MATCH(' Calculations'!$D64,HPBuilding,0))","v":{"$error":"#N/A"}},{"$f":"INDEX(HPCurves,MATCH(' Calculations'!J$6,Lookups!$C$25:$C$27,0),MATCH(' Calculations'!$D64,HPBuilding,0))","v":{"$error":"#N/A"}},{"$f":"INDEX(Lookups!$D$67:$K$70,MATCH(' Calculations'!K$5,Lookups!$C$67:$C$70,0),MATCH(' Calculations'!$D64,Lookups!$D$54:$K$54,0))","v":{"$error":"#N/A"}},{"$f":"INDEX(Lookups!$D$67:$K$70,MATCH(' Calculations'!L$5,Lookups!$C$67:$C$70,0),MATCH(' Calculations'!$D64,Lookups!$D$54:$K$54,0))","v":{"$error":"#N/A"}},{"$f":"INDEX(Lookups!$D$67:$K$70,MATCH(' Calculations'!M$5,Lookups!$C$67:$C$70,0),MATCH(' Calculations'!$D64,Lookups!$D$54:$K$54,0))","v":{"$error":"#N/A"}},{"$f":"INDEX(Lookups!$D$67:$K$70,MATCH(' Calculations'!N$5,Lookups!$C$67:$C$70,0),MATCH(' Calculations'!$D64,Lookups!$D$54:$K$54,0))","v":{"$error":"#N/A"}},{"$f":"INDEX(Lookups!$D$77:$K$80,MATCH(' Calculations'!O$5,Lookups!$C$77:$C$80,0),MATCH(' Calculations'!$D64,Lookups!$D$76:$K$76,0))","v":{"$error":"#N/A"}},{"$f":"INDEX(Lookups!$D$77:$K$80,MATCH(' Calculations'!P$5,Lookups!$C$77:$C$80,0),MATCH(' Calculations'!$D64,Lookups!$D$76:$K$76,0))","v":{"$error":"#N/A"}},{"$f":"INDEX(Lookups!$D$77:$K$80,MATCH(' Calculations'!Q$5,Lookups!$C$77:$C$80,0),MATCH(' Calculations'!$D64,Lookups!$D$76:$K$76,0))","v":{"$error":"#N/A"}},{"$f":"INDEX(Lookups!$D$77:$K$80,MATCH(' Calculations'!R$5,Lookups!$C$77:$C$80,0),MATCH(' Calculations'!$D64,Lookups!$D$76:$K$76,0))","v":{"$error":"#N/A"}}]
[null,null,{"$f":"'Equipment Information'!$D$13","v":0},{"$f":"VLOOKUP(C65,Validation!$B$21:$C$42,2,0)","v":{"$error":"#N/A"}},{"$f":"'Equipment Information'!I78","v":0},{"$f":"'Equipment Information'!J78","v":0},{"$f":"VLOOKUP($C$7,Lookups!$C$119:$G$140,5,FALSE)","v":{"$error":"#N/A"}},{"$f":"INDEX(HPCurves,MATCH(' Calculations'!H$6,Lookups!$C$25:$C$27,0),MATCH(' Calculations'!$D65,HPBuilding,0))","v":{"$error":"#N/A"}},{"$f":"INDEX(HPCurves,MATCH(' Calculations'!I$6,Lookups!$C$25:$C$27,0),MATCH(' Calculations'!$D65,HPBuilding,0))","v":{"$error":"#N/A"}},{"$f":"INDEX(HPCurves,MATCH(' Calculations'!J$6,Lookups!$C$25:$C$27,0),MATCH(' Calculations'!$D65,HPBuilding,0))","v":{"$error":"#N/A"}},{"$f":"INDEX(Lookups!$D$67:$K$70,MATCH(' Calculations'!K$5,Lookups!$C$67:$C$70,0),MATCH(' Calculations'!$D65,Lookups!$D$54:$K$54,0))","v":{"$error":"#N/A"}},{"$f":"INDEX(Lookups!$D$67:$K$70,MATCH(' Calculations'!L$5,Lookups!$C$67:$C$70,0),MATCH(' Calculations'!$D65,Lookups!$D$54:$K$54,0))","v":{"$error":"#N/A"}},{"$f":"INDEX(Lookups!$D$67:$K$70,MATCH(' Calculations'!M$5,Lookups!$C$67:$C$70,0),MATCH(' Calculations'!$D65,Lookups!$D$54:$K$54,0))","v":{"$error":"#N/A"}},{"$f":"INDEX(Lookups!$D$67:$K$70,MATCH(' Calculations'!N$5,Lookups!$C$67:$C$70,0),MATCH(' Calculations'!$D65,Lookups!$D$54:$K$54,0))","v":{"$error":"#N/A"}},{"$f":"INDEX(Lookups!$D$77:$K$80,MATCH(' Calculations'!O$5,Lookups!$C$77:$C$80,0),MATCH(' Calculations'!$D65,Lookups!$D$76:$K$76,0))","v":{"$error":"#N/A"}},{"$f":"INDEX(Lookups!$D$77:$K$80,MATCH(' Calculations'!P$5,Lookups!$C$77:$C$80,0),MATCH(' Calculations'!$D65,Lookups!$D$76:$K$76,0))","v":{"$error":"#N/A"}},{"$f":"INDEX(Lookups!$D$77:$K$80,MATCH(' Calculations'!Q$5,Lookups!$C$77:$C$80,0),MATCH(' Calculations'!$D65,Lookups!$D$76:$K$76,0))","v":{"$error":"#N/A"}},{"$f":"INDEX(Lookups!$D$77:$K$80,MATCH(' Calculations'!R$5,Lookups!$C$77:$C$80,0),MATCH(' Calculations'!$D65,Lookups!$D$76:$K$76,0))","v":{"$error":"#N/A"}}]
[null,null,{"$f":"'Equipment Information'!$D$13","v":0},{"$f":"VLOOKUP(C66,Validation!$B$21:$C$42,2,0)","v":{"$error":"#N/A"}},{"$f":"'Equipment Information'!I79","v":0},{"$f":"'Equipment Information'!J79","v":0},{"$f":"VLOOKUP($C$7,Lookups!$C$119:$G$140,5,FALSE)","v":{"$error":"#N/A"}},{"$f":"INDEX(HPCurves,MATCH(' Calculations'!H$6,Lookups!$C$25:$C$27,0),MATCH(' Calculations'!$D66,HPBuilding,0))","v":{"$error":"#N/A"}},{"$f":"INDEX(HPCurves,MATCH(' Calculations'!I$6,Lookups!$C$25:$C$27,0),MATCH(' Calculations'!$D66,HPBuilding,0))","v":{"$error":"#N/A"}},{"$f":"INDEX(HPCurves,MATCH(' Calculations'!J$6,Lookups!$C$25:$C$27,0),MATCH(' Calculations'!$D66,HPBuilding,0))","v":{"$error":"#N/A"}},{"$f":"INDEX(Lookups!$D$67:$K$70,MATCH(' Calculations'!K$5,Lookups!$C$67:$C$70,0),MATCH(' Calculations'!$D66,Lookups!$D$54:$K$54,0))","v":{"$error":"#N/A"}},{"$f":"INDEX(Lookups!$D$67:$K$70,MATCH(' Calculations'!L$5,Lookups!$C$67:$C$70,0),MATCH(' Calculations'!$D66,Lookups!$D$54:$K$54,0))","v":{"$error":"#N/A"}},{"$f":"INDEX(Lookups!$D$67:$K$70,MATCH(' Calculations'!M$5,Lookups!$C$67:$C$70,0),MATCH(' Calculations'!$D66,Lookups!$D$54:$K$54,0))","v":{"$error":"#N/A"}},{"$f":"INDEX(Lookups!$D$67:$K$70,MATCH(' Calculations'!N$5,Lookups!$C$67:$C$70,0),MATCH(' Calculations'!$D66,Lookups!$D$54:$K$54,0))","v":{"$error":"#N/A"}},{"$f":"INDEX(Lookups!$D$77:$K$80,MATCH(' Calculations'!O$5,Lookups!$C$77:$C$80,0),MATCH(' Calculations'!$D66,Lookups!$D$76:$K$76,0))","v":{"$error":"#N/A"}},{"$f":"INDEX(Lookups!$D$77:$K$80,MATCH(' Calculations'!P$5,Lookups!$C$77:$C$80,0),MATCH(' Calculations'!$D66,Lookups!$D$76:$K$76,0))","v":{"$error":"#N/A"}},{"$f":"INDEX(Lookups!$D$77:$K$80,MATCH(' Calculations'!Q$5,Lookups!$C$77:$C$80,0),MATCH(' Calculations'!$D66,Lookups!$D$76:$K$76,0))","v":{"$error":"#N/A"}},{"$f":"INDEX(Lookups!$D$77:$K$80,MATCH(' Calculations'!R$5,Lookups!$C$77:$C$80,0),MATCH(' Calculations'!$D66,Lookups!$D$76:$K$76,0))","v":{"$error":"#N/A"}}]
[null,null,{"$f":"'Equipment Information'!$D$13","v":0},{"$f":"VLOOKUP(C67,Validation!$B$21:$C$42,2,0)","v":{"$error":"#N/A"}},{"$f":"'Equipment Information'!I80","v":0},{"$f":"'Equipment Information'!J80","v":0},{"$f":"VLOOKUP($C$7,Lookups!$C$119:$G$140,5,FALSE)","v":{"$error":"#N/A"}},{"$f":"INDEX(HPCurves,MATCH(' Calculations'!H$6,Lookups!$C$25:$C$27,0),MATCH(' Calculations'!$D67,HPBuilding,0))","v":{"$error":"#N/A"}},{"$f":"INDEX(HPCurves,MATCH(' Calculations'!I$6,Lookups!$C$25:$C$27,0),MATCH(' Calculations'!$D67,HPBuilding,0))","v":{"$error":"#N/A"}},{"$f":"INDEX(HPCurves,MATCH(' Calculations'!J$6,Lookups!$C$25:$C$27,0),MATCH(' Calculations'!$D67,HPBuilding,0))","v":{"$error":"#N/A"}},{"$f":"INDEX(Lookups!$D$67:$K$70,MATCH(' Calculations'!K$5,Lookups!$C$67:$C$70,0),MATCH(' Calculations'!$D67,Lookups!$D$54:$K$54,0))","v":{"$error":"#N/A"}},{"$f":"INDEX(Lookups!$D$67:$K$70,MATCH(' Calculations'!L$5,Lookups!$C$67:$C$70,0),MATCH(' Calculations'!$D67,Lookups!$D$54:$K$54,0))","v":{"$error":"#N/A"}},{"$f":"INDEX(Lookups!$D$67:$K$70,MATCH(' Calculations'!M$5,Lookups!$C$67:$C$70,0),MATCH(' Calculations'!$D67,Lookups!$D$54:$K$54,0))","v":{"$error":"#N/A"}},{"$f":"INDEX(Lookups!$D$67:$K$70,MATCH(' Calculations'!N$5,Lookups!$C$67:$C$70,0),MATCH(' Calculations'!$D67,Lookups!$D$54:$K$54,0))","v":{"$error":"#N/A"}},{"$f":"INDEX(Lookups!$D$77:$K$80,MATCH(' Calculations'!O$5,Lookups!$C$77:$C$80,0),MATCH(' Calculations'!$D67,Lookups!$D$76:$K$76,0))","v":{"$error":"#N/A"}},{"$f":"INDEX(Lookups!$D$77:$K$80,MATCH(' Calculations'!P$5,Lookups!$C$77:$C$80,0),MATCH(' Calculations'!$D67,Lookups!$D$76:$K$76,0))","v":{"$error":"#N/A"}},{"$f":"INDEX(Lookups!$D$77:$K$80,MATCH(' Calculations'!Q$5,Lookups!$C$77:$C$80,0),MATCH(' Calculations'!$D67,Lookups!$D$76:$K$76,0))","v":{"$error":"#N/A"}},{"$f":"INDEX(Lookups!$D$77:$K$80,MATCH(' Calculations'!R$5,Lookups!$C$77:$C$80,0),MATCH(' Calculations'!$D67,Lookups!$D$76:$K$76,0))","v":{"$error":"#N/A"}}]
[null,null,{"$f":"'Equipment Information'!$D$13","v":0},{"$f":"VLOOKUP(C68,Validation!$B$21:$C$42,2,0)","v":{"$error":"#N/A"}},{"$f":"'Equipment Information'!I81","v":0},{"$f":"'Equipment Information'!J81","v":0},{"$f":"VLOOKUP($C$7,Lookups!$C$119:$G$140,5,FALSE)","v":{"$error":"#N/A"}},{"$f":"INDEX(HPCurves,MATCH(' Calculations'!H$6,Lookups!$C$25:$C$27,0),MATCH(' Calculations'!$D68,HPBuilding,0))","v":{"$error":"#N/A"}},{"$f":"INDEX(HPCurves,MATCH(' Calculations'!I$6,Lookups!$C$25:$C$27,0),MATCH(' Calculations'!$D68,HPBuilding,0))","v":{"$error":"#N/A"}},{"$f":"INDEX(HPCurves,MATCH(' Calculations'!J$6,Lookups!$C$25:$C$27,0),MATCH(' Calculations'!$D68,HPBuilding,0))","v":{"$error":"#N/A"}},{"$f":"INDEX(Lookups!$D$67:$K$70,MATCH(' Calculations'!K$5,Lookups!$C$67:$C$70,0),MATCH(' Calculations'!$D68,Lookups!$D$54:$K$54,0))","v":{"$error":"#N/A"}},{"$f":"INDEX(Lookups!$D$67:$K$70,MATCH(' Calculations'!L$5,Lookups!$C$67:$C$70,0),MATCH(' Calculations'!$D68,Lookups!$D$54:$K$54,0))","v":{"$error":"#N/A"}},{"$f":"INDEX(Lookups!$D$67:$K$70,MATCH(' Calculations'!M$5,Lookups!$C$67:$C$70,0),MATCH(' Calculations'!$D68,Lookups!$D$54:$K$54,0))","v":{"$error":"#N/A"}},{"$f":"INDEX(Lookups!$D$67:$K$70,MATCH(' Calculations'!N$5,Lookups!$C$67:$C$70,0),MATCH(' Calculations'!$D68,Lookups!$D$54:$K$54,0))","v":{"$error":"#N/A"}},{"$f":"INDEX(Lookups!$D$77:$K$80,MATCH(' Calculations'!O$5,Lookups!$C$77:$C$80,0),MATCH(' Calculations'!$D68,Lookups!$D$76:$K$76,0))","v":{"$error":"#N/A"}},{"$f":"INDEX(Lookups!$D$77:$K$80,MATCH(' Calculations'!P$5,Lookups!$C$77:$C$80,0),MATCH(' Calculations'!$D68,Lookups!$D$76:$K$76,0))","v":{"$error":"#N/A"}},{"$f":"INDEX(Lookups!$D$77:$K$80,MATCH(' Calculations'!Q$5,Lookups!$C$77:$C$80,0),MATCH(' Calculations'!$D68,Lookups!$D$76:$K$76,0))","v":{"$error":"#N/A"}},{"$f":"INDEX(Lookups!$D$77:$K$80,MATCH(' Calculations'!R$5,Lookups!$C$77:$C$80,0),MATCH(' Calculations'!$D68,Lookups!$D$76:$K$76,0))","v":{"$error":"#N/A"}}]
[null,null,{"$f":"'Equipment Information'!$D$13","v":0},{"$f":"VLOOKUP(C69,Validation!$B$21:$C$42,2,0)","v":{"$error":"#N/A"}},{"$f":"'Equipment Information'!I82","v":0},{"$f":"'Equipment Information'!J82","v":0},{"$f":"VLOOKUP($C$7,Lookups!$C$119:$G$140,5,FALSE)","v":{"$error":"#N/A"}},{"$f":"INDEX(HPCurves,MATCH(' Calculations'!H$6,Lookups!$C$25:$C$27,0),MATCH(' Calculations'!$D69,HPBuilding,0))","v":{"$error":"#N/A"}},{"$f":"INDEX(HPCurves,MATCH(' Calculations'!I$6,Lookups!$C$25:$C$27,0),MATCH(' Calculations'!$D69,HPBuilding,0))","v":{"$error":"#N/A"}},{"$f":"INDEX(HPCurves,MATCH(' Calculations'!J$6,Lookups!$C$25:$C$27,0),MATCH(' Calculations'!$D69,HPBuilding,0))","v":{"$error":"#N/A"}},{"$f":"INDEX(Lookups!$D$67:$K$70,MATCH(' Calculations'!K$5,Lookups!$C$67:$C$70,0),MATCH(' Calculations'!$D69,Lookups!$D$54:$K$54,0))","v":{"$error":"#N/A"}},{"$f":"INDEX(Lookups!$D$67:$K$70,MATCH(' Calculations'!L$5,Lookups!$C$67:$C$70,0),MATCH(' Calculations'!$D69,Lookups!$D$54:$K$54,0))","v":{"$error":"#N/A"}},{"$f":"INDEX(Lookups!$D$67:$K$70,MATCH(' Calculations'!M$5,Lookups!$C$67:$C$70,0),MATCH(' Calculations'!$D69,Lookups!$D$54:$K$54,0))","v":{"$error":"#N/A"}},{"$f":"INDEX(Lookups!$D$67:$K$70,MATCH(' Calculations'!N$5,Lookups!$C$67:$C$70,0),MATCH(' Calculations'!$D69,Lookups!$D$54:$K$54,0))","v":{"$error":"#N/A"}},{"$f":"INDEX(Lookups!$D$77:$K$80,MATCH(' Calculations'!O$5,Lookups!$C$77:$C$80,0),MATCH(' Calculations'!$D69,Lookups!$D$76:$K$76,0))","v":{"$error":"#N/A"}},{"$f":"INDEX(Lookups!$D$77:$K$80,MATCH(' Calculations'!P$5,Lookups!$C$77:$C$80,0),MATCH(' Calculations'!$D69,Lookups!$D$76:$K$76,0))","v":{"$error":"#N/A"}},{"$f":"INDEX(Lookups!$D$77:$K$80,MATCH(' Calculations'!Q$5,Lookups!$C$77:$C$80,0),MATCH(' Calculations'!$D69,Lookups!$D$76:$K$76,0))","v":{"$error":"#N/A"}},{"$f":"INDEX(Lookups!$D$77:$K$80,MATCH(' Calculations'!R$5,Lookups!$C$77:$C$80,0),MATCH(' Calculations'!$D69,Lookups!$D$76:$K$76,0))","v":{"$error":"#N/A"}}]
[null,null,{"$f":"'Equipment Information'!$D$13","v":0},{"$f":"VLOOKUP(C70,Validation!$B$21:$C$42,2,0)","v":{"$error":"#N/A"}},{"$f":"'Equipment Information'!I83","v":0},{"$f":"'Equipment Information'!J83","v":0},{"$f":"VLOOKUP($C$7,Lookups!$C$119:$G$140,5,FALSE)","v":{"$error":"#N/A"}},{"$f":"INDEX(HPCurves,MATCH(' Calculations'!H$6,Lookups!$C$25:$C$27,0),MATCH(' Calculations'!$D70,HPBuilding,0))","v":{"$error":"#N/A"}},{"$f":"INDEX(HPCurves,MATCH(' Calculations'!I$6,Lookups!$C$25:$C$27,0),MATCH(' Calculations'!$D70,HPBuilding,0))","v":{"$error":"#N/A"}},{"$f":"INDEX(HPCurves,MATCH(' Calculations'!J$6,Lookups!$C$25:$C$27,0),MATCH(' Calculations'!$D70,HPBuilding,0))","v":{"$error":"#N/A"}},{"$f":"INDEX(Lookups!$D$67:$K$70,MATCH(' Calculations'!K$5,Lookups!$C$67:$C$70,0),MATCH(' Calculations'!$D70,Lookups!$D$54:$K$54,0))","v":{"$error":"#N/A"}},{"$f":"INDEX(Lookups!$D$67:$K$70,MATCH(' Calculations'!L$5,Lookups!$C$67:$C$70,0),MATCH(' Calculations'!$D70,Lookups!$D$54:$K$54,0))","v":{"$error":"#N/A"}},{"$f":"INDEX(Lookups!$D$67:$K$70,MATCH(' Calculations'!M$5,Lookups!$C$67:$C$70,0),MATCH(' Calculations'!$D70,Lookups!$D$54:$K$54,0))","v":{"$error":"#N/A"}},{"$f":"INDEX(Lookups!$D$67:$K$70,MATCH(' Calculations'!N$5,Lookups!$C$67:$C$70,0),MATCH(' Calculations'!$D70,Lookups!$D$54:$K$54,0))","v":{"$error":"#N/A"}},{"$f":"INDEX(Lookups!$D$77:$K$80,MATCH(' Calculations'!O$5,Lookups!$C$77:$C$80,0),MATCH(' Calculations'!$D70,Lookups!$D$76:$K$76,0))","v":{"$error":"#N/A"}},{"$f":"INDEX(Lookups!$D$77:$K$80,MATCH(' Calculations'!P$5,Lookups!$C$77:$C$80,0),MATCH(' Calculations'!$D70,Lookups!$D$76:$K$76,0))","v":{"$error":"#N/A"}},{"$f":"INDEX(Lookups!$D$77:$K$80,MATCH(' Calculations'!Q$5,Lookups!$C$77:$C$80,0),MATCH(' Calculations'!$D70,Lookups!$D$76:$K$76,0))","v":{"$error":"#N/A"}},{"$f":"INDEX(Lookups!$D$77:$K$80,MATCH(' Calculations'!R$5,Lookups!$C$77:$C$80,0),MATCH(' Calculations'!$D70,Lookups!$D$76:$K$76,0))","v":{"$error":"#N/A"}}]
[null,null,{"$f":"'Equipment Information'!$D$13","v":0},{"$f":"VLOOKUP(C71,Validation!$B$21:$C$42,2,0)","v":{"$error":"#N/A"}},{"$f":"'Equipment Information'!I84","v":0},{"$f":"'Equipment Information'!J84","v":0},{"$f":"VLOOKUP($C$7,Lookups!$C$119:$G$140,5,FALSE)","v":{"$error":"#N/A"}},{"$f":"INDEX(HPCurves,MATCH(' Calculations'!H$6,Lookups!$C$25:$C$27,0),MATCH(' Calculations'!$D71,HPBuilding,0))","v":{"$error":"#N/A"}},{"$f":"INDEX(HPCurves,MATCH(' Calculations'!I$6,Lookups!$C$25:$C$27,0),MATCH(' Calculations'!$D71,HPBuilding,0))","v":{"$error":"#N/A"}},{"$f":"INDEX(HPCurves,MATCH(' Calculations'!J$6,Lookups!$C$25:$C$27,0),MATCH(' Calculations'!$D71,HPBuilding,0))","v":{"$error":"#N/A"}},{"$f":"INDEX(Lookups!$D$67:$K$70,MATCH(' Calculations'!K$5,Lookups!$C$67:$C$70,0),MATCH(' Calculations'!$D71,Lookups!$D$54:$K$54,0))","v":{"$error":"#N/A"}},{"$f":"INDEX(Lookups!$D$67:$K$70,MATCH(' Calculations'!L$5,Lookups!$C$67:$C$70,0),MATCH(' Calculations'!$D71,Lookups!$D$54:$K$54,0))","v":{"$error":"#N/A"}},{"$f":"INDEX(Lookups!$D$67:$K$70,MATCH(' Calculations'!M$5,Lookups!$C$67:$C$70,0),MATCH(' Calculations'!$D71,Lookups!$D$54:$K$54,0))","v":{"$error":"#N/A"}},{"$f":"INDEX(Lookups!$D$67:$K$70,MATCH(' Calculations'!N$5,Lookups!$C$67:$C$70,0),MATCH(' Calculations'!$D71,Lookups!$D$54:$K$54,0))","v":{"$error":"#N/A"}},{"$f":"INDEX(Lookups!$D$77:$K$80,MATCH(' Calculations'!O$5,Lookups!$C$77:$C$80,0),MATCH(' Calculations'!$D71,Lookups!$D$76:$K$76,0))","v":{"$error":"#N/A"}},{"$f":"INDEX(Lookups!$D$77:$K$80,MATCH(' Calculations'!P$5,Lookups!$C$77:$C$80,0),MATCH(' Calculations'!$D71,Lookups!$D$76:$K$76,0))","v":{"$error":"#N/A"}},{"$f":"INDEX(Lookups!$D$77:$K$80,MATCH(' Calculations'!Q$5,Lookups!$C$77:$C$80,0),MATCH(' Calculations'!$D71,Lookups!$D$76:$K$76,0))","v":{"$error":"#N/A"}},{"$f":"INDEX(Lookups!$D$77:$K$80,MATCH(' Calculations'!R$5,Lookups!$C$77:$C$80,0),MATCH(' Calculations'!$D71,Lookups!$D$76:$K$76,0))","v":{"$error":"#N/A"}}]
[null,null,{"$f":"'Equipment Information'!$D$13","v":0},{"$f":"VLOOKUP(C72,Validation!$B$21:$C$42,2,0)","v":{"$error":"#N/A"}},{"$f":"'Equipment Information'!I85","v":0},{"$f":"'Equipment Information'!J85","v":0},{"$f":"VLOOKUP($C$7,Lookups!$C$119:$G$140,5,FALSE)","v":{"$error":"#N/A"}},{"$f":"INDEX(HPCurves,MATCH(' Calculations'!H$6,Lookups!$C$25:$C$27,0),MATCH(' Calculations'!$D72,HPBuilding,0))","v":{"$error":"#N/A"}},{"$f":"INDEX(HPCurves,MATCH(' Calculations'!I$6,Lookups!$C$25:$C$27,0),MATCH(' Calculations'!$D72,HPBuilding,0))","v":{"$error":"#N/A"}},{"$f":"INDEX(HPCurves,MATCH(' Calculations'!J$6,Lookups!$C$25:$C$27,0),MATCH(' Calculations'!$D72,HPBuilding,0))","v":{"$error":"#N/A"}},{"$f":"INDEX(Lookups!$D$67:$K$70,MATCH(' Calculations'!K$5,Lookups!$C$67:$C$70,0),MATCH(' Calculations'!$D72,Lookups!$D$54:$K$54,0))","v":{"$error":"#N/A"}},{"$f":"INDEX(Lookups!$D$67:$K$70,MATCH(' Calculations'!L$5,Lookups!$C$67:$C$70,0),MATCH(' Calculations'!$D72,Lookups!$D$54:$K$54,0))","v":{"$error":"#N/A"}},{"$f":"INDEX(Lookups!$D$67:$K$70,MATCH(' Calculations'!M$5,Lookups!$C$67:$C$70,0),MATCH(' Calculations'!$D72,Lookups!$D$54:$K$54,0))","v":{"$error":"#N/A"}},{"$f":"INDEX(Lookups!$D$67:$K$70,MATCH(' Calculations'!N$5,Lookups!$C$67:$C$70,0),MATCH(' Calculations'!$D72,Lookups!$D$54:$K$54,0))","v":{"$error":"#N/A"}},{"$f":"INDEX(Lookups!$D$77:$K$80,MATCH(' Calculations'!O$5,Lookups!$C$77:$C$80,0),MATCH(' Calculations'!$D72,Lookups!$D$76:$K$76,0))","v":{"$error":"#N/A"}},{"$f":"INDEX(Lookups!$D$77:$K$80,MATCH(' Calculations'!P$5,Lookups!$C$77:$C$80,0),MATCH(' Calculations'!$D72,Lookups!$D$76:$K$76,0))","v":{"$error":"#N/A"}},{"$f":"INDEX(Lookups!$D$77:$K$80,MATCH(' Calculations'!Q$5,Lookups!$C$77:$C$80,0),MATCH(' Calculations'!$D72,Lookups!$D$76:$K$76,0))","v":{"$error":"#N/A"}},{"$f":"INDEX(Lookups!$D$77:$K$80,MATCH(' Calculations'!R$5,Lookups!$C$77:$C$80,0),MATCH(' Calculations'!$D72,Lookups!$D$76:$K$76,0))","v":{"$error":"#N/A"}}]
[null,null,{"$f":"'Equipment Information'!$D$13","v":0},{"$f":"VLOOKUP(C73,Validation!$B$21:$C$42,2,0)","v":{"$error":"#N/A"}},{"$f":"'Equipment Information'!I86","v":0},{"$f":"'Equipment Information'!J86","v":0},{"$f":"VLOOKUP($C$7,Lookups!$C$119:$G$140,5,FALSE)","v":{"$error":"#N/A"}},{"$f":"INDEX(HPCurves,MATCH(' Calculations'!H$6,Lookups!$C$25:$C$27,0),MATCH(' Calculations'!$D73,HPBuilding,0))","v":{"$error":"#N/A"}},{"$f":"INDEX(HPCurves,MATCH(' Calculations'!I$6,Lookups!$C$25:$C$27,0),MATCH(' Calculations'!$D73,HPBuilding,0))","v":{"$error":"#N/A"}},{"$f":"INDEX(HPCurves,MATCH(' Calculations'!J$6,Lookups!$C$25:$C$27,0),MATCH(' Calculations'!$D73,HPBuilding,0))","v":{"$error":"#N/A"}},{"$f":"INDEX(Lookups!$D$67:$K$70,MATCH(' Calculations'!K$5,Lookups!$C$67:$C$70,0),MATCH(' Calculations'!$D73,Lookups!$D$54:$K$54,0))","v":{"$error":"#N/A"}},{"$f":"INDEX(Lookups!$D$67:$K$70,MATCH(' Calculations'!L$5,Lookups!$C$67:$C$70,0),MATCH(' Calculations'!$D73,Lookups!$D$54:$K$54,0))","v":{"$error":"#N/A"}},{"$f":"INDEX(Lookups!$D$67:$K$70,MATCH(' Calculations'!M$5,Lookups!$C$67:$C$70,0),MATCH(' Calculations'!$D73,Lookups!$D$54:$K$54,0))","v":{"$error":"#N/A"}},{"$f":"INDEX(Lookups!$D$67:$K$70,MATCH(' Calculations'!N$5,Lookups!$C$67:$C$70,0),MATCH(' Calculations'!$D73,Lookups!$D$54:$K$54,0))","v":{"$error":"#N/A"}},{"$f":"INDEX(Lookups!$D$77:$K$80,MATCH(' Calculations'!O$5,Lookups!$C$77:$C$80,0),MATCH(' Calculations'!$D73,Lookups!$D$76:$K$76,0))","v":{"$error":"#N/A"}},{"$f":"INDEX(Lookups!$D$77:$K$80,MATCH(' Calculations'!P$5,Lookups!$C$77:$C$80,0),MATCH(' Calculations'!$D73,Lookups!$D$76:$K$76,0))","v":{"$error":"#N/A"}},{"$f":"INDEX(Lookups!$D$77:$K$80,MATCH(' Calculations'!Q$5,Lookups!$C$77:$C$80,0),MATCH(' Calculations'!$D73,Lookups!$D$76:$K$76,0))","v":{"$error":"#N/A"}},{"$f":"INDEX(Lookups!$D$77:$K$80,MATCH(' Calculations'!R$5,Lookups!$C$77:$C$80,0),MATCH(' Calculations'!$D73,Lookups!$D$76:$K$76,0))","v":{"$error":"#N/A"}}]
[null,null,{"$f":"'Equipment Information'!$D$13","v":0},{"$f":"VLOOKUP(C74,Validation!$B$21:$C$42,2,0)","v":{"$error":"#N/A"}},{"$f":"'Equipment Information'!I87","v":0},{"$f":"'Equipment Information'!J87","v":0},{"$f":"VLOOKUP($C$7,Lookups!$C$119:$G$140,5,FALSE)","v":{"$error":"#N/A"}},{"$f":"INDEX(HPCurves,MATCH(' Calculations'!H$6,Lookups!$C$25:$C$27,0),MATCH(' Calculations'!$D74,HPBuilding,0))","v":{"$error":"#N/A"}},{"$f":"INDEX(HPCurves,MATCH(' Calculations'!I$6,Lookups!$C$25:$C$27,0),MATCH(' Calculations'!$D74,HPBuilding,0))","v":{"$error":"#N/A"}},{"$f":"INDEX(HPCurves,MATCH(' Calculations'!J$6,Lookups!$C$25:$C$27,0),MATCH(' Calculations'!$D74,HPBuilding,0))","v":{"$error":"#N/A"}},{"$f":"INDEX(Lookups!$D$67:$K$70,MATCH(' Calculations'!K$5,Lookups!$C$67:$C$70,0),MATCH(' Calculations'!$D74,Lookups!$D$54:$K$54,0))","v":{"$error":"#N/A"}},{"$f":"INDEX(Lookups!$D$67:$K$70,MATCH(' Calculations'!L$5,Lookups!$C$67:$C$70,0),MATCH(' Calculations'!$D74,Lookups!$D$54:$K$54,0))","v":{"$error":"#N/A"}},{"$f":"INDEX(Lookups!$D$67:$K$70,MATCH(' Calculations'!M$5,Lookups!$C$67:$C$70,0),MATCH(' Calculations'!$D74,Lookups!$D$54:$K$54,0))","v":{"$error":"#N/A"}},{"$f":"INDEX(Lookups!$D$67:$K$70,MATCH(' Calculations'!N$5,Lookups!$C$67:$C$70,0),MATCH(' Calculations'!$D74,Lookups!$D$54:$K$54,0))","v":{"$error":"#N/A"}},{"$f":"INDEX(Lookups!$D$77:$K$80,MATCH(' Calculations'!O$5,Lookups!$C$77:$C$80,0),MATCH(' Calculations'!$D74,Lookups!$D$76:$K$76,0))","v":{"$error":"#N/A"}},{"$f":"INDEX(Lookups!$D$77:$K$80,MATCH(' Calculations'!P$5,Lookups!$C$77:$C$80,0),MATCH(' Calculations'!$D74,Lookups!$D$76:$K$76,0))","v":{"$error":"#N/A"}},{"$f":"INDEX(Lookups!$D$77:$K$80,MATCH(' Calculations'!Q$5,Lookups!$C$77:$C$80,0),MATCH(' Calculations'!$D74,Lookups!$D$76:$K$76,0))","v":{"$error":"#N/A"}},{"$f":"INDEX(Lookups!$D$77:$K$80,MATCH(' Calculations'!R$5,Lookups!$C$77:$C$80,0),MATCH(' Calculations'!$D74,Lookups!$D$76:$K$76,0))","v":{"$error":"#N/A"}}]
[null,null,{"$f":"'Equipment Information'!$D$13","v":0},{"$f":"VLOOKUP(C75,Validation!$B$21:$C$42,2,0)","v":{"$error":"#N/A"}},{"$f":"'Equipment Information'!I88","v":0},{"$f":"'Equipment Information'!J88","v":0},{"$f":"VLOOKUP($C$7,Lookups!$C$119:$G$140,5,FALSE)","v":{"$error":"#N/A"}},{"$f":"INDEX(HPCurves,MATCH(' Calculations'!H$6,Lookups!$C$25:$C$27,0),MATCH(' Calculations'!$D75,HPBuilding,0))","v":{"$error":"#N/A"}},{"$f":"INDEX(HPCurves,MATCH(' Calculations'!I$6,Lookups!$C$25:$C$27,0),MATCH(' Calculations'!$D75,HPBuilding,0))","v":{"$error":"#N/A"}},{"$f":"INDEX(HPCurves,MATCH(' Calculations'!J$6,Lookups!$C$25:$C$27,0),MATCH(' Calculations'!$D75,HPBuilding,0))","v":{"$error":"#N/A"}},{"$f":"INDEX(Lookups!$D$67:$K$70,MATCH(' Calculations'!K$5,Lookups!$C$67:$C$70,0),MATCH(' Calculations'!$D75,Lookups!$D$54:$K$54,0))","v":{"$error":"#N/A"}},{"$f":"INDEX(Lookups!$D$67:$K$70,MATCH(' Calculations'!L$5,Lookups!$C$67:$C$70,0),MATCH(' Calculations'!$D75,Lookups!$D$54:$K$54,0))","v":{"$error":"#N/A"}},{"$f":"INDEX(Lookups!$D$67:$K$70,MATCH(' Calculations'!M$5,Lookups!$C$67:$C$70,0),MATCH(' Calculations'!$D75,Lookups!$D$54:$K$54,0))","v":{"$error":"#N/A"}},{"$f":"INDEX(Lookups!$D$67:$K$70,MATCH(' Calculations'!N$5,Lookups!$C$67:$C$70,0),MATCH(' Calculations'!$D75,Lookups!$D$54:$K$54,0))","v":{"$error":"#N/A"}},{"$f":"INDEX(Lookups!$D$77:$K$80,MATCH(' Calculations'!O$5,Lookups!$C$77:$C$80,0),MATCH(' Calculations'!$D75,Lookups!$D$76:$K$76,0))","v":{"$error":"#N/A"}},{"$f":"INDEX(Lookups!$D$77:$K$80,MATCH(' Calculations'!P$5,Lookups!$C$77:$C$80,0),MATCH(' Calculations'!$D75,Lookups!$D$76:$K$76,0))","v":{"$error":"#N/A"}},{"$f":"INDEX(Lookups!$D$77:$K$80,MATCH(' Calculations'!Q$5,Lookups!$C$77:$C$80,0),MATCH(' Calculations'!$D75,Lookups!$D$76:$K$76,0))","v":{"$error":"#N/A"}},{"$f":"INDEX(Lookups!$D$77:$K$80,MATCH(' Calculations'!R$5,Lookups!$C$77:$C$80,0),MATCH(' Calculations'!$D75,Lookups!$D$76:$K$76,0))","v":{"$error":"#N/A"}}]
[null,null,{"$f":"'Equipment Information'!$D$13","v":0},{"$f":"VLOOKUP(C76,Validation!$B$21:$C$42,2,0)","v":{"$error":"#N/A"}},{"$f":"'Equipment Information'!I89","v":0},{"$f":"'Equipment Information'!J89","v":0},{"$f":"VLOOKUP($C$7,Lookups!$C$119:$G$140,5,FALSE)","v":{"$error":"#N/A"}},{"$f":"INDEX(HPCurves,MATCH(' Calculations'!H$6,Lookups!$C$25:$C$27,0),MATCH(' Calculations'!$D76,HPBuilding,0))","v":{"$error":"#N/A"}},{"$f":"INDEX(HPCurves,MATCH(' Calculations'!I$6,Lookups!$C$25:$C$27,0),MATCH(' Calculations'!$D76,HPBuilding,0))","v":{"$error":"#N/A"}},{"$f":"INDEX(HPCurves,MATCH(' Calculations'!J$6,Lookups!$C$25:$C$27,0),MATCH(' Calculations'!$D76,HPBuilding,0))","v":{"$error":"#N/A"}},{"$f":"INDEX(Lookups!$D$67:$K$70,MATCH(' Calculations'!K$5,Lookups!$C$67:$C$70,0),MATCH(' Calculations'!$D76,Lookups!$D$54:$K$54,0))","v":{"$error":"#N/A"}},{"$f":"INDEX(Lookups!$D$67:$K$70,MATCH(' Calculations'!L$5,Lookups!$C$67:$C$70,0),MATCH(' Calculations'!$D76,Lookups!$D$54:$K$54,0))","v":{"$error":"#N/A"}},{"$f":"INDEX(Lookups!$D$67:$K$70,MATCH(' Calculations'!M$5,Lookups!$C$67:$C$70,0),MATCH(' Calculations'!$D76,Lookups!$D$54:$K$54,0))","v":{"$error":"#N/A"}},{"$f":"INDEX(Lookups!$D$67:$K$70,MATCH(' Calculations'!N$5,Lookups!$C$67:$C$70,0),MATCH(' Calculations'!$D76,Lookups!$D$54:$K$54,0))","v":{"$error":"#N/A"}},{"$f":"INDEX(Lookups!$D$77:$K$80,MATCH(' Calculations'!O$5,Lookups!$C$77:$C$80,0),MATCH(' Calculations'!$D76,Lookups!$D$76:$K$76,0))","v":{"$error":"#N/A"}},{"$f":"INDEX(Lookups!$D$77:$K$80,MATCH(' Calculations'!P$5,Lookups!$C$77:$C$80,0),MATCH(' Calculations'!$D76,Lookups!$D$76:$K$76,0))","v":{"$error":"#N/A"}},{"$f":"INDEX(Lookups!$D$77:$K$80,MATCH(' Calculations'!Q$5,Lookups!$C$77:$C$80,0),MATCH(' Calculations'!$D76,Lookups!$D$76:$K$76,0))","v":{"$error":"#N/A"}},{"$f":"INDEX(Lookups!$D$77:$K$80,MATCH(' Calculations'!R$5,Lookups!$C$77:$C$80,0),MATCH(' Calculations'!$D76,Lookups!$D$76:$K$76,0))","v":{"$error":"#N/A"}}]
[]
[]
[]
[]
[]
[null,null,null,null,null,null," "]

{"sheet":"Version Tracking","index":15,"n_rows":54,"n_cols":4,"rows_kept":54,"cut":false,"hidden":true,"merged":[]}
[null,"Version","Description / Modifications since previous","Date"]
["Current:",{"$f":"LOOKUP(2,1/(B1:B50000<>\"\"),B1:B50000)","v":"Version 6.2"},{"$f":"LOOKUP(2,1/(C1:C50000<>\"\"),C1:C50000)","v":"added decimal place to tonnage and efficiency columns"},{"$f":"LOOKUP(2,1/(D1:D50000<>\"\"),D1:D50000)","v":"2022-04-11"}]
[null,"0","Mockup","2009-03-26"]
[null,"1.0","AC working - no PTAC (hotel) or heatpump, no healthcare","2009-04-03"]
[null,"1.1","Added hotel and healtchare","2009-04-07"]
[null,null,"Added coincident and PJM peaks"]
[null,"1.2","Cleaned up instructions tab.  ","2009-04-07"]
[null,null,"Changed input range for size to 1-999"]
[null,null,"Merged Building Type cells in Input tab"]
[null,null,"Changed acronym for Packaged units to Pkg to improve spacing in Input tab"]
[null,null,"Decreased size of tool version in Input tab"]
[null,null,"Changed formatting in Required Efficiencies and Validation tabs"]
[null,null,"Changed formatting in Calculations and Lookups tabs"]
[null,1.3,"Added Heat Pump calculations","2009-04-15"]
[null,null,"Added incentive logic"]
[null,null,"Need heat pump coefficients, incentive values"]
[null,"1.4","Neal QA'd added heatpump and incentive equations"]
[null,null,"*corrected - Heatpump equations referred to AC system"]
[null,null,"*corrected heading in incentive lookups for packaged system - didn't match input format","2009-04-16"]
[null,null,"Added correct heatpump curves","2009-04-16"]
[null,"1.5","Small changes to align with application form - ","2009-04-22"]
[null,null,"Changed instructions tab list of building types"]
[null,null,"Changed input method for equipment to match application (S,U,H)"]
[null,null,"built in assumption that all heat pumps follow more stringent split requirements"]
[null,null,"Incentive per ton wasn't multiplied out by the tonnage"]
[null,"1.6","Updated incentives","2009-05-14"]
[null,null,"fixed data validation on COP"]
[null,null,"Added water cooled (assumed savings the same as air cooled, just added lookups)"]
[null,null,"Added PTHP lookups - savings currently the same as PTAC"]
[null,null,"**Need to add hotel HP seasons!!"]
[null,null,"**Need to add PTHP curves for heat pump!!"]
[null,"1.7","Corrected incentive for Tier 2 second to last capacity to match current application","2009-07-17"]
[null,"1.8","Add summary table","2009-11-18"]
[null,1.9,"Added output CSV macro","2010-01-05"]
[null,"2.0","divided everything by zero","2009-01-14"]
[null,2.1,"added measure life","2010-02-01"]
[null,2.2000000000000002,"updated incentives","2010-02-17"]
[null,"Tune-up 2.2","added tune-up scenario to existing unitary tool","2010-05-01"]
[null,"Tune-up 2.3","Added TRM methodology to Tune up tool","2011-03-31"]
[null,3.2,"Updated logic to exclude units less than 3 Tons from incentive and savings calcs. Incentive calculation allows for 9.5% increase in cooling coil efficiency. Updated equation for Version Tracking","2018-10-30"]
[null,"Version 3.3","Updated Calculation for less than 3 tons","2019-04-05"]
[null,"Version 3.4","Updated rounding for effeciency calculation","2019-06-25"]
[null,"Version 4","Created Less than 3 tons tab. ","2019-10-11"]
[null,"Version 4.1","Changed measure life to 5 years to match TRM v9","2019-10-24"]
[null,"Version 4.2","Changed AEG import tab so that columns X - AD reflected per unit instead of total savings.  Created AEG Import Check tab to reflect both per unit and total savings as a means to double check calcs","2019-11-26"]
[null,"Version 4.2","Added Summary Table to RTUs tab","2019-12-17"]
[null,"Version 4.3","Fixed drop down in column F on PTACs tab","2020-01-20"]
[null,"Version 4.4","Added total project summary tab and updated calculations","2020-02-12"]
[null,"Version 5","Added new data points based on guidehouse request","2021-03-18"]
[null,"Version 5.1","Added all data points, callibrated and checked csv outputs, added legend tab for csv output data header","2021-05-05"]
[null,"Version 5.2","Added 12%EER improvemnet cap. ","2021-05-16"]
[null,"Version 5.3","TEMP_COOL in place of number_lamps and TEMPERATURE inplace of Number_Units","2021-06-28"]
[]
[null,"Version 6.2","added decimal place to tonnage and efficiency columns","2022-04-11"]